{"text_format":"1","workbook":"xlsx","n_sheets":121,"sheets":["Lists","FM Input","S","101_HMA","Email Addresses","CONTROL CHARTS","PLANT REPORT","HMA SUMMARY","COLD FEED SUMMARY","Print Sheet","Random Core Locator","HMA Samples","Binder","e-ticket","Example","Input","1","2","3","4","5","6","7","8","9","10","11","12","13","14","15","16","17","18","19","20","21","22","23","24","25","26","27","28","29","30","31","32","33","34","35","36","37","38","39","40","41","42","43","44","45","46","47","48","49","50","51","52","53","54","55","56","57","58","59","60","61","62","63","64","65","66","67","68","69","70","71","72","73","74","75","76","77","78","79","80","81","82","83","84","85","86","87","88","89","90","91","92","93","94","95","96","97","98","99","100","Sheet1","Volsum","Gradsum","Bindsum","Emulsum"],"not_rendered":{"charts":0,"images":15,"macros":1,"external_links":1,"defined_names":10,"comments":102,"pivot_tables":0},"unopened":[],"bounds":{"document_bytes":16777216,"sheet_cells":100000,"rows_first":2000,"rows_last":500,"rows_between":2000,"halvings":0,"cell_chars":16384,"cell_head_chars":4096},"cells_cut":0,"cells_raw":0,"read":"whole","date_system":"1900"}

{"sheet":"Lists","index":0,"n_rows":129,"n_cols":9,"rows_kept":129,"cut":false,"hidden":true,"merged":[]}
["Bid Items","Unit Code","Units","Placement","Lane","Mixes","Mixes on this Project","YES/NO","Residencies"]
["2122-5500060 (PAVED SHLD, HMA, 6\")",2,{"$f":"IF(B2=2,\"SY\",IF(B2=3,\"LF\",IF(B2=4,\"Count\",\"Tons\")))","v":"SY"},"Surface (Travel Lane)","NB/EB Drive Ln","HMA ST, Surface, L - 4, 1/2",null,"Yes","Cedar Rapids"]
["2122-5500080 (PAVED SHLD, HMA, 8\")",2,{"$f":"IF(B3=2,\"SY\",IF(B3=3,\"LF\",IF(B3=4,\"Count\",\"Tons\")))","v":"SY"},"Intermediate (Travel Lane)","NB/EB Pass Ln","HMA ST, Surface, L - 3, 1/2",null,"No","Chariton"]
["2122-5500085 (PAVED SHLD, HMA, 8.5\")",2,"SY","Base (Travel Lane)","NB/EB Rt Turn","HMA ST, Surface, L - 3 Option, 1/2",null,null,"Cherokee"]
["2122-5500090 (PAVED SHLD, HMA, 9\")",2,"SY","Shoulder","NB/EB Left Turn","HMA ST, Surface, L - 2, 1/2",null,null,"Council Bluffs"]
["2122-5500095 (PAVED SHLD, HMA, 9.5\")",2,"SY","Bridge Approach","NB/EB Rt Shldr","HMA ST, Surface, None, 1/2",null,null,"Creston"]
["2122-5500100 (PAVED SHLD, HMA, 10\")",2,"SY","Gore/Fillet","NB/EB Lt Shldr","HMA ST, Intermediate, None, 1/2",null,null,"Davenport"]
["2122-5500105 (PAVED SHLD, HMA, 10.5\")",2,"SY","Guard Rail","SB/WB Drive Ln","HMA ST, Base, None, 1/2",null,null,"Fairfield"]
["2122-5500110 (PAVED SHLD, HMA, 11\")",2,"SY","Leveling","SB/WB Pass Ln","HMA ST, Shoulder, None, 1/2",null,null,"Grimes"]
["2122-5500115 (PAVED SHLD, HMA, 11.5\")",2,"SY","Institutional roadway","SB/WB Rt Turn","HMA HT, Surface, L - 4, 1/2",null,null,"Jefferson"]
["2122-5500120 (PAVED SHLD, HMA, 12\")",2,"SY","Irregular Compaction Area","SB/WB Left Turn","HMA HT, Surface, L - 3, 1/2",null,null,"Manchester"]
["2122-5500125 (PAVED SHLD, HMA, 12.5\")",2,"SY","On-site Detour","SB/WB Rt Shldr","HMA HT, Surface, L - 3 Option, 1/2",null,null,"Marshalltown"]
["2122-7450080 (SHLD STRENGTHEN, OPTIONAL HMA/PCC, 8\")",2,"SY","Patching","SB/WB Lt Shldr","HMA HT, Surface, L - 2, 1/2",null,null,"Mason City"]
["2212-5070310 (PATCH, FULL-DEPTH REPAIR)",2,"SY","Ramps","Ramp A","HMA HT, Surface, None, 1/2",null,null,"New Hampton"]
["2212-5070322 (PATCH, PARTIAL-DEPTH REPAIR, HMA)",2,"SY","Recreational Trail","Ramp B","HMA HT, Intermediate, None, 1/2",null,null,"Sioux City"]
["2212-5070330 (PATCH BY COUNT (REPAIR))",4,"Count","Rest Area","Ramp C","HMA HT, Base, None, 1/2",null,null,"County"]
["2212-5075001 (HMA SURF PATCH)",1,"Tons","Strengthening","Ramp D","HMA VT, Surface, L - 4, 1/2",null,null,"City"]
["2213-8200000 (BASE WIDENING, HMA)",1,"Tons","Temporary Cross-over","Ramp E","HMA VT, Surface, L - 3, 1/2"]
["2213-8201030 (BASE WIDENING, 3\" HMA)",2,"SY","Temporary Pavement","Ramp F","HMA VT, Surface, L - 3 Option, 1/2"]
["2213-8201040 (BASE WIDENING, 4\" HMA)",2,"SY","Turning Lane","Ramp G","HMA VT, Surface, L - 2, 1/2"]
["2213-8201045 (BASE WIDENING, 4.5\" HMA)",2,"SY","Wedge","Ramp H","HMA VT, Surface, None, 1/2"]
["2213-8201050 (BASE WIDENING, 5\" HMA)",2,"SY","Widening (Travel lane)","Lane A","HMA VT, Intermediate, None, 1/2"]
["2213-8201055 (BASE WIDENING, 5.5\" HMA)",2,"SY","Widening (Non-travel lane)","Lane B","HMA VT, Base, None, 1/2"]
["2213-8201060 (BASE WIDENING, 6\" HMA)",2,"SY","Other Non-Travel Lane","Lane C","HMA INTERLAYER"]
["2213-8201065 (BASE WIDENING, 6.5\" HMA)",2,"SY",null,"Lane D","HMA THIN LIFT"]
["2213-8201070 (BASE WIDENING, 7\" HMA)",2,"SY",null,"Lane E"]
["2213-8201075 (BASE WIDENING, 7.5\" HMA)",2,"SY",null,"Lane F"]
["2213-8201080 (BASE WIDENING, 8\" HMA)",2,"SY",null,"Lane G"]
["2213-8201085 (BASE WIDENING, 8.5\" HMA)",2,"SY",null,"Loop A"]
["2213-8201090 (BASE WIDENING, 9\" HMA)",2,"SY",null,"Loop B"]
["2213-8201095 (BASE WIDENING, 9.5\" HMA)",2,"SY",null,"Loop C"]
["2213-8201100 (BASE WIDENING, 10\" HMA)",2,"SY",null,"Loop D"]
["2213-8201105 (BASE WIDENING, 10.5\" HMA)",2,"SY",null,"Loop E"]
["2213-8201110 (BASE WIDENING, 11\" HMA)",2,"SY",null,"Loop F"]
["2303-0000100 (HMA COMMERCIAL MIX (INCL ASPH BINDER))",1,"Tons",null,"Loop G"]
["2303-0001000 (HMA WEDGE/LEVEL/STRENGTH)",1,"Tons",null,"Widening (WB)"]
["2303-0002380 (HMA INTERLAYER BASE, 3/8\")",1,"Tons",null,"Widening (EB)"]
["2303-0003380 (HMA THIN LIFT SURFACE, 3/8\")",1,"Tons",null,"Widening (NB)"]
["2303-0101000 (HMA WEDGE/LEVEL/STRENGTH)",2,"SY",null,"Widening (SB)"]
["2303-1031500 (HMA ST BASE, 1/2\")",1,"Tons",null,"Intersection A"]
["2303-1031750 (HMA ST BASE, 3/4\")",1,"Tons",null,"Intersection B"]
["2303-1032500 (HMA ST INTERMEDIATE, 1/2\")",1,"Tons",null,"Intersection C"]
["2303-1032750 (HMA ST INTERMEDIATE, 3/4\")",1,"Tons",null,"Intersection D"]
["2303-1033380 (HMA ST SURF, 3/8\", NO FRIC)",1,"Tons",null,"NB/EB Rest Area"]
["2303-1033382 (HMA ST SURF, 3/8\", FRIC L-2)",1,"Tons",null,"SB/WB Rest Area"]
["2303-1033383 (HMA ST SURF, 3/8\", FRIC L-3)",1,"Tons",null,"Intersection A"]
["2303-1033384 (HMA ST SURF, 3/8\", FRIC L-4)",1,"Tons",null,"Intersection B"]
["2303-1033500 (HMA ST SURF, 1/2\", NO FRIC)",1,"Tons",null,"Intersection C"]
["2303-1033502 (HMA ST SURF, 1/2\", FRIC L-2)",1,"Tons",null,"Intersection D"]
["2303-1033503 (HMA ST SURF, 1/2\", FRIC L-3)",1,"Tons",null,"Guard Rail 1"]
["2303-1033504 (HMA ST SURF, 1/2\", FRIC L-4)",1,"Tons",null,"Guard Rail 2"]
["2303-1033750 (HMA ST SURF, 3/4\", NO FRIC)",1,"Tons",null,"Guard Rail 3"]
["2303-1033752 (HMA ST SURF, 3/4\", FRIC L-2)",1,"Tons",null,"Guard Rail 4"]
["2303-1033753 (HMA ST SURF, 3/4\", FRIC L-3)",1,"Tons",null,"Guard Rail 5"]
["2303-1033754 (HMA ST SURF, 3/4\", FRIC L-4)",1,"Tons",null,"Guard Rail 6"]
["2303-1041500 (HMA HT BASE, 1/2\")",1,"Tons",null,"Guard Rail 7"]
["2303-1041750 (HMA HT BASE, 3/4\")",1,"Tons",null,"Crossover 1"]
["2303-1042500 (HMA HT INTERMEDIATE, 1/2\")",1,"Tons",null,"Crossover 2"]
["2303-1042750 (HMA HT INTERMEDIATE, 3/4\")",1,"Tons",null,"Crossover 3"]
["2303-1043500 (HMA HT SURF, 1/2\", NO FRIC)",1,"Tons",null,"Crossover 4"]
["2303-1043502 (HMA HT SURF, 1/2\", FRIC L-2)",1,"Tons",null,"Crossover 5"]
["2303-1043503 (HMA HT SURF, 1/2\", FRIC L-3)",1,"Tons",null,"Crossover 6"]
["2303-1043504 (HMA HT SURF, 1/2\", FRIC L-4)",1,"Tons",null,"Gore/Fillet"]
["2303-1043750 (HMA HT SURF, 3/4\", NO FRIC)",1,"Tons",null,"Taper"]
["2303-1043752 (HMA HT SURF, 3/4\", FRIC L-2)",1,"Tons"]
["2303-1043753 (HMA HT SURF, 3/4\", FRIC L-3)",1,"Tons"]
["2303-1043754 (HMA HT SURF, 3/4\", FRIC L-4)",1,{"$f":"IF(B67=2,\"SY\",IF(B67=3,\"LF\",IF(B67=4,\"Count\",\"Tons\")))","v":"Tons"}]
["2303-1051500 (HMA VT BASE, 1/2\")",1,"Tons"]
["2303-1051750 (HMA VT BASE, 3/4\")",1,"Tons"]
["2303-1052500 (HMA VT INTERMEDIATE, 1/2\")",1,"Tons"]
["2303-1052750 (HMA VT INTERMEDIATE, 3/4\")",1,"Tons"]
["2303-1053500 (HMA VT SURF, 1/2\", NO FRIC)",1,"Tons"]
["2303-1053502 (HMA VT SURF, 1/2\", FRIC L-2)",1,"Tons"]
["2303-1053503 (HMA VT SURF, 1/2\", FRIC L-3)",1,"Tons"]
["2303-1053504 (HMA VT SURF, 1/2\", FRIC L-4)",1,"Tons"]
["2303-1053750 (HMA VT SURF, 3/4\", NO FRIC)",1,"Tons"]
["2303-1053752 (HMA VT SURF, 3/4\", FRIC L-2)",1,"Tons"]
["2303-1053753 (HMA VT SURF, 3/4\", FRIC L-3)",1,"Tons"]
["2303-1053754 (HMA VT SURF, 3/4\", FRIC L-4)",1,"Tons"]
["2303-1131500 (HMA ST BASE, 1/2\")",2,"SY"]
["2303-1132500 (HMA ST INTERMEDIATE 1/2\")",2,"SY"]
["2303-1133500 (HMA ST SURF, 1/2\", NO FRIC)",2,"SY"]
["2303-1133502 (HMA ST SURF, 1/2\", FRIC L-2)",2,"SY"]
["2303-1133503 (HMA ST SURF, 1/2\", FRIC L-3)",2,"SY"]
["2303-1133504 (HMA ST SURF, 1/2\", FRIC L-4)",2,"SY"]
["2303-1141500 (HMA HT BASE, 1/2\")",2,"SY"]
["2303-1142500 (HMA HT INTERMEDIATE 1/2\")",2,"SY"]
["2303-1143500 (HMA HT SURF, 1/2\", NO FRIC)",2,"SY"]
["2303-1143502 (HMA HT SURF, 1/2\", FRIC L-2)",2,"SY"]
["2303-1143503 (HMA HT SURF, 1/2\", FRIC L-3)",2,"SY"]
["2303-1143504 (HMA HT SURF, 1/2\", FRIC L-4)",2,"SY"]
["2303-6911000 (HMA PAV'T SAMPLE)","","Tons"]
["2303-7000510 (HMA MIX INCORPORATED W/ ANTI-STRIP AGENT)",1,"Tons"]
["2303-9093010 (HMA, DRIVEWAY)",2,"SY"]
["2304-0100000 (DETOUR PAV'T)",2,"SY"]
["2304-0101000 (TEMPORARY PAV'T)",2,"SY"]
["2310-8300530 (HMA STRESS RELIEF COURSE)",2,"SY"]
["2310-8300540 (HMA STRESS RELIEF COURSE)",1,"Tons"]
["2315-8275025 (SURF, DRIVEWAY, CL A CR STONE)",1,"Tons"]
["2315-8275030 (SURF, DRIVEWAY, CL C GRAVEL)",1,"Tons"]
["2315-8275036 (SURF, DRIVEWAY, CL D CR STONE)",1,"Tons"]
["2315-8275055 (SURF, DRIVEWAY)",1,"Tons"]
["2511-0301200 (RECREATIONAL TRAIL, HMA, 2\")",2,"SY"]
["2511-0301300 (RECREATIONAL TRAIL, HMA, 3\")",2,"SY"]
["2511-0301400 (RECREATIONAL TRAIL, HMA, 4\")",2,"SY"]
["2511-0301500 (RECREATIONAL TRAIL, HMA, 5\")",2,"SY"]
["2511-0301600 (RECREATIONAL TRAIL, HMA, 6\")",2,"SY"]
["2511-0301800 (RECREATIONAL TRAIL, HMA, 8\")",2,"SY"]
["2517-4225220 (RAILROAD APPROACH SECTION, HMA)",2,"SY"]
["2529-0400057 (HMA (COMPOSITE SECTION))",1,"Tons"]
["2529-5070110 (PATCH, FULL-DEPTH FINISH, BY AREA)",2,"SY"]
["2529-5070111 (PATCH,FULL-DEPTH FINISH,BY AREA(=>50 FT))",2,"SY"]
["2529-5070120 (PATCH, FULL-DEPTH FINISH, BY COUNT)",4,"Count"]
["2529-8174010 (SUBBASE, (PATCH))",2,"SY"]
["2529-8174020 (SUBBASE PATCH W/ EF JOINT)",2,"SY"]
["2529-8174050 (PATCH SUBDRAIN)","","Tons"]
["2530-0400061 (HMA (PARTIAL DEPTH PATCH MAT'L))",1,"Tons"]
["2530-5070221 (REGULAR PART DEPTH HMA FINISH PATCH AREA)",2,"SY"]
["2530-5070231 (IRREG PART DEPTH HMA FINISH PATCH AREA)",2,"SY"]
["2530-5070250 (OVERDEPTH PATCH)","","Tons"]
["2540-4480507 (LONGITUDINAL JOINT REPAIR)",3,"LF"]
["2541-1004011 (CRACK & JOINT CLEAN & SEAL (HMA SURF))","","Tons"]
["2541-1005001 (SEALER MATERIAL (HMA SURF))","","Tons"]
["2543-1000000 (TRANSVERSE JOINT REPAIR)",1,"Tons"]
["2544-1002010 (HMA - CRACK FILL)",1,"Tons"]
["2599-9999018 (('SQUARE YARDS' ITEM))",2,"SY"]
["2599-9999020 (('TONS' ITEM))",1,"Tons"]
["6100-2303011 (EWO\\HMA MIX WITH ANTI-STRIP AGENT)",1,"Tons"]
["6100-2529011 (EWO\\INCREASED DEPTH SUBBASE-PATCH)",2,"SY"]

{"sheet":"FM Input","index":1,"n_rows":1,"n_cols":1,"rows_kept":1,"cut":false,"hidden":false,"merged":[]}
["Paste FieldManager Item List Here"]

{"sheet":"S","index":2,"n_rows":98,"n_cols":15,"rows_kept":98,"cut":false,"hidden":true,"merged":[[90,1,90,2],[90,3,90,4],[90,5,90,8],[90,9,90,11],[90,12,90,14],[93,0,93,12],[91,1,91,2],[91,3,91,4],[91,5,91,8],[91,9,91,11],[91,12,91,14],[92,1,92,2],[92,3,92,4],[92,6,92,7],[92,9,92,10],[92,12,92,13],[88,1,88,2],[88,3,88,4],[88,5,88,8],[88,9,88,11],[88,12,88,14],[89,1,89,2],[89,3,89,4],[89,5,89,8],[89,9,89,11],[89,12,89,14],[86,1,86,2],[86,3,86,4],[86,5,86,8],[86,9,86,11],[87,1,87,2],[87,3,87,4],[87,5,87,8],[87,9,87,11],[87,12,87,14],[78,1,78,2],[78,3,78,4],[78,6,78,7],[78,9,78,10],[78,12,78,13],[79,0,79,12],[85,1,85,2],[85,3,85,4],[85,5,85,8],[85,9,85,11],[76,1,76,2],[76,3,76,4],[76,5,76,8],[76,9,76,11],[76,12,76,14],[77,1,77,2],[77,3,77,4],[77,5,77,8],[77,9,77,11],[77,12,77,14],[74,1,74,2],[74,3,74,4],[74,5,74,8],[74,9,74,11],[74,12,74,14],[75,1,75,2],[75,3,75,4],[75,5,75,8],[75,9,75,11],[75,12,75,14],[72,1,72,2],[72,3,72,4],[72,5,72,8],[72,9,72,11],[73,1,73,2],[73,3,73,4],[73,5,73,8],[73,9,73,11],[73,12,73,14],[64,1,64,2],[64,3,64,4],[64,6,64,7],[64,9,64,10],[64,12,64,13],[65,0,65,12],[71,1,71,2],[71,3,71,4],[71,5,71,8],[71,9,71,11],[62,1,62,2],[62,3,62,4],[62,5,62,8],[62,9,62,11],[62,12,62,14],[63,1,63,2],[63,3,63,4],[63,5,63,8],[63,9,63,11],[63,12,63,14],[60,1,60,2],[60,3,60,4],[60,5,60,8],[60,9,60,11],[60,12,60,14],[61,1,61,2],[61,3,61,4],[61,5,61,8],[61,9,61,11],[61,12,61,14],[58,1,58,2],[58,3,58,4],[58,5,58,8],[58,9,58,11],[59,1,59,2],[59,3,59,4],[59,5,59,8],[59,9,59,11],[59,12,59,14],[50,1,50,2],[50,3,50,4],[50,6,50,7],[50,9,50,10],[50,12,50,13],[51,0,51,12],[57,1,57,2],[57,3,57,4],[57,5,57,8],[57,9,57,11],[48,1,48,2],[48,3,48,4],[48,5,48,8],[48,9,48,11],[48,12,48,14],[49,1,49,2],[49,3,49,4],[49,5,49,8],[49,9,49,11],[49,12,49,14],[46,1,46,2],[46,3,46,4],[46,5,46,8],[46,9,46,11],[46,12,46,14],[47,1,47,2],[47,3,47,4],[47,5,47,8],[47,9,47,11],[47,12,47,14],[44,1,44,2],[44,3,44,4],[44,5,44,8],[44,9,44,11],[45,1,45,2],[45,3,45,4],[45,5,45,8],[45,9,45,11],[45,12,45,14],[36,1,36,2],[36,3,36,4],[36,6,36,7],[36,9,36,10],[36,12,36,13],[37,0,37,12],[43,1,43,2],[43,3,43,4],[43,5,43,8],[43,9,43,11],[34,1,34,2],[34,3,34,4],[34,5,34,8],[34,9,34,11],[34,12,34,14],[35,1,35,2],[35,3,35,4],[35,5,35,8],[35,9,35,11],[35,12,35,14],[32,1,32,2],[32,3,32,4],[32,5,32,8],[32,9,32,11],[32,12,32,14],[33,1,33,2],[33,3,33,4],[33,5,33,8],[33,9,33,11],[33,12,33,14],[30,1,30,2],[30,3,30,4],[30,5,30,8],[30,9,30,11],[31,1,31,2],[31,3,31,4],[31,5,31,8],[31,9,31,11],[31,12,31,14],[22,1,22,2],[22,3,22,4],[22,6,22,7],[22,9,22,10],[22,12,22,13],[23,0,23,12],[29,1,29,2],[29,3,29,4],[29,5,29,8],[29,9,29,11],[20,1,20,2],[20,3,20,4],[20,5,20,8],[20,9,20,11],[20,12,20,14],[21,1,21,2],[21,3,21,4],[21,5,21,8],[21,9,21,11],[21,12,21,14],[18,1,18,2],[18,3,18,4],[18,5,18,8],[18,9,18,11],[18,12,18,14],[19,1,19,2],[19,3,19,4],[19,5,19,8],[19,9,19,11],[19,12,19,14],[16,1,16,2],[16,3,16,4],[16,5,16,8],[16,9,16,11],[17,1,17,2],[17,3,17,4],[17,5,17,8],[17,9,17,11],[17,12,17,14],[8,1,8,2],[8,3,8,4],[8,6,8,7],[8,9,8,10],[8,12,8,13],[9,0,9,12],[15,1,15,2],[15,3,15,4],[15,5,15,8],[15,9,15,11],[6,1,6,2],[6,3,6,4],[6,5,6,8],[6,9,6,11],[6,12,6,14],[7,1,7,2],[7,3,7,4],[7,5,7,8],[7,9,7,11],[7,12,7,14],[3,12,3,14],[4,1,4,2],[4,3,4,4],[4,5,4,8],[4,9,4,11],[4,12,4,14],[5,1,5,2],[5,3,5,4],[5,5,5,8],[5,9,5,11],[5,12,5,14],[1,1,1,2],[1,3,1,4],[1,5,1,8],[1,9,1,11],[2,1,2,2],[2,3,2,4],[2,5,2,8],[2,9,2,11],[3,1,3,2],[3,3,3,4],[3,5,3,8],[3,9,3,11]]}
[1]
["Mix Design #","1BD14-020",null,"County",null,"Hamilton",null,null,null,null,null,null,"N Ini.","N Des.","N Max"]
["Agg. Type (AorB)","B",null,"Project",null,"HSIPX-017-3(36)--3L-40",null,null,null,"Gyrations",null,null,7,68,104]
["Mix Type","HMA 1M",null,"Contractor",null,"Mathy",null,null,null,"Project Location",null,null,"On IA 17, From IA 175 North 13.1 to US 20 in Webster City"]
["ESALs",1000000,null,"Contract #",null,null,null,null,null,"Date Reported",null,null,"2014-05-05"]
["Mix Size mm/in.","1/2",null,"AC Source",null,"Flint Hills Resources, LP (Rosemount, MN)",null,null,null,"Contract Mix Tonnage",null,null,15054.8]
["Friction Type","None",null,"AC Grade",null,"58-28",null,null,null,"Mix Designers Name",null,null,"John Jorgenson"]
["Target Voids",3.5,null,"AC Sp.Gr.",null,1.0289999999999999,null,null,null,"Mix Designers Cert. #",null,null,"EC 186"]
["Course","Base",null,"% RAS",null,null,"% RAP",null,20,"% RAS AC",null,null,"% RAP AC",null,4.5]
[" Aggregate Limits & RAP Gradation % Passing"]
[null,"38.1mm      (1 1/2)","25mm (1)","19mm (¾)","12.5mm (½)","9.5mm (3/8)","4.75mm (4)","2.36mm (8)","1.18mm (16)","600µm (30)","300µm (50)","150µm (100)","75µm (200)"]
["Upper Limit",100,100,100,100,90,null,58,null,null,null,null,10]
["Lower Limit",100,100,100,90,null,null,28,null,null,null,null,2]
["RAP",100,100,100,96,93,76,61,48,36,23,15,11.6]
[2]
["Mix Design #","1BD14-020",null,"County",null,"Hamilton",null,null,null,null,null,null,"N Ini.","N Des.","N Max"]
["Agg. Type (AorB)","B",null,"Project",null,"HSIPX-017-3(36)--3L-40",null,null,null,"Gyrations",null,null,7,68,104]
["Mix Type","HMA 1M",null,"Contractor",null,"Mathy",null,null,null,"Project Location",null,null,"On IA 17, From IA 175 North 13.1 to US 20 in Webster City"]
["ESALs",1000000,null,"Contract #",null,null,null,null,null,"Date Reported",null,null,"2014-05-05"]
["Mix Size mm/in.","1/2",null,"AC Source",null,"Flint Hills Resources, LP (Rosemount, MN)",null,null,null,"Contract Mix Tonnage",null,null,15054.8]
["Friction Type","None",null,"AC Grade",null,"58-28",null,null,null,"Mix Designers Name",null,null,"John Jorgenson"]
["Target Voids",3.5,null,"AC Sp.Gr.",null,1.0289999999999999,null,null,null,"Mix Designers Cert. #",null,null,"EC 186"]
["Course","Base",null,"% RAS",null,null,"% RAP",null,20,"% RAS AC",null,null,"SE-126",null,4.5]
[" Aggregate Limits & RAP Gradation % Passing",null,null,null,null,null,null,null,null,null,null,null,null,null,5.61]
[null,"38.1mm      (1 1/2)","25mm (1)","19mm (¾)","12.5mm (½)","9.5mm (3/8)","4.75mm (4)","2.36mm (8)","1.18mm (16)","600µm (30)","300µm (50)","150µm (100)","75µm (200)"]
["Upper Limit",100,100,100,100,90,null,58,null,null,null,null,10]
["Lower Limit",100,100,100,90,null,null,28,null,null,null,null,2]
["RAP",100,100,100,96,93,76,61,48,36,23,15,11.6]
[3]
["Mix Design #",null,null,"County",null,null,null,null,null,null,null,null,"N Ini.","N Des.","N Max"]
["Agg. Type (AorB)",null,null,"Project",null,null,null,null,null,"Gyrations"]
["Mix Type",null,null,"Contractor",null,null,null,null,null,"Project Location"]
["ESALs",null,null,"Contract #",null,null,null,null,null,"Date Reported"]
["Mix Size mm/in.",null,null,"AC Source",null,null,null,null,null,"Contract Mix Tonnage"]
["Friction Type",null,null,"AC Grade",null,null,null,null,null,"Mix Designers Name"]
["Target Voids",null,null,"AC Sp.Gr.",null,null,null,null,null,"Mix Designers Cert. #"]
["Course",null,null,"% RAS",null,null,"% RAP",null,null,"% RAS AC",null,null,"% RAP AC"]
[" Aggregate Limits & RAP Gradation % Passing"]
[null,"38.1mm      (1 1/2)","25mm (1)","19mm (¾)","12.5mm (½)","9.5mm (3/8)","4.75mm (4)","2.36mm (8)","1.18mm (16)","600µm (30)","300µm (50)","150µm (100)","75µm (200)"]
["Upper Limit"]
["Lower Limit"]
["RAP"]
[4]
["Mix Design #",null,null,"County",null,null,null,null,null,null,null,null,"N Ini.","N Des.","N Max"]
["Agg. Type (AorB)",null,null,"Project",null,null,null,null,null,"Gyrations"]
["Mix Type",null,null,"Contractor",null,null,null,null,null,"Project Location"]
["ESALs",null,null,"Contract #",null,null,null,null,null,"Date Reported"]
["Mix Size mm/in.",null,null,"AC Source",null,null,null,null,null,"Contract Mix Tonnage"]
["Friction Type",null,null,"AC Grade",null,null,null,null,null,"Mix Designers Name"]
["Target Voids",null,null,"AC Sp.Gr.",null,null,null,null,null,"Mix Designers Cert. #"]
["Course",null,null,"% RAS",null,null,"% RAP",null,null,"% RAS AC",null,null,"% RAP AC"]
[" Aggregate Limits & RAP Gradation % Passing"]
[null,"38.1mm      (1 1/2)","25mm (1)","19mm (¾)","12.5mm (½)","9.5mm (3/8)","4.75mm (4)","2.36mm (8)","1.18mm (16)","600µm (30)","300µm (50)","150µm (100)","75µm (200)"]
["Upper Limit"]
["Lower Limit"]
["RAP"]
[5]
["Mix Design #",null,null,"County",null,null,null,null,null,null,null,null,"N Ini.","N Des.","N Max"]
["Agg. Type (AorB)",null,null,"Project",null,null,null,null,null,"Gyrations"]
["Mix Type",null,null,"Contractor",null,null,null,null,null,"Project Location"]
["ESALs",null,null,"Contract #",null,null,null,null,null,"Date Reported"]
["Mix Size mm/in.",null,null,"AC Source",null,null,null,null,null,"Contract Mix Tonnage"]
["Friction Type",null,null,"AC Grade",null,null,null,null,null,"Mix Designers Name"]
["Target Voids",null,null,"AC Sp.Gr.",null,null,null,null,null,"Mix Designers Cert. #"]
["Course",null,null,"% RAS",null,null,"% RAP",null,null,"% RAS AC",null,null,"% RAP AC"]
[" Aggregate Limits & RAP Gradation % Passing"]
[null,"38.1mm      (1 1/2)","25mm (1)","19mm (¾)","12.5mm (½)","9.5mm (3/8)","4.75mm (4)","2.36mm (8)","1.18mm (16)","600µm (30)","300µm (50)","150µm (100)","75µm (200)"]
["Upper Limit"]
["Lower Limit"]
["RAP"]
[6]
["Mix Design #",null,null,"County",null,null,null,null,null,null,null,null,"N Ini.","N Des.","N Max"]
["Agg. Type (AorB)",null,null,"Project",null,null,null,null,null,"Gyrations"]
["Mix Type",null,null,"Contractor",null,null,null,null,null,"Project Location"]
["ESALs",null,null,"Contract #",null,null,null,null,null,"Date Reported"]
["Mix Size mm/in.",null,null,"AC Source",null,null,null,null,null,"Contract Mix Tonnage"]
["Friction Type",null,null,"AC Grade",null,null,null,null,null,"Mix Designers Name"]
["Target Voids",null,null,"AC Sp.Gr.",null,null,null,null,null,"Mix Designers Cert. #"]
["Course",null,null,"% RAS",null,null,"% RAP",null,null,"% RAS AC",null,null,"% RAP AC"]
[" Aggregate Limits & RAP Gradation % Passing"]
[null,"38.1mm      (1 1/2)","25mm (1)","19mm (¾)","12.5mm (½)","9.5mm (3/8)","4.75mm (4)","2.36mm (8)","1.18mm (16)","600µm (30)","300µm (50)","150µm (100)","75µm (200)"]
["Upper Limit"]
["Lower Limit"]
["RAP"]
[7]
["Mix Design #",null,null,"County",null,null,null,null,null,null,null,null,"N Ini.","N Des.","N Max"]
["Agg. Type (AorB)",null,null,"Project",null,null,null,null,null,"Gyrations"]
["Mix Type",null,null,"Contractor",null,null,null,null,null,"Project Location"]
["ESALs",null,null,"Contract #",null,null,null,null,null,"Date Reported"]
["Mix Size mm/in.",null,null,"AC Source",null,null,null,null,null,"Contract Mix Tonnage"]
["Friction Type",null,null,"AC Grade",null,null,null,null,null,"Mix Designers Name"]
["Target Voids",null,null,"AC Sp.Gr.",null,null,null,null,null,"Mix Designers Cert. #"]
["Course",null,null,"% RAS",null,null,"% RAP",null,null,"% RAS AC",null,null,"% RAP AC"]
[" Aggregate Limits & RAP Gradation % Passing"]
[null,"38.1mm      (1 1/2)","25mm (1)","19mm (¾)","12.5mm (½)","9.5mm (3/8)","4.75mm (4)","2.36mm (8)","1.18mm (16)","600µm (30)","300µm (50)","150µm (100)","75µm (200)"]
["Upper Limit"]
["Lower Limit"]
["RAP"]

{"sheet":"101_HMA","index":3,"n_rows":64,"n_cols":12,"rows_kept":64,"cut":false,"hidden":false,"merged":[[7,4,7,6],[7,8,7,11],[1,0,1,11],[2,0,2,11],[4,2,4,5],[4,6,4,7],[4,8,4,11],[16,1,16,3],[16,4,16,6],[16,8,16,9],[8,4,8,6],[8,8,8,11],[10,1,10,3],[10,4,10,6],[10,8,10,11],[11,1,11,3],[11,4,11,6],[11,8,11,11],[12,1,12,3],[12,4,12,6],[12,8,12,11],[14,8,14,9],[15,8,15,9],[18,1,18,3],[18,4,18,6],[19,1,19,3],[19,4,19,6],[20,1,20,3],[20,4,20,6],[21,1,21,3],[21,4,21,6],[22,1,22,3],[22,4,22,6],[23,1,23,3],[23,4,23,6],[24,1,24,3],[24,4,24,6],[25,1,25,3],[25,4,25,6],[26,1,26,3],[26,4,26,6],[27,1,27,3],[27,4,27,6],[28,1,28,3],[28,4,28,6],[29,1,29,3],[29,4,29,6],[33,1,33,3],[33,4,33,6],[35,1,35,6],[36,8,36,9],[37,8,37,9],[30,1,30,3],[30,4,30,6],[31,1,31,3],[31,4,31,6],[32,1,32,3],[32,4,32,6],[44,8,44,9],[45,8,45,9],[46,8,46,9],[47,8,47,9],[38,8,38,9],[39,8,39,9],[40,8,40,9],[41,8,41,9],[42,8,42,9],[43,8,43,9],[49,1,49,7],[50,8,50,9],[63,2,63,11],[64,1,64,11],[65,1,65,11],[51,8,51,9],[66,1,66,11],[52,8,52,9],[53,8,53,9],[54,8,54,9],[57,1,57,7],[58,8,58,9],[60,8,60,9]]}
[2022]
["Construction and Materials Review"]
["HMA PAVING and COLD-IN-PLACE RECYCLING"]
[]
[null,"Project No.: ",null,null,null,null,"Contract No.:  "]
[null,"Refer to IM 204 Appendix F,  IM 437,  IM 510,  IM 511"]
["Contract "]
["Item No.",null,"Material",null,"Type",null,null,null,"Source"]
[null,null,"Binder"]
[null,null,"Binder"]
[null,"Emulsion / Cutbacks"]
[null,"Emulsion / Cutbacks"]
[null,"Stabilizing Agent"]
[]
[null,null,null,null,null,null,null,null,"Quantity",null,null,"Quantity"]
["Contract ",null,null,null,null,null,null,null,"Paid",null,null,"Documented"]
["Item No.","Basis of Acceptance",null,null,"Mix Design No.",null,null,null,"Tons or S.Y",null,null,"Tons"]
[]
[{"$f":"IF(Input!S5=\"\",\"\",Input!S5)","v":""},"PWL or Small Qty's",null,null,{"$f":"IF(Input!V5=\"\",\"\",Input!V5)","v":""},null,null,null,{"$f":"IF(Input!X5=\"\",\"\",Input!X5)","v":""},{"$f":"IFERROR(INDEX('FM Input'!$1:$400,MATCH(A19,'FM Input'!$D:$D,0),MATCH(\"Units\",'FM Input'!$1:$1,0)),\"\")","v":""},null,{"$f":"IF(Input!W5=\"\",\"\",Input!W5)","v":""}]
[{"$f":"IF(Input!S6=\"\",\"\",Input!S6)","v":""},"PWL or Small Qty's",null,null,{"$f":"IF(Input!V6=\"\",\"\",Input!V6)","v":""},null,null,null,{"$f":"IF(Input!X6=\"\",\"\",Input!X6)","v":""},{"$f":"IFERROR(INDEX('FM Input'!$1:$400,MATCH(A20,'FM Input'!$D:$D,0),MATCH(\"Units\",'FM Input'!$1:$1,0)),\"\")","v":""},null,{"$f":"IF(Input!W6=\"\",\"\",Input!W6)","v":""}]
[{"$f":"IF(Input!S7=\"\",\"\",Input!S7)","v":""},"PWL or Small Qty's",null,null,{"$f":"IF(Input!V7=\"\",\"\",Input!V7)","v":""},null,null,null,{"$f":"IF(Input!X7=\"\",\"\",Input!X7)","v":""},{"$f":"IFERROR(INDEX('FM Input'!$1:$400,MATCH(A21,'FM Input'!$D:$D,0),MATCH(\"Units\",'FM Input'!$1:$1,0)),\"\")","v":""},null,{"$f":"IF(Input!W7=\"\",\"\",Input!W7)","v":""}]
[{"$f":"IF(Input!S8=\"\",\"\",Input!S8)","v":""},"PWL or Small Qty's",null,null,{"$f":"IF(Input!V8=\"\",\"\",Input!V8)","v":""},null,null,null,{"$f":"IF(Input!X8=\"\",\"\",Input!X8)","v":""},{"$f":"IFERROR(INDEX('FM Input'!$1:$400,MATCH(A22,'FM Input'!$D:$D,0),MATCH(\"Units\",'FM Input'!$1:$1,0)),\"\")","v":""},null,{"$f":"IF(Input!W8=\"\",\"\",Input!W8)","v":""}]
[{"$f":"IF(Input!S9=\"\",\"\",Input!S9)","v":""},"PWL or Small Qty's",null,null,{"$f":"IF(Input!V9=\"\",\"\",Input!V9)","v":""},null,null,null,{"$f":"IF(Input!X9=\"\",\"\",Input!X9)","v":""},{"$f":"IFERROR(INDEX('FM Input'!$1:$400,MATCH(A23,'FM Input'!$D:$D,0),MATCH(\"Units\",'FM Input'!$1:$1,0)),\"\")","v":""},null,{"$f":"IF(Input!W9=\"\",\"\",Input!W9)","v":""}]
[{"$f":"IF(Input!S10=\"\",\"\",Input!S10)","v":""},"PWL or Small Qty's",null,null,{"$f":"IF(Input!V10=\"\",\"\",Input!V10)","v":""},null,null,null,{"$f":"IF(Input!X10=\"\",\"\",Input!X10)","v":""},{"$f":"IFERROR(INDEX('FM Input'!$1:$400,MATCH(A24,'FM Input'!$D:$D,0),MATCH(\"Units\",'FM Input'!$1:$1,0)),\"\")","v":""},null,{"$f":"IF(Input!W10=\"\",\"\",Input!W10)","v":""}]
[{"$f":"IF(Input!S11=\"\",\"\",Input!S11)","v":""},"PWL or Small Qty's",null,null,{"$f":"IF(Input!V11=\"\",\"\",Input!V11)","v":""},null,null,null,{"$f":"IF(Input!X11=\"\",\"\",Input!X11)","v":""},{"$f":"IFERROR(INDEX('FM Input'!$1:$400,MATCH(A25,'FM Input'!$D:$D,0),MATCH(\"Units\",'FM Input'!$1:$1,0)),\"\")","v":""},null,{"$f":"IF(Input!W11=\"\",\"\",Input!W11)","v":""}]
[{"$f":"IF(Input!S12=\"\",\"\",Input!S12)","v":""},"PWL or Small Qty's",null,null,{"$f":"IF(Input!V12=\"\",\"\",Input!V12)","v":""},null,null,null,{"$f":"IF(Input!X12=\"\",\"\",Input!X12)","v":""},{"$f":"IFERROR(INDEX('FM Input'!$1:$400,MATCH(A26,'FM Input'!$D:$D,0),MATCH(\"Units\",'FM Input'!$1:$1,0)),\"\")","v":""},null,{"$f":"IF(Input!W12=\"\",\"\",Input!W12)","v":""}]
[{"$f":"IF(Input!S13=\"\",\"\",Input!S13)","v":""},"PWL or Small Qty's",null,null,{"$f":"IF(Input!V13=\"\",\"\",Input!V13)","v":""},null,null,null,{"$f":"IF(Input!X13=\"\",\"\",Input!X13)","v":""},{"$f":"IFERROR(INDEX('FM Input'!$1:$400,MATCH(A27,'FM Input'!$D:$D,0),MATCH(\"Units\",'FM Input'!$1:$1,0)),\"\")","v":""},null,{"$f":"IF(Input!W13=\"\",\"\",Input!W13)","v":""}]
[{"$f":"IF(Input!S14=\"\",\"\",Input!S14)","v":""},"PWL or Small Qty's",null,null,{"$f":"IF(Input!V14=\"\",\"\",Input!V14)","v":""},null,null,null,{"$f":"IF(Input!X14=\"\",\"\",Input!X14)","v":""},{"$f":"IFERROR(INDEX('FM Input'!$1:$400,MATCH(A28,'FM Input'!$D:$D,0),MATCH(\"Units\",'FM Input'!$1:$1,0)),\"\")","v":""},null,{"$f":"IF(Input!W14=\"\",\"\",Input!W14)","v":""}]
[{"$f":"IF(Input!S15=\"\",\"\",Input!S15)","v":""},"PWL or Small Qty's",null,null,{"$f":"IF(Input!V15=\"\",\"\",Input!V15)","v":""},null,null,null,{"$f":"IF(Input!X15=\"\",\"\",Input!X15)","v":""},{"$f":"IFERROR(INDEX('FM Input'!$1:$400,MATCH(A29,'FM Input'!$D:$D,0),MATCH(\"Units\",'FM Input'!$1:$1,0)),\"\")","v":""},null,{"$f":"IF(Input!W15=\"\",\"\",Input!W15)","v":""}]
[{"$f":"IF(Input!S16=\"\",\"\",Input!S16)","v":""},"PWL or Small Qty's",null,null,{"$f":"IF(Input!V16=\"\",\"\",Input!V16)","v":""},null,null,null,{"$f":"IF(Input!X16=\"\",\"\",Input!X16)","v":""},{"$f":"IFERROR(INDEX('FM Input'!$1:$400,MATCH(A30,'FM Input'!$D:$D,0),MATCH(\"Units\",'FM Input'!$1:$1,0)),\"\")","v":""},null,{"$f":"IF(Input!W16=\"\",\"\",Input!W16)","v":""}]
[{"$f":"IF(Input!S17=\"\",\"\",Input!S17)","v":""},"PWL or Small Qty's",null,null,{"$f":"IF(Input!V17=\"\",\"\",Input!V17)","v":""},null,null,null,{"$f":"IF(Input!X17=\"\",\"\",Input!X17)","v":""},{"$f":"IFERROR(INDEX('FM Input'!$1:$400,MATCH(A31,'FM Input'!$D:$D,0),MATCH(\"Units\",'FM Input'!$1:$1,0)),\"\")","v":""},null,{"$f":"IF(Input!W17=\"\",\"\",Input!W17)","v":""}]
[{"$f":"IF(Input!S18=\"\",\"\",Input!S18)","v":""},"PWL or Small Qty's",null,null,{"$f":"IF(Input!V18=\"\",\"\",Input!V18)","v":""},null,null,null,{"$f":"IF(Input!X18=\"\",\"\",Input!X18)","v":""},{"$f":"IFERROR(INDEX('FM Input'!$1:$400,MATCH(A32,'FM Input'!$D:$D,0),MATCH(\"Units\",'FM Input'!$1:$1,0)),\"\")","v":""},null,{"$f":"IF(Input!W18=\"\",\"\",Input!W18)","v":""}]
[{"$f":"IF(Input!S19=\"\",\"\",Input!S19)","v":""},"PWL or Small Qty's",null,null,{"$f":"IF(Input!V19=\"\",\"\",Input!V19)","v":""},null,null,null,{"$f":"IF(Input!X19=\"\",\"\",Input!X19)","v":""},{"$f":"IFERROR(INDEX('FM Input'!$1:$400,MATCH(A33,'FM Input'!$D:$D,0),MATCH(\"Units\",'FM Input'!$1:$1,0)),\"\")","v":""},null,{"$f":"IF(Input!W19=\"\",\"\",Input!W19)","v":""}]
[{"$f":"IF(Input!S20=\"\",\"\",Input!S20)","v":""},"PWL or Small Qty's",null,null,{"$f":"IF(Input!V20=\"\",\"\",Input!V20)","v":""},null,null,null,{"$f":"IF(Input!X20=\"\",\"\",Input!X20)","v":""},{"$f":"IFERROR(INDEX('FM Input'!$1:$400,MATCH(A34,'FM Input'!$D:$D,0),MATCH(\"Units\",'FM Input'!$1:$1,0)),\"\")","v":""},null,{"$f":"IF(Input!W20=\"\",\"\",Input!W20)","v":""}]
[]
[null,"Job Control Tests (Construction)"]
[null,null,null,null,null,null,null,null,"Required",null,null,"Documented"]
[null,"Combined aggregate-gradation (CPI)",null,null,null,null,"1 Cert Test / Lot"]
[null,"Binder",null,"(DSR) Sample",null,null,"1 / Day"]
[null,"Binder",null,"(DSR) Tests",null,null,"1st Day - 1 / Wk"]
[null,"Tack",null,"Viscosity or Residue",null,null,"1 per project"]
[null,"Stabilizing Agent",null,"(DSR) or Residue",null,null,"1 / day"]
[null,"Lab density",null,"(QMA) No. of tests based on production"]
[null,"Field Voids",null,null,null,null,"1 per lot"]
[null,"Film Thickness",null,null,null,null,"1 per lot"]
[null,"Smoothness ( Yes or No )",null,null,null,null,"Certified Test Rpt"]
[null,"Field Density (Cold-in-Place)",null,null,null,null,"10 / lot"]
[null,"Field Moisture (Cold-in-Place)",null,null,null,null,"10 / lot"]
[null,"Seal Coat Compatibility",null,null,null,null,"1st Day - 1 / Wk"]
[null,"Verification Test --- Materials will furnish report(s)"]
[null,"Verification gradation tests (Splits W / CPI)",null,null,null,null,"1st Day + 20%",201]
[null,"Aggregate Quality",null,null,null,null,"1 / 20,000 Tons of Mix"]
[null,"AC Binder",null,null,null,null,"1 / 20,000 Tons of Mix"]
[null,"Uncompacted mixture (Lab Density/Voids)",null,null,null,null,"1/day"]
[null,"Smoothness  ( Yes or No )",null,null,null,null,"10% of project",821301]
[null,"Stablizing Agent",null,null,null,null,"1 per project"]
[]
[null,"Independent Assurance --- Materials  will furnish report(s)"]
[null,"Compacted mixture (Lab Density/Voids)",null,null,null,null,"1 / Project or",800242]
[null,null,null,null,null,null,"Systems Approach"]
[null,"Aggregate Gradation (Splits W / Monitor)",null,null,null,null,"1 / Project or"]
[null,null,null,null,null,null,"Systems Approach"]
[]
[null,"Comments:"]

{"sheet":"Email Addresses","index":4,"n_rows":101,"n_cols":3,"rows_kept":101,"cut":false,"hidden":false,"merged":[]}
[null,"Email Address List","Enter \"X\" to Ignore"]
[1,"cedric.wilkinson@iowadot.us"]
[2,null," "]
[3,null," "]
[4,null," "]
[5,null," "]
[6]
[7]
[8]
[9]
[10]
[11]
[12]
[13]
[14]
[15]
[16]
[17]
[18]
[19]
[20]
[21]
[22]
[23]
[24]
[25]
[26]
[27]
[28]
[29]
[30]
[31]
[32]
[33]
[34]
[35]
[36]
[37]
[38]
[39]
[40]
[41]
[42]
[43]
[44]
[45]
[46]
[47]
[48]
[49]
[50]
[51]
[52]
[53]
[54]
[55]
[56]
[57]
[58]
[59]
[60]
[61]
[62]
[63]
[64]
[65]
[66]
[67]
[68]
[69]
[70]
[71]
[72]
[73]
[74]
[75]
[76]
[77]
[78]
[79]
[80]
[81]
[82]
[83]
[84]
[85]
[86]
[87]
[88]
[89]
[90]
[91]
[92]
[93]
[94]
[95]
[96]
[97]
[98]
[99]
[100]

{"sheet":"CONTROL CHARTS","index":5,"n_rows":0,"n_cols":0,"rows_kept":0,"cut":false,"hidden":true,"merged":[]}

{"sheet":"PLANT REPORT","index":6,"n_rows":0,"n_cols":0,"rows_kept":0,"cut":false,"hidden":true,"merged":[]}

{"sheet":"HMA SUMMARY","index":7,"n_rows":52,"n_cols":14,"rows_kept":52,"cut":false,"hidden":true,"merged":[[19,13,19,15],[18,1,18,2],[18,5,18,7],[18,8,18,10],[18,11,18,12],[11,2,11,3],[11,6,11,7],[12,2,12,3],[12,6,12,7],[7,1,7,2],[7,8,7,10],[8,8,8,10],[9,8,9,10],[5,1,5,2],[5,6,5,7],[5,8,5,14],[6,8,6,10]]}
[]
[]
[null,null,null,null,"DISTRICT 1 MATERIALS LAB - AMES"]
[]
[]
["County:    ",null,null,null,"Plant Phone: ",null,null,null,"PROJECT NO.:"]
[null,null,null,null,null,null,null,"A =  ",null,null,null,"E =  "]
["Contractor:",null,null,null,null,null,null,"B =  ",null,null,null,"F =  "]
[null,null,null,null,null,null,null,"C =  ",null,null,null,"G =  "]
["Type Mix:",null,null,null,null,null,null,"D =  ",null,null,null,"H =  "]
[]
["Mix Design:","#1 ",null,null,null,"#3 "]
[null,"#2 ",null,null,null,"#4 "]
[]
[null,null,null,"GYRATORY"]
[null,null,null,"MARSHALL"]
[null,null,null,"BLOWS/GYRO"]
[]
["Lab #","Code #",null,"Date","Date","Plant - Mix Results",null,null,"Lab - Mix Results",null,null,"Correlation Results"]
["1BC4-","Proj ID","Mix ID","Sampled","Tested","Gmb","Gmm","Pa","Gmb","Gmm","Pa","Gmb","Gmm","Remarks"]
[null,null,null,null,null,null,null,{"$f":"IF(F21=\"\",\"\",(1-F21/G21)*100)","v":""},null,null,{"$f":"IF(I21=\"\",\"\",(1-I21/J21)*100)","v":""},{"$f":"IF(I21=\"\",\"\",ABS(F21-I21))","v":""},{"$f":"IF(J21=\"\",\"\",ABS(G21-J21))","v":""}]
[null,null,null,null,null,null,null,{"$f":"IF(F22=\"\",\"\",(1-F22/G22)*100)","v":""},null,null,{"$f":"IF(I22=\"\",\"\",(1-I22/J22)*100)","v":""},{"$f":"IF(I22=\"\",\"\",ABS(F22-I22))","v":""},""]
[null,null,null,null,null,null,null,"",null,null,"","",""]
[null,null,null,null,null,null,null,"",null,null,"","",""]
[null,null,null,null,null,null,null,"",null,null,"","",""]
[null,null,null,null,null,null,null,"",null,null,"","",""]
[null,null,null,null,null,null,null,"",null,null,"","",""]
[null,null,null,null,null,null,null,"",null,null,"","",""]
[null,null,null,null,null,null,null,"",null,null,"","",""]
[null,null,null,null,null,null,null,"",null,null,"","",""]
[null,null,null,null,null,null,null,"",null,null,"","",""]
[null,null,null,null,null,null,null,"",null,null,"","",""]
[null,null,null,null,null,null,null,"",null,null,"","",""]
[null,null,null,null,null,null,null,"",null,null,"","",""]
[null,null,null,null,null,null,null,"",null,null,"","",""]
[null,null,null,null,null,null,null,"",null,null,"","",""]
[null,null,null,null,null,null,null,"",null,null,"","",""]
[null,null,null,null,null,null,null,"",null,null,"","",""]
[null,null,null,null,null,null,null,"",null,null,"","",""]
[null,null,null,null,null,null,null,"",null,null,"","",""]
[null,null,null,null,null,null,null,"",null,null,"","",""]
[null,null,null,null,null,null,null,"",null,null,"","",""]
[null,null,null,null,null,null,null,"",null,null,"","",""]
[null,null,null,null,null,null,null,"",null,null,"","",""]
[null,null,null,null,null,null,null,"",null,null,"","",""]
[null,null,null,null,null,null,null,"",null,null,"","",""]
[null,null,null,null,null,null,null,"",null,null,"","",""]
[null,null,null,null,null,null,null,"",null,null,"","",""]
[null,null,null,null,null,null,null,"",null,null,"","",""]
[null,null,null,null,null,null,null,"",null,null,"","",""]
[null,"Average",null,null,null,{"$f":"AVERAGE(F21:F50)","v":{"$error":"#DIV/0!"}},{"$f":"AVERAGE(G21:G50)","v":{"$error":"#DIV/0!"}},{"$f":"(1-F51/G51)*100","v":{"$error":"#DIV/0!"}},{"$f":"AVERAGE(I21:I50)","v":{"$error":"#DIV/0!"}},{"$f":"AVERAGE(J21:J50)","v":{"$error":"#DIV/0!"}},{"$f":"(1-I51/J51)*100","v":{"$error":"#DIV/0!"}},{"$f":"AVERAGE(L21:L50)","v":{"$error":"#DIV/0!"}},{"$f":"AVERAGE(M21:M50)","v":{"$error":"#DIV/0!"}}]
[null,"# of tests",null,null,null,null,null,{"$f":"COUNT(H21:H50)","v":0},null,null,{"$f":"COUNT(K21:K50)","v":0}]

{"sheet":"COLD FEED SUMMARY","index":8,"n_rows":37,"n_cols":19,"rows_kept":37,"cut":false,"hidden":true,"merged":[[8,11,8,17],[10,2,10,4],[6,11,6,17],[7,0,7,1],[7,2,7,6],[7,11,7,17],[5,0,5,1],[5,2,5,6],[6,0,6,1],[6,2,6,6],[13,3,13,5],[8,0,8,1],[8,2,8,6]]}
[]
[]
["GRADATION REPORT"]
["CENTRAL IOWA TRANSPORTATION CENTER"]
[]
["MATERIAL:"]
["PROJECT NUMBER:",null,null,null,null,null,null,null,null,null,"COUNTY:",0]
["CONTRACTOR:",null,null,null,null,null,null,null,null,null,"CONTRACT NUMBER:"]
["PRODUCER:",null,null,null,null,null,null,null,null,null,"SOURCE:"]
[]
[null,"DESIGN",null,null,null,null,null,"Sieve Sizes"]
[null,null,null,null,null,null,null,"1\"","3/4\"","1/2\"","3/8\"","#4","#8","#16","#30","#50","#100","#200"]
[null,null,null,null,null,null,null,"25mm","19mm","12.5mm","9.5mm","4.75mm","2.36mm","1.18mm","600um","300um","150um","75um"]
["Lab. #","Senders","Sampled","Date",null,null,"Max."]
["1AA4 -","#","By","Sampled","Received","Reported","Min.",null,null,null,null,null,null,null,null,null,null,null,"Comments"]
[null,null,null,null,null,null,"D.O.T."]
[null,null,null,null,null,null,"Field"]
[null,null,null,null,null,null,"D.O.T."]
[null,null,null,null,null,null,"Field"]
[null,null,null,null,null,null,"D.O.T."]
[null,null,null,null,null,null,"Field"]
[null,null,null,null,null,null,"D.O.T."]
[null,null,null,null,null,null,"Field"]
[null,null,null,null,null,null,"D.O.T."]
[null,null,null,null,null,null,"Field"]
[null,null,null,null,null,null,"D.O.T."]
[null,null,null,null,null,null,"Field"]
[null,null,null,null,null,null,"D.O.T."]
[null,null,null,null,null,null,"Field"]
[null,null,null,null,null,null,"D.O.T."]
[null,null,null,null,null,null,"Field"]
[null,null,null,null,null,null,"D.O.T."]
[null,null,null,null,null,null,"Field"]
[null,null,null,null,null,null,"D.O.T."]
[null,null,null,null,null,null,"Field"]
[]
[null,"cc:  ","DIST 1- Materials, "]

{"sheet":"Print Sheet","index":9,"n_rows":168,"n_cols":61,"rows_kept":168,"cut":false,"hidden":true,"merged":[[26,0,26,1],[25,0,25,1],[35,0,35,11],[38,0,38,11],[20,2,20,3],[21,2,21,3],[22,2,22,3],[24,0,24,11],[27,0,27,11],[19,4,19,5],[23,0,23,1],[2,1,2,3],[3,1,3,3],[4,1,4,3],[20,4,20,5],[21,4,21,5],[22,4,22,5],[18,2,18,3],[18,0,18,1],[18,4,18,5],[19,0,19,1],[20,0,20,1],[21,0,21,1],[22,0,22,1],[19,2,19,3],[0,0,0,10],[17,0,17,11],[6,10,6,11],[7,10,7,11],[8,10,8,11],[9,10,9,11],[10,10,10,11],[11,10,11,11],[12,10,12,11],[13,10,13,11],[14,10,14,11],[15,10,15,11],[16,10,16,11],[5,0,5,9],[43,7,43,9],[44,7,44,9],[45,7,45,9],[46,7,46,9],[42,0,42,11],[47,7,47,9],[48,7,48,9],[49,7,49,9],[50,7,50,9],[51,7,51,9]]}
["Iowa DOT  RCE Daily Field Report"]
[null,null,null,null,null,null,null,null,null,null,"Intended Thickness:"]
["Project:",null,null,null,null,"Date Placed:",null,null,null,null,"Cores Waived?"]
["County:",null,null,null,null,"Contract ID:",null,null,null,null,"Small Quantities?"]
["Contractor:",null,null,null,null,null,null,null,null,null,"Scale Check Done?"]
["Placement Record",null,null,null,null,null,null,null,null,null,"Tack Tickets Today?"]
["From Station"," To Station","Lane","Placement Width","PWL Deduct Width (ft)","PWL Deduct Thickness (in)","Placed Tons","Agreed SY","Mix Design No","Bid Item","Project"]
[null,null,null,null,null,null,null,null,null,"",""]
[null,null,null,null,null,null,null,null,null,"",""]
[null,null,null,null,null,null,null,null,null,"",""]
[null,null,null,null,null,null,null,null,null,"",""]
[null,null,null,null,null,null,null,null,null,"",""]
[null,null,null,null,null,null,null,null,null,"",""]
[null,null,null,null,null,null,null,null,null,"",""]
[null,null,null,null,null,null,null,null,null,"",""]
[null,null,null,null,null,null,null,null,null,"",""]
[null,null,null,null,null,null,null,null,null,"",""]
["Production"]
["Project Number",null,"Bid Item (In Order of Placement)",null,"Today's Placement",null,"Mix On Road (tons or SY)","Waste On Road (tons)","Tons for Pay","Mix Price","Plan Quantity","Binder Price"]
[]
[]
[]
[]
[]
["Temperatures"]
["Time",null,"7:00","9:00","11:00","1:00","3:00","5:00","7:00"]
["Mat Temperature °F"]
["Hot Box Samples"]
[null,null,"Test A","Test B","Test C","Test D","Test E"]
[null," Hot Box ID Number  "]
[null,"Hot Box Sample Tons: "]
[null," Time: "]
[null," Station/MP: "]
[null,"Bar Code ID.:"]
[null,"Compaction Temp. °F: "]
["Comments"]
[]
[]
["Notes"]
[]
[]
[]
["RANDOM CORE LOCATIONS"]
[null,null,null,"Core #","Station","Offset,ft","Joint Station","Lane"]
["Joint Sublot Length, ft.",null,null,1]
[0,null,null,2]
[null,null,null,3]
[null,null,null,4]
[null,null,null,5]
[null,null,null,6]
[null,null,null,7]
[null,null,null,8]
[]
[]
[]
[]
[]
[]
[]
[]
[]
[]
[]
[]
[]
[]
[]
[]
[]
[]
[]
[]
[]
[]
[]
[]
[]
[]
[]
[]
[]
[]
[]
[]
[]
[]
[]
[]
[]
[]
[]
[]
[]
[]
[]
[]
[]
[]
[]
[]
[]
[]
[]
[]
[]
[]
[]
[]
[]
[]
[]
[]
[]
[]
[]
[]
[]
[]
[]
[]
[]
[]
[]
[]
[]
[]
[]
[]
[]
[]
[]
[]
[]
[]
[]
[]
[]
[]
[]
[]
[]
[]
[]
[]
[]
[]
[]
[]
[]
[]
[]
[]
[]
[]
[]
[]
[]
[]
[]
[]
[]
[]
[]
[]
[]
[]
[]
[null,null,null,null,null,null,null,null,null,null,null,null,null,null,null,null,null,null,null,null,null,null,null,null,null,null,null,null,null,null,null,null,null,null,null,null,null,null,null,null,null,null,null,null,null,null,null,null,null,null,null,null,null,null,null,null,null,null,null,null,{"$f":"IF(#REF!=\"\",\"\",\"Muffle Furnace Gradation Correlation\")","v":{"$error":"#REF!"}}]

{"sheet":"Random Core Locator","index":10,"n_rows":79,"n_cols":85,"rows_kept":79,"cut":false,"hidden":false,"merged":[[2,0,2,10],[7,1,7,2],[8,0,8,5],[8,6,8,11],[43,9,43,10],[10,2,16,2],[21,6,21,11],[23,9,23,10],[28,9,28,10],[33,9,33,10],[38,9,38,10],[11,34,11,37],[17,0,19,2],[17,6,19,8],[20,3,20,5],[20,31,20,32],[73,9,73,10],[78,9,78,10],[47,9,47,10],[48,9,48,10],[53,9,53,10],[58,9,58,10],[63,9,63,10],[68,9,68,10]]}
["Station","<Select",null,{"$f":"CONCATENATE(\"RANDOM CORE SAMPLES version \",TEXT(AI1,\"0.00\"))","v":"RANDOM CORE SAMPLES version 2.03"},null,null,null,null,null,null,null,null,null,null,null,null,null,null,null,"Joint Priority",{"$f":"IF(SUM(AB3:AB34)<AI2,1,0)","v":1},"Mat",null,null,null,null,null,null,null,null,null,null,null,"Version",2.0299999999999998,null,null,null,null,"Surface","Yes","Station","No Joint Created","No Joint Created","No Joint Created","No Joint Created",null,null,null,null,null,null,null,null,null,null,null,null,null,null,0]
[null,null,null,"*Use for PWL lots and test strips under PWL",null,null,null,null,null,null,null,null,null,null,"Length","BRPN","ERPN",null,"Zone","Core #","Sublot Size","From","To","Group","Direction",null,"Picked",null,null,null,null,null,"FALSE","# Joint Cores",{"$f":"IF(L19>=3*F20,3,IF(L19>=2*F20,2,0))","v":3},null,null,null,null,"Intermediate","No","Mile Post",{"$f":"CONCATENATE(\"Full (\",TEXT(ABS(D11),\"0,0\"),\" ft) Joint Created\")","v":"Full (00 ft) Joint Created"},{"$f":"CONCATENATE(\"Full (\",TEXT(ABS(D13),\"0,0\"),\" ft) Joint Created\")","v":"Full (00 ft) Joint Created"},{"$f":"CONCATENATE(\"Full (\",TEXT(ABS(D15),\"0,0\"),\" ft) Joint Created\")","v":"Full (00 ft) Joint Created"},{"$f":"CONCATENATE(\"Full (\",TEXT(ABS(D17),\"0,0\"),\" ft) Joint Created\")","v":"Full (00 ft) Joint Created"}]
[{"$f":"IF(J6>0,CONCATENATE(\"For Class I Compaction, only the quantity within the \",TEXT(J6,\"0.0\"),\" ft area is included for a PWL field voids lot\"),\"\")","v":""},null,null,null,null,null,null,null,null,null,null,null,1,{"$f":"F11","v":0},{"$f":"D11","v":""},{"$f":"A11","v":0},{"$f":"B11","v":0},{"$f":"M3","v":1},1,1,{"$f":"IF(T3<=N$3,O$3/N$3,IF(T3<=N$4,O$4/(N$4-M$4+1),IF(T3<=N$5,O$5/(N$5-M$5+1),O$6/(N$6-M$6+1))))","v":{"$error":"#DIV/0!"}},{"$f":"IF(T3<=N$3,P$3,IF(T3<=N$4,P$4,IF(T3<=N$5,P$5,P$6)))","v":0},{"$f":"IF(T3<=N$3,Q$3,IF(T3<=N$4,Q$4,IF(T3<=N$5,Q$5,Q$6)))","v":0},{"$f":"IF(T3<=N$3,R$3,IF(T3<=N$4,R$4,IF(T3<=N$5,R$5,R$6)))","v":1},{"$f":"OFFSET(S$10,OFFSET($S$2,MATCH($X3,$M$3:$M$6,0),0),0)","v":0},null,{"$f":"IF(AB3=0,0,COUNTIF(AB$2:AB3,\">0\"))","v":0},{"$f":"IF(COUNTIF(CD$22:CG$25,T3)>0,1,0)","v":0},{"$f":"IF(AD3=0,0,COUNTIF(AD$2:AD3,\">0\"))","v":0},{"$f":"IF(COUNTIF(CD$28:CG$31,T3)>0,1,0)","v":0},null,null,"TRUE",null,null,null,null,null,null,"Base",null,null,{"$f":"CONCATENATE(\"Partial (<\",TEXT(ABS(D11),\"0,0\"),\" ft)  Joint Created\")","v":"Partial (<00 ft)  Joint Created"},{"$f":"CONCATENATE(\"Partial (<\",TEXT(ABS(D13),\"0,0\"),\" ft)  Joint Created\")","v":"Partial (<00 ft)  Joint Created"},{"$f":"CONCATENATE(\"Partial (<\",TEXT(ABS(D15),\"0,0\"),\" ft)  Joint Created\")","v":"Partial (<00 ft)  Joint Created"},{"$f":"CONCATENATE(\"Partial (<\",TEXT(ABS(D17),\"0,0\"),\" ft)  Joint Created\")","v":"Partial (<00 ft)  Joint Created"}]
[null,null,null,null,null,null,null,null,"MAT THICKNESS",null,"IN.",null,{"$f":"N3+1","v":1},{"$f":"F13+M4-1","v":0},{"$f":"D13","v":""},{"$f":"A13","v":0},{"$f":"B13","v":0},{"$f":"M4","v":1},2,{"$f":"1+T3","v":2},{"$f":"IF(T4<=N$3,O$3/N$3,IF(T4<=N$4,O$4/(N$4-M$4+1),IF(T4<=N$5,O$5/(N$5-M$5+1),O$6/(N$6-M$6+1))))","v":{"$error":"#DIV/0!"}},{"$f":"IF(T4<=N$3,P$3,IF(T4<=N$4,P$4,IF(T4<=N$5,P$5,P$6)))","v":0},{"$f":"IF(T4<=N$3,Q$3,IF(T4<=N$4,Q$4,IF(T4<=N$5,Q$5,Q$6)))","v":0},{"$f":"IF(T4<=N$3,R$3,IF(T4<=N$4,R$4,IF(T4<=N$5,R$5,R$6)))","v":1},{"$f":"OFFSET(S$10,OFFSET($S$2,MATCH($X4,$M$3:$M$6,0),0),0)","v":0},null,{"$f":"IF(AB4=0,0,COUNTIF(AB$2:AB4,\">0\"))","v":0},{"$f":"IF(COUNTIF(CD$22:CG$25,T4)>0,1,0)","v":0},{"$f":"IF(AD4=0,0,COUNTIF(AD$2:AD4,\">0\"))","v":0},{"$f":"IF(COUNTIF(CD$28:CG$31,T4)>0,1,0)","v":0},null,null,null,null,null,null,null,null,null,"Other"]
[null,null,null,null,null,"LAYDOWN DATE",null,null,"TANDEM PAVING","FALSE",null,null,{"$f":"N4+1","v":1},{"$f":"F15+M5-1","v":0},{"$f":"D15","v":""},{"$f":"A15","v":0},{"$f":"B15","v":0},{"$f":"M5","v":1},3,{"$f":"1+T4","v":3},{"$f":"IF(T5<=N$3,O$3/N$3,IF(T5<=N$4,O$4/(N$4-M$4+1),IF(T5<=N$5,O$5/(N$5-M$5+1),O$6/(N$6-M$6+1))))","v":{"$error":"#DIV/0!"}},{"$f":"IF(T5<=N$3,P$3,IF(T5<=N$4,P$4,IF(T5<=N$5,P$5,P$6)))","v":0},0,1,0,null,{"$f":"IF(AB5=0,0,COUNTIF(AB$2:AB5,\">0\"))","v":0},0,{"$f":"IF(AD5=0,0,COUNTIF(AD$2:AD5,\">0\"))","v":0},{"$f":"IF(COUNTIF(CD$28:CG$31,T5)>0,1,0)","v":0}]
[null,null,null,null,null,null,null,null,"TRAVEL LANE(S) WIDTH",null,"FT.","<REQUIRED",{"$f":"N5+1","v":1},{"$f":"F17+M6-1","v":0},{"$f":"D17","v":""},{"$f":"A17","v":0},{"$f":"B17","v":0},{"$f":"M6","v":1},4,4,{"$f":"IF(T6<=N$3,O$3/N$3,IF(T6<=N$4,O$4/(N$4-M$4+1),IF(T6<=N$5,O$5/(N$5-M$5+1),O$6/(N$6-M$6+1))))","v":{"$error":"#DIV/0!"}},{"$f":"IF(T6<=N$3,P$3,IF(T6<=N$4,P$4,IF(T6<=N$5,P$5,P$6)))","v":0},0,1,0,null,{"$f":"IF(AB6=0,0,COUNTIF(AB$2:AB6,\">0\"))","v":0},0,{"$f":"IF(AD6=0,0,COUNTIF(AD$2:AD6,\">0\"))","v":0},0]
[null,null,null,null,null,null,null,null,"WIDTH OF PAVER UNIT",null,"FT.","<REQUIRED",null,null,null,null,null,null,null,5,{"$f":"IF(T7<=N$3,O$3/N$3,IF(T7<=N$4,O$4/(N$4-M$4+1),IF(T7<=N$5,O$5/(N$5-M$5+1),O$6/(N$6-M$6+1))))","v":{"$error":"#DIV/0!"}},{"$f":"IF(T7<=N$3,P$3,IF(T7<=N$4,P$4,IF(T7<=N$5,P$5,P$6)))","v":0},0,1,0,null,{"$f":"IF(AB7=0,0,COUNTIF(AB$2:AB7,\">0\"))","v":0},0,{"$f":"IF(AD7=0,0,COUNTIF(AD$2:AD7,\">0\"))","v":0},0]
[null,null,null,null,null,null,null,null,null,null,null,null,null,null,null,null,null,null,null,6,{"$f":"IF(T8<=N$3,O$3/N$3,IF(T8<=N$4,O$4/(N$4-M$4+1),IF(T8<=N$5,O$5/(N$5-M$5+1),O$6/(N$6-M$6+1))))","v":{"$error":"#DIV/0!"}},{"$f":"IF(T8<=N$3,P$3,IF(T8<=N$4,P$4,IF(T8<=N$5,P$5,P$6)))","v":0},0,1,0,null,{"$f":"IF(AB8=0,0,COUNTIF(AB$2:AB8,\">0\"))","v":0},0,{"$f":"IF(AD8=0,0,COUNTIF(AD$2:AD8,\">0\"))","v":0},0]
["MAT",null,null,null,null,null,"JOINT",null,null,null,null,null,null,null,null,null,null,null,null,7,{"$error":"#DIV/0!"},0,0,1,0,null,{"$f":"IF(AB9=0,0,COUNTIF(AB$2:AB9,\">0\"))","v":0},0,{"$f":"IF(AD9=0,0,COUNTIF(AD$2:AD9,\">0\"))","v":0},0]
[{"$f":"CONCATENATE(\"From \",UPPER($A$1))","v":"From STATION"},{"$f":"CONCATENATE(\"To \",UPPER($A$1))","v":"To STATION"},null,{"$f":"CONCATENATE(\"Length (\",IF($A$1=\"Mile Post\",\"Mi)\",\"L.F.)\"))","v":"Length (L.F.)"},"Direction/Lane","# MAT Cores",null,"Longitudinal Joint Created? (None/Full/Partial)",{"$f":"A10","v":"From STATION"},{"$f":"B10","v":"To STATION"},{"$f":"CONCATENATE(\"Length (\",IF($A$1=\"Mile Post\",\"Mi)\",\"L.F.)\"))","v":"Length (L.F.)"},"# JOINT Cores",null,"min","max","Length","Min Mat Core","Max Mat Core","Dir",8,{"$f":"IF(T10<=N$3,O$3/N$3,IF(T10<=N$4,O$4/(N$4-M$4+1),IF(T10<=N$5,O$5/(N$5-M$5+1),O$6/(N$6-M$6+1))))","v":{"$error":"#DIV/0!"}},0,0,1,0,null,{"$f":"IF(AB10=0,0,COUNTIF(AB$2:AB10,\">0\"))","v":0},0,{"$f":"IF(AD10=0,0,COUNTIF(AD$2:AD10,\">0\"))","v":0},0]
[null,null,null,{"$f":"IF($J$6=\"\",\"\",IF($A$1=\"Mile Post\",(B11-A11),(B11-A11)*100))","v":""},null,null,{"$f":"IF(ISERROR(SEARCH(\"Partial\",H11)),0,1)","v":0},"No Joint Created",null,null,{"$f":"IF(OR(M11=0,$J$6=\"\"),\"\",IF(ISERROR(SEARCH(\"Partial\",H11)),D11,IF($A$1=\"Mile Post\",(J11-I11),(J11-I11)*100)))","v":""},{"$f":"SUMIFS($AD$3:$AD$34,$X$3:$X$34,M3)","v":0},{"$f":"IF(H11=\"\",0,IF(LEFT(H11,2)=\"No\",0,IF(LEFT(H11,1)=\"P\",1,2)))","v":0},{"$f":"IF(M11=1,MIN(I11:J11),IF(M11=2,MIN(A11:B11),0))","v":0},{"$f":"IF(M11=1,MAX(I11:J11),IF(M11=2,MAX(A11:B11),0))","v":0},{"$f":"IF(M11=1,K11,IF(M11=2,D11,0))","v":0},{"$f":"IF(N11>0,MIN(IF(L$24:L$82>=N11,IF(L$24:L$82<=O11,IF(AE$24:AE$82=S11,M$24:M$82)))),0)","v":0},{"$f":"IF(N11>0,MAX(IF(L$24:L$82>=N11,IF(L$24:L$82<=O11,IF(AE$24:AE$82=S11,M$24:M$82)))),0)","v":0},{"$f":"E11","v":0},9,{"$f":"IF(T11<=N$3,O$3/N$3,IF(T11<=N$4,O$4/(N$4-M$4+1),IF(T11<=N$5,O$5/(N$5-M$5+1),O$6/(N$6-M$6+1))))","v":{"$error":"#DIV/0!"}},0,0,1,0,null,{"$f":"IF(AB11=0,0,COUNTIF(AB$2:AB11,\">0\"))","v":0},0,{"$f":"IF(AD11=0,0,COUNTIF(AD$2:AD11,\">0\"))","v":0},0]
[null,null,null,null,null,null,null,null,null,null,null,null,{"$f":"IF(H13=\"\",0,IF(LEFT(H13,2)=\"No\",0,IF(LEFT(H13,1)=\"P\",1,2)))","v":0},{"$f":"IF(M12=1,MIN(I13:J13),IF(M12=2,MIN(A13:B13),0))","v":0},{"$f":"IF(M12=1,MAX(I13:J13),IF(M12=2,MAX(A13:B13),0))","v":0},{"$f":"IF(M12=1,K13,IF(M12=2,D13,0))","v":0},{"$f":"IF(N12>0,MIN(IF(L$24:L$82>=N12,IF(L$24:L$82<=O12,IF(AE$24:AE$82=S12,M$24:M$82)))),0)","v":0},{"$f":"IF(N12>0,MAX(IF(L$24:L$82>=N12,IF(L$24:L$82<=O12,IF(AE$24:AE$82=S12,M$24:M$82)))),0)","v":0},{"$f":"E13","v":0},10,{"$error":"#DIV/0!"},0,0,1,0,null,{"$f":"IF(AB12=0,0,COUNTIF(AB$2:AB12,\">0\"))","v":0},0,{"$f":"IF(AD12=0,0,COUNTIF(AD$2:AD12,\">0\"))","v":0},0]
[null,null,null,{"$f":"IF($J$6=\"\",\"\",IF($A$1=\"Mile Post\",(B13-A13),(B13-A13)*100))","v":""},null,null,{"$f":"IF(ISERROR(SEARCH(\"Partial\",H13)),0,1)","v":0},"No Joint Created",null,null,{"$f":"IF(OR($J$6=\"\",M12=0),\"\",IF(ISERROR(SEARCH(\"Partial\",H13)),D13,IF($A$1=\"Mile Post\",(J13-I13),(J13-I13)*100)))","v":""},{"$f":"SUMIFS($AD$3:$AD$34,$X$3:$X$34,M4)","v":0},{"$f":"IF(H15=\"\",0,IF(LEFT(H15,2)=\"No\",0,IF(LEFT(H15,1)=\"P\",1,2)))","v":0},{"$f":"IF(M13=1,MIN(I15:J15),IF(M13=2,MIN(A15:B15),0))","v":0},{"$f":"IF(M13=1,MAX(I15:J15),IF(M13=2,MAX(A15:B15),0))","v":0},{"$f":"IF(M13=1,K15,IF(M13=2,D15,0))","v":0},{"$f":"IF(N13>0,MIN(IF(L$24:L$82>=N13,IF(L$24:L$82<=O13,IF(AE$24:AE$82=S13,M$24:M$82)))),0)","v":0},{"$f":"IF(N13>0,MAX(IF(L$24:L$82>=N13,IF(L$24:L$82<=O13,IF(AE$24:AE$82=S13,M$24:M$82)))),0)","v":0},{"$f":"E15","v":0},11,{"$error":"#DIV/0!"},0,0,1,0,null,{"$f":"IF(AB13=0,0,COUNTIF(AB$2:AB13,\">0\"))","v":0},0,{"$f":"IF(AD13=0,0,COUNTIF(AD$2:AD13,\">0\"))","v":0},0]
[" ",null,null,null,null,null,null,null," ",null,null,null,{"$f":"IF(H17=\"\",0,IF(LEFT(H17,2)=\"No\",0,IF(LEFT(H17,1)=\"P\",1,2)))","v":0},{"$f":"IF(M14=1,MIN(I17:J17),IF(M14=2,MIN(A17:B17),0))","v":0},{"$f":"IF(M14=1,MAX(I17:J17),IF(M14=2,MAX(A17:B17),0))","v":0},{"$f":"IF(M14=1,K17,IF(M14=2,D17,0))","v":0},{"$f":"IF(N14>0,MIN(IF(L$24:L$82>=N14,IF(L$24:L$82<=O14,IF(AE$24:AE$82=S14,M$24:M$82)))),0)","v":0},{"$f":"IF(N14>0,MAX(IF(L$24:L$82>=N14,IF(L$24:L$82<=O14,IF(AE$24:AE$82=S14,M$24:M$82)))),0)","v":0},{"$f":"E17","v":0},12,{"$error":"#DIV/0!"},0,0,1,0,null,{"$f":"IF(AB14=0,0,COUNTIF(AB$2:AB14,\">0\"))","v":0},0,{"$f":"IF(AD14=0,0,COUNTIF(AD$2:AD14,\">0\"))","v":0},0]
[null,null,null,{"$f":"IF($J$6=\"\",\"\",IF($A$1=\"Mile Post\",(B15-A15),(B15-A15)*100))","v":""},null,null,{"$f":"IF(ISERROR(SEARCH(\"Partial\",H15)),0,1)","v":0},"No Joint Created",null,null,{"$f":"IF(OR(M13=0,$J$6=\"\"),\"\",IF(ISERROR(SEARCH(\"Partial\",H15)),D15,IF($A$1=\"Mile Post\",(J15-I15),(J15-I15)*100)))","v":""},{"$f":"SUMIFS($AD$3:$AD$34,$X$3:$X$34,M5)","v":0},null,null,null,null,null,null,null,13,{"$error":"#DIV/0!"},0,0,1,0,null,{"$f":"IF(AB15=0,0,COUNTIF(AB$2:AB15,\">0\"))","v":0},0,{"$f":"IF(AD15=0,0,COUNTIF(AD$2:AD15,\">0\"))","v":0},0]
[null,null,null,null,null,null,null,null,null,null,null,null,null,null,null,null,null,null,null,14,{"$error":"#DIV/0!"},0,0,1,0,null,{"$f":"IF(AB16=0,0,COUNTIF(AB$2:AB16,\">0\"))","v":0},0,{"$f":"IF(AD16=0,0,COUNTIF(AD$2:AD16,\">0\"))","v":0},0]
[null,null,null,{"$f":"IF($J$6=\"\",\"\",IF($A$1=\"Mile Post\",(B17-A17),(B17-A17)*100))","v":""},null,null,{"$f":"IF(ISERROR(SEARCH(\"Partial\",H17)),0,1)","v":0},"No Joint Created",null,null,{"$f":"IF(OR(M14=0,$J$6=\"\"),\"\",IF(ISERROR(SEARCH(\"Partial\",H17)),D17,IF($A$1=\"Mile Post\",(J17-I17),(J17-I17)*100)))","v":""},{"$f":"SUMIFS($AD$3:$AD$34,$X$3:$X$34,M6)","v":0},null,null,null,null,null,null,null,15,{"$error":"#DIV/0!"},0,0,1,0,null,{"$f":"IF(AB17=0,0,COUNTIF(AB$2:AB17,\">0\"))","v":0},0,{"$f":"IF(AD17=0,0,COUNTIF(AD$2:AD17,\">0\"))","v":0},0]
[null,null,null,null,"Total Mat Cores = ",{"$f":"SUM(F11:F17)","v":0},null,null,null,null,"Total Joint Cores =",{"$f":"IF(L19>0,SUM(AD3:AD34),0)","v":0},null,null,null,null,null,null,null,16,{"$error":"#DIV/0!"},0,0,1,0,null,{"$f":"IF(AB18=0,0,COUNTIF(AB$2:AB18,\">0\"))","v":0},0,{"$f":"IF(AD18=0,0,COUNTIF(AD$2:AD18,\">0\"))","v":0},0]
[null,null,null,null,"Total Length =",{"$f":"IF(D11=\"\",\"\",SUM(ABS(D11),ABS(D13),ABS(D15),ABS(D17)))","v":""},null,null,null,null,"Total Length =",{"$f":"IF(J6=\"\",\"\",SUM(ABS(K11),ABS(K13),ABS(K15),ABS(K17)))","v":""},null,null,null,null,null,null,null,17,{"$error":"#DIV/0!"},0,0,1,0,null,{"$f":"IF(AB19=0,0,COUNTIF(AB$2:AB19,\">0\"))","v":0},0,{"$f":"IF(AD19=0,0,COUNTIF(AD$2:AD19,\">0\"))","v":0},0]
[null,null,null,null,"Avg Sublot Size =",{"$f":"IF(F19=\"\",\"\",F19/F18)","v":""},null,null,null,null,"Avg Sublot Size =",{"$f":"IF(L18=0,0,L19/L18)","v":0},null,null,null,null,null,null,null,18,{"$error":"#DIV/0!"},0,0,1,0,null,{"$f":"IF(AB20=0,0,COUNTIF(AB$2:AB20,\">0\"))","v":0},0,{"$f":"IF(AD20=0,0,COUNTIF(AD$2:AD20,\">0\"))","v":0},0]
[null,null,null,null,null,null,{"$f":"IF(L19=0,\"\",IF($L$19<2*$F$20,CONCATENATE(\"Need at least \",TEXT(SUM(2*$F$20),\"0,0\"),\" ft (2 mat sublots) to core the joint. Joint cores waived\"),\"\"))","v":""},null,null,null,null,null,null,null,null,null,null,null,null,19,{"$error":"#DIV/0!"},0,0,1,0,null,{"$f":"IF(AB21=0,0,COUNTIF(AB$2:AB21,\">0\"))","v":0},0,{"$f":"IF(AD21=0,0,COUNTIF(AD$2:AD21,\">0\"))","v":0},0,null,null,null,null,"Zone","Weight","#Cores","Low","High",1,2,3,4,5,6,7,8,9,10,11,12,13,14,15,16,17,18,19,20,21,1,2,3,4,5,6,7,8,9,10,11,12,13,14,15,16,17,18,19,20,21,1,2,3,4]
[null,null,null,null,null,null,"*If a joint is created today, the random locations will be marked for coring below.",null,null,null,null,null,null,null,null,null,null,null,null,20,{"$error":"#DIV/0!"},0,0,1,0,null,{"$f":"IF(AB22=0,0,COUNTIF(AB$2:AB22,\">0\"))","v":0},0,{"$f":"IF(AD22=0,0,COUNTIF(AD$2:AD22,\">0\"))","v":0},0,null,null,null,null,1,{"$f":"P11/L$19","v":{"$error":"#DIV/0!"}},{"$f":"ROUND(AI$2*AJ22,0)","v":{"$error":"#DIV/0!"}},{"$f":"Q11","v":0},{"$f":"R11","v":0},0,0,0,0,0,0,0,0,0,0,0,0,0,0,0,0,0,0,0,0,0,{"$f":"IF(COUNTIF($AN22:AN22,AN22)>1,999,AN22)","v":0},{"$f":"IF(OR(COUNTIF($AN22:AO22,AO22)>1,COUNTIFS($BI22:BI22,\">0\",$BI22:BI22,\"<999\")>=$AK22),999,AO22)","v":{"$error":"#DIV/0!"}},{"$f":"IF(OR(COUNTIF($AN22:AP22,AP22)>1,COUNTIFS($BI22:BJ22,\">0\",$BI22:BJ22,\"<999\")>=$AK22),999,AP22)","v":{"$error":"#DIV/0!"}},{"$f":"IF(OR(COUNTIF($AN22:AQ22,AQ22)>1,COUNTIFS($BI22:BK22,\">0\",$BI22:BK22,\"<999\")>=$AK22),999,AQ22)","v":{"$error":"#DIV/0!"}},{"$f":"IF(OR(COUNTIF($AN22:AR22,AR22)>1,COUNTIFS($BI22:BL22,\">0\",$BI22:BL22,\"<999\")>=$AK22),999,AR22)","v":{"$error":"#DIV/0!"}},{"$f":"IF(OR(COUNTIF($AN22:AS22,AS22)>1,COUNTIFS($BI22:BM22,\">0\",$BI22:BM22,\"<999\")>=$AK22),999,AS22)","v":{"$error":"#DIV/0!"}},{"$f":"IF(OR(COUNTIF($AN22:AT22,AT22)>1,COUNTIFS($BI22:BN22,\">0\",$BI22:BN22,\"<999\")>=$AK22),999,AT22)","v":{"$error":"#DIV/0!"}},{"$f":"IF(OR(COUNTIF($AN22:AU22,AU22)>1,COUNTIFS($BI22:BO22,\">0\",$BI22:BO22,\"<999\")>=$AK22),999,AU22)","v":{"$error":"#DIV/0!"}},{"$f":"IF(OR(COUNTIF($AN22:AV22,AV22)>1,COUNTIFS($BI22:BP22,\">0\",$BI22:BP22,\"<999\")>=$AK22),999,AV22)","v":{"$error":"#DIV/0!"}},{"$f":"IF(OR(COUNTIF($AN22:AW22,AW22)>1,COUNTIFS($BI22:BQ22,\">0\",$BI22:BQ22,\"<999\")>=$AK22),999,AW22)","v":{"$error":"#DIV/0!"}},{"$f":"IF(OR(COUNTIF($AN22:AX22,AX22)>1,COUNTIFS($BI22:BR22,\">0\",$BI22:BR22,\"<999\")>=$AK22),999,AX22)","v":{"$error":"#DIV/0!"}},{"$f":"IF(OR(COUNTIF($AN22:AY22,AY22)>1,COUNTIFS($BI22:BS22,\">0\",$BI22:BS22,\"<999\")>=$AK22),999,AY22)","v":{"$error":"#DIV/0!"}},{"$f":"IF(OR(COUNTIF($AN22:AZ22,AZ22)>1,COUNTIFS($BI22:BT22,\">0\",$BI22:BT22,\"<999\")>=$AK22),999,AZ22)","v":{"$error":"#DIV/0!"}},{"$f":"IF(OR(COUNTIF($AN22:BA22,BA22)>1,COUNTIFS($BI22:BU22,\">0\",$BI22:BU22,\"<999\")>=$AK22),999,BA22)","v":{"$error":"#DIV/0!"}},{"$f":"IF(OR(COUNTIF($AN22:BB22,BB22)>1,COUNTIFS($BI22:BV22,\">0\",$BI22:BV22,\"<999\")>=$AK22),999,BB22)","v":{"$error":"#DIV/0!"}},{"$f":"IF(OR(COUNTIF($AN22:BC22,BC22)>1,COUNTIFS($BI22:BW22,\">0\",$BI22:BW22,\"<999\")>=$AK22),999,BC22)","v":{"$error":"#DIV/0!"}},{"$f":"IF(OR(COUNTIF($AN22:BD22,BD22)>1,COUNTIFS($BI22:BX22,\">0\",$BI22:BX22,\"<999\")>=$AK22),999,BD22)","v":{"$error":"#DIV/0!"}},{"$f":"IF(OR(COUNTIF($AN22:BE22,BE22)>1,COUNTIFS($BI22:BY22,\">0\",$BI22:BY22,\"<999\")>=$AK22),999,BE22)","v":{"$error":"#DIV/0!"}},{"$f":"IF(OR(COUNTIF($AN22:BF22,BF22)>1,COUNTIFS($BI22:BZ22,\">0\",$BI22:BZ22,\"<999\")>=$AK22),999,BF22)","v":{"$error":"#DIV/0!"}},{"$f":"IF(OR(COUNTIF($AN22:BG22,BG22)>1,COUNTIFS($BI22:CA22,\">0\",$BI22:CA22,\"<999\")>=$AK22),999,BG22)","v":{"$error":"#DIV/0!"}},{"$f":"IF(OR(COUNTIF($AN22:BH22,BH22)>1,COUNTIFS($BI22:CB22,\">0\",$BI22:CB22,\"<999\")>=$AK22),999,BH22)","v":{"$error":"#DIV/0!"}},{"$f":"MIN(BI22:CC22)","v":{"$error":"#DIV/0!"}},{"$f":"IF(CE$21<=$AI$2,IF(CD22>0,SMALL($BI22:$CC22,CE$21),\"\"),\"\")","v":{"$error":"#DIV/0!"}},{"$error":"#DIV/0!"},""]
[null,null,null,null,null,null,null,null,null,null,null,null,null,null,null,null,null,null,null,21,{"$error":"#DIV/0!"},0,0,1,0,null,{"$f":"IF(AB23=0,0,COUNTIF(AB$2:AB23,\">0\"))","v":0},0,{"$f":"IF(AD23=0,0,COUNTIF(AD$2:AD23,\">0\"))","v":0},0,null,null,null,null,2,{"$f":"P12/L$19","v":{"$error":"#DIV/0!"}},{"$f":"IF(ROUND(AI$2*AJ23,0)+SUM(AK$22:AK22)>AI$2,AI2-SUM(AK$22:AK22),ROUND(AI$2*AJ23,0))","v":{"$error":"#DIV/0!"}},{"$f":"Q12","v":0},0,0,0,0,0,0,0,0,0,0,0,0,0,0,0,0,0,0,0,0,0,0,{"$f":"IF(COUNTIF($AN23:AN23,AN23)>1,999,AN23)","v":0},{"$f":"IF(OR(COUNTIF($AN23:AO23,AO23)>1,COUNTIFS($BI23:BI23,\">0\",$BI23:BI23,\"<999\")>=$AK23),999,AO23)","v":{"$error":"#DIV/0!"}},{"$f":"IF(OR(COUNTIF($AN23:AP23,AP23)>1,COUNTIFS($BI23:BJ23,\">0\",$BI23:BJ23,\"<999\")>=$AK23),999,AP23)","v":{"$error":"#DIV/0!"}},{"$f":"IF(OR(COUNTIF($AN23:AQ23,AQ23)>1,COUNTIFS($BI23:BK23,\">0\",$BI23:BK23,\"<999\")>=$AK23),999,AQ23)","v":{"$error":"#DIV/0!"}},{"$f":"IF(OR(COUNTIF($AN23:AR23,AR23)>1,COUNTIFS($BI23:BL23,\">0\",$BI23:BL23,\"<999\")>=$AK23),999,AR23)","v":{"$error":"#DIV/0!"}},{"$f":"IF(OR(COUNTIF($AN23:AS23,AS23)>1,COUNTIFS($BI23:BM23,\">0\",$BI23:BM23,\"<999\")>=$AK23),999,AS23)","v":{"$error":"#DIV/0!"}},{"$f":"IF(OR(COUNTIF($AN23:AT23,AT23)>1,COUNTIFS($BI23:BN23,\">0\",$BI23:BN23,\"<999\")>=$AK23),999,AT23)","v":{"$error":"#DIV/0!"}},{"$f":"IF(OR(COUNTIF($AN23:AU23,AU23)>1,COUNTIFS($BI23:BO23,\">0\",$BI23:BO23,\"<999\")>=$AK23),999,AU23)","v":{"$error":"#DIV/0!"}},{"$f":"IF(OR(COUNTIF($AN23:AV23,AV23)>1,COUNTIFS($BI23:BP23,\">0\",$BI23:BP23,\"<999\")>=$AK23),999,AV23)","v":{"$error":"#DIV/0!"}},{"$f":"IF(OR(COUNTIF($AN23:AW23,AW23)>1,COUNTIFS($BI23:BQ23,\">0\",$BI23:BQ23,\"<999\")>=$AK23),999,AW23)","v":{"$error":"#DIV/0!"}},{"$f":"IF(OR(COUNTIF($AN23:AX23,AX23)>1,COUNTIFS($BI23:BR23,\">0\",$BI23:BR23,\"<999\")>=$AK23),999,AX23)","v":{"$error":"#DIV/0!"}},{"$f":"IF(OR(COUNTIF($AN23:AY23,AY23)>1,COUNTIFS($BI23:BS23,\">0\",$BI23:BS23,\"<999\")>=$AK23),999,AY23)","v":{"$error":"#DIV/0!"}},{"$f":"IF(OR(COUNTIF($AN23:AZ23,AZ23)>1,COUNTIFS($BI23:BT23,\">0\",$BI23:BT23,\"<999\")>=$AK23),999,AZ23)","v":{"$error":"#DIV/0!"}},{"$f":"IF(OR(COUNTIF($AN23:BA23,BA23)>1,COUNTIFS($BI23:BU23,\">0\",$BI23:BU23,\"<999\")>=$AK23),999,BA23)","v":{"$error":"#DIV/0!"}},{"$f":"IF(OR(COUNTIF($AN23:BB23,BB23)>1,COUNTIFS($BI23:BV23,\">0\",$BI23:BV23,\"<999\")>=$AK23),999,BB23)","v":{"$error":"#DIV/0!"}},{"$f":"IF(OR(COUNTIF($AN23:BC23,BC23)>1,COUNTIFS($BI23:BW23,\">0\",$BI23:BW23,\"<999\")>=$AK23),999,BC23)","v":{"$error":"#DIV/0!"}},{"$f":"IF(OR(COUNTIF($AN23:BD23,BD23)>1,COUNTIFS($BI23:BX23,\">0\",$BI23:BX23,\"<999\")>=$AK23),999,BD23)","v":{"$error":"#DIV/0!"}},{"$f":"IF(OR(COUNTIF($AN23:BE23,BE23)>1,COUNTIFS($BI23:BY23,\">0\",$BI23:BY23,\"<999\")>=$AK23),999,BE23)","v":{"$error":"#DIV/0!"}},{"$f":"IF(OR(COUNTIF($AN23:BF23,BF23)>1,COUNTIFS($BI23:BZ23,\">0\",$BI23:BZ23,\"<999\")>=$AK23),999,BF23)","v":{"$error":"#DIV/0!"}},{"$f":"IF(OR(COUNTIF($AN23:BG23,BG23)>1,COUNTIFS($BI23:CA23,\">0\",$BI23:CA23,\"<999\")>=$AK23),999,BG23)","v":{"$error":"#DIV/0!"}},{"$f":"IF(OR(COUNTIF($AN23:BH23,BH23)>1,COUNTIFS($BI23:CB23,\">0\",$BI23:CB23,\"<999\")>=$AK23),999,BH23)","v":{"$error":"#DIV/0!"}},{"$f":"MIN(BI23:CC23)","v":{"$error":"#DIV/0!"}},{"$error":"#DIV/0!"},{"$error":"#DIV/0!"},""]
["CORE # 1:",{"$f":"IF(OR($F$11=\"\",M24>F$18),\"\",VLOOKUP(M24,T$3:U$34,2,FALSE))","v":""},"X",null,"=",{"$f":"IF(B24=\"\",\"\",B24*D24)","v":""},{"$f":"IF($A$1=\"Mile Post\",\"+\",\"+  STA.\")","v":"+  STA."},{"$f":"IF(OR($F$11=\"\",M24>F$18),\"\",IF($A$1=\"Mile Post\",VLOOKUP(M24,T$3:W$34,3,FALSE)+(M24-VLOOKUP(M24,T$3:X$34,5,FALSE))*B24,VLOOKUP(M24,T$3:W$34,3,FALSE)+(M24-VLOOKUP(M24,T$3:X$34,5,FALSE))*B24/100))","v":""},"=",{"$f":"IF($A$1=\"Mile Post\", \"MILE POST\", \"STATION\")","v":"STATION"},null,{"$f":"IF(F24=\"\",\"\",IF($A$1=\"Mile Post\",H24+F24,H24+(F24/100)))","v":""},1,{"$f":"IF(OR(AG24=\"\",L$18=0),0,1)","v":0},null,null,null,null,null,22,{"$error":"#DIV/0!"},0,0,1,0,null,{"$f":"IF(AB24=0,0,COUNTIF(AB$2:AB24,\">0\"))","v":0},0,{"$f":"IF(AD24=0,0,COUNTIF(AD$2:AD24,\">0\"))","v":0},0,{"$f":"OFFSET(Y$2,MATCH(M24,T$3:T$34,0),0)","v":0},null,{"$f":"IF(OFFSET(AC$2,M24,0)>0,CONCATENATE(\"Joint Core # \",TEXT(OFFSET(AC$2,M24,0),\"0\")),\"\")","v":""},null,3,{"$f":"P13/L$19","v":{"$error":"#DIV/0!"}},{"$f":"IF(ROUND(AI$2*AJ24,0)+SUM(AK$22:AK23)>AI$2,AI3-SUM(AK$22:AK23),ROUND(AI$2*AJ24,0))","v":{"$error":"#DIV/0!"}},0,0,0,0,0,0,0,0,0,0,0,0,0,0,0,0,0,0,0,0,0,0,0,{"$f":"IF(COUNTIF($AN24:AN24,AN24)>1,999,AN24)","v":0},{"$f":"IF(OR(COUNTIF($AN24:AO24,AO24)>1,COUNTIFS($BI24:BI24,\">0\",$BI24:BI24,\"<999\")>=$AK24),999,AO24)","v":{"$error":"#DIV/0!"}},{"$f":"IF(OR(COUNTIF($AN24:AP24,AP24)>1,COUNTIFS($BI24:BJ24,\">0\",$BI24:BJ24,\"<999\")>=$AK24),999,AP24)","v":{"$error":"#DIV/0!"}},{"$f":"IF(OR(COUNTIF($AN24:AQ24,AQ24)>1,COUNTIFS($BI24:BK24,\">0\",$BI24:BK24,\"<999\")>=$AK24),999,AQ24)","v":{"$error":"#DIV/0!"}},{"$f":"IF(OR(COUNTIF($AN24:AR24,AR24)>1,COUNTIFS($BI24:BL24,\">0\",$BI24:BL24,\"<999\")>=$AK24),999,AR24)","v":{"$error":"#DIV/0!"}},{"$f":"IF(OR(COUNTIF($AN24:AS24,AS24)>1,COUNTIFS($BI24:BM24,\">0\",$BI24:BM24,\"<999\")>=$AK24),999,AS24)","v":{"$error":"#DIV/0!"}},{"$f":"IF(OR(COUNTIF($AN24:AT24,AT24)>1,COUNTIFS($BI24:BN24,\">0\",$BI24:BN24,\"<999\")>=$AK24),999,AT24)","v":{"$error":"#DIV/0!"}},{"$f":"IF(OR(COUNTIF($AN24:AU24,AU24)>1,COUNTIFS($BI24:BO24,\">0\",$BI24:BO24,\"<999\")>=$AK24),999,AU24)","v":{"$error":"#DIV/0!"}},{"$f":"IF(OR(COUNTIF($AN24:AV24,AV24)>1,COUNTIFS($BI24:BP24,\">0\",$BI24:BP24,\"<999\")>=$AK24),999,AV24)","v":{"$error":"#DIV/0!"}},{"$f":"IF(OR(COUNTIF($AN24:AW24,AW24)>1,COUNTIFS($BI24:BQ24,\">0\",$BI24:BQ24,\"<999\")>=$AK24),999,AW24)","v":{"$error":"#DIV/0!"}},{"$f":"IF(OR(COUNTIF($AN24:AX24,AX24)>1,COUNTIFS($BI24:BR24,\">0\",$BI24:BR24,\"<999\")>=$AK24),999,AX24)","v":{"$error":"#DIV/0!"}},{"$f":"IF(OR(COUNTIF($AN24:AY24,AY24)>1,COUNTIFS($BI24:BS24,\">0\",$BI24:BS24,\"<999\")>=$AK24),999,AY24)","v":{"$error":"#DIV/0!"}},{"$f":"IF(OR(COUNTIF($AN24:AZ24,AZ24)>1,COUNTIFS($BI24:BT24,\">0\",$BI24:BT24,\"<999\")>=$AK24),999,AZ24)","v":{"$error":"#DIV/0!"}},{"$f":"IF(OR(COUNTIF($AN24:BA24,BA24)>1,COUNTIFS($BI24:BU24,\">0\",$BI24:BU24,\"<999\")>=$AK24),999,BA24)","v":{"$error":"#DIV/0!"}},{"$f":"IF(OR(COUNTIF($AN24:BB24,BB24)>1,COUNTIFS($BI24:BV24,\">0\",$BI24:BV24,\"<999\")>=$AK24),999,BB24)","v":{"$error":"#DIV/0!"}},{"$f":"IF(OR(COUNTIF($AN24:BC24,BC24)>1,COUNTIFS($BI24:BW24,\">0\",$BI24:BW24,\"<999\")>=$AK24),999,BC24)","v":{"$error":"#DIV/0!"}},{"$f":"IF(OR(COUNTIF($AN24:BD24,BD24)>1,COUNTIFS($BI24:BX24,\">0\",$BI24:BX24,\"<999\")>=$AK24),999,BD24)","v":{"$error":"#DIV/0!"}},{"$f":"IF(OR(COUNTIF($AN24:BE24,BE24)>1,COUNTIFS($BI24:BY24,\">0\",$BI24:BY24,\"<999\")>=$AK24),999,BE24)","v":{"$error":"#DIV/0!"}},{"$f":"IF(OR(COUNTIF($AN24:BF24,BF24)>1,COUNTIFS($BI24:BZ24,\">0\",$BI24:BZ24,\"<999\")>=$AK24),999,BF24)","v":{"$error":"#DIV/0!"}},{"$f":"IF(OR(COUNTIF($AN24:BG24,BG24)>1,COUNTIFS($BI24:CA24,\">0\",$BI24:CA24,\"<999\")>=$AK24),999,BG24)","v":{"$error":"#DIV/0!"}},{"$f":"IF(OR(COUNTIF($AN24:BH24,BH24)>1,COUNTIFS($BI24:CB24,\">0\",$BI24:CB24,\"<999\")>=$AK24),999,BH24)","v":{"$error":"#DIV/0!"}},{"$error":"#DIV/0!"},{"$error":"#DIV/0!"},{"$error":"#DIV/0!"},""]
[null,null,null,null,null,null,null,null,null,null,null,null,null,null,null,null,null,null,null,23,{"$error":"#DIV/0!"},0,0,1,0,null,{"$f":"IF(AB25=0,0,COUNTIF(AB$2:AB25,\">0\"))","v":0},0,{"$f":"IF(AD25=0,0,COUNTIF(AD$2:AD25,\">0\"))","v":0},0,null,null,null,null,4,{"$f":"P14/L$19","v":{"$error":"#DIV/0!"}},{"$f":"IF(ROUND(AI$2*AJ25,0)+SUM(AK$22:AK24)>AI$2,AI4-SUM(AK$22:AK24),ROUND(AI$2*AJ25,0))","v":{"$error":"#DIV/0!"}},0,0,0,0,0,0,0,0,0,0,0,0,0,0,0,0,0,0,0,0,0,0,0,{"$f":"IF(COUNTIF($AN25:AN25,AN25)>1,999,AN25)","v":0},{"$f":"IF(OR(COUNTIF($AN25:AO25,AO25)>1,COUNTIFS($BI25:BI25,\">0\",$BI25:BI25,\"<999\")>=$AK25),999,AO25)","v":{"$error":"#DIV/0!"}},{"$f":"IF(OR(COUNTIF($AN25:AP25,AP25)>1,COUNTIFS($BI25:BJ25,\">0\",$BI25:BJ25,\"<999\")>=$AK25),999,AP25)","v":{"$error":"#DIV/0!"}},{"$f":"IF(OR(COUNTIF($AN25:AQ25,AQ25)>1,COUNTIFS($BI25:BK25,\">0\",$BI25:BK25,\"<999\")>=$AK25),999,AQ25)","v":{"$error":"#DIV/0!"}},{"$f":"IF(OR(COUNTIF($AN25:AR25,AR25)>1,COUNTIFS($BI25:BL25,\">0\",$BI25:BL25,\"<999\")>=$AK25),999,AR25)","v":{"$error":"#DIV/0!"}},{"$f":"IF(OR(COUNTIF($AN25:AS25,AS25)>1,COUNTIFS($BI25:BM25,\">0\",$BI25:BM25,\"<999\")>=$AK25),999,AS25)","v":{"$error":"#DIV/0!"}},{"$f":"IF(OR(COUNTIF($AN25:AT25,AT25)>1,COUNTIFS($BI25:BN25,\">0\",$BI25:BN25,\"<999\")>=$AK25),999,AT25)","v":{"$error":"#DIV/0!"}},{"$f":"IF(OR(COUNTIF($AN25:AU25,AU25)>1,COUNTIFS($BI25:BO25,\">0\",$BI25:BO25,\"<999\")>=$AK25),999,AU25)","v":{"$error":"#DIV/0!"}},{"$f":"IF(OR(COUNTIF($AN25:AV25,AV25)>1,COUNTIFS($BI25:BP25,\">0\",$BI25:BP25,\"<999\")>=$AK25),999,AV25)","v":{"$error":"#DIV/0!"}},{"$f":"IF(OR(COUNTIF($AN25:AW25,AW25)>1,COUNTIFS($BI25:BQ25,\">0\",$BI25:BQ25,\"<999\")>=$AK25),999,AW25)","v":{"$error":"#DIV/0!"}},{"$f":"IF(OR(COUNTIF($AN25:AX25,AX25)>1,COUNTIFS($BI25:BR25,\">0\",$BI25:BR25,\"<999\")>=$AK25),999,AX25)","v":{"$error":"#DIV/0!"}},{"$f":"IF(OR(COUNTIF($AN25:AY25,AY25)>1,COUNTIFS($BI25:BS25,\">0\",$BI25:BS25,\"<999\")>=$AK25),999,AY25)","v":{"$error":"#DIV/0!"}},{"$f":"IF(OR(COUNTIF($AN25:AZ25,AZ25)>1,COUNTIFS($BI25:BT25,\">0\",$BI25:BT25,\"<999\")>=$AK25),999,AZ25)","v":{"$error":"#DIV/0!"}},{"$f":"IF(OR(COUNTIF($AN25:BA25,BA25)>1,COUNTIFS($BI25:BU25,\">0\",$BI25:BU25,\"<999\")>=$AK25),999,BA25)","v":{"$error":"#DIV/0!"}},{"$f":"IF(OR(COUNTIF($AN25:BB25,BB25)>1,COUNTIFS($BI25:BV25,\">0\",$BI25:BV25,\"<999\")>=$AK25),999,BB25)","v":{"$error":"#DIV/0!"}},{"$f":"IF(OR(COUNTIF($AN25:BC25,BC25)>1,COUNTIFS($BI25:BW25,\">0\",$BI25:BW25,\"<999\")>=$AK25),999,BC25)","v":{"$error":"#DIV/0!"}},{"$f":"IF(OR(COUNTIF($AN25:BD25,BD25)>1,COUNTIFS($BI25:BX25,\">0\",$BI25:BX25,\"<999\")>=$AK25),999,BD25)","v":{"$error":"#DIV/0!"}},{"$f":"IF(OR(COUNTIF($AN25:BE25,BE25)>1,COUNTIFS($BI25:BY25,\">0\",$BI25:BY25,\"<999\")>=$AK25),999,BE25)","v":{"$error":"#DIV/0!"}},{"$f":"IF(OR(COUNTIF($AN25:BF25,BF25)>1,COUNTIFS($BI25:BZ25,\">0\",$BI25:BZ25,\"<999\")>=$AK25),999,BF25)","v":{"$error":"#DIV/0!"}},{"$f":"IF(OR(COUNTIF($AN25:BG25,BG25)>1,COUNTIFS($BI25:CA25,\">0\",$BI25:CA25,\"<999\")>=$AK25),999,BG25)","v":{"$error":"#DIV/0!"}},{"$f":"IF(OR(COUNTIF($AN25:BH25,BH25)>1,COUNTIFS($BI25:CB25,\">0\",$BI25:CB25,\"<999\")>=$AK25),999,BH25)","v":{"$error":"#DIV/0!"}},{"$error":"#DIV/0!"},{"$error":"#DIV/0!"},{"$error":"#DIV/0!"},""]
[null,{"$f":"IF($J$6=\"\",\"\",$J$6)","v":""},"X",0.57951861619949341,"=",{"$f":"IF(B26=\"\",\"\",IF(AND(ABS(B26*D26)>(B26-1),AK8=\"\"),B26-1,IF(ABS(B26*D26)<1,1,B26*D26)))","v":""},"FT. ",{"$f":"IF(J$6,IF(F26<0,\"(Offset Left)\",\"(Offset From Left Edge)\"),\"(Offset)\")","v":"(Offset)"},null,{"$f":"IF(B26=\"\",\"\",IF(AND(ABS(B26*D26)>(B26-1),AK$8=\"\"),CONCATENATE(TEXT(B26-1,\"0.0\"),\" FT. max\"),IF(ABS(B26*D26)<1,\"1 FT. min\",\"\")))","v":""},null,null,null,null,null,null,null,null,null,24,{"$error":"#DIV/0!"},0,0,1,0,null,{"$f":"IF(AB26=0,0,COUNTIF(AB$2:AB26,\">0\"))","v":0},0,{"$f":"IF(AD26=0,0,COUNTIF(AD$2:AD26,\">0\"))","v":0},0,null,null,null,null,null,null,{"$f":"SUM(AK22:AK25)","v":{"$error":"#DIV/0!"}},null,null,0,0,0,0,0,0,0,0,0,0,0,0,0,0,0,0,0,0,0,0,0]
[null,null,null,null,null,null,null,null,null,null,null,null,null,null,null,null,null,null,null,25,{"$error":"#DIV/0!"},0,0,1,0,null,{"$f":"IF(AB27=0,0,COUNTIF(AB$2:AB27,\">0\"))","v":0},0,{"$f":"IF(AD27=0,0,COUNTIF(AD$2:AD27,\">0\"))","v":0},0,null,null,null,null,null,null,null,null,null,0,0,0,0,0,0,0,0,0,0,0,0,0,0,0,0,0,0,0,0,0]
[null,null,null,null,null,null,null,null,null,null,null,null,null,null,null,null,null,null,null,26,{"$error":"#DIV/0!"},0,0,1,0,null,{"$f":"IF(AB28=0,0,COUNTIF(AB$2:AB28,\">0\"))","v":0},0,{"$f":"IF(AD28=0,0,COUNTIF(AD$2:AD28,\">0\"))","v":0},0,null,null,null,null,1,null,{"$f":"IF($U$1=1,IF(AND($AJ22>0,$AK22=0,$AL22>0),$AI$2-SUM($AB$3:$AB$34),AK22),0)","v":{"$error":"#DIV/0!"}},{"$f":"IF($U$1=1,IF(AND($AJ22>0,$AK22=0,$AL22>0),$AI$2-SUM($AB$3:$AB$34),AL22),0)","v":{"$error":"#DIV/0!"}},{"$f":"IF($U$1=1,IF(AND($AJ22>0,$AK22=0,$AL22>0),$AI$2-SUM($AB$3:$AB$34),AM22),0)","v":{"$error":"#DIV/0!"}},0,0,0,0,0,0,0,0,0,0,0,0,0,0,0,0,0,0,0,0,0,{"$f":"IF(COUNTIF($AN28:AN28,AN28)>1,999,AN28)","v":0},{"$f":"IF(OR(COUNTIF($AN28:AO28,AO28)>1,COUNTIFS($BI28:BI28,\">0\",$BI28:BI28,\"<999\")>=$AK28),999,AO28)","v":{"$error":"#DIV/0!"}},{"$f":"IF(OR(COUNTIF($AN28:AP28,AP28)>1,COUNTIFS($BI28:BJ28,\">0\",$BI28:BJ28,\"<999\")>=$AK28),999,AP28)","v":{"$error":"#DIV/0!"}},{"$f":"IF(OR(COUNTIF($AN28:AQ28,AQ28)>1,COUNTIFS($BI28:BK28,\">0\",$BI28:BK28,\"<999\")>=$AK28),999,AQ28)","v":{"$error":"#DIV/0!"}},{"$f":"IF(OR(COUNTIF($AN28:AR28,AR28)>1,COUNTIFS($BI28:BL28,\">0\",$BI28:BL28,\"<999\")>=$AK28),999,AR28)","v":{"$error":"#DIV/0!"}},{"$f":"IF(OR(COUNTIF($AN28:AS28,AS28)>1,COUNTIFS($BI28:BM28,\">0\",$BI28:BM28,\"<999\")>=$AK28),999,AS28)","v":{"$error":"#DIV/0!"}},{"$f":"IF(OR(COUNTIF($AN28:AT28,AT28)>1,COUNTIFS($BI28:BN28,\">0\",$BI28:BN28,\"<999\")>=$AK28),999,AT28)","v":{"$error":"#DIV/0!"}},{"$f":"IF(OR(COUNTIF($AN28:AU28,AU28)>1,COUNTIFS($BI28:BO28,\">0\",$BI28:BO28,\"<999\")>=$AK28),999,AU28)","v":{"$error":"#DIV/0!"}},{"$f":"IF(OR(COUNTIF($AN28:AV28,AV28)>1,COUNTIFS($BI28:BP28,\">0\",$BI28:BP28,\"<999\")>=$AK28),999,AV28)","v":{"$error":"#DIV/0!"}},{"$f":"IF(OR(COUNTIF($AN28:AW28,AW28)>1,COUNTIFS($BI28:BQ28,\">0\",$BI28:BQ28,\"<999\")>=$AK28),999,AW28)","v":{"$error":"#DIV/0!"}},{"$f":"IF(OR(COUNTIF($AN28:AX28,AX28)>1,COUNTIFS($BI28:BR28,\">0\",$BI28:BR28,\"<999\")>=$AK28),999,AX28)","v":{"$error":"#DIV/0!"}},{"$f":"IF(OR(COUNTIF($AN28:AY28,AY28)>1,COUNTIFS($BI28:BS28,\">0\",$BI28:BS28,\"<999\")>=$AK28),999,AY28)","v":{"$error":"#DIV/0!"}},{"$f":"IF(OR(COUNTIF($AN28:AZ28,AZ28)>1,COUNTIFS($BI28:BT28,\">0\",$BI28:BT28,\"<999\")>=$AK28),999,AZ28)","v":{"$error":"#DIV/0!"}},{"$f":"IF(OR(COUNTIF($AN28:BA28,BA28)>1,COUNTIFS($BI28:BU28,\">0\",$BI28:BU28,\"<999\")>=$AK28),999,BA28)","v":{"$error":"#DIV/0!"}},{"$f":"IF(OR(COUNTIF($AN28:BB28,BB28)>1,COUNTIFS($BI28:BV28,\">0\",$BI28:BV28,\"<999\")>=$AK28),999,BB28)","v":{"$error":"#DIV/0!"}},{"$f":"IF(OR(COUNTIF($AN28:BC28,BC28)>1,COUNTIFS($BI28:BW28,\">0\",$BI28:BW28,\"<999\")>=$AK28),999,BC28)","v":{"$error":"#DIV/0!"}},{"$f":"IF(OR(COUNTIF($AN28:BD28,BD28)>1,COUNTIFS($BI28:BX28,\">0\",$BI28:BX28,\"<999\")>=$AK28),999,BD28)","v":{"$error":"#DIV/0!"}},{"$f":"IF(OR(COUNTIF($AN28:BE28,BE28)>1,COUNTIFS($BI28:BY28,\">0\",$BI28:BY28,\"<999\")>=$AK28),999,BE28)","v":{"$error":"#DIV/0!"}},{"$f":"IF(OR(COUNTIF($AN28:BF28,BF28)>1,COUNTIFS($BI28:BZ28,\">0\",$BI28:BZ28,\"<999\")>=$AK28),999,BF28)","v":{"$error":"#DIV/0!"}},{"$f":"IF(OR(COUNTIF($AN28:BG28,BG28)>1,COUNTIFS($BI28:CA28,\">0\",$BI28:CA28,\"<999\")>=$AK28),999,BG28)","v":{"$error":"#DIV/0!"}},{"$f":"IF(OR(COUNTIF($AN28:BH28,BH28)>1,COUNTIFS($BI28:CB28,\">0\",$BI28:CB28,\"<999\")>=$AK28),999,BH28)","v":{"$error":"#DIV/0!"}},{"$f":"IF(U$1=0,CD22,MIN(BI28:CC28))","v":{"$error":"#DIV/0!"}},{"$f":"IF($U$1=0,CE22,IF(CE$21<=$AI$2,IF(CD28>0,SMALL($BI28:$CC28,CE$21),\"\"),\"\"))","v":{"$error":"#DIV/0!"}},{"$error":"#DIV/0!"},""]
["CORE # 2:",{"$f":"IF(OR($F$11=\"\",M29>F$18),\"\",VLOOKUP(M29,T$3:U$34,2,FALSE))","v":""},"X",null,"=",{"$f":"IF(B29=\"\",\"\",B29*D29)","v":""},{"$f":"IF($A$1=\"Mile Post\",\"+\",\"+  STA.\")","v":"+  STA."},{"$f":"IF(OR($F$11=\"\",M29>F$18),\"\",IF($A$1=\"Mile Post\",VLOOKUP(M29,T$3:W$34,3,FALSE)+(M29-VLOOKUP(M29,T$3:X$34,5,FALSE))*B29,VLOOKUP(M29,T$3:W$34,3,FALSE)+(M29-VLOOKUP(M29,T$3:X$34,5,FALSE))*B29/100))","v":""},"=",{"$f":"IF($A$1=\"Mile Post\", \"MILE POST\", \"STATION\")","v":"STATION"},null,{"$f":"IF(F29=\"\",\"\",IF($A$1=\"Mile Post\",H29+F29,H29+(F29/100)))","v":""},{"$f":"1+M24","v":2},{"$f":"IF(OR(AG29=\"\",L$18=0),0,1)","v":0},null,null,null,null,null,27,{"$error":"#DIV/0!"},0,0,1,0,null,{"$f":"IF(AB29=0,0,COUNTIF(AB$2:AB29,\">0\"))","v":0},0,{"$f":"IF(AD29=0,0,COUNTIF(AD$2:AD29,\">0\"))","v":0},0,{"$f":"OFFSET(Y$2,MATCH(M29,T$3:T$34,0),0)","v":0},null,{"$f":"IF(OFFSET(AC$2,M29,0)>0,CONCATENATE(\"Joint Core # \",TEXT(OFFSET(AC$2,M29,0),\"0\")),\"\")","v":""},null,2,null,{"$f":"IF(U$1=1,IF(AND(AJ23>0,AK23=0,AL23>0),AI$2-SUM($AB$3:$AB$34),AK23),0)","v":{"$error":"#DIV/0!"}},{"$f":"IF($U$1=1,IF(AND($AJ23>0,$AK23=0,$AL23>0),$AI$2-SUM($AB$3:$AB$34),AL23),0)","v":{"$error":"#DIV/0!"}},{"$error":"#DIV/0!"},0,0,0,0,0,0,0,0,0,0,0,0,0,0,0,0,0,0,0,0,0,{"$f":"IF(COUNTIF($AN29:AN29,AN29)>1,999,AN29)","v":0},{"$f":"IF(OR(COUNTIF($AN29:AO29,AO29)>1,COUNTIFS($BI29:BI29,\">0\",$BI29:BI29,\"<999\")>=$AK29),999,AO29)","v":{"$error":"#DIV/0!"}},{"$f":"IF(OR(COUNTIF($AN29:AP29,AP29)>1,COUNTIFS($BI29:BJ29,\">0\",$BI29:BJ29,\"<999\")>=$AK29),999,AP29)","v":{"$error":"#DIV/0!"}},{"$f":"IF(OR(COUNTIF($AN29:AQ29,AQ29)>1,COUNTIFS($BI29:BK29,\">0\",$BI29:BK29,\"<999\")>=$AK29),999,AQ29)","v":{"$error":"#DIV/0!"}},{"$f":"IF(OR(COUNTIF($AN29:AR29,AR29)>1,COUNTIFS($BI29:BL29,\">0\",$BI29:BL29,\"<999\")>=$AK29),999,AR29)","v":{"$error":"#DIV/0!"}},{"$f":"IF(OR(COUNTIF($AN29:AS29,AS29)>1,COUNTIFS($BI29:BM29,\">0\",$BI29:BM29,\"<999\")>=$AK29),999,AS29)","v":{"$error":"#DIV/0!"}},{"$f":"IF(OR(COUNTIF($AN29:AT29,AT29)>1,COUNTIFS($BI29:BN29,\">0\",$BI29:BN29,\"<999\")>=$AK29),999,AT29)","v":{"$error":"#DIV/0!"}},{"$f":"IF(OR(COUNTIF($AN29:AU29,AU29)>1,COUNTIFS($BI29:BO29,\">0\",$BI29:BO29,\"<999\")>=$AK29),999,AU29)","v":{"$error":"#DIV/0!"}},{"$f":"IF(OR(COUNTIF($AN29:AV29,AV29)>1,COUNTIFS($BI29:BP29,\">0\",$BI29:BP29,\"<999\")>=$AK29),999,AV29)","v":{"$error":"#DIV/0!"}},{"$f":"IF(OR(COUNTIF($AN29:AW29,AW29)>1,COUNTIFS($BI29:BQ29,\">0\",$BI29:BQ29,\"<999\")>=$AK29),999,AW29)","v":{"$error":"#DIV/0!"}},{"$f":"IF(OR(COUNTIF($AN29:AX29,AX29)>1,COUNTIFS($BI29:BR29,\">0\",$BI29:BR29,\"<999\")>=$AK29),999,AX29)","v":{"$error":"#DIV/0!"}},{"$f":"IF(OR(COUNTIF($AN29:AY29,AY29)>1,COUNTIFS($BI29:BS29,\">0\",$BI29:BS29,\"<999\")>=$AK29),999,AY29)","v":{"$error":"#DIV/0!"}},{"$f":"IF(OR(COUNTIF($AN29:AZ29,AZ29)>1,COUNTIFS($BI29:BT29,\">0\",$BI29:BT29,\"<999\")>=$AK29),999,AZ29)","v":{"$error":"#DIV/0!"}},{"$f":"IF(OR(COUNTIF($AN29:BA29,BA29)>1,COUNTIFS($BI29:BU29,\">0\",$BI29:BU29,\"<999\")>=$AK29),999,BA29)","v":{"$error":"#DIV/0!"}},{"$f":"IF(OR(COUNTIF($AN29:BB29,BB29)>1,COUNTIFS($BI29:BV29,\">0\",$BI29:BV29,\"<999\")>=$AK29),999,BB29)","v":{"$error":"#DIV/0!"}},{"$f":"IF(OR(COUNTIF($AN29:BC29,BC29)>1,COUNTIFS($BI29:BW29,\">0\",$BI29:BW29,\"<999\")>=$AK29),999,BC29)","v":{"$error":"#DIV/0!"}},{"$f":"IF(OR(COUNTIF($AN29:BD29,BD29)>1,COUNTIFS($BI29:BX29,\">0\",$BI29:BX29,\"<999\")>=$AK29),999,BD29)","v":{"$error":"#DIV/0!"}},{"$f":"IF(OR(COUNTIF($AN29:BE29,BE29)>1,COUNTIFS($BI29:BY29,\">0\",$BI29:BY29,\"<999\")>=$AK29),999,BE29)","v":{"$error":"#DIV/0!"}},{"$f":"IF(OR(COUNTIF($AN29:BF29,BF29)>1,COUNTIFS($BI29:BZ29,\">0\",$BI29:BZ29,\"<999\")>=$AK29),999,BF29)","v":{"$error":"#DIV/0!"}},{"$f":"IF(OR(COUNTIF($AN29:BG29,BG29)>1,COUNTIFS($BI29:CA29,\">0\",$BI29:CA29,\"<999\")>=$AK29),999,BG29)","v":{"$error":"#DIV/0!"}},{"$f":"IF(OR(COUNTIF($AN29:BH29,BH29)>1,COUNTIFS($BI29:CB29,\">0\",$BI29:CB29,\"<999\")>=$AK29),999,BH29)","v":{"$error":"#DIV/0!"}},{"$f":"IF(U$1=0,CD23,MIN(BI29:CC29))","v":{"$error":"#DIV/0!"}},{"$error":"#DIV/0!"},{"$error":"#DIV/0!"},""]
[null,null,null,null,null,null,null,null,null,null,null,null,null,null,null,null,null,null,null,28,{"$error":"#DIV/0!"},0,0,1,0,null,{"$f":"IF(AB30=0,0,COUNTIF(AB$2:AB30,\">0\"))","v":0},0,{"$f":"IF(AD30=0,0,COUNTIF(AD$2:AD30,\">0\"))","v":0},0,null,null,null,null,3,null,{"$f":"IF(U$1=1,IF(AND(AJ24>0,AK24=0,AL24>0),AI$2-SUM($AB$3:$AB$34),AK24),0)","v":{"$error":"#DIV/0!"}},{"$error":"#DIV/0!"},{"$error":"#DIV/0!"},0,0,0,0,0,0,0,0,0,0,0,0,0,0,0,0,0,0,0,0,0,{"$f":"IF(COUNTIF($AN30:AN30,AN30)>1,999,AN30)","v":0},{"$f":"IF(OR(COUNTIF($AN30:AO30,AO30)>1,COUNTIFS($BI30:BI30,\">0\",$BI30:BI30,\"<999\")>=$AK30),999,AO30)","v":{"$error":"#DIV/0!"}},{"$f":"IF(OR(COUNTIF($AN30:AP30,AP30)>1,COUNTIFS($BI30:BJ30,\">0\",$BI30:BJ30,\"<999\")>=$AK30),999,AP30)","v":{"$error":"#DIV/0!"}},{"$f":"IF(OR(COUNTIF($AN30:AQ30,AQ30)>1,COUNTIFS($BI30:BK30,\">0\",$BI30:BK30,\"<999\")>=$AK30),999,AQ30)","v":{"$error":"#DIV/0!"}},{"$f":"IF(OR(COUNTIF($AN30:AR30,AR30)>1,COUNTIFS($BI30:BL30,\">0\",$BI30:BL30,\"<999\")>=$AK30),999,AR30)","v":{"$error":"#DIV/0!"}},{"$f":"IF(OR(COUNTIF($AN30:AS30,AS30)>1,COUNTIFS($BI30:BM30,\">0\",$BI30:BM30,\"<999\")>=$AK30),999,AS30)","v":{"$error":"#DIV/0!"}},{"$f":"IF(OR(COUNTIF($AN30:AT30,AT30)>1,COUNTIFS($BI30:BN30,\">0\",$BI30:BN30,\"<999\")>=$AK30),999,AT30)","v":{"$error":"#DIV/0!"}},{"$f":"IF(OR(COUNTIF($AN30:AU30,AU30)>1,COUNTIFS($BI30:BO30,\">0\",$BI30:BO30,\"<999\")>=$AK30),999,AU30)","v":{"$error":"#DIV/0!"}},{"$f":"IF(OR(COUNTIF($AN30:AV30,AV30)>1,COUNTIFS($BI30:BP30,\">0\",$BI30:BP30,\"<999\")>=$AK30),999,AV30)","v":{"$error":"#DIV/0!"}},{"$f":"IF(OR(COUNTIF($AN30:AW30,AW30)>1,COUNTIFS($BI30:BQ30,\">0\",$BI30:BQ30,\"<999\")>=$AK30),999,AW30)","v":{"$error":"#DIV/0!"}},{"$f":"IF(OR(COUNTIF($AN30:AX30,AX30)>1,COUNTIFS($BI30:BR30,\">0\",$BI30:BR30,\"<999\")>=$AK30),999,AX30)","v":{"$error":"#DIV/0!"}},{"$f":"IF(OR(COUNTIF($AN30:AY30,AY30)>1,COUNTIFS($BI30:BS30,\">0\",$BI30:BS30,\"<999\")>=$AK30),999,AY30)","v":{"$error":"#DIV/0!"}},{"$f":"IF(OR(COUNTIF($AN30:AZ30,AZ30)>1,COUNTIFS($BI30:BT30,\">0\",$BI30:BT30,\"<999\")>=$AK30),999,AZ30)","v":{"$error":"#DIV/0!"}},{"$f":"IF(OR(COUNTIF($AN30:BA30,BA30)>1,COUNTIFS($BI30:BU30,\">0\",$BI30:BU30,\"<999\")>=$AK30),999,BA30)","v":{"$error":"#DIV/0!"}},{"$f":"IF(OR(COUNTIF($AN30:BB30,BB30)>1,COUNTIFS($BI30:BV30,\">0\",$BI30:BV30,\"<999\")>=$AK30),999,BB30)","v":{"$error":"#DIV/0!"}},{"$f":"IF(OR(COUNTIF($AN30:BC30,BC30)>1,COUNTIFS($BI30:BW30,\">0\",$BI30:BW30,\"<999\")>=$AK30),999,BC30)","v":{"$error":"#DIV/0!"}},{"$f":"IF(OR(COUNTIF($AN30:BD30,BD30)>1,COUNTIFS($BI30:BX30,\">0\",$BI30:BX30,\"<999\")>=$AK30),999,BD30)","v":{"$error":"#DIV/0!"}},{"$f":"IF(OR(COUNTIF($AN30:BE30,BE30)>1,COUNTIFS($BI30:BY30,\">0\",$BI30:BY30,\"<999\")>=$AK30),999,BE30)","v":{"$error":"#DIV/0!"}},{"$f":"IF(OR(COUNTIF($AN30:BF30,BF30)>1,COUNTIFS($BI30:BZ30,\">0\",$BI30:BZ30,\"<999\")>=$AK30),999,BF30)","v":{"$error":"#DIV/0!"}},{"$f":"IF(OR(COUNTIF($AN30:BG30,BG30)>1,COUNTIFS($BI30:CA30,\">0\",$BI30:CA30,\"<999\")>=$AK30),999,BG30)","v":{"$error":"#DIV/0!"}},{"$f":"IF(OR(COUNTIF($AN30:BH30,BH30)>1,COUNTIFS($BI30:CB30,\">0\",$BI30:CB30,\"<999\")>=$AK30),999,BH30)","v":{"$error":"#DIV/0!"}},{"$error":"#DIV/0!"},{"$error":"#DIV/0!"},{"$error":"#DIV/0!"},""]
[null,{"$f":"IF(B29=\"\",\"\",B26)","v":""},"X",null,"=",{"$f":"IF(B31=\"\",\"\",IF(AND(ABS(B31*D31)>(B31-1),AK8=\"\"),B31-1,IF(AND(ABS(B31*D31)<1),1,B31*D31)))","v":""},"FT. ",{"$f":"IF(J$6,IF(F31<0,\"(Offset Left)\",\"(Offset From Left Edge)\"),\"(Offset)\")","v":"(Offset)"},null,{"$f":"IF(B31=\"\",\"\",IF(AND(ABS(B31*D31)>(B31-1),AK$8=\"\"),CONCATENATE(TEXT(B31-1,\"0.0\"),\" FT. max\"),IF(ABS(B31*D31)<1,\"1 FT. min\",\"\")))","v":""},null,null,null,null,null,null,null,null,null,29,{"$error":"#DIV/0!"},0,0,1,0,null,{"$f":"IF(AB31=0,0,COUNTIF(AB$2:AB31,\">0\"))","v":0},0,{"$f":"IF(AD31=0,0,COUNTIF(AD$2:AD31,\">0\"))","v":0},0,null,null,null,null,4,null,{"$f":"IF(U$1=1,IF(AND(AJ25>0,AK25=0,AL25>0),AI$2-SUM($AB$3:$AB$34),AK25),0)","v":{"$error":"#DIV/0!"}},{"$error":"#DIV/0!"},{"$error":"#DIV/0!"},0,0,0,0,0,0,0,0,0,0,0,0,0,0,0,0,0,0,0,0,0,{"$f":"IF(COUNTIF($AN31:AN31,AN31)>1,999,AN31)","v":0},{"$f":"IF(OR(COUNTIF($AN31:AO31,AO31)>1,COUNTIFS($BI31:BI31,\">0\",$BI31:BI31,\"<999\")>=$AK31),999,AO31)","v":{"$error":"#DIV/0!"}},{"$f":"IF(OR(COUNTIF($AN31:AP31,AP31)>1,COUNTIFS($BI31:BJ31,\">0\",$BI31:BJ31,\"<999\")>=$AK31),999,AP31)","v":{"$error":"#DIV/0!"}},{"$f":"IF(OR(COUNTIF($AN31:AQ31,AQ31)>1,COUNTIFS($BI31:BK31,\">0\",$BI31:BK31,\"<999\")>=$AK31),999,AQ31)","v":{"$error":"#DIV/0!"}},{"$f":"IF(OR(COUNTIF($AN31:AR31,AR31)>1,COUNTIFS($BI31:BL31,\">0\",$BI31:BL31,\"<999\")>=$AK31),999,AR31)","v":{"$error":"#DIV/0!"}},{"$f":"IF(OR(COUNTIF($AN31:AS31,AS31)>1,COUNTIFS($BI31:BM31,\">0\",$BI31:BM31,\"<999\")>=$AK31),999,AS31)","v":{"$error":"#DIV/0!"}},{"$f":"IF(OR(COUNTIF($AN31:AT31,AT31)>1,COUNTIFS($BI31:BN31,\">0\",$BI31:BN31,\"<999\")>=$AK31),999,AT31)","v":{"$error":"#DIV/0!"}},{"$f":"IF(OR(COUNTIF($AN31:AU31,AU31)>1,COUNTIFS($BI31:BO31,\">0\",$BI31:BO31,\"<999\")>=$AK31),999,AU31)","v":{"$error":"#DIV/0!"}},{"$f":"IF(OR(COUNTIF($AN31:AV31,AV31)>1,COUNTIFS($BI31:BP31,\">0\",$BI31:BP31,\"<999\")>=$AK31),999,AV31)","v":{"$error":"#DIV/0!"}},{"$f":"IF(OR(COUNTIF($AN31:AW31,AW31)>1,COUNTIFS($BI31:BQ31,\">0\",$BI31:BQ31,\"<999\")>=$AK31),999,AW31)","v":{"$error":"#DIV/0!"}},{"$f":"IF(OR(COUNTIF($AN31:AX31,AX31)>1,COUNTIFS($BI31:BR31,\">0\",$BI31:BR31,\"<999\")>=$AK31),999,AX31)","v":{"$error":"#DIV/0!"}},{"$f":"IF(OR(COUNTIF($AN31:AY31,AY31)>1,COUNTIFS($BI31:BS31,\">0\",$BI31:BS31,\"<999\")>=$AK31),999,AY31)","v":{"$error":"#DIV/0!"}},{"$f":"IF(OR(COUNTIF($AN31:AZ31,AZ31)>1,COUNTIFS($BI31:BT31,\">0\",$BI31:BT31,\"<999\")>=$AK31),999,AZ31)","v":{"$error":"#DIV/0!"}},{"$f":"IF(OR(COUNTIF($AN31:BA31,BA31)>1,COUNTIFS($BI31:BU31,\">0\",$BI31:BU31,\"<999\")>=$AK31),999,BA31)","v":{"$error":"#DIV/0!"}},{"$f":"IF(OR(COUNTIF($AN31:BB31,BB31)>1,COUNTIFS($BI31:BV31,\">0\",$BI31:BV31,\"<999\")>=$AK31),999,BB31)","v":{"$error":"#DIV/0!"}},{"$f":"IF(OR(COUNTIF($AN31:BC31,BC31)>1,COUNTIFS($BI31:BW31,\">0\",$BI31:BW31,\"<999\")>=$AK31),999,BC31)","v":{"$error":"#DIV/0!"}},{"$f":"IF(OR(COUNTIF($AN31:BD31,BD31)>1,COUNTIFS($BI31:BX31,\">0\",$BI31:BX31,\"<999\")>=$AK31),999,BD31)","v":{"$error":"#DIV/0!"}},{"$f":"IF(OR(COUNTIF($AN31:BE31,BE31)>1,COUNTIFS($BI31:BY31,\">0\",$BI31:BY31,\"<999\")>=$AK31),999,BE31)","v":{"$error":"#DIV/0!"}},{"$f":"IF(OR(COUNTIF($AN31:BF31,BF31)>1,COUNTIFS($BI31:BZ31,\">0\",$BI31:BZ31,\"<999\")>=$AK31),999,BF31)","v":{"$error":"#DIV/0!"}},{"$f":"IF(OR(COUNTIF($AN31:BG31,BG31)>1,COUNTIFS($BI31:CA31,\">0\",$BI31:CA31,\"<999\")>=$AK31),999,BG31)","v":{"$error":"#DIV/0!"}},{"$f":"IF(OR(COUNTIF($AN31:BH31,BH31)>1,COUNTIFS($BI31:CB31,\">0\",$BI31:CB31,\"<999\")>=$AK31),999,BH31)","v":{"$error":"#DIV/0!"}},{"$error":"#DIV/0!"},{"$error":"#DIV/0!"},{"$error":"#DIV/0!"},""]
[null,null,null,null,null,null,null,null,null,null,null,null,null,null,null,null,null,null,null,30,{"$error":"#DIV/0!"},0,0,1,0,null,{"$f":"IF(AB32=0,0,COUNTIF(AB$2:AB32,\">0\"))","v":0},0,{"$f":"IF(AD32=0,0,COUNTIF(AD$2:AD32,\">0\"))","v":0},0]
[null,null,null,null,null,null,null," ",null,null,null,null,null,null,null,null,null,null,null,31,{"$error":"#DIV/0!"},0,0,1,0,null,{"$f":"IF(AB33=0,0,COUNTIF(AB$2:AB33,\">0\"))","v":0},0,{"$f":"IF(AD33=0,0,COUNTIF(AD$2:AD33,\">0\"))","v":0},0]
["CORE # 3:",{"$f":"IF(OR($F$11=\"\",M34>F$18),\"\",VLOOKUP(M34,T$3:U$34,2,FALSE))","v":""},"X",null,"=",{"$f":"IF(B34=\"\",\"\",B34*D34)","v":""},{"$f":"IF($A$1=\"Mile Post\",\"+\",\"+  STA.\")","v":"+  STA."},{"$f":"IF(OR($F$11=\"\",M34>F$18),\"\",IF($A$1=\"Mile Post\",VLOOKUP(M34,T$3:W$34,3,FALSE)+(M34-VLOOKUP(M34,T$3:X$34,5,FALSE))*B34,VLOOKUP(M34,T$3:W$34,3,FALSE)+(M34-VLOOKUP(M34,T$3:X$34,5,FALSE))*B34/100))","v":""},"=",{"$f":"IF($A$1=\"Mile Post\", \"MILE POST\", \"STATION\")","v":"STATION"},null,{"$f":"IF(F34=\"\",\"\",IF($A$1=\"Mile Post\",H34+F34,H34+(F34/100)))","v":""},{"$f":"1+M29","v":3},{"$f":"IF(OR(AG34=\"\",L$18=0),0,1)","v":0},null,null,null,null,null,32,{"$error":"#DIV/0!"},0,0,1,0,null,{"$f":"IF(AB34=0,0,COUNTIF(AB$2:AB34,\">0\"))","v":0},0,{"$f":"IF(AD34=0,0,COUNTIF(AD$2:AD34,\">0\"))","v":0},0,{"$f":"OFFSET(Y$2,MATCH(M34,T$3:T$34,0),0)","v":0},null,{"$f":"IF(OFFSET(AC$2,M34,0)>0,CONCATENATE(\"Joint Core # \",TEXT(OFFSET(AC$2,M34,0),\"0\")),\"\")","v":""}]
[]
[null,{"$f":"IF(B34=\"\",\"\",B31)","v":""},"X",null,"=",{"$f":"IF(B36=\"\",\"\",IF(AND(ABS(B36*D36)>(B36-1),AK8=\"\"),B36-1,IF(ABS(B36*D36)<1,1,B36*D36)))","v":""},"FT. ",{"$f":"IF(J$6,IF(F36<0,\"(Offset Left)\",\"(Offset From Left Edge)\"),\"(Offset)\")","v":"(Offset)"},null,{"$f":"IF(B36=\"\",\"\",IF(AND(ABS(B36*D36)>(B36-1),AK$8=\"\"),CONCATENATE(TEXT(B36-1,\"0.0\"),\" FT. max\"),IF(ABS(B36*D36)<1,\"1 FT. min\",\"\")))","v":""}]
[null,null,null,null,null,null,null," "]
[]
["CORE # 4:",{"$f":"IF(OR($F$11=\"\",M39>F$18),\"\",VLOOKUP(M39,T$3:U$34,2,FALSE))","v":""},"X",null,"=",{"$f":"IF(B39=\"\",\"\",B39*D39)","v":""},{"$f":"IF($A$1=\"Mile Post\",\"+\",\"+  STA.\")","v":"+  STA."},{"$f":"IF(OR($F$11=\"\",M39>F$18),\"\",IF($A$1=\"Mile Post\",VLOOKUP(M39,T$3:W$34,3,FALSE)+(M39-VLOOKUP(M39,T$3:X$34,5,FALSE))*B39,VLOOKUP(M39,T$3:W$34,3,FALSE)+(M39-VLOOKUP(M39,T$3:X$34,5,FALSE))*B39/100))","v":""},"=",{"$f":"IF($A$1=\"Mile Post\", \"MILE POST\", \"STATION\")","v":"STATION"},null,{"$f":"IF(F39=\"\",\"\",IF($A$1=\"Mile Post\",H39+F39,H39+(F39/100)))","v":""},{"$f":"1+M34","v":4},{"$f":"IF(OR(AG39=\"\",L$18=0),0,1)","v":0},null,null,null,null,null,null,null,null,null,null,null,null,null,null,null,null,{"$f":"OFFSET(Y$2,MATCH(M39,T$3:T$34,0),0)","v":0},null,{"$f":"IF(OFFSET(AC$2,M39,0)>0,CONCATENATE(\"Joint Core # \",TEXT(OFFSET(AC$2,M39,0),\"0\")),\"\")","v":""}]
[]
[null,{"$f":"IF(B39=\"\",\"\",B36)","v":""},"X",null,"=",{"$f":"IF(B41=\"\",\"\",IF(AND(ABS(B41*D41)>(B41-1),AK8=\"\"),B41-1,IF(ABS(B41*D41)<1,1,B41*D41)))","v":""},"FT. ",{"$f":"IF(J$6,IF(F41<0,\"(Offset Left)\",\"(Offset From Left Edge)\"),\"(Offset)\")","v":"(Offset)"},null,{"$f":"IF(B41=\"\",\"\",IF(AND(ABS(B41*D41)>(B41-1),AK$8=\"\"),CONCATENATE(TEXT(B41-1,\"0.0\"),\" FT. max\"),IF(ABS(B41*D41)<1,\"1 FT. min\",\"\")))","v":""}]
[null,null,null,null,null,null,null," "]
[]
["CORE # 5:",{"$f":"IF(OR($F$11=\"\",M44>F$18),\"\",VLOOKUP(M44,T$3:U$34,2,FALSE))","v":""},"X",null,"=",{"$f":"IF(B44=\"\",\"\",B44*D44)","v":""},{"$f":"IF($A$1=\"Mile Post\",\"+\",\"+  STA.\")","v":"+  STA."},{"$f":"IF(OR($F$11=\"\",M44>F$18),\"\",IF($A$1=\"Mile Post\",VLOOKUP(M44,T$3:W$34,3,FALSE)+(M44-VLOOKUP(M44,T$3:X$34,5,FALSE))*B44,VLOOKUP(M44,T$3:W$34,3,FALSE)+(M44-VLOOKUP(M44,T$3:X$34,5,FALSE))*B44/100))","v":""},"=",{"$f":"IF($A$1=\"Mile Post\", \"MILE POST\", \"STATION\")","v":"STATION"},null,{"$f":"IF(F44=\"\",\"\",IF($A$1=\"Mile Post\",H44+F44,H44+(F44/100)))","v":""},{"$f":"1+M39","v":5},{"$f":"IF(OR(AG44=\"\",L$18=0),0,1)","v":0},null,null,null,null,null,null,null,null,null,null,null,null,null,null,null,null,{"$f":"OFFSET(Y$2,MATCH(M44,T$3:T$34,0),0)","v":0},null,{"$f":"IF(OFFSET(AC$2,M44,0)>0,CONCATENATE(\"Joint Core # \",TEXT(OFFSET(AC$2,M44,0),\"0\")),\"\")","v":""}]
[]
[null,{"$f":"IF(B44=\"\",\"\",B41)","v":""},"X",null,"=",{"$f":"IF(B46=\"\",\"\",IF(AND(ABS(B46*D46)>(B46-1),AK$8=\"\"),B46-1,IF(ABS(B46*D46)<1,1,B46*D46)))","v":""},"FT. ",{"$f":"IF(J$6,IF(F46<0,\"(Offset Left)\",\"(Offset From Left Edge)\"),\"(Offset)\")","v":"(Offset)"},null,{"$f":"IF(B46=\"\",\"\",IF(AND(ABS(B46*D46)>(B46-1),AK$8=\"\"),CONCATENATE(TEXT(B46-1,\"0.0\"),\" FT. max\"),IF(ABS(B46*D46)<1,\"1 FT. min\",\"\")))","v":""}]
[]
[]
["CORE # 6:",{"$f":"IF(OR($F$11=\"\",M49>F$18),\"\",VLOOKUP(M49,T$3:U$34,2,FALSE))","v":""},"X",null,"=",{"$f":"IF(B49=\"\",\"\",B49*D49)","v":""},{"$f":"IF($A$1=\"Mile Post\",\"+\",\"+  STA.\")","v":"+  STA."},{"$f":"IF(OR($F$11=\"\",M49>F$18),\"\",IF($A$1=\"Mile Post\",VLOOKUP(M49,T$3:W$34,3,FALSE)+(M49-VLOOKUP(M49,T$3:X$34,5,FALSE))*B49,VLOOKUP(M49,T$3:W$34,3,FALSE)+(M49-VLOOKUP(M49,T$3:X$34,5,FALSE))*B49/100))","v":""},"=",{"$f":"IF($A$1=\"Mile Post\", \"MILE POST\", \"STATION\")","v":"STATION"},null,{"$f":"IF(F49=\"\",\"\",IF($A$1=\"Mile Post\",H49+F49,H49+(F49/100)))","v":""},{"$f":"1+M44","v":6},{"$f":"IF(OR(AG49=\"\",L$18=0),0,1)","v":0},null,null,null,null,null,null,null,null,null,null,null,null,null,null,null,null,{"$f":"OFFSET(Y$2,MATCH(M49,T$3:T$34,0),0)","v":0},null,{"$f":"IF(OFFSET(AC$2,M49,0)>0,CONCATENATE(\"Joint Core # \",TEXT(OFFSET(AC$2,M49,0),\"0\")),\"\")","v":""}]
[]
[null,{"$f":"IF(B49=\"\",\"\",B46)","v":""},"X",null,"=",{"$f":"IF(B51=\"\",\"\",IF(AND(ABS(B51*D51)>(B51-1),AK$8=\"\"),B51-1,IF(ABS(B51*D51)<1,1,B51*D51)))","v":""},"FT. ",{"$f":"IF(J$6,IF(F51<0,\"(Offset Left)\",\"(Offset From Left Edge)\"),\"(Offset)\")","v":"(Offset)"},null,{"$f":"IF(B51=\"\",\"\",IF(AND(ABS(B51*D51)>(B51-1),AK$8=\"\"),CONCATENATE(TEXT(B51-1,\"0.0\"),\" FT. max\"),IF(ABS(B51*D51)<1,\"1 FT. min\",\"\")))","v":""}]
[]
[]
["CORE # 7:",{"$f":"IF(OR($F$11=\"\",M54>F$18),\"\",VLOOKUP(M54,T$3:U$34,2,FALSE))","v":""},"X",null,"=",{"$f":"IF(B54=\"\",\"\",B54*D54)","v":""},{"$f":"IF($A$1=\"Mile Post\",\"+\",\"+  STA.\")","v":"+  STA."},{"$f":"IF(OR($F$11=\"\",M54>F$18),\"\",IF($A$1=\"Mile Post\",VLOOKUP(M54,T$3:W$34,3,FALSE)+(M54-VLOOKUP(M54,T$3:X$34,5,FALSE))*B54,VLOOKUP(M54,T$3:W$34,3,FALSE)+(M54-VLOOKUP(M54,T$3:X$34,5,FALSE))*B54/100))","v":""},"=",{"$f":"IF($A$1=\"Mile Post\", \"MILE POST\", \"STATION\")","v":"STATION"},null,{"$f":"IF(F54=\"\",\"\",IF($A$1=\"Mile Post\",H54+F54,H54+(F54/100)))","v":""},{"$f":"1+M49","v":7},{"$f":"IF(OR(AG54=\"\",L$18=0),0,1)","v":0},null,null,null,null,null,null,null,null,null,null,null,null,null,null,null,null,{"$f":"OFFSET(Y$2,MATCH(M54,T$3:T$34,0),0)","v":0},null,{"$f":"IF(OFFSET(AC$2,M54,0)>0,CONCATENATE(\"Joint Core # \",TEXT(OFFSET(AC$2,M54,0),\"0\")),\"\")","v":""}]
[]
[null,{"$f":"IF(B54=\"\",\"\",B51)","v":""},"X",null,"=",{"$f":"IF(B56=\"\",\"\",IF(AND(ABS(B56*D56)>(B56-1),AK$8=\"\"),B56-1,IF(ABS(B56*D56)<1,1,B56*D56)))","v":""},"FT. ",{"$f":"IF(J$6,IF(F56<0,\"(Offset Left)\",\"(Offset From Left Edge)\"),\"(Offset)\")","v":"(Offset)"},null,{"$f":"IF(B56=\"\",\"\",IF(AND(ABS(B56*D56)>(B56-1),AK$8=\"\"),CONCATENATE(TEXT(B56-1,\"0.0\"),\" FT. max\"),IF(ABS(B56*D56)<1,\"1 FT. min\",\"\")))","v":""}]
[]
[]
["CORE # 8:",{"$f":"IF(OR($F$11=\"\",M59>F$18),\"\",VLOOKUP(M59,T$3:U$34,2,FALSE))","v":""},"X",null,"=",{"$f":"IF(B59=\"\",\"\",B59*D59)","v":""},{"$f":"IF($A$1=\"Mile Post\",\"+\",\"+  STA.\")","v":"+  STA."},{"$f":"IF(OR($F$11=\"\",M59>F$18),\"\",IF($A$1=\"Mile Post\",VLOOKUP(M59,T$3:W$34,3,FALSE)+(M59-VLOOKUP(M59,T$3:X$34,5,FALSE))*B59,VLOOKUP(M59,T$3:W$34,3,FALSE)+(M59-VLOOKUP(M59,T$3:X$34,5,FALSE))*B59/100))","v":""},"=",{"$f":"IF($A$1=\"Mile Post\", \"MILE POST\", \"STATION\")","v":"STATION"},null,{"$f":"IF(F59=\"\",\"\",IF($A$1=\"Mile Post\",H59+F59,H59+(F59/100)))","v":""},{"$f":"1+M54","v":8},{"$f":"IF(OR(AG59=\"\",L$18=0),0,1)","v":0},null,null,null,null,null,null,null,null,null,null,null,null,null,null,null,null,{"$f":"OFFSET(Y$2,MATCH(M59,T$3:T$34,0),0)","v":0},null,{"$f":"IF(OFFSET(AC$2,M59,0)>0,CONCATENATE(\"Joint Core # \",TEXT(OFFSET(AC$2,M59,0),\"0\")),\"\")","v":""}]
[]
[null,{"$f":"IF(B59=\"\",\"\",B56)","v":""},"X",null,"=",{"$f":"IF(B61=\"\",\"\",IF(AND(ABS(B61*D61)>(B61-1),AK$8=\"\"),B61-1,IF(ABS(B61*D61)<1,1,B61*D61)))","v":""},"FT. ",{"$f":"IF(J$6,IF(F61<0,\"(Offset Left)\",\"(Offset From Left Edge)\"),\"(Offset)\")","v":"(Offset)"},null,{"$f":"IF(B61=\"\",\"\",IF(AND(ABS(B61*D61)>(B61-1),AK$8=\"\"),CONCATENATE(TEXT(B61-1,\"0.0\"),\" FT. max\"),IF(ABS(B61*D61)<1,\"1 FT. min\",\"\")))","v":""}]
[]
[]
[{"$f":"IF(F$18<M64,\"\",CONCATENATE(\"CORE # \",TEXT(M64,\"0\"),\":\"))","v":""},{"$f":"IF(OR($F$11=\"\",M64>F$18),\"\",VLOOKUP(M64,T$3:U$34,2,FALSE))","v":""},"X",{"$f":"IF(B64=\"\",\"\",RAND())","v":""},"=",{"$f":"IF(B64=\"\",\"\",B64*D64)","v":""},{"$f":"IF($A$1=\"Mile Post\",\"+\",\"+  STA.\")","v":"+  STA."},{"$f":"IF(OR($F$11=\"\",M64>F$18),\"\",IF($A$1=\"Mile Post\",VLOOKUP(M64,T$3:W$34,3,FALSE)+(M64-VLOOKUP(M64,T$3:X$34,5,FALSE))*B64,VLOOKUP(M64,T$3:W$34,3,FALSE)+(M64-VLOOKUP(M64,T$3:X$34,5,FALSE))*B64/100))","v":""},"=",{"$f":"IF($A$1=\"Mile Post\", \"MILE POST\", \"STATION\")","v":"STATION"},null,{"$f":"IF(F64=\"\",\"\",IF($A$1=\"Mile Post\",H64+F64,H64+(F64/100)))","v":""},{"$f":"1+M59","v":9},{"$f":"IF(OR(AG64=\"\",L$18=0),0,1)","v":0},null,null,null,null,null,null,null,null,null,null,null,null,null,null,null,null,{"$f":"IF(A64=\"\",\"\",OFFSET(Y$2,MATCH(M64,T$3:T$34,0),0))","v":""},null,{"$f":"IF(OFFSET(AC$2,M64,0)>0,CONCATENATE(\"Joint Core # \",TEXT(OFFSET(AC$2,M64,0),\"0\")),\"\")","v":""}]
[]
[null,{"$f":"IF(B64=\"\",\"\",B61)","v":""},"X",{"$f":"IF(B66=\"\",\"\",RAND())","v":""},"=",{"$f":"IF(B66=\"\",\"\",IF(AND(ABS(B66*D66)>(B66-1),AK$8=\"\"),B66-1,IF(ABS(B66*D66)<1,1,B66*D66)))","v":""},"FT. ",{"$f":"IF(J$6,IF(F66<0,\"(Offset Left)\",\"(Offset From Left Edge)\"),\"(Offset)\")","v":"(Offset)"},null,{"$f":"IF(B66=\"\",\"\",IF(AND(ABS(B66*D66)>(B66-1),AK$8=\"\"),CONCATENATE(TEXT(B66-1,\"0.0\"),\" FT. max\"),IF(ABS(B66*D66)<1,\"1 FT. min\",\"\")))","v":""}]
[]
[]
[{"$f":"IF(F$18<M69,\"\",CONCATENATE(\"CORE # \",TEXT(M69,\"0\"),\":\"))","v":""},{"$f":"IF(OR($F$11=\"\",M69>F$18),\"\",VLOOKUP(M69,T$3:U$34,2,FALSE))","v":""},"X",{"$f":"IF(B69=\"\",\"\",RAND())","v":""},"=",{"$f":"IF(B69=\"\",\"\",B69*D69)","v":""},{"$f":"IF($A$1=\"Mile Post\",\"+\",\"+  STA.\")","v":"+  STA."},{"$f":"IF(OR($F$11=\"\",M69>F$18),\"\",IF($A$1=\"Mile Post\",VLOOKUP(M69,T$3:W$34,3,FALSE)+(M69-VLOOKUP(M69,T$3:X$34,5,FALSE))*B69,VLOOKUP(M69,T$3:W$34,3,FALSE)+(M69-VLOOKUP(M69,T$3:X$34,5,FALSE))*B69/100))","v":""},"=",{"$f":"IF($A$1=\"Mile Post\", \"MILE POST\", \"STATION\")","v":"STATION"},null,{"$f":"IF(F69=\"\",\"\",IF($A$1=\"Mile Post\",H69+F69,H69+(F69/100)))","v":""},{"$f":"1+M64","v":10},{"$f":"IF(OR(AG69=\"\",L$18=0),0,1)","v":0},null,null,null,null,null,null,null,null,null,null,null,null,null,null,null,null,{"$f":"IF(A69=\"\",\"\",OFFSET(Y$2,MATCH(M69,T$3:T$34,0),0))","v":""},null,{"$f":"IF(OFFSET(AC$2,M69,0)>0,CONCATENATE(\"Joint Core # \",TEXT(OFFSET(AC$2,M69,0),\"0\")),\"\")","v":""}]
[]
[null,{"$f":"IF(B69=\"\",\"\",B66)","v":""},"X",{"$f":"IF(B71=\"\",\"\",RAND())","v":""},"=",{"$f":"IF(B71=\"\",\"\",IF(AND(ABS(B71*D71)>(B71-1),AK$8=\"\"),B71-1,IF(ABS(B71*D71)<1,1,B71*D71)))","v":""},"FT. ",{"$f":"IF(J$6,IF(F71<0,\"(Offset Left)\",\"(Offset From Left Edge)\"),\"(Offset)\")","v":"(Offset)"},null,{"$f":"IF(B71=\"\",\"\",IF(AND(ABS(B71*D71)>(B71-1),AK$8=\"\"),CONCATENATE(TEXT(B71-1,\"0.0\"),\" FT. max\"),IF(ABS(B71*D71)<1,\"1 FT. min\",\"\")))","v":""}]
[]
[]
[{"$f":"IF(F$18<M74,\"\",CONCATENATE(\"CORE # \",TEXT(M74,\"0\"),\":\"))","v":""},{"$f":"IF(OR($F$11=\"\",M74>F$18),\"\",VLOOKUP(M74,T$3:U$34,2,FALSE))","v":""},"X",{"$f":"IF(B74=\"\",\"\",RAND())","v":""},"=",{"$f":"IF(B74=\"\",\"\",B74*D74)","v":""},{"$f":"IF($A$1=\"Mile Post\",\"+\",\"+  STA.\")","v":"+  STA."},{"$f":"IF(OR($F$11=\"\",M74>F$18),\"\",IF($A$1=\"Mile Post\",VLOOKUP(M74,T$3:W$34,3,FALSE)+(M74-VLOOKUP(M74,T$3:X$34,5,FALSE))*B74,VLOOKUP(M74,T$3:W$34,3,FALSE)+(M74-VLOOKUP(M74,T$3:X$34,5,FALSE))*B74/100))","v":""},"=",{"$f":"IF($A$1=\"Mile Post\", \"MILE POST\", \"STATION\")","v":"STATION"},null,{"$f":"IF(F74=\"\",\"\",IF($A$1=\"Mile Post\",H74+F74,H74+(F74/100)))","v":""},{"$f":"1+M69","v":11},{"$f":"IF(OR(AG74=\"\",L$18=0),0,1)","v":0},null,null,null,null,null,null,null,null,null,null,null,null,null,null,null,null,{"$f":"IF(A74=\"\",\"\",OFFSET(Y$2,MATCH(M74,T$3:T$34,0),0))","v":""},null,{"$f":"IF(OFFSET(AC$2,M74,0)>0,CONCATENATE(\"Joint Core # \",TEXT(OFFSET(AC$2,M74,0),\"0\")),\"\")","v":""}]
[]
[null,{"$f":"IF(B74=\"\",\"\",B71)","v":""},"X",{"$f":"IF(B76=\"\",\"\",RAND())","v":""},"=",{"$f":"IF(B76=\"\",\"\",IF(AND(ABS(B76*D76)>(B76-1),AK$8=\"\"),B76-1,IF(ABS(B76*D76)<1,1,B76*D76)))","v":""},"FT. ",{"$f":"IF(J$6,IF(F76<0,\"(Offset Left)\",\"(Offset From Left Edge)\"),\"(Offset)\")","v":"(Offset)"},null,{"$f":"IF(B76=\"\",\"\",IF(AND(ABS(B76*D76)>(B76-1),AK$8=\"\"),CONCATENATE(TEXT(B76-1,\"0.0\"),\" FT. max\"),IF(ABS(B76*D76)<1,\"1 FT. min\",\"\")))","v":""}]
[]
[]
[{"$f":"IF(F$18<M79,\"\",CONCATENATE(\"CORE # \",TEXT(M79,\"0\"),\":\"))","v":""},{"$f":"IF(OR($F$11=\"\",M79>F$18),\"\",VLOOKUP(M79,T$3:U$34,2,FALSE))","v":""},"X",{"$f":"IF(B79=\"\",\"\",RAND())","v":""},"=",{"$f":"IF(B79=\"\",\"\",B79*D79)","v":""},{"$f":"IF($A$1=\"Mile Post\",\"+\",\"+  STA.\")","v":"+  STA."},{"$f":"IF(OR($F$11=\"\",M79>F$18),\"\",IF($A$1=\"Mile Post\",VLOOKUP(M79,T$3:W$34,3,FALSE)+(M79-VLOOKUP(M79,T$3:X$34,5,FALSE))*B79,VLOOKUP(M79,T$3:W$34,3,FALSE)+(M79-VLOOKUP(M79,T$3:X$34,5,FALSE))*B79/100))","v":""},"=",{"$f":"IF($A$1=\"Mile Post\", \"MILE POST\", \"STATION\")","v":"STATION"},null,{"$f":"IF(F79=\"\",\"\",IF($A$1=\"Mile Post\",H79+F79,H79+(F79/100)))","v":""},{"$f":"1+M74","v":12},{"$f":"IF(OR(AG79=\"\",L$18=0),0,1)","v":0},null,null,null,null,null,null,null,null,null,null,null,null,null,null,null,null,{"$f":"IF(A79=\"\",\"\",OFFSET(Y$2,MATCH(M79,T$3:T$34,0),0))","v":""},null,{"$f":"IF(OFFSET(AC$2,M79,0)>0,CONCATENATE(\"Joint Core # \",TEXT(OFFSET(AC$2,M79,0),\"0\")),\"\")","v":""}]

{"sheet":"HMA Samples","index":11,"n_rows":44,"n_cols":20,"rows_kept":44,"cut":false,"hidden":false,"merged":[[17,6,17,9],[16,6,16,9],[4,9,5,9],[3,6,5,8],[14,12,15,12],[6,6,6,8],[12,6,15,9],[11,6,11,7]]}
["Date:  "]
["Expected Tons Produced For The Day:  ",null,null,{"$f":"IF(S15=\"No\",\"\",CONCATENATE(IF(G13=\"\",\"\",\"*\"),IF(S14>1,\"Expected production exceeded requiring additional sample(s). \",\"\"),IF(S14>1,TEXT(S12,\"0\"),TEXT(S11,\"0\")),\" samples required for \",IF(S14>1,CONCATENATE(TEXT(S7,\"0\"),\" tons of mix placed.\"),CONCATENATE(TEXT(B$2,\"0\"),\" tons of mix estimated.\")),\" Enter sublots for \",IF(S14>1,TEXT(S12,\"0\"),TEXT(S11,\"0\")),\" samples.\"))","v":""}]
[{"$f":"IF(D3=\"\",\"\",CONCATENATE(VLOOKUP(COUNT(D$2:D3),$N$3:$O$12,2,FALSE),\" Hot Box Sample Tons:  \"))","v":""},{"$f":"IF(IF(B$2=0,0,TRUNC(RAND()/(1/(M3-L3+1))+L3))=B$2,\"\",IF(B$2=0,0,TRUNC(RAND()/(1/(M3-L3+1))+L3)))","v":""},"--",{"$f":"IF(SUM(G18)>0,MIN(SUM(G18),B2),IF(OR(S$16=\"No\",ROW(B3)-2<=S$11),IF(ROW(B3)-2<S$11,ROUND((B$2)/(S$11),0),IF(ROW(B3)-2=S$11,B$2,\"\")),IF(ROW(B3)-2<S$12,ROUND((S7-B$2)/(S$14),0),IF(ROW(B3)-2=S$12,S7,\"\"))))","v":0},{"$f":"IF(D3=\"\",\"\",CONCATENATE(VLOOKUP(ROW(D3)-2,$N$3:$O$12,2,FALSE),\" Sublot (tons)\",IF(SUM(S6)>0,\" (*from silo'd mix)\",\"\"),\":\"))","v":""},null,null,null,null,null,null,{"$f":"IF(G18>0,0,100)","v":100},{"$f":"IF(G18>0,G18,SUM(D3))","v":0},1,"First"]
[{"$f":"IF(D4=\"\",\"\",CONCATENATE(VLOOKUP(COUNT(D$2:D4),$N$3:$O$12,2,FALSE),\" Hot Box Sample Tons:  \"))","v":""},"",{"$f":"IF(D4=\"\",\"\",\"--\")","v":""},{"$f":"IF(OR(S$16=\"No\",ROW(C4)-2<=S$11),IF(ROW(C4)-2<S$11,IF(S$6>0,ROUND(S$20,0),ROUND((B$2)/(S$11),0)),IF(ROW(C4)-2=S$11,B$2-SUM(D$3:D3),\"\")),IF(ROW(C4)-2<S$12,ROUND((S$7-B$2)/(S$14),0),IF(ROW(C4)-2=S$12,S$7-SUM(D$3:D3),\"\")))","v":""},{"$f":"IF(D4=\"\",\"\",CONCATENATE(VLOOKUP(ROW(D4)-2,$N$3:$O$12,2,FALSE),\" Sublot (tons)\"))","v":""},null,"Approved Increased Sampling Plan based on Today's Production",null,null,"# of Sublots",null,{"$f":"(M3)","v":0},{"$f":"IF(B$2=\"\",0,SUM(D3+D4))","v":0},2,"Second"]
[{"$f":"IF(D5=\"\",\"\",CONCATENATE(VLOOKUP(COUNT(D$2:D5),$N$3:$O$12,2,FALSE),\" Hot Box Sample Tons:  \"))","v":""},"","",{"$f":"IF(OR(S$16=\"No\",ROW(C5)-2<=S$11),IF(ROW(C5)-2<S$11,IF(S$6>0,ROUND(S$20,0),ROUND((B$2)/(S$11),0)),IF(ROW(C5)-2=S$11,B$2-SUM(D$3:D4),\"\")),IF(ROW(C5)-2<S$12,ROUND((S$7-B$2)/(S$14),0),IF(ROW(C5)-2=S$12,S$7-SUM(D$3:D4),\"\")))","v":""},"",null,null,null,null,null,null,0,{"$f":"IF(B$2=\"\",0,SUM(L5+D5))","v":0},3,"Third"]
[{"$f":"IF(D6=\"\",\"\",CONCATENATE(VLOOKUP(COUNT(D$2:D6),$N$3:$O$12,2,FALSE),\" Hot Box Sample Tons:  \"))","v":""},"","",{"$f":"IF(OR(S$16=\"No\",ROW(C6)-2<=S$11),IF(ROW(C6)-2<S$11,IF(S$6>0,ROUND(S$20,0),ROUND((B$2)/(S$11),0)),IF(ROW(C6)-2=S$11,B$2-SUM(D$3:D5),\"\")),IF(ROW(C6)-2<S$12,ROUND((S$7-B$2)/(S$14),0),IF(ROW(C6)-2=S$12,S$7-SUM(D$3:D5),\"\")))","v":""},"",null,null,null,null,null,null,0,0,4,"Fourth",null,null,null,{"$f":"IF(AND(G18<>\"\",SUM(G18)<B2),1,0)","v":0}]
[{"$f":"IF(D7=\"\",\"\",CONCATENATE(VLOOKUP(COUNT(D$2:D7),$N$3:$O$12,2,FALSE),\" Hot Box Sample Tons:  \"))","v":""},"","",{"$f":"IF(OR(S$16=\"No\",ROW(C7)-2<=S$11),IF(ROW(C7)-2<S$11,IF(S$6>0,ROUND(S$20,0),ROUND((B$2)/(S$11),0)),IF(ROW(C7)-2=S$11,B$2-SUM(D$3:D6),\"\")),IF(ROW(C7)-2<S$12,ROUND((S$7-B$2)/(S$14),0),IF(ROW(C7)-2=S$12,S$7-SUM(D$3:D6),\"\")))","v":""},"",null,"Production, tons",null,null,"# of Sublots",null,0,0,5,"Fifth",null,null,"Production",{"$f":"B2","v":0}]
[{"$f":"IF(D8=\"\",\"\",CONCATENATE(VLOOKUP(COUNT(D$2:D8),$N$3:$O$12,2,FALSE),\" Hot Box Sample Tons:  \"))","v":""},"","",{"$f":"IF(OR(S$16=\"No\",ROW(C8)-2<=S$11),IF(ROW(C8)-2<S$11,IF(S$6>0,ROUND(S$20,0),ROUND((B$2)/(S$11),0)),IF(ROW(C8)-2=S$11,B$2-SUM(D$3:D7),\"\")),IF(ROW(C8)-2<S$12,ROUND((S$7-B$2)/(S$14),0),IF(ROW(C8)-2=S$12,S$7-SUM(D$3:D7),\"\")))","v":""},"",null,101,"to",500,1,null,0,0,6,"Sixth",null,null,"Sublots based on 2303 production",{"$f":"IF(S7>I$11,J$12,IF(S7>I$10,J$11,IF(S7>I$9,J$10,IF(S7>I$8,J$9,J$8))))","v":1}]
[{"$f":"IF(D9=\"\",\"\",CONCATENATE(VLOOKUP(COUNT(D$2:D9),$N$3:$O$12,2,FALSE),\" Hot Box Sample Tons:  \"))","v":""},"","",{"$f":"IF(OR(S$16=\"No\",ROW(C9)-2<=S$11),IF(ROW(C9)-2<S$11,IF(S$6>0,ROUND(S$20,0),ROUND((B$2)/(S$11),0)),IF(ROW(C9)-2=S$11,B$2-SUM(D$3:D8),\"\")),IF(ROW(C9)-2<S$12,ROUND((S$7-B$2)/(S$14),0),IF(ROW(C9)-2=S$12,S$7-SUM(D$3:D8),\"\")))","v":""},"",null,501,"to",1250,2,null,0,0,7,"Seventh",null,null,"Sublots per 2303",{"$f":"IF(B2>I$11,J$12,IF(B2>I$10,J$11,IF(B2>I$9,J$10,IF(B2>I$8,J$9,J$8))))","v":1}]
[{"$f":"IF(D10=\"\",\"\",CONCATENATE(VLOOKUP(COUNT(D$2:D10),$N$3:$O$12,2,FALSE),\" Hot Box Sample Tons:  \"))","v":""},"","",{"$f":"IF(OR(S$16=\"No\",ROW(C10)-2<=S$11),IF(ROW(C10)-2<S$11,IF(S$6>0,ROUND(S$20,0),ROUND((B$2)/(S$11),0)),IF(ROW(C10)-2=S$11,B$2-SUM(D$3:D9),\"\")),IF(ROW(C10)-2<S$12,ROUND((S$7-B$2)/(S$14),0),IF(ROW(C10)-2=S$12,S$7-SUM(D$3:D9),\"\")))","v":""},"",null,1251,"to",2000,3,null,0,0,8,"Eighth",null,null,"Increased Sublots",{"$f":"IF(M15>10,10,M15)","v":0}]
[{"$f":"IF(D11=\"\",\"\",CONCATENATE(VLOOKUP(COUNT(D$2:D11),$N$3:$O$12,2,FALSE),\" Hot Box Sample Tons:  \"))","v":""},"","",{"$f":"IF(OR(S$16=\"No\",ROW(C11)-2<=S$11),IF(ROW(C11)-2<S$11,IF(S$6>0,ROUND(S$20,0),ROUND((B$2)/(S$11),0)),IF(ROW(C11)-2=S$11,B$2-SUM(D$3:D10),\"\")),IF(ROW(C11)-2<S$12,ROUND((S$7-B$2)/(S$14),0),IF(ROW(C11)-2=S$12,S$7-SUM(D$3:D10),\"\")))","v":""},"",null,2001,"to",4500,4,null,0,0,9,"Ninth",null,null,"Required sublots (estimated)",{"$f":"MAX(S9:S10)","v":1}]
[{"$f":"IF(D12=\"\",\"\",CONCATENATE(VLOOKUP(COUNT(D$2:D12),$N$3:$O$12,2,FALSE),\" Hot Box Sample Tons:  \"))","v":""},"","",{"$f":"IF(OR(S$16=\"No\",ROW(C12)-2<=S$11),IF(ROW(C12)-2<S$11,IF(S$6>0,ROUND(S$20,0),ROUND((B$2)/(S$11),0)),IF(ROW(C12)-2=S$11,B$2-SUM(D$3:D11),\"\")),IF(ROW(C12)-2<S$12,ROUND((S$7-B$2)/(S$14),0),IF(ROW(C12)-2=S$12,S$7-SUM(D$3:D11),\"\")))","v":""},"",null,">",null,4500,5,null,0,0,10,"Tenth",null,null,"Required sublots (production)",{"$f":"MAX(S8,S10)","v":1}]
[null,null,null,null,null,null,{"$f":"IF(OR(SUM(S10)>S9,SUM(S10)>S8),\"*Alternate sampling plan has been indicated and overrides that shown in the table above\",\"\")","v":""}]
["Plant Production Tons per Hour:  ",null,null,null,null,null,null,null,null,null,null,null,null,null,null,null,null,"Deficient # samples",{"$f":"S12-S11","v":0}]
["Laydown Start Time:  ",null,null,"00:00:00",null,null,null,null,null,null,null,null,{"$f":"IF(S6>0,1+S9,J5)","v":0},null,null,null,null,"deficient sublots?",{"$f":"IF(S14>1,IF(COUNT(B3:B12)<S12,\"Yes\",\"No\"),IF(AND(COUNT(B3:B12)<S11,(B$2-S7)<0),\"Yes\",\"No\"))","v":"No"},"for increased plans, if produced more than 500 below what was estimated then its ok"]
[{"$f":"IF(D3=\"\",\"\",CONCATENATE(\"Approximate \",VLOOKUP(COUNT(D$2:D3),$N$3:$O$12,2,FALSE),\" Sample Time:  \"))","v":""},{"$f":"IF(B$14=\"\",\"\",IF(B3=0,\"\",B$15+TIME(D16,E16,0)))","v":""},null,{"$f":"B3/B$14","v":{"$error":"#DIV/0!"}},{"$f":"(D16-ROUNDDOWN(D16,0))*60","v":{"$error":"#DIV/0!"}},null,null,null,null,null,null,null,null,null,null,null,null,"deficient samples?",{"$f":"IF(S14>1,\"Yes\",\"No\")","v":"No"}]
[{"$f":"IF(D4=\"\",\"\",CONCATENATE(\"Approximate \",VLOOKUP(COUNT(D$2:D4),$N$3:$O$12,2,FALSE),\" Sample Time:  \"))","v":""},"",null,{"$error":"#DIV/0!"},{"$error":"#DIV/0!"},null,"Expected tons from Silo storage",null,null,null,null,null,null,null,null,null,null,"Required samples master",{"$f":"IF(S15=\"Yes\",S11,IF(S9>0,S10,S7))","v":0}]
[{"$f":"IF(D5=\"\",\"\",CONCATENATE(\"Approximate \",VLOOKUP(COUNT(D$2:D5),$N$3:$O$12,2,FALSE),\" Sample Time:  \"))","v":""},"",null,{"$error":"#DIV/0!"},{"$error":"#DIV/0!"},null,null,null,null,null,null,null,null,null,null,null,null,null,{"$f":"IF(S15=\"Yes\",S11,IF(S9>0,S10,S7))","v":0}]
[{"$f":"IF(D6=\"\",\"\",CONCATENATE(\"Approximate \",VLOOKUP(COUNT(D$2:D6),$N$3:$O$12,2,FALSE),\" Sample Time:  \"))","v":""},"",null,{"$error":"#DIV/0!"},{"$error":"#DIV/0!"},null,{"$f":"IF(S6>0,\"* Articles 1106.01, A and B invoked.\",\"\")","v":""}]
[{"$f":"IF(D7=\"\",\"\",CONCATENATE(\"Approximate \",VLOOKUP(COUNT(D$2:D7),$N$3:$O$12,2,FALSE),\" Sample Time:  \"))","v":""},"",null,{"$error":"#DIV/0!"},{"$error":"#DIV/0!"},null,null,null,null,null,null,null,null,null,null,null,null,"equally divided among rest of mxi",{"$f":"(B2-D3)/(S10-1)","v":0}]
[{"$f":"IF(D8=\"\",\"\",CONCATENATE(\"Approximate \",VLOOKUP(COUNT(D$2:D8),$N$3:$O$12,2,FALSE),\" Sample Time:  \"))","v":""},"",null,{"$error":"#DIV/0!"},{"$error":"#DIV/0!"}]
[{"$f":"IF(D9=\"\",\"\",CONCATENATE(\"Approximate \",VLOOKUP(COUNT(D$2:D9),$N$3:$O$12,2,FALSE),\" Sample Time:  \"))","v":""},"",null,{"$error":"#DIV/0!"},{"$error":"#DIV/0!"}]
[{"$f":"IF(D10=\"\",\"\",CONCATENATE(\"Approximate \",VLOOKUP(COUNT(D$2:D10),$N$3:$O$12,2,FALSE),\" Sample Time:  \"))","v":""},"",null,{"$error":"#DIV/0!"},{"$error":"#DIV/0!"}]
[{"$f":"IF(D11=\"\",\"\",CONCATENATE(\"Approximate \",VLOOKUP(COUNT(D$2:D11),$N$3:$O$12,2,FALSE),\" Sample Time:  \"))","v":""},"",null,{"$error":"#DIV/0!"},{"$error":"#DIV/0!"}]
[{"$f":"IF(D12=\"\",\"\",CONCATENATE(\"Approximate \",VLOOKUP(COUNT(D$2:D12),$N$3:$O$12,2,FALSE),\" Sample Time:  \"))","v":""},"",null,{"$error":"#DIV/0!"},{"$error":"#DIV/0!"}]
[]
["Press F9 to Calculate"]
[]
["To use this spreadsheet to select random samples of uncompacted HMA you must provide the tonnage the contractor expects to lay. "]
["If only the expected tonnage is provided the program will provide sample locations based on the running total of tonnage delivered when you press F9."]
["If you want the sample locations expressed as time you must also provide the tons per hour at which the plant is operating and the time when the laydown operation started then press F9."]
[]
["Any changes in expected tonnage or plant production such as breakdowns, weather interruptions or other delays may require recalculation of sample locations "]
["if the interrruption causes the sample time to fall during a period when no mix is being laid or fall in the same sublot as a previous sample."]
[]
["Every attempt should be made to keep the sampling random, however if, for example, rain-out is eminent or plant production ceases prematurely "]
["and the sample for the sublot has not been obtained a sample should be taken immediately if possible."]
[]
["Sample locations must not be provided to the contractor in advance except for the time needed to prepare for sampling."]
["The contractor should be prepared to sample as directed at any time."]
[]
["This program works best if it is the only file loaded in Excel. Automatic recalculation has been turned off in this file so that the program will only calculate once when you press F9. "]
["If other files have been loaded into Excel that allow automatic recalculation this file may change sample locations whenever any data is changed."]
["If this occurs, exit Excel then reload it and open this file and complete the sample locations before loading any other Excel files."]

{"sheet":"Binder","index":12,"n_rows":122,"n_cols":9,"rows_kept":122,"cut":false,"hidden":false,"merged":[]}
[]
[null,null,null,null,{"$f":"Table4[[#Totals],[Delivered Tons]]","v":0},{"$f":"Table4[[#Totals],[Delivered Gallons]]","v":0},{"$f":"Table4[[#Totals],[Used Tons From Plant Report]]","v":0}]
["Date","Supplier","Type","Ticket #","Delivered Tons","Delivered Gallons","Used Tons From Plant Report","Comments","By"]
[]
[]
[]
[]
[]
[]
[]
[]
[]
[]
[]
[]
[]
[]
[]
[]
[]
[]
[]
[]
[]
[]
[]
[]
[]
[]
[]
[]
[]
[]
[]
[]
[]
[]
[]
[]
[]
[]
[]
[]
[]
[]
[]
[]
[]
[]
[]
[]
[]
[]
[]
[]
[]
[]
[]
[]
[]
[]
[]
[]
[]
[]
[]
[]
[]
[]
[]
[]
[]
[]
[]
[]
[]
[]
[]
[]
[]
[]
[]
[]
[]
[]
[]
[]
[]
[]
[]
[]
[]
[]
[]
[]
[]
[]
[]
[]
[]
[]
[]
[]
[]
[]
[]
[]
[]
[]
[]
[]
[]
[]
[]
[]
[]
[]
[]
[]
[]
[]
["Total",null,null,null,{"$f":"SUBTOTAL(109,Table4[Delivered Tons])","v":0},{"$f":"SUBTOTAL(109,Table4[Delivered Gallons])","v":0},{"$f":"SUBTOTAL(109,Table4[Used Tons From Plant Report])","v":0}]

{"sheet":"e-ticket","index":13,"n_rows":40,"n_cols":114,"rows_kept":40,"cut":false,"hidden":true,"merged":[]}
["Date","Ticket Number","Air 1","Air 2","Ambient Temperature","Batch Time","Batched Water Cement Ratio","Block Number","Calculated Allowable Water to Add","Connected DOTProject Number","Contractor Field Temp","Contractor Lat/Long","Contractor Notes","Contractor Plant Temp","Contractor Signed At","Contractor Status","Customer Name","DOTInspector","Daily Total","Delivery lat/long","Design Thickness","Design Total Water","Design Water Cement Ratio","Discharge Time","Dispatch Number","District","Driver","Due Time","Efflux","Evaporation Rate","Field Temp","Flag By DOT","Form Type","Gross","Gross 2","Gross 3","Hauler","Humidity","Image","In-place Density","Inspector Name (Field Materials)","Inspector Name (Plant)","Job Site Location","Job#","Lift No.","Load #","Lot #","Material Classification","Max GVW","Max GVW Override","Max GVW Override By","Measured Thickness","Mix Id","Mix Use","Modified","Net","Net 2","Net 3","No. of Specimen","Notes","Overload Amount (lbs)","Overload Amount (tons)","PO #","Pay Period","Pay or Source","Plant","Plant Temp","Primary Pay Code","Primary Pay Code Description","Primary Pay Code Quantity","Product","Product Code","Product Description","Project","Quantity Ordered","Reject Reason","Revolutions at Mixing Speed","Sample Method","Sample Time","Secondary Pay Code","Secondary Pay Code Description","Secondary Pay Code Quantity","Slump 1 (entered)","Slump 2 (entered)","State Project #","Station","Status","Supplier","Supplier Code","Supplier Comments","System Allowable Water to Add","Tare","Tare 2","Tare 3","Temperature Mat","Temperature Truck","Theoretical Maximum Density","This Lot","Ticketed Net","Time at Destination","Tonnage","Total Allowable Water","Total Water in Batch","Truck","UOM","UOM 2","UOM 3","Unit Weight","Virgin Asphalt Content","Waste","Weighmaster","Wind Speed","Work Type","Yield (entered)"]
["08/14/23 06:47 PM CDT",40803,"-","-",69,"-","-","-","-","NHSX-030-9(200)--3H-23/NHSX-061-6(73)--3H-23","-","-","-","-","-","pending","IOWA DOT","Joe West",637.42999999999995,"41.80807182103564, -90.56867592045158","-","-","-","-","-","-","-","-","-","-",290,"No","-",30.86,61720,28,"JKE","-","No",100,"-","-","RP-030-9(207)--16-23","HWY 30","-",26,"-","Asphalt",60000,"-","-","-","-","-","-",30.86,61720,28,"-","-",1720,"-","NHSX-061-6(073)--3H-23",1,"pay","Plant 92","-",100,"HMA HT INTERMEDIATE, 1/2\"",30.86,"1/2 HT INTERMEDIATE","ABD23-6035R1","1/2 HT INTERMEDIATE","HWY 30","-","-","-","-","-","-","-","-","-","-","TSF-030-9(206)--92-23","-","delivered","Mathy Construction Co.","-","-","-",0,0,0,"-","-","-","-",30.86,"-",30.86,"-","-",2766,"Tons","Lbs","Metric Ton","-","-","-","Mike Taylor","-","-","-"]
["08/14/23 06:06 PM CDT",40802,"-","-","-","-","-","-","-","NHSX-030-9(200)--3H-23/NHSX-061-6(73)--3H-23","-","-","-","-","-","pending","IOWA DOT","Joe West",606.57000000000005,"41.8077583239087, -90.5690527507209","-","-","-","-","-","-","-","-","-","-","-","No","-",26.4,52800,23.95,"N and S","-","No",100,"-","-","RP-030-9(207)--16-23","HWY 30","-",25,"-","Asphalt",62000,"-","-","-","-","-","-",26.4,52800,23.95,"-","-",0,"-","NHSX-061-6(073)--3H-23",1,"pay","Plant 92","-",100,"HMA HT INTERMEDIATE, 1/2\"",26.4,"1/2 HT INTERMEDIATE","ABD23-6035R1","1/2 HT INTERMEDIATE","HWY 30","-","-","-","-","-","-","-","-","-","-","TSF-030-9(206)--92-23","-","delivered","Mathy Construction Co.","-","-","-",0,0,0,"-","-","-","-",26.4,"-",26.4,"-","-",1446,"Tons","Lbs","Metric Ton","-","-","-","Mike Taylor","-","-","-"]
["08/14/23 06:01 PM CDT",40801,"-","-","-","-","-","-","-","NHSX-030-9(200)--3H-23/NHSX-061-6(73)--3H-23","-","-","-","-","-","pending","IOWA DOT","Joe West",580.16999999999996,"41.80767125133914, -90.5691452260662","-","-","-","-","-","-","-","-","-","-","-","No","-",4.58,9160,4.1500000000000004,"RC IOSSI","-","No",100,"-","-","RP-030-9(207)--16-23","HWY 30","-",24,"-","Asphalt",10000,"-","-","-","-","-","-",4.58,9160,4.1500000000000004,"-","-",0,"-","NHSX-061-6(073)--3H-23",1,"pay","Plant 92","-",100,"HMA HT INTERMEDIATE, 1/2\"",4.58,"1/2 HT INTERMEDIATE","ABD23-6035R1","1/2 HT INTERMEDIATE","HWY 30","-","-","-","-","-","-","-","-","-","-","TSF-030-9(206)--92-23","-","delivered","Mathy Construction Co.","-","-","-",0,0,0,"-","-","-","-",4.58,"-",4.58,"-","-",5,"Tons","Lbs","Metric Ton","-","-","-","Mike Taylor","-","-","-"]
["08/14/23 05:55 PM CDT",40800,"-","-",69,"-","-","-","-","NHSX-030-9(200)--3H-23/NHSX-061-6(73)--3H-23","-","-","-","-","-","pending","IOWA DOT","Joe West",575.59,"41.807847772763864, -90.56891530760616","-","-","-","-","-","-","-","-","-","-",290,"No","-",21.18,42360,19.21,"MEIER","-","No",100,"-","-","RP-030-9(207)--16-23","HWY 30","-",23,"-","Asphalt",42500,"-","-","-","-","-","-",21.18,42360,19.21,"-","-",0,"-","NHSX-061-6(073)--3H-23",1,"pay","Plant 92","-",100,"HMA HT INTERMEDIATE, 1/2\"",21.18,"1/2 HT INTERMEDIATE","ABD23-6035R1","1/2 HT INTERMEDIATE","HWY 30","-","-","-","-","-","-","-","-","-","-","TSF-030-9(206)--92-23","-","delivered","Mathy Construction Co.","-","-","-",0,0,0,"-","-","-","-",21.18,"-",21.18,"-","-",8,"Tons","Lbs","Metric Ton","-","-","-","Mike Taylor","-","-","-"]
["08/14/23 05:42 PM CDT",40799,"-","-","-","-","-","-","-","NHSX-030-9(200)--3H-23/NHSX-061-6(73)--3H-23","-","-","-","-","-","pending","IOWA DOT","Joe West",554.41,"41.807748279573424, -90.56900742472202","-","-","-","-","-","-","-","-","-","-","-","No","-",24.25,48500,22,"JVH","-","No",100,"-","-","RP-030-9(207)--16-23","HWY 30","-",22,"-","Asphalt",48000,"-","-","-","-","-","-",24.25,48500,22,"-","-",500,"-","NHSX-061-6(073)--3H-23",1,"pay","Plant 92","-",100,"HMA HT INTERMEDIATE, 1/2\"",24.25,"1/2 HT INTERMEDIATE","ABD23-6035R1","1/2 HT INTERMEDIATE","HWY 30","-","-","-","-","-","-","-","-","-","-","TSF-030-9(206)--92-23","-","delivered","Mathy Construction Co.","-","-","-",0,0,0,"-","-","-","-",24.25,"-",24.25,"-","-",13,"Tons","Lbs","Metric Ton","-","-","-","Mike Taylor","-","-","-"]
["08/14/23 05:35 PM CDT",40798,"-","-","-","-","-","-","-","NHSX-030-9(200)--3H-23/NHSX-061-6(73)--3H-23","-","-","-","-","-","pending","IOWA DOT","Joe West",530.16,"41.80774945303987, -90.56900281467527","-","-","-","-","-","-","-","-","-","-","-","No","-",23.75,47500,21.55,"KUNDE","-","No",100,"-","-","RP-030-9(207)--16-23","HWY 30","-",21,"-","Asphalt",48000,"-","-","-","-","-","-",23.75,47500,21.55,"-","-",0,"-","NHSX-061-6(073)--3H-23",1,"pay","Plant 92","-",100,"HMA HT INTERMEDIATE, 1/2\"",23.75,"1/2 HT INTERMEDIATE","ABD23-6035R1","1/2 HT INTERMEDIATE","HWY 30","-","-","-","-","-","-","-","-","-","-","TSF-030-9(206)--92-23","-","delivered","Mathy Construction Co.","-","-","-",0,0,0,"-","-","-","-",23.75,"-",23.75,"-","-",1,"Tons","Lbs","Metric Ton","-","-","-","Mike Taylor","-","-","-"]
["08/14/23 05:33 PM CDT",40797,"-","-","-","-","-","-","-","NHSX-030-9(200)--3H-23/NHSX-061-6(73)--3H-23","-","-","-","-","-","pending","IOWA DOT","Joe West",506.41,"41.80729465097378, -90.5693792459467","-","-","-","-","-","-","-","-","-","-","-","No","-",23.18,46360,21.03,"RC IOSSI","-","No",100,"-","-","RP-030-9(207)--16-23","HWY 30","-",20,"-","Asphalt",46000,"-","-","-","-","-","-",23.18,46360,21.03,"-","-",360,"-","NHSX-061-6(073)--3H-23",1,"pay","Plant 92","-",100,"HMA HT INTERMEDIATE, 1/2\"",23.18,"1/2 HT INTERMEDIATE","ABD23-6035R1","1/2 HT INTERMEDIATE","HWY 30","-","-","-","-","-","-","-","-","-","-","TSF-030-9(206)--92-23","-","delivered","Mathy Construction Co.","-","-","-",0,0,0,"-","-","-","-",23.18,"-",23.18,"-","-",3,"Tons","Lbs","Metric Ton","-","-","-","Mike Taylor","-","-","-"]
["08/14/23 05:28 PM CDT",40796,"-","-","-","-","-","-","-","NHSX-030-9(200)--3H-23/NHSX-061-6(73)--3H-23","-","-","-","-","-","pending","IOWA DOT","Joe West",483.23,"41.807300602124826, -90.56937740192801","-","-","-","-","-","-","-","-","-","-","-","No","-",30,60000,27.22,"JKE","-","No",100,"-","-","RP-030-9(207)--16-23","HWY 30","-",19,"-","Asphalt",60000,"-","-","-","-","-","-",30,60000,27.22,"-","-",0,"-","NHSX-061-6(073)--3H-23",1,"pay","Plant 92","-",100,"HMA HT INTERMEDIATE, 1/2\"",30,"1/2 HT INTERMEDIATE","ABD23-6035R1","1/2 HT INTERMEDIATE","HWY 30","-","-","-","-","-","-","-","-","-","-","TSF-030-9(206)--92-23","-","delivered","Mathy Construction Co.","-","-","-",0,0,0,"-","-","-","-",30,"-",30,"-","-",2766,"Tons","Lbs","Metric Ton","-","-","-","Mike Taylor","-","-","-"]
["08/14/23 05:20 PM CDT",40795,"-","-","-","-","-","-","-","NHSX-030-9(200)--3H-23/NHSX-061-6(73)--3H-23","-","-","-","-","-","pending","IOWA DOT","Joe West",453.23,"41.80729917720148, -90.5693797488609","-","-","-","-","-","-","-","-","-","-","-","No","-",26.86,53720,24.37,"JOEBGEN","-","No",100,"-","-","RP-030-9(207)--16-23","HWY 30","-",18,"-","Asphalt",54000,"-","-","-","-","-","-",26.86,53720,24.37,"-","-",0,"-","NHSX-061-6(073)--3H-23",1,"pay","Plant 92","-",30,"PAVED SHLD, HMA, 9\"",26.86,"1/2 HT INTERMEDIATE","ABD23-6035R1","1/2 HT INTERMEDIATE","HWY 30","-","-","-","-","-","-","-","-","-","-","TSF-030-9(206)--92-23","-","delivered","Mathy Construction Co.","-","-","-",0,0,0,"-","-","-","-",26.86,"-",26.86,"-","-",96,"Tons","Lbs","Metric Ton","-","-","-","Mike Taylor","-","-","-"]
["08/14/23 05:08 PM CDT",40794,"-","-","-","-","-","-","-","NHSX-030-9(200)--3H-23/NHSX-061-6(73)--3H-23","-","-","-","-","-","pending","IOWA DOT","Joe West",426.37,"41.80668239485661, -90.56945753292234","-","-","-","-","-","-","-","-","-","-","-","No","-",23.09,46180,20.95,"EBERHART","-","No",100,"-","-","RP-030-9(207)--16-23","HWY 30","-",17,"-","Asphalt",46000,"-","-","-","-","-","-",23.09,46180,20.95,"-","-",180,"-","NHSX-061-6(073)--3H-23",1,"pay","Plant 92","-",100,"HMA HT INTERMEDIATE, 1/2\"",23.09,"1/2 HT INTERMEDIATE","ABD23-6035R1","1/2 HT INTERMEDIATE","HWY 30","-","-","-","-","-","-","-","-","-","-","TSF-030-9(206)--92-23","-","delivered","Mathy Construction Co.","-","-","-",0,0,0,"-","-","-","-",23.09,"-",23.09,"-","-",43,"Tons","Lbs","Metric Ton","-","-","-","Mike Taylor","-","-","-"]
["08/14/23 05:02 PM CDT",40793,"-","-","-","-","-","-","-","NHSX-030-9(200)--3H-23/NHSX-061-6(73)--3H-23","-","-","-","-","-","pending","IOWA DOT","Joe West",403.28,"41.80644502192688, -90.5693565371925","-","-","-","-","-","-","-","-","-","-","-","No","-",31.32,62640,28.41,"N and S","-","No",100,"-","-","RP-030-9(207)--16-23","HWY 30","-",16,"-","Asphalt",62000,"-","-","-","-","-","-",31.32,62640,28.41,"-","-",640,"-","NHSX-061-6(073)--3H-23",1,"pay","Plant 92","-",100,"HMA HT INTERMEDIATE, 1/2\"",31.32,"1/2 HT INTERMEDIATE","ABD23-6035R1","1/2 HT INTERMEDIATE","HWY 30","-","-","-","-","-","-","-","-","-","-","TSF-030-9(206)--92-23","-","delivered","Mathy Construction Co.","-","-","-",0,0,0,"-","-","-","-",31.32,"-",31.32,"-","-",1446,"Tons","Lbs","Metric Ton","-","-","-","Mike Taylor","-","-","-"]
["08/14/23 04:47 PM CDT",40792,"-","-","-","-","-","-","-","NHSX-030-9(200)--3H-23/NHSX-061-6(73)--3H-23","-","-","-","-","-","pending","IOWA DOT","Joe West",371.96,"41.80617432030875, -90.56906127250515","-","-","-","-","-","-","-","-","-","-","-","No","-",21.33,42660,19.350000000000001,"MEIER","-","No",100,"-","-","RP-030-9(207)--16-23","HWY 30","-",15,"-","Asphalt",42500,"-","-","-","-","-","-",21.33,42660,19.350000000000001,"-","-",160,"-","NHSX-061-6(073)--3H-23",1,"pay","Plant 92","-",30,"PAVED SHLD, HMA, 9\"",21.33,"1/2 HT INTERMEDIATE","ABD23-6035R1","1/2 HT INTERMEDIATE","HWY 30","-","-","-","-","-","-","-","-","-","-","TSF-030-9(206)--92-23","-","delivered","Mathy Construction Co.","-","-","-",0,0,0,"-","-","-","-",21.33,"-",21.33,"-","-",8,"Tons","Lbs","Metric Ton","-","-","-","Mike Taylor","-","-","-"]
["08/14/23 04:22 PM CDT",40791,"-","-",75,"-","-","-","-","NHSX-030-9(200)--3H-23/NHSX-061-6(73)--3H-23","-","-","-","-","-","pending","IOWA DOT","Joe West",350.63,"41.80597361321594, -90.56854049796488","-","-","-","-","-","-","-","-","-","-",288,"No","-",24.3,48600,22.04,"KUNDE","-","No",100,"-","-","RP-030-9(207)--16-23","HWY 30","-",14,"-","Asphalt",48000,"-","-","-","-","-","-",24.3,48600,22.04,"-","-",600,"-","NHSX-061-6(073)--3H-23",1,"pay","Plant 92","-",100,"HMA HT INTERMEDIATE, 1/2\"",24.3,"1/2 HT INTERMEDIATE","ABD23-6035R1","1/2 HT INTERMEDIATE","HWY 30","-","-","-","-","-","-","-","-","-","-","TSF-030-9(206)--92-23","-","delivered","Mathy Construction Co.","-","-","-",0,0,0,"-","-","-","-",24.3,"-",24.3,"-","-",1,"Tons","Lbs","Metric Ton","-","-","-","Mike Taylor","-","-","-"]
["08/14/23 04:11 PM CDT",40790,"-","-","-","-","-","-","-","NHSX-030-9(200)--3H-23/NHSX-061-6(73)--3H-23","-","-","-","-","-","pending","IOWA DOT","Joe West",326.33,"41.80595896875248, -90.56826995465975","-","-","-","-","-","-","-","-","-","-","-","No","-",24.1,48200,21.86,"JVH","-","No",100,"-","-","RP-030-9(207)--16-23","HWY 30","-",13,"-","Asphalt",48000,"-","-","-","-","-","-",24.1,48200,21.86,"-","-",200,"-","NHSX-061-6(073)--3H-23",1,"pay","Plant 92","-",100,"HMA HT INTERMEDIATE, 1/2\"",24.1,"1/2 HT INTERMEDIATE","ABD23-6035R1","1/2 HT INTERMEDIATE","HWY 30","-","-","-","-","-","-","-","-","-","-","TSF-030-9(206)--92-23","-","delivered","Mathy Construction Co.","-","-","-",0,0,0,"-","-","-","-",24.1,"-",24.1,"-","-",13,"Tons","Lbs","Metric Ton","-","-","-","Mike Taylor","-","-","-"]
["08/14/23 04:08 PM CDT",40789,"-","-","-","-","-","-","-","NHSX-030-9(200)--3H-23/NHSX-061-6(73)--3H-23","-","-","-","-","-","pending","IOWA DOT","Joe West",302.23,"41.80601904371917, -90.567981298626","-","-","-","-","-","-","-","-","-","-","-","No","-",22.97,45940,20.84,"RC IOSSI","-","No",100,"-","-","RP-030-9(207)--16-23","HWY 30","-",12,"-","Asphalt",46000,"-","-","-","-","-","-",22.97,45940,20.84,"-","-",0,"-","NHSX-061-6(073)--3H-23",1,"pay","Plant 92","-",30,"PAVED SHLD, HMA, 9\"",22.97,"1/2 HT INTERMEDIATE","ABD23-6035R1","1/2 HT INTERMEDIATE","HWY 30","-","-","-","-","-","-","-","-","-","-","TSF-030-9(206)--92-23","-","delivered","Mathy Construction Co.","-","-","-",0,0,0,"-","-","-","-",22.97,"-",22.97,"-","-",3,"Tons","Lbs","Metric Ton","-","-","-","Mike Taylor","-","-","-"]
["08/14/23 04:01 PM CDT",40788,"-","-",75,"-","-","-","-","NHSX-030-9(200)--3H-23/NHSX-061-6(73)--3H-23","-","-","-","-","-","pending","IOWA DOT","Joe West",279.26,"41.806104185445356, -90.5676999503528","-","-","-","-","-","-","-","-","-","-",290,"No","-",26.83,53660,24.34,"JOEBGEN","-","No",100,"-","-","RP-030-9(207)--16-23","HWY 30","-",11,"-","Asphalt",54000,"-","-","-","-","-","-",26.83,53660,24.34,"-","-",0,"-","NHSX-061-6(073)--3H-23",1,"pay","Plant 92","-",100,"HMA HT INTERMEDIATE, 1/2\"",26.83,"1/2 HT INTERMEDIATE","ABD23-6035R1","1/2 HT INTERMEDIATE","HWY 30","-","-","-","-","-","-","-","-","-","-","TSF-030-9(206)--92-23","-","delivered","Mathy Construction Co.","-","-","-",0,0,0,"-","-","-","-",26.83,"-",26.83,"-","-",96,"Tons","Lbs","Metric Ton","-","-","-","Mike Taylor","-","-","-"]
["08/14/23 03:58 PM CDT",40787,"-","-","-","-","-","-","-","NHSX-030-9(200)--3H-23/NHSX-061-6(73)--3H-23","-","-","-","-","-","pending","IOWA DOT","Joe West",252.43,"41.806251732671655, -90.56749055170506","-","-","-","-","-","-","-","-","-","-","-","No","-",24.98,49960,22.66,"JOEBGEN","-","No",100,"-","-","RP-030-9(207)--16-23","HWY 30","-",10,"-","Asphalt",50000,"-","-","-","-","-","-",24.98,49960,22.66,"-","-",0,"-","NHSX-061-6(073)--3H-23",1,"pay","Plant 92","-",100,"HMA HT INTERMEDIATE, 1/2\"",24.98,"1/2 HT INTERMEDIATE","ABD23-6035R1","1/2 HT INTERMEDIATE","HWY 30","-","-","-","-","-","-","-","-","-","-","TSF-030-9(206)--92-23","-","delivered","Mathy Construction Co.","-","-","-",0,0,0,"-","-","-","-",24.98,"-",24.98,"-","-",92,"Tons","Lbs","Metric Ton","-","-","-","Mike Taylor","-","-","-"]
["08/14/23 03:44 PM CDT",40786,"-","-","-","-","-","-","-","NHSX-030-9(200)--3H-23/NHSX-061-6(73)--3H-23","-","-","-","-","-","pending","IOWA DOT","Joe West",227.45,"41.80661902766863, -90.56717882872611","-","-","-","-","-","-","-","-","-","-","-","No","-",31.01,62020,28.13,"N and S","-","No",100,"-","-","RP-030-9(207)--16-23","HWY 30","-",9,"-","Asphalt",62000,"-","-","-","-","-","-",31.01,62020,28.13,"-","-",20,"-","NHSX-061-6(073)--3H-23",1,"pay","Plant 92","-",30,"PAVED SHLD, HMA, 9\"",31.01,"1/2 HT INTERMEDIATE","ABD23-6035R1","1/2 HT INTERMEDIATE","HWY 30","-","-","-","-","-","-","-","-","-","-","TSF-030-9(206)--92-23","-","delivered","Mathy Construction Co.","-","-","-",0,0,0,"-","-","-","-",31.01,"-",31.01,"-","-",1446,"Tons","Lbs","Metric Ton","-","-","-","Mike Taylor","-","-","-"]
["08/14/23 03:31 PM CDT",40785,"-","-",75,"-","-","-","-","NHSX-030-9(200)--3H-23/NHSX-061-6(73)--3H-23","-","-","-","-","-","pending","IOWA DOT","Joe West",196.44,"41.80683264047075, -90.56713893086702","-","-","-","-","-","-","-","-","-","-",280,"No","-",21.29,42580,19.309999999999999,"MEIER","-","No",100,"-","-","RP-030-9(207)--16-23","HWY 30","-",8,"-","Asphalt",42500,"-","-","-","-","-","-",21.29,42580,19.309999999999999,"-","-",80,"-","NHSX-061-6(073)--3H-23",1,"pay","Plant 92","-",100,"HMA HT INTERMEDIATE, 1/2\"",21.29,"1/2 HT INTERMEDIATE","ABD23-6035R1","1/2 HT INTERMEDIATE","HWY 30","-","-","-","-","-","-","-","-","-","-","TSF-030-9(206)--92-23","-","delivered","Mathy Construction Co.","-","-","-",0,0,0,"-","-","-","-",21.29,"-",21.29,"-","-",8,"Tons","Lbs","Metric Ton","-","-","-","Mike Taylor","-","-","-"]
["08/14/23 03:08 PM CDT",40784,"-","-","-","-","-","-","-","NHSX-030-9(200)--3H-23/NHSX-061-6(73)--3H-23","-","-","-","-","-","pending","IOWA DOT","Joe West",175.15,"41.80697232488711, -90.56717019536585","-","-","-","-","-","-","-","-","-","-","-","No","-",23.9,47800,21.68,"KUNDE","-","No",100,"-","-","RP-030-9(207)--16-23","HWY 30","-",7,"-","Asphalt",48000,"-","-","-","-","-","-",23.9,47800,21.68,"-","-",0,"-","NHSX-061-6(073)--3H-23",1,"pay","Plant 92","-",100,"HMA HT INTERMEDIATE, 1/2\"",23.9,"1/2 HT INTERMEDIATE","ABD23-6035R1","1/2 HT INTERMEDIATE","HWY 30","-","-","-","-","-","-","-","-","-","-","TSF-030-9(206)--92-23","-","delivered","Mathy Construction Co.","-","-","-",0,0,0,"-","-","-","-",23.9,"-",23.9,"-","-",1,"Tons","Lbs","Metric Ton","-","-","-","Mike Taylor","-","-","-"]
["08/14/23 02:47 PM CDT",40783,"-","-",75,"-","-","-","-","NHSX-030-9(200)--3H-23/NHSX-061-6(73)--3H-23","-","-","-","-","-","pending","IOWA DOT","David Sindt",151.25,"41.807182058693925, -90.56713322121009","-","-","-","-","-","-","-","-","-","-","-","No","-",23.95,47900,21.73,"JVH","-","No",100,"-","-","RP-030-9(207)--16-23","HWY 30","-",6,"-","Asphalt",48000,"-","-","-","-","-","-",23.95,47900,21.73,"-","268 mat temp ",0,"-","NHSX-061-6(073)--3H-23",1,"pay","Plant 92","-",30,"PAVED SHLD, HMA, 9\"",23.95,"1/2 HT INTERMEDIATE","ABD23-6035R1","1/2 HT INTERMEDIATE","HWY 30","-","-","-","-","-","-","-","-","-","-","TSF-030-9(206)--92-23","-","delivered","Mathy Construction Co.","-","-","-",0,0,0,"-","-","-","-",23.95,"-",23.95,"-","-",13,"Tons","Lbs","Metric Ton","-","-","-","Mike Taylor","-","-","-"]
["08/14/23 02:41 PM CDT",40782,"-","-",75,"-","-","-","-","NHSX-030-9(200)--3H-23/NHSX-061-6(73)--3H-23","-","-","-","-","-","pending","IOWA DOT","David Sindt",127.3,"41.807367280164556, -90.56720280096918","-","-","-","-","-","-","-","-","-","-","-","No","-",23.02,46040,20.88,"RC IOSSI","-","No",100,"-","-","RP-030-9(207)--16-23","HWY 30","-",5,"-","Asphalt",46000,"-","-","-","-","-","-",23.02,46040,20.88,"-","280 mat temp ",40,"-","NHSX-061-6(073)--3H-23",1,"pay","Plant 92","-",100,"HMA HT INTERMEDIATE, 1/2\"",23.02,"1/2 HT INTERMEDIATE","ABD23-6035R1","1/2 HT INTERMEDIATE","HWY 30","-","-","-","-","-","-","-","-","-","-","TSF-030-9(206)--92-23","-","delivered","Mathy Construction Co.","-","-","-",0,0,0,"-","-","-","-",23.02,"-",23.02,"-","-",3,"Tons","Lbs","Metric Ton","-","-","-","Mike Taylor","-","-","-"]
["08/14/23 02:36 PM CDT",40781,"-","-",75,"-","-","-","-","NHSX-030-9(200)--3H-23/NHSX-061-6(73)--3H-23","-","-","-","-","-","pending","IOWA DOT","David Sindt",104.28,"41.807546778620974, -90.56720640518755","-","-","-","-","-","-","-","-","-","-","-","No","-",27.09,54180,24.58,"JOEBGEN","-","No",100,"-","-","RP-030-9(207)--16-23","HWY 30","-",4,"-","Asphalt",54000,"-","-","-","-","-","-",27.09,54180,24.58,"-","280 mat temp ",180,"-","NHSX-061-6(073)--3H-23",1,"pay","Plant 92","-",100,"HMA HT INTERMEDIATE, 1/2\"",27.09,"1/2 HT INTERMEDIATE","ABD23-6035R1","1/2 HT INTERMEDIATE","HWY 30","-","-","-","-","-","-","-","-","-","-","TSF-030-9(206)--92-23","-","delivered","Mathy Construction Co.","-","-","-",0,0,0,"-","-","-","-",27.09,"-",27.09,"-","-",96,"Tons","Lbs","Metric Ton","-","-","-","Mike Taylor","-","-","-"]
["08/14/23 02:29 PM CDT",40780,"-","-",76,"-","-","-","-","NHSX-030-9(200)--3H-23/NHSX-061-6(73)--3H-23","-","-","-","-","-","pending","IOWA DOT","David Sindt",77.19,"41.80762032982152, -90.5671708659181","-","-","-","-","-","-","-","-","-","-","-","No","-",25.21,50420,22.87,"JOEBGEN","-","No",100,"-","-","RP-030-9(207)--16-23","HWY 30","-",3,"-","Asphalt",50000,"-","-","-","-","-","-",25.21,50420,22.87,"-","294 mat temp ",420,"-","NHSX-061-6(073)--3H-23",1,"pay","Plant 92","-",30,"PAVED SHLD, HMA, 9\"",25.21,"1/2 HT INTERMEDIATE","ABD23-6035R1","1/2 HT INTERMEDIATE","HWY 30","-","-","-","-","-","-","-","-","-","-","TSF-030-9(206)--92-23","-","delivered","Mathy Construction Co.","-","-","-",0,0,0,"-","-","-","-",25.21,"-",25.21,"-","-",92,"Tons","Lbs","Metric Ton","-","-","-","Mike Taylor","-","-","-"]
["08/14/23 02:17 PM CDT",40779,"-","-",75,"-","-","-","-","NHSX-030-9(200)--3H-23/NHSX-061-6(73)--3H-23","-","-","-","-","-","pending","IOWA DOT","David Sindt",51.98,"41.808008118571536, -90.56705972188205","-","-","-","-","-","-","-","-","-","-","-","No","-",30.85,61700,27.99,"N and S","-","No",100,"-","-","RP-030-9(207)--16-23","HWY 30","-",2,"-","Asphalt",62000,"-","-","-","-","-","-",30.85,61700,27.99,"-","300 mat temp ",0,"-","NHSX-061-6(073)--3H-23",1,"pay","Plant 92","-",100,"HMA HT INTERMEDIATE, 1/2\"",30.85,"1/2 HT INTERMEDIATE","ABD23-6035R1","1/2 HT INTERMEDIATE","HWY 30","-","-","-","-","-","-","-","-","-","-","TSF-030-9(206)--92-23","-","delivered","Mathy Construction Co.","-","-","-",0,0,0,"-","-","-","-",30.85,"-",30.85,"-","-",1446,"Tons","Lbs","Metric Ton","-","-","-","Mike Taylor","-","-","-"]
["08/14/23 02:15 PM CDT",40778,"-","-",75,"-","-","-","-","NHSX-030-9(200)--3H-23/NHSX-061-6(73)--3H-23","-","-","-","-","-","pending","IOWA DOT","David Sindt",21.13,"41.80813074581514, -90.56708528668672","-","-","-","-","-","-","-","-","-","-","-","No","-",21.13,42260,19.170000000000002,"MEIER","-","No",100,"-","-","RP-030-9(207)--16-23","HWY 30","-",1,"-","Asphalt",42500,"-","-","-","-","-","-",21.13,42260,19.170000000000002,"-","284 mat temp ",0,"-","NHSX-061-6(073)--3H-23",1,"pay","Plant 92","-",100,"HMA HT INTERMEDIATE, 1/2\"",21.13,"1/2 HT INTERMEDIATE","ABD23-6035R1","1/2 HT INTERMEDIATE","HWY 30","-","-","-","-","-","-","-","-","-","-","TSF-030-9(206)--92-23","-","delivered","Mathy Construction Co.","-","-","-",0,0,0,"-","-","-","-",21.13,"-",21.13,"-","-",8,"Tons","Lbs","Metric Ton","-","-","-","Mike Taylor","-","-","-"]
["08/14/23 12:46 PM CDT",40777,"-","-",75,"-","-","-","-","NHSX-030-9(200)--3H-23/NHSX-061-6(73)--3H-23","-","-","-","-","-","pending","IOWA DOT","David Sindt",308.83999999999997,"41.807509075906204, -90.56712092767837","-","-","-","-","-","-","-","-","-","-","-","No","-",24.39,48780,22.13,"JVH","-","No",100,"-","-","RP-030-9(207)--16-23","HWY 30","-",13,"-","Asphalt",48000,"-","-","-","-","-","-",24.39,48780,22.13,"-","272 mat temp ",780,"-","NHSX-061-6(073)--3H-23",1,"pay","Plant 92","-",30,"PAVED SHLD, HMA, 9\"",24.39,"1/2 HT BASE","ABD23-6034","1/2 HT BASE","HWY 30","-","-","-","-","-","-","-","-","-","-","TSF-030-9(206)--92-23","-","delivered","Mathy Construction Co.","-","-","-",0,0,0,"-","-","-","-",24.39,"-",24.39,"-","-",13,"Tons","Lbs","Metric Ton","-","-","-","Mike Taylor","-","-","-"]
["08/14/23 12:38 PM CDT",40776,"-","-",75,"-","-","-","-","NHSX-030-9(200)--3H-23/NHSX-061-6(73)--3H-23","-","-","-","-","-","pending","IOWA DOT","David Sindt",284.45,"41.80872560948302, -90.5671119411388","-","-","-","-","-","-","-","-","-","-","-","No","-",24.33,48660,22.07,"KUNDE","-","No",100,"-","-","RP-030-9(207)--16-23","HWY 30","-",12,"-","Asphalt",48000,"-","-","-","-","-","-",24.33,48660,22.07,"-","270 mat temp ",660,"-","NHSX-061-6(073)--3H-23",1,"pay","Plant 92","-",30,"PAVED SHLD, HMA, 9\"",24.33,"1/2 HT BASE","ABD23-6034","1/2 HT BASE","HWY 30","-","-","-","-","-","-","-","-","-","-","TSF-030-9(206)--92-23","-","delivered","Mathy Construction Co.","-","-","-",0,0,0,"-","-","-","-",24.33,"-",24.33,"-","-",1,"Tons","Lbs","Metric Ton","-","-","-","Mike Taylor","-","-","-"]
["08/14/23 12:00 PM CDT",40775,"-","-",75,"-","-","-","-","NHSX-030-9(200)--3H-23/NHSX-061-6(73)--3H-23","-","-","-","-","-","pending","IOWA DOT","David Sindt",260.12,"41.80796901699344, -90.56890105837077","-","-","-","-","-","-","-","-","-","-","-","No","-",19.79,39580,17.95,"SYCAMORE CREEK","-","No",100,"-","-","RP-030-9(207)--16-23","HWY 30","-",11,"-","Asphalt",39500,"-","-","-","-","-","-",19.79,39580,17.95,"-","272 mat temp ",80,"-","NHSX-061-6(073)--3H-23",1,"pay","Plant 92","-",30,"PAVED SHLD, HMA, 9\"",19.79,"1/2 HT BASE","ABD23-6034","1/2 HT BASE","HWY 30","-","-","-","-","-","-","-","-","-","-","TSF-030-9(206)--92-23","-","delivered","Mathy Construction Co.","-","-","-",0,0,0,"-","-","-","-",19.79,"-",19.79,"-","-",120,"Tons","Lbs","Metric Ton","-","-","-","Mike Taylor","-","-","-"]
["08/14/23 11:51 AM CDT",40774,"-","-",75,"-","-","-","-","NHSX-030-9(200)--3H-23/NHSX-061-6(73)--3H-23","-","-","-","-","-","pending","IOWA DOT","David Sindt",240.33,"41.80762376640181, -90.56913893678278","-","-","-","-","-","-","-","-","-","-","-","No","-",22.94,45880,20.81,"RC IOSSI","-","No",100,"-","-","RP-030-9(207)--16-23","HWY 30","-",10,"-","Asphalt",46000,"-","-","-","-","-","-",22.94,45880,20.81,"-","279 mat temp ",0,"-","NHSX-061-6(073)--3H-23",1,"pay","Plant 92","-",30,"PAVED SHLD, HMA, 9\"",22.94,"1/2 HT BASE","ABD23-6034","1/2 HT BASE","HWY 30","-","-","-","-","-","-","-","-","-","-","TSF-030-9(206)--92-23","-","delivered","Mathy Construction Co.","-","-","-",0,0,0,"-","-","-","-",22.94,"-",22.94,"-","-",3,"Tons","Lbs","Metric Ton","-","-","-","Mike Taylor","-","-","-"]
["08/14/23 11:33 AM CDT",40773,"-","-",75,"-","-","-","-","NHSX-030-9(200)--3H-23/NHSX-061-6(73)--3H-23","-","-","-","-","-","pending","IOWA DOT","David Sindt",217.39,"41.80746404923688, -90.56938016795606","-","-","-","-","-","-","-","-","-","-","-","No","-",31.33,62660,28.42,"N and S","-","No",100,"-","-","RP-030-9(207)--16-23","HWY 30","-",9,"-","Asphalt",62000,"-","-","-","-","-","-",31.33,62660,28.42,"-","270 mat temp ",660,"-","NHSX-061-6(073)--3H-23",1,"pay","Plant 92","-",30,"PAVED SHLD, HMA, 9\"",31.33,"1/2 HT BASE","ABD23-6034","1/2 HT BASE","HWY 30","-","-","-","-","-","-","-","-","-","-","TSF-030-9(206)--92-23","-","delivered","Mathy Construction Co.","-","-","-",0,0,0,"-","-","-","-",31.33,"-",31.33,"-","-",1446,"Tons","Lbs","Metric Ton","-","-","-","Mike Taylor","-","-","-"]
["08/14/23 11:29 AM CDT",40772,"-","-",75,"-","-","-","-","NHSX-030-9(200)--3H-23/NHSX-061-6(73)--3H-23","-","-","-","-","-","pending","IOWA DOT","David Sindt",186.06,"41.806620201135075, -90.56954436943919","-","-","-","-","-","-","-","-","-","-","-","No","-",21.23,42460,19.260000000000002,"MEIER","-","No",100,"-","-","RP-030-9(207)--16-23","HWY 30","-",8,"-","Asphalt",42500,"-","-","-","-","-","-",21.23,42460,19.260000000000002,"-","280 mat temp ",0,"-","NHSX-061-6(073)--3H-23",1,"pay","Plant 92","-",30,"PAVED SHLD, HMA, 9\"",21.23,"1/2 HT BASE","ABD23-6034","1/2 HT BASE","HWY 30","-","-","-","-","-","-","-","-","-","-","TSF-030-9(206)--92-23","-","delivered","Mathy Construction Co.","-","-","-",0,0,0,"-","-","-","-",21.23,"-",21.23,"-","-",8,"Tons","Lbs","Metric Ton","-","-","-","Mike Taylor","-","-","-"]
["08/14/23 11:24 AM CDT",40771,"-","-",75,"-","-","-","-","NHSX-030-9(200)--3H-23/NHSX-061-6(73)--3H-23","-","-","-","-","-","pending","IOWA DOT","David Sindt",164.83,"41.80624431468735, -90.56927723818511","-","-","-","-","-","-","-","-","-","-","-","No","-",26.84,53680,24.35,"JOEBGEN","-","No",100,"-","-","RP-030-9(207)--16-23","HWY 30","-",7,"-","Asphalt",54000,"-","-","-","-","-","-",26.84,53680,24.35,"-","289 mat temp ",0,"-","NHSX-061-6(073)--3H-23",1,"pay","Plant 92","-",30,"PAVED SHLD, HMA, 9\"",26.84,"1/2 HT BASE","ABD23-6034","1/2 HT BASE","HWY 30","-","-","-","-","-","-","-","-","-","-","TSF-030-9(206)--92-23","-","delivered","Mathy Construction Co.","-","-","-",0,0,0,"-","-","-","-",26.84,"-",26.84,"-","-",96,"Tons","Lbs","Metric Ton","-","-","-","Mike Taylor","-","-","-"]
["08/14/23 11:18 AM CDT",40770,"-","-",74,"-","-","-","-","NHSX-030-9(200)--3H-23/NHSX-061-6(73)--3H-23","-","-","-","-","-","pending","IOWA DOT","David Sindt",137.99,"41.80602395445297, -90.56801819250971","-","-","-","-","-","-","-","-","-","-","-","No","-",25.32,50640,22.97,"JOEBGEN","-","No",100,"-","-","RP-030-9(207)--16-23","HWY 30","-",6,"-","Asphalt",50000,"-","-","-","-","-","-",25.32,50640,22.97,"-","271 mat temp ",640,"-","NHSX-061-6(073)--3H-23",1,"pay","Plant 92","-",30,"PAVED SHLD, HMA, 9\"",25.32,"1/2 HT BASE","ABD23-6034","1/2 HT BASE","HWY 30","-","-","-","-","-","-","-","-","-","-","TSF-030-9(206)--92-23","-","delivered","Mathy Construction Co.","-","-","-",0,0,0,"-","-","-","-",25.32,"-",25.32,"-","-",92,"Tons","Lbs","Metric Ton","-","-","-","Mike Taylor","-","-","-"]
["08/14/23 11:09 AM CDT",40769,"-","-",73,"-","-","-","-","NHSX-030-9(200)--3H-23/NHSX-061-6(73)--3H-23","-","-","-","-","-","pending","IOWA DOT","David Sindt",112.67,"41.80624804463426, -90.56752776735514","-","-","-","-","-","-","-","-","-","-","-","No","-",24.13,48260,21.89,"KUNDE","-","No",100,"-","-","RP-030-9(207)--16-23","HWY 30","-",5,"-","Asphalt",48000,"-","-","-","-","-","-",24.13,48260,21.89,"-","270 mat temp ",260,"-","NHSX-061-6(073)--3H-23",1,"pay","Plant 92","-",30,"PAVED SHLD, HMA, 9\"",24.13,"1/2 HT BASE","ABD23-6034","1/2 HT BASE","HWY 30","-","-","-","-","-","-","-","-","-","-","TSF-030-9(206)--92-23","-","delivered","Mathy Construction Co.","-","-","-",0,0,0,"-","-","-","-",24.13,"-",24.13,"-","-",1,"Tons","Lbs","Metric Ton","-","-","-","Mike Taylor","-","-","-"]
["08/14/23 11:04 AM CDT",40768,"-","-",73,"-","-","-","-","NHSX-030-9(200)--3H-23/NHSX-061-6(73)--3H-23","-","-","-","-","-","pending","IOWA DOT","David Sindt",88.54,"41.80666625969301, -90.56719961584598","-","-","-","-","-","-","-","-","-","-","-","No","-",24.2,48400,21.95,"JVH","-","No",100,"-","-","RP-030-9(207)--16-23","HWY 30","-",4,"-","Asphalt",48000,"-","-","-","-","-","-",24.2,48400,21.95,"-","278 mat temp ",400,"-","NHSX-061-6(073)--3H-23",1,"pay","Plant 92","-",30,"PAVED SHLD, HMA, 9\"",24.2,"1/2 HT BASE","ABD23-6034","1/2 HT BASE","HWY 30","-","-","-","-","-","-","-","-","-","-","TSF-030-9(206)--92-23","-","delivered","Mathy Construction Co.","-","-","-",0,0,0,"-","-","-","-",24.2,"-",24.2,"-","-",13,"Tons","Lbs","Metric Ton","-","-","-","Mike Taylor","-","-","-"]
["08/14/23 10:16 AM CDT",40767,"-","-","-","-","-","-","-","NHSX-030-9(200)--3H-23/NHSX-061-6(73)--3H-23","-","41.8064152, -90.56935","-","-","2023-08-14T12:06:15","delivered","IOWA DOT","Steve Smithson",64.34,"41.807239472963204, -90.56708204762946","-","-","-","-","-","-","-","-","-","-","-","No","-",21.21,42420,19.239999999999998,"MEIER","-","No",100,"-","-","RP-030-9(207)--16-23","HWY 30","-",3,"-","Asphalt",42500,"-","-","-","-","-","-",21.21,42420,19.239999999999998,"-","-",0,"-","NHSX-061-6(073)--3H-23",1,"pay","Plant 92","-",30,"PAVED SHLD, HMA, 9\"",21.21,"1/2 HT BASE","ABD23-6034","1/2 HT BASE","HWY 30","-","-","-","-","-","-","-","-","-","-","TSF-030-9(206)--92-23","-","delivered","Mathy Construction Co.","-","-","-",0,0,0,"-","-","-","-",21.21,"-",21.21,"-","-",8,"Tons","Lbs","Metric Ton","-","-","-","Mike Taylor","-","-","-"]
["08/14/23 10:11 AM CDT",40766,"-","-","-","-","-","-","-","NHSX-030-9(200)--3H-23/NHSX-061-6(73)--3H-23","-","41.8062554, -90.5691964","-","-","2023-08-14T12:06:08","delivered","IOWA DOT","Steve Smithson",43.13,"41.80746574102233, -90.5671524474461","-","-","-","-","-","-","-","-","-","-","-","No","-",23.36,46720,21.19,"RC IOSSI","-","No",100,"-","-","RP-030-9(207)--16-23","HWY 30","-",2,"-","Asphalt",46000,"-","-","-","-","-","-",23.36,46720,21.19,"-","-",720,"-","NHSX-061-6(073)--3H-23",1,"pay","Plant 92","-",30,"PAVED SHLD, HMA, 9\"",23.36,"1/2 HT BASE","ABD23-6034","1/2 HT BASE","HWY 30","-","-","-","-","-","-","-","-","-","-","TSF-030-9(206)--92-23","-","delivered","Mathy Construction Co.","-","-","-",0,0,0,"-","-","-","-",23.36,"-",23.36,"-","-",3,"Tons","Lbs","Metric Ton","-","-","-","Mike Taylor","-","-","-"]
["08/14/23 10:06 AM CDT",40765,"-","-","-","-","-","-","-","NHSX-030-9(200)--3H-23/NHSX-061-6(73)--3H-23","-","41.8088877, -90.5672465","-","-","2023-08-14T10:21:36","delivered","IOWA DOT","Steve Smithson",19.77,"41.80793301671912, -90.56707950317353","-","-","-","-","-","-","-","-","-","-","-","No","-",19.77,39540,17.940000000000001,"SYCAMORE CREEK","-","No",100,"-","-","RP-030-9(207)--16-23","HWY 30","-",1,"-","Asphalt",39500,"-","-","-","-","-","-",19.77,39540,17.940000000000001,"-","-",40,"-","NHSX-061-6(073)--3H-23",1,"pay","Plant 92","-",30,"PAVED SHLD, HMA, 9\"",19.77,"1/2 HT BASE","ABD23-6034","1/2 HT BASE","HWY 30","-","-","-","-","-","-","-","-","-","-","TSF-030-9(206)--92-23","-","delivered","Mathy Construction Co.","-","-","-",0,0,0,"-","-","-","-",19.77,"-",19.77,"-","-",120,"Tons","Lbs","Metric Ton","-","-","-","Mike Taylor","-","-","-"]

{"sheet":"Example","index":14,"n_rows":124,"n_cols":10,"rows_kept":124,"cut":false,"hidden":false,"merged":[[123,1,123,6],[0,0,0,10],[111,9,114,9],[7,1,7,6],[20,1,20,6],[36,1,36,6],[48,1,48,6],[86,1,86,6],[99,1,99,6],[110,1,110,6],[87,0,87,5],[88,0,88,5],[37,9,40,9],[108,0,108,7],[109,0,109,5],[88,8,91,8],[84,0,84,7],[85,0,85,5],[2,9,5,9],[2,8,5,8],[2,0,2,7],[31,0,31,7],[32,0,32,5],[33,0,33,5],[34,0,34,5],[3,0,3,5],[4,0,4,5],[5,0,5,5],[74,1,74,6],[63,10,66,10],[58,0,58,7],[59,0,59,5],[60,0,60,5],[37,8,40,8],[37,10,40,10],[61,0,61,5],[62,1,62,6],[63,8,66,8],[63,9,66,9]]}
["DFR Placement and Tank Sheet examples for ML and Shoulder"]
[]
["Example 1",null,null,null,null,null,null,null,"Mainline","Shoulder"]
["1. ML and Shoulder Paved Together"]
["2. Same or Different Project Numbers for ML and Shoulder"]
["3. Mainline and Shoulder are different pay items"]
["4. Under 1,000 Ton placed on Shoulder"]
[null,"Placement Record"]
[]
[]
[]
[]
[]
[]
[]
[]
[]
[]
[]
[]
[null,"Tank Sheet"]
[]
[]
[]
[]
[]
[]
[]
[]
[]
[]
["Example 2"]
["1. ML and Shoulder Paved Together"]
["2. Same or Different Project Numbers for ML and Shoulder"]
["3. Mainline and Shoulder are different pay items"]
["4. Over 1,000 Ton placed on Shoulder"]
[null,"Placement Record"]
[null,null,null,null,null,null,null,null,"Mainline","Shoulder"]
[]
[]
[]
[]
[]
[]
[]
[]
[]
[]
[null,"Tank Sheet"]
[]
[]
[]
[]
[]
[]
[]
[]
[]
["Example 3"]
["1. Mainline and Shoulder Paved Together"]
["2. Same Project Numbers for Mainline and Shoulder"]
["3. Mainline and Shoulder are same pay item"]
[null,"Placement Record"]
[null,null,null,null,null,null,null,null,"Mainline","Shoulder"]
[]
[]
[]
[]
[]
[]
[]
[]
[]
[]
[null,"Tank Sheet"]
[]
[]
[]
[]
[]
[]
[]
[]
[]
["Example 4"]
["1. Mainline Only"]
[null,"Placement Record"]
[]
[null,null,null,null,null,null,null,null,"Mainline"]
[]
[]
[]
[null,null,null,null,null,null,null,null,"12'"]
[]
[]
[]
[]
[]
[]
[null,"Tank Sheet"]
[]
[]
[]
[]
[]
[]
[]
[]
["Example 5"]
["1. Shoulder Only"]
[null,"Placement Record"]
[null,null,null,null,null,null,null,null,null,"Shoulder"]
[]
[]
[]
[null,null,null,null,null,null,null,null,null,"6'"]
[]
[]
[]
[]
[]
[]
[]
[null,"Tank Sheet"]

{"sheet":"Input","index":15,"n_rows":61,"n_cols":61,"rows_kept":61,"cut":false,"hidden":false,"merged":[[0,0,1,1]]}
["IOWA DOT DFR MASTER",null,null,null,"Residency",null,null,null,null,null,1.1499999999999999,null,null,null,null,null,null,null,null,null,null,null,null,null,null,null,null,null,null,null,null,null,null,null,null,null,null,null,null,null,null,null,null,null,null,null,null,null,null,null,null,null,null,null,null,null,null,null,null,0,0]
[null,null,null,null,"Contractor"]
[null,{"$f":"CONCATENATE(\"Version \",TEXT(K1,\"0.00\"))","v":"Version 1.15"},null,null,"Contract ID"]
["Bid Items on Contract","Bid Item Plan Quantity","Plan Thickness inches","Contract Mix Price","Contract Binder Price","Mix Pay Units","Project Number","Mix Design Number","Tons of Mix TOTAL","Waste on Road TOTAL","For Pay TOTAL Tons or SY","Column1","Column2","Pay Item","Mix","Plant",null,null,"Item #","Plant","Mix","Mix Design","Tons of Mix","For Pay Tons_SY"]
[null,null,null,null,null,{"$f":"IF(A5=\"\",\"\",OFFSET(Lists!C$1,MATCH(A5,Lists!A:A,0)-1,0))","v":""},null,null,0,0,0,{"$f":"SUBSTITUTE(A5 & \"\\\" & G5,\"\"\"\",\"\")","v":"\\"},null,null,{"$f":"IFERROR(MID(A5,SEARCH(\"(\",A5)+1,SEARCH(\")\",A5)-SEARCH(\"(\",A5)-1),\"\")","v":""},null,null,null,{"$f":"IFERROR(_xlfn._xlws.SORT(_xlfn.UNIQUE(_xlfn._xlws.FILTER(CHOOSE({1,2,3,4}, Table2[Pay Item], Table2[Plant], Table2[Mix], Table2[Mix Design Number]), Table2[Pay Item]<>\"\"))), \"\")","v":""},null,null,null,{"$f":"IF(S5=\"\",\"\",SUMIFS(Table2[Tons of Mix TOTAL], Table2[Pay Item], S5, Table2[Plant], T5, Table2[Mix], U5,Table2[Mix Design Number], V5))","v":""},{"$f":"IF(S5=\"\",\"\",SUMIFS(Table2[For Pay TOTAL Tons or SY], Table2[Pay Item], S5, Table2[Plant], T5, Table2[Mix], U5,Table2[Mix Design Number], V5))","v":""}]
[null,null,null,null,null,{"$f":"IF(A6=\"\",\"\",OFFSET(Lists!C$1,MATCH(A6,Lists!A:A,0)-1,0))","v":""},null,null,0,0,0,"\\",null,null,"",null,null,null,null,null,null,null,{"$f":"IF(S6=\"\",\"\",SUMIFS(Table2[Tons of Mix TOTAL], Table2[Pay Item], S6, Table2[Plant], T6, Table2[Mix], U6,Table2[Mix Design Number], V6))","v":""},{"$f":"IF(S6=\"\",\"\",SUMIFS(Table2[For Pay TOTAL Tons or SY], Table2[Pay Item], S6, Table2[Plant], T6, Table2[Mix], U6,Table2[Mix Design Number], V6))","v":""}]
[null,null,null,null,null,{"$f":"IF(A7=\"\",\"\",OFFSET(Lists!C$1,MATCH(A7,Lists!A:A,0)-1,0))","v":""},null,null,0,0,0,"\\",null,null,"",null,null,null,null,null,null,null,{"$f":"IF(S7=\"\",\"\",SUMIFS(Table2[Tons of Mix TOTAL], Table2[Pay Item], S7, Table2[Plant], T7, Table2[Mix], U7,Table2[Mix Design Number], V7))","v":""},{"$f":"IF(S7=\"\",\"\",SUMIFS(Table2[For Pay TOTAL Tons or SY], Table2[Pay Item], S7, Table2[Plant], T7, Table2[Mix], U7,Table2[Mix Design Number], V7))","v":""}]
[null,null,null,null,null,{"$f":"IF(A8=\"\",\"\",OFFSET(Lists!C$1,MATCH(A8,Lists!A:A,0)-1,0))","v":""},null,null,0,0,0,"\\",null,null,"",null,null,null,null,null,null,null,{"$f":"IF(S8=\"\",\"\",SUMIFS(Table2[Tons of Mix TOTAL], Table2[Pay Item], S8, Table2[Plant], T8, Table2[Mix], U8,Table2[Mix Design Number], V8))","v":""},{"$f":"IF(S8=\"\",\"\",SUMIFS(Table2[For Pay TOTAL Tons or SY], Table2[Pay Item], S8, Table2[Plant], T8, Table2[Mix], U8,Table2[Mix Design Number], V8))","v":""}]
[null,null,null,null,null,{"$f":"IF(A9=\"\",\"\",OFFSET(Lists!C$1,MATCH(A9,Lists!A:A,0)-1,0))","v":""},null,null,null,null,null,"\\",{"$f":"SUBSTITUTE(A9 & \"\\\" & G9 & \"\\\" & H9,\"\"\"\",\"\")","v":"\\\\"},null,"",null,null,null,null,null,null,null,{"$f":"IF(S9=\"\",\"\",SUMIFS(Table2[Tons of Mix TOTAL], Table2[Pay Item], S9, Table2[Plant], T9, Table2[Mix], U9,Table2[Mix Design Number], V9))","v":""},{"$f":"IF(S9=\"\",\"\",SUMIFS(Table2[For Pay TOTAL Tons or SY], Table2[Pay Item], S9, Table2[Plant], T9, Table2[Mix], U9,Table2[Mix Design Number], V9))","v":""}]
[null,null,null,null,null,{"$f":"IF(A10=\"\",\"\",OFFSET(Lists!C$1,MATCH(A10,Lists!A:A,0)-1,0))","v":""},null,null,null,null,null,"\\","\\\\",null,{"$f":"IFERROR(MID(A10,SEARCH(\"(\",A10)+1,SEARCH(\")\",A10)-SEARCH(\"(\",A10)-1),\"\")","v":""},null,null,null,null,null,null,null,{"$f":"IF(S10=\"\",\"\",SUMIFS(Table2[Tons of Mix TOTAL], Table2[Pay Item], S10, Table2[Plant], T10, Table2[Mix], U10,Table2[Mix Design Number], V10))","v":""},{"$f":"IF(S10=\"\",\"\",SUMIFS(Table2[For Pay TOTAL Tons or SY], Table2[Pay Item], S10, Table2[Plant], T10, Table2[Mix], U10,Table2[Mix Design Number], V10))","v":""}]
[null,null,null,null,null,{"$f":"IF(A11=\"\",\"\",OFFSET(Lists!C$1,MATCH(A11,Lists!A:A,0)-1,0))","v":""},null,null,null,null,null,"\\","\\\\",null,"",null,null,null,null,null,null,null,{"$f":"IF(S11=\"\",\"\",SUMIFS(Table2[Tons of Mix TOTAL], Table2[Pay Item], S11, Table2[Plant], T11, Table2[Mix], U11,Table2[Mix Design Number], V11))","v":""},{"$f":"IF(S11=\"\",\"\",SUMIFS(Table2[For Pay TOTAL Tons or SY], Table2[Pay Item], S11, Table2[Plant], T11, Table2[Mix], U11,Table2[Mix Design Number], V11))","v":""}]
[null,null,null,null,null,{"$f":"IF(A12=\"\",\"\",OFFSET(Lists!C$1,MATCH(A12,Lists!A:A,0)-1,0))","v":""},null,null,null,null,null,"\\","\\\\",null,"",null,null,null,null,null,null,null,{"$f":"IF(S12=\"\",\"\",SUMIFS(Table2[Tons of Mix TOTAL], Table2[Pay Item], S12, Table2[Plant], T12, Table2[Mix], U12,Table2[Mix Design Number], V12))","v":""},{"$f":"IF(S12=\"\",\"\",SUMIFS(Table2[For Pay TOTAL Tons or SY], Table2[Pay Item], S12, Table2[Plant], T12, Table2[Mix], U12,Table2[Mix Design Number], V12))","v":""}]
[null,null,null,null,null,{"$f":"IF(A13=\"\",\"\",OFFSET(Lists!C$1,MATCH(A13,Lists!A:A,0)-1,0))","v":""},null,null,null,null,null,"\\","\\\\",null,"",null,null,null,null,null,null,null,{"$f":"IF(S13=\"\",\"\",SUMIFS(Table2[Tons of Mix TOTAL], Table2[Pay Item], S13, Table2[Plant], T13, Table2[Mix], U13,Table2[Mix Design Number], V13))","v":""},{"$f":"IF(S13=\"\",\"\",SUMIFS(Table2[For Pay TOTAL Tons or SY], Table2[Pay Item], S13, Table2[Plant], T13, Table2[Mix], U13,Table2[Mix Design Number], V13))","v":""}]
[null,null,null,null,null,{"$f":"IF(A14=\"\",\"\",OFFSET(Lists!C$1,MATCH(A14,Lists!A:A,0)-1,0))","v":""},null,null,null,null,null,"\\","\\\\",null,"",null,null,null,null,null,null,null,{"$f":"IF(S14=\"\",\"\",SUMIFS(Table2[Tons of Mix TOTAL], Table2[Pay Item], S14, Table2[Plant], T14, Table2[Mix], U14,Table2[Mix Design Number], V14))","v":""},{"$f":"IF(S14=\"\",\"\",SUMIFS(Table2[For Pay TOTAL Tons or SY], Table2[Pay Item], S14, Table2[Plant], T14, Table2[Mix], U14,Table2[Mix Design Number], V14))","v":""}]
[null,null,null,null,null,{"$f":"IF(A15=\"\",\"\",OFFSET(Lists!C$1,MATCH(A15,Lists!A:A,0)-1,0))","v":""},null,null,null,null,null,"\\","\\\\",null,"",null,null,null,null,null,null,null,{"$f":"IF(S15=\"\",\"\",SUMIFS(Table2[Tons of Mix TOTAL], Table2[Pay Item], S15, Table2[Plant], T15, Table2[Mix], U15,Table2[Mix Design Number], V15))","v":""},{"$f":"IF(S15=\"\",\"\",SUMIFS(Table2[For Pay TOTAL Tons or SY], Table2[Pay Item], S15, Table2[Plant], T15, Table2[Mix], U15,Table2[Mix Design Number], V15))","v":""}]
[null,null,null,null,null,{"$f":"IF(A16=\"\",\"\",OFFSET(Lists!C$1,MATCH(A16,Lists!A:A,0)-1,0))","v":""},null,null,null,null,null,"\\","\\\\",null,"",null,null,null,null,null,null,null,{"$f":"IF(S16=\"\",\"\",SUMIFS(Table2[Tons of Mix TOTAL], Table2[Pay Item], S16, Table2[Plant], T16, Table2[Mix], U16,Table2[Mix Design Number], V16))","v":""},{"$f":"IF(S16=\"\",\"\",SUMIFS(Table2[For Pay TOTAL Tons or SY], Table2[Pay Item], S16, Table2[Plant], T16, Table2[Mix], U16,Table2[Mix Design Number], V16))","v":""}]
[null,null,null,null,null,{"$f":"IF(A17=\"\",\"\",OFFSET(Lists!C$1,MATCH(A17,Lists!A:A,0)-1,0))","v":""},null,null,null,null,null,"\\","\\\\",null,"",null,null,null,null,null,null,null,{"$f":"IF(S17=\"\",\"\",SUMIFS(Table2[Tons of Mix TOTAL], Table2[Pay Item], S17, Table2[Plant], T17, Table2[Mix], U17,Table2[Mix Design Number], V17))","v":""},{"$f":"IF(S17=\"\",\"\",SUMIFS(Table2[For Pay TOTAL Tons or SY], Table2[Pay Item], S17, Table2[Plant], T17, Table2[Mix], U17,Table2[Mix Design Number], V17))","v":""}]
[null,null,null,null,null,{"$f":"IF(A18=\"\",\"\",OFFSET(Lists!C$1,MATCH(A18,Lists!A:A,0)-1,0))","v":""},null,null,null,null,null,"\\","\\\\",null,"",null,null,null,null,null,null,null,{"$f":"IF(S18=\"\",\"\",SUMIFS(Table2[Tons of Mix TOTAL], Table2[Pay Item], S18, Table2[Plant], T18, Table2[Mix], U18,Table2[Mix Design Number], V18))","v":""},{"$f":"IF(S18=\"\",\"\",SUMIFS(Table2[For Pay TOTAL Tons or SY], Table2[Pay Item], S18, Table2[Plant], T18, Table2[Mix], U18,Table2[Mix Design Number], V18))","v":""}]
[null,null,null,null,null,{"$f":"IF(A19=\"\",\"\",OFFSET(Lists!C$1,MATCH(A19,Lists!A:A,0)-1,0))","v":""},null,null,null,null,null,"\\","\\\\",null,"",null,null,null,null,null,null,null,{"$f":"IF(S19=\"\",\"\",SUMIFS(Table2[Tons of Mix TOTAL], Table2[Pay Item], S19, Table2[Plant], T19, Table2[Mix], U19,Table2[Mix Design Number], V19))","v":""},{"$f":"IF(S19=\"\",\"\",SUMIFS(Table2[For Pay TOTAL Tons or SY], Table2[Pay Item], S19, Table2[Plant], T19, Table2[Mix], U19,Table2[Mix Design Number], V19))","v":""}]
[null,null,null,null,null,{"$f":"IF(A20=\"\",\"\",OFFSET(Lists!C$1,MATCH(A20,Lists!A:A,0)-1,0))","v":""},null,null,null,null,null,"\\","\\\\",null,"",null,null,null,null,null,null,null,{"$f":"IF(S20=\"\",\"\",SUMIFS(Table2[Tons of Mix TOTAL], Table2[Pay Item], S20, Table2[Plant], T20, Table2[Mix], U20,Table2[Mix Design Number], V20))","v":""},{"$f":"IF(S20=\"\",\"\",SUMIFS(Table2[For Pay TOTAL Tons or SY], Table2[Pay Item], S20, Table2[Plant], T20, Table2[Mix], U20,Table2[Mix Design Number], V20))","v":""}]
[null,null,null,null,null,{"$f":"IF(A21=\"\",\"\",OFFSET(Lists!C$1,MATCH(A21,Lists!A:A,0)-1,0))","v":""},null,null,null,null,null,"\\","\\\\",null,"",null,null,null,null,null,null,null,{"$f":"IF(S21=\"\",\"\",SUMIFS(Table2[Tons of Mix TOTAL], Table2[Pay Item], S21, Table2[Plant], T21, Table2[Mix], U21,Table2[Mix Design Number], V21))","v":""},{"$f":"IF(S21=\"\",\"\",SUMIFS(Table2[For Pay TOTAL Tons or SY], Table2[Pay Item], S21, Table2[Plant], T21, Table2[Mix], U21,Table2[Mix Design Number], V21))","v":""}]
[null,null,null,null,null,{"$f":"IF(A22=\"\",\"\",OFFSET(Lists!C$1,MATCH(A22,Lists!A:A,0)-1,0))","v":""},null,null,null,null,null,"\\","\\\\",null,"",null,null,null,null,null,null,null,{"$f":"IF(S22=\"\",\"\",SUMIFS(Table2[Tons of Mix TOTAL], Table2[Pay Item], S22, Table2[Plant], T22, Table2[Mix], U22,Table2[Mix Design Number], V22))","v":""},{"$f":"IF(S22=\"\",\"\",SUMIFS(Table2[For Pay TOTAL Tons or SY], Table2[Pay Item], S22, Table2[Plant], T22, Table2[Mix], U22,Table2[Mix Design Number], V22))","v":""}]
[null,null,null,null,null,{"$f":"IF(A23=\"\",\"\",OFFSET(Lists!C$1,MATCH(A23,Lists!A:A,0)-1,0))","v":""},null,null,null,null,null,"\\","\\\\",null,"",null,null,null,null,null,null,null,{"$f":"IF(S23=\"\",\"\",SUMIFS(Table2[Tons of Mix TOTAL], Table2[Pay Item], S23, Table2[Plant], T23, Table2[Mix], U23,Table2[Mix Design Number], V23))","v":""},{"$f":"IF(S23=\"\",\"\",SUMIFS(Table2[For Pay TOTAL Tons or SY], Table2[Pay Item], S23, Table2[Plant], T23, Table2[Mix], U23,Table2[Mix Design Number], V23))","v":""}]
[null,null,null,{"$f":"IFERROR(INDEX('FM Input'!$1:$400,MATCH(N24,'FM Input'!$D:$D,0),MATCH(\"Unit Price\",'FM Input'!$1:$1,0)),\"\")","v":""},null,{"$f":"IF(A24=\"\",\"\",OFFSET(Lists!C$1,MATCH(A24,Lists!A:A,0)-1,0))","v":""},null,null,null,null,null,"\\","\\\\",null,"",null,null,null,null,null,null,null,{"$f":"IF(S24=\"\",\"\",SUMIFS(Table2[Tons of Mix TOTAL], Table2[Pay Item], S24, Table2[Plant], T24, Table2[Mix], U24,Table2[Mix Design Number], V24))","v":""},{"$f":"IF(S24=\"\",\"\",SUMIFS(Table2[For Pay TOTAL Tons or SY], Table2[Pay Item], S24, Table2[Plant], T24, Table2[Mix], U24,Table2[Mix Design Number], V24))","v":""}]
[]
[]
[]
[]
[]
[]
[]
[]
[]
[]
[]
[]
[null,null,null,null,null,{"$f":"IF(K12=\"\",\"\",SUMIFS(Table2[Tons of Mix TOTAL], Table2[Pay Item], B37, Table2[Plant], C37, Table2[Mix], D37,Table2[Mix Design Number], E37))","v":""}]
[null,null,null,null,null,{"$f":"IF(K13=\"\",\"\",SUMIFS(Table2[Tons of Mix TOTAL], Table2[Pay Item], B38, Table2[Plant], C38, Table2[Mix], D38,Table2[Mix Design Number], E38))","v":""}]
[null,null,null,null,null,{"$f":"IF(K14=\"\",\"\",SUMIFS(Table2[Tons of Mix TOTAL], Table2[Pay Item], B39, Table2[Plant], C39, Table2[Mix], D39,Table2[Mix Design Number], E39))","v":""}]
[null,null,null,null,null,{"$f":"IF(K15=\"\",\"\",SUMIFS(Table2[Tons of Mix TOTAL], Table2[Pay Item], B40, Table2[Plant], C40, Table2[Mix], D40,Table2[Mix Design Number], E40))","v":""}]
[null,null,null,null,null,{"$f":"IF(K16=\"\",\"\",SUMIFS(Table2[Tons of Mix TOTAL], Table2[Pay Item], B41, Table2[Plant], C41, Table2[Mix], D41,Table2[Mix Design Number], E41))","v":""}]
[null,null,null,null,null,{"$f":"IF(K17=\"\",\"\",SUMIFS(Table2[Tons of Mix TOTAL], Table2[Pay Item], B42, Table2[Plant], C42, Table2[Mix], D42,Table2[Mix Design Number], E42))","v":""}]
[null,null,null,null,null,{"$f":"IF(K18=\"\",\"\",SUMIFS(Table2[Tons of Mix TOTAL], Table2[Pay Item], B43, Table2[Plant], C43, Table2[Mix], D43,Table2[Mix Design Number], E43))","v":""}]
[null,null,null,null,null,{"$f":"IF(K19=\"\",\"\",SUMIFS(Table2[Tons of Mix TOTAL], Table2[Pay Item], B44, Table2[Plant], C44, Table2[Mix], D44,Table2[Mix Design Number], E44))","v":""}]
[null,null,null,null,null,{"$f":"IF(K20=\"\",\"\",SUMIFS(Table2[Tons of Mix TOTAL], Table2[Pay Item], B45, Table2[Plant], C45, Table2[Mix], D45,Table2[Mix Design Number], E45))","v":""}]
[null,null,null,null,null,{"$f":"IF(K21=\"\",\"\",SUMIFS(Table2[Tons of Mix TOTAL], Table2[Pay Item], B46, Table2[Plant], C46, Table2[Mix], D46,Table2[Mix Design Number], E46))","v":""}]
[null,null,null,null,null,{"$f":"IF(K22=\"\",\"\",SUMIFS(Table2[Tons of Mix TOTAL], Table2[Pay Item], B47, Table2[Plant], C47, Table2[Mix], D47,Table2[Mix Design Number], E47))","v":""}]
[null,null,null,null,null,{"$f":"IF(K23=\"\",\"\",SUMIFS(Table2[Tons of Mix TOTAL], Table2[Pay Item], B48, Table2[Plant], C48, Table2[Mix], D48,Table2[Mix Design Number], E48))","v":""}]
[null,null,null,null,null,{"$f":"IF(K24=\"\",\"\",SUMIFS(Table2[Tons of Mix TOTAL], Table2[Pay Item], B49, Table2[Plant], C49, Table2[Mix], D49,Table2[Mix Design Number], E49))","v":""}]
[null,null,null,null,null,{"$f":"IF(K25=\"\",\"\",SUMIFS(Table2[Tons of Mix TOTAL], Table2[Pay Item], B50, Table2[Plant], C50, Table2[Mix], D50,Table2[Mix Design Number], E50))","v":""}]
[null,null,null,null,null,{"$f":"IF(K26=\"\",\"\",SUMIFS(Table2[Tons of Mix TOTAL], Table2[Pay Item], B51, Table2[Plant], C51, Table2[Mix], D51,Table2[Mix Design Number], E51))","v":""}]
[null,null,null,null,null,{"$f":"IF(K27=\"\",\"\",SUMIFS(Table2[Tons of Mix TOTAL], Table2[Pay Item], B52, Table2[Plant], C52, Table2[Mix], D52,Table2[Mix Design Number], E52))","v":""}]
[null,null,null,null,null,{"$f":"IF(K28=\"\",\"\",SUMIFS(Table2[Tons of Mix TOTAL], Table2[Pay Item], B53, Table2[Plant], C53, Table2[Mix], D53,Table2[Mix Design Number], E53))","v":""}]
[null,null,null,null,null,{"$f":"IF(K29=\"\",\"\",SUMIFS(Table2[Tons of Mix TOTAL], Table2[Pay Item], B54, Table2[Plant], C54, Table2[Mix], D54,Table2[Mix Design Number], E54))","v":""}]
[null,null,null,null,null,{"$f":"IF(K30=\"\",\"\",SUMIFS(Table2[Tons of Mix TOTAL], Table2[Pay Item], B55, Table2[Plant], C55, Table2[Mix], D55,Table2[Mix Design Number], E55))","v":""}]
[null,null,null,null,null,{"$f":"IF(K31=\"\",\"\",SUMIFS(Table2[Tons of Mix TOTAL], Table2[Pay Item], B56, Table2[Plant], C56, Table2[Mix], D56,Table2[Mix Design Number], E56))","v":""}]
[null,null,null,null,null,{"$f":"IF(K32=\"\",\"\",SUMIFS(Table2[Tons of Mix TOTAL], Table2[Pay Item], B57, Table2[Plant], C57, Table2[Mix], D57,Table2[Mix Design Number], E57))","v":""}]
[null,null,null,null,null,{"$f":"IF(K33=\"\",\"\",SUMIFS(Table2[Tons of Mix TOTAL], Table2[Pay Item], B58, Table2[Plant], C58, Table2[Mix], D58,Table2[Mix Design Number], E58))","v":""}]
[null,null,null,null,null,{"$f":"IF(K34=\"\",\"\",SUMIFS(Table2[Tons of Mix TOTAL], Table2[Pay Item], B59, Table2[Plant], C59, Table2[Mix], D59,Table2[Mix Design Number], E59))","v":""}]
[null,null,null,null,null,{"$f":"IF(K35=\"\",\"\",SUMIFS(Table2[Tons of Mix TOTAL], Table2[Pay Item], B60, Table2[Plant], C60, Table2[Mix], D60,Table2[Mix Design Number], E60))","v":""}]
[null,null,null,null,null,{"$f":"IF(K36=\"\",\"\",SUMIFS(Table2[Tons of Mix TOTAL], Table2[Pay Item], B61, Table2[Plant], C61, Table2[Mix], D61,Table2[Mix Design Number], E61))","v":""}]

{"sheet":"1","index":16,"n_rows":97,"n_cols":26,"rows_kept":97,"cut":false,"hidden":false,"merged":[[50,11,50,13],[51,11,51,13],[52,11,52,13],[44,11,44,13],[45,11,45,13],[46,11,46,13],[47,11,47,13],[48,11,48,13],[49,11,49,13],[43,0,43,16],[25,0,25,1],[26,0,26,5],[26,20,26,23],[26,25,26,27],[34,2,34,4],[35,0,35,5],[36,1,36,14],[37,0,37,14],[39,0,39,5],[40,1,40,14],[41,0,41,14],[23,0,23,1],[23,2,23,4],[23,9,23,12],[24,0,24,1],[24,2,24,4],[24,9,24,12],[21,0,21,1],[21,2,21,4],[21,9,21,12],[22,0,22,1],[22,2,22,4],[22,9,22,12],[19,0,19,1],[19,2,19,4],[19,9,19,12],[20,0,20,1],[20,2,20,4],[20,9,20,12],[18,0,18,16],[6,14,6,15],[7,14,7,15],[8,14,8,15],[9,14,9,15],[10,14,10,15],[11,14,11,15],[12,14,12,15],[13,14,13,15],[14,14,14,15],[15,14,15,15],[16,14,16,15],[1,0,1,16],[4,0,4,15],[5,4,5,5],[5,8,5,9],[5,11,5,12],[5,13,5,15]]}
[]
["Iowa DOT HMA Field Report"]
["Date :"]
["Item No.('s)"]
["PLACEMENT RECORD",null,null,null,null,null,null,null,null,null,null,null,null,null,null,null,null,null,null,null,null,{"$f":"SUBSTITUTE(A21 & \"\\\" & J21,\"\"\"\",\"\")","v":"\\"}]
[null,null,null,null,"Additional width to DEDUCT from Field Voids",null,null,null,"Placed Density (Pounds/CF)=",null,150,"Overwritten on the \"Summary\" Tab",null,"ONLY ONE (1) MIX DESIGN PER DFR OTHERWISE IT WILL NOT IMPORT INTO THE PLANT REPORT PROPERLY",null,null,null,null,null,null,null,{"$f":"SUBSTITUTE(A22 & \"\\\" & J22,\"\"\"\",\"\")","v":"\\"}]
["From Station"," To Station","Lane","ML or Widening Placement Width","Additional Width (ft) ","Thickness (in)","Total Length Placed (FT)","\"Pay\"  Est \"SY\"","Thickness (inches)","Calculated Field Voids Tons","Placed Tons            (Not including Waste)","% Yield","SY to be PAID (If Diff. than Est SY)","Mix Design No.","Bid Item/ Project No.",null,null,null,"This uses the correct SY #, if Green is blank uses Est. SY","Adds up the Tons",null,"\\"]
[null,null,null,null,null,null,{"$f":"IF(OR(A8=\"\",B8=\"\"),0,IF($A$97=TRUE,ABS(B8-A8)*5280,ABS(VALUE(SUBSTITUTE(A8,\"+\",\"\"))-VALUE(SUBSTITUTE(B8,\"+\",\"\")))))","v":0},{"$f":"IF(D8=\"\",\"\",G8*(D8+E8)/9)","v":""},null,{"$f":"IF(I8=\"\",\"\",(G8)*(D8+E8)*I8/12*$K$6/2000)","v":""},null,{"$f":"IF(K8=\"\",\"\",K8/J8*100)","v":""},null,null,null,null,{"$f":"O8 & \"\\\" & N8","v":"\\"},{"$f":"IF(AND(A8=\"\",B8=\"\",C8=\"\",D8=\"\"),1,IF(OR(O8=\"\",N8=\"\"),2,IF(ISERROR(MATCH(Q8,Input!M$5:M$24,0)),2,1)))","v":1},{"$f":"IF(M8<>\"\", M8, H8)","v":""},{"$f":"K8","v":0},null,"\\"]
[null,null,null,null,null,null,{"$f":"IF(OR(A9=\"\",B9=\"\"),0,IF($A$97=TRUE,ABS(B9-A9)*5280,ABS(VALUE(SUBSTITUTE(A9,\"+\",\"\"))-VALUE(SUBSTITUTE(B9,\"+\",\"\")))))","v":0},{"$f":"IF(D9=\"\",\"\",G9*(D9+E9)/9)","v":""},null,"",null,{"$f":"IF(K9=\"\",\"\",K9/J9*100)","v":""},null,null,null,null,{"$f":"O9 & \"\\\" & N9","v":"\\"},{"$f":"IF(AND(A9=\"\",B9=\"\",C9=\"\",D9=\"\"),1,IF(OR(O9=\"\",N9=\"\"),2,IF(ISERROR(MATCH(Q9,Input!M$5:M$24,0)),2,1)))","v":1},{"$f":"IF(M9<>\"\", M9, H9)","v":""},{"$f":"K9","v":0},null,"\\"]
[null,null,null,null,null,null,0,"",null,"",null,"",null,null,null,null,"\\",{"$f":"IF(AND(A10=\"\",B10=\"\",C10=\"\",D10=\"\"),1,IF(OR(O10=\"\",N10=\"\"),2,IF(ISERROR(MATCH(Q10,Input!M$5:M$24,0)),2,1)))","v":1},{"$f":"IF(M10<>\"\", M10, H10)","v":""},0]
[null,null,null,null,null,null,0,"",null,"",null,"",null,null,null,null,"\\",{"$f":"IF(AND(A11=\"\",B11=\"\",C11=\"\",D11=\"\"),1,IF(OR(O11=\"\",N11=\"\"),2,IF(ISERROR(MATCH(Q11,Input!M$5:M$24,0)),2,1)))","v":1},"",0]
[null,null,null,null,null,null,0,"",null,"",null,"",null,null,null,null,"\\",{"$f":"IF(AND(A12=\"\",B12=\"\",C12=\"\",D12=\"\"),1,IF(OR(O12=\"\",N12=\"\"),2,IF(ISERROR(MATCH(Q12,Input!M$5:M$24,0)),2,1)))","v":1},"",0]
[null,null,null,null,null,null,0,"",null,"",null,"",null,null,null,null,"\\",{"$f":"IF(AND(A13=\"\",B13=\"\",C13=\"\",D13=\"\"),1,IF(OR(O13=\"\",N13=\"\"),2,IF(ISERROR(MATCH(Q13,Input!M$5:M$24,0)),2,1)))","v":1},"",0]
[null,null,null,null,null,null,0,"",null,"",null,"",null,null,null,null,"\\",{"$f":"IF(AND(A14=\"\",B14=\"\",C14=\"\",D14=\"\"),1,IF(OR(O14=\"\",N14=\"\"),2,IF(ISERROR(MATCH(Q14,Input!M$5:M$24,0)),2,1)))","v":1},"",0]
[null,null,null,null,null,null,0,"",null,"",null,"",null,null,null,null,"\\",{"$f":"IF(AND(A15=\"\",B15=\"\",C15=\"\",D15=\"\"),1,IF(OR(O15=\"\",N15=\"\"),2,IF(ISERROR(MATCH(Q15,Input!M$5:M$24,0)),2,1)))","v":1},"",0]
[null,null,null,null,null,null,0,"",null,"",null,"",null,null,null,null,"\\",{"$f":"IF(AND(A16=\"\",B16=\"\",C16=\"\",D16=\"\"),1,IF(OR(O16=\"\",N16=\"\"),2,IF(ISERROR(MATCH(Q16,Input!M$5:M$24,0)),2,1)))","v":1},"",0]
[null,null,null,null,null,null,0,"",null,"",null,"",null,null,null,null,"\\",{"$f":"IF(AND(A17=\"\",B17=\"\",C17=\"\",D17=\"\"),1,IF(OR(O17=\"\",N17=\"\"),2,IF(ISERROR(MATCH(Q17,Input!M$5:M$24,0)),2,1)))","v":1},"",0]
[]
["TANK SHEET"]
["Bid Item (In Order of Placement)",null,"Today's Placement",null,null,"Bid Item Plan Quantity","Plan Thickness (in)","Contract Mix Price","Contract Binder Price","Project Number",null,null,null,"Mix Pay Units","Mix Delivered to Road\n(Ton or SY)","Waste On Road (Ton)\nNO waste for SY Items","Tons Placed - Waste",null,null,"This adds up column S as it depends if the Est SY is filled out or the SY",null,"Use this Column for SY for the Q column","Uses this Value for Mix on Road"]
[null,null,null,null,null,{"$f":"IF($J21=\"\",\"\",INDEX(Input!$A$5:$H$24,MATCH($A21&$J21,Input!$A$5:$A$24&Input!$G$5:$G$24,0),2))","v":""},{"$f":"IF($J21=\"\",\"\",INDEX(Input!$A$5:$H$24,MATCH($A21&$J21,Input!$A$5:$A$24&Input!$G$5:$G$24,0),3))","v":""},{"$f":"IF($J21=\"\",\"\",INDEX(Input!$A$5:$H$24,MATCH($A21&$J21,Input!$A$5:$A$24&Input!$G$5:$G$24,0),4))","v":""},{"$f":"IF($J21=\"\",\"\",INDEX(Input!$A$5:$H$24,MATCH($A21&$J21,Input!$A$5:$A$24&Input!$G$5:$G$24,0),5))","v":""},null,null,null,null,{"$f":"IF($A21=\"\",\"\",OFFSET(Input!F$4,MATCH($A21,Input!$A$5:$A$24,0),0))","v":""},{"$f":"IF(N21=\"SY\", T21, IF(N21=\"Tons\", W21, \"\"))","v":""},null,{"$f":"IF(N21=\"SY\", V21, IF(N21=\"Tons\", O21-P21, \"\"))","v":""},{"$f":"SUBSTITUTE(A21 & \"\\\" & J21,\"\"\"\",\"\")","v":"\\"},{"$f":"IF(A21=\"\",1,IF(ISERROR(MATCH(R21,Input!L$5:L$24,0)),2,1))","v":1},{"$f":"IF(A21=\"\", \"\", SUMIF($Q$8:$Q$17, \"*\" & LEFT(A21, 11) & \"*\", $S$8:$S$17))","v":""},null,{"$f":"IF(A21=\"\", \"\", SUMIF($Q$8:$Q$17, \"*\" & LEFT(A21, 11) & \"*\", $T$8:$T$17))","v":""},{"$f":"IF(N21=\"SY\", T21, IF(N21=\"Tons\", V21+P21, \"\"))","v":""}]
[null,null,null,null,null,{"$f":"IF($J22=\"\",\"\",INDEX(Input!$A$5:$H$24,MATCH($A22&$J22,Input!$A$5:$A$24&Input!$G$5:$G$24,0),2))","v":""},{"$f":"IF($J22=\"\",\"\",INDEX(Input!$A$5:$H$24,MATCH($A22&$J22,Input!$A$5:$A$24&Input!$G$5:$G$24,0),3))","v":""},{"$f":"IF($J22=\"\",\"\",INDEX(Input!$A$5:$H$24,MATCH($A22&$J22,Input!$A$5:$A$24&Input!$G$5:$G$24,0),4))","v":""},{"$f":"IF($J22=\"\",\"\",INDEX(Input!$A$5:$H$24,MATCH($A22&$J22,Input!$A$5:$A$24&Input!$G$5:$G$24,0),5))","v":""},null,null,null,null,{"$f":"IF($A22=\"\",\"\",OFFSET(Input!F$4,MATCH($A22,Input!$A$5:$A$24,0),0))","v":""},{"$f":"IF(N22=\"SY\", T22, IF(N22=\"Tons\", W22, \"\"))","v":""},null,{"$f":"IF(N22=\"SY\", V22, IF(N22=\"Tons\", O22-P22, \"\"))","v":""},{"$f":"SUBSTITUTE(A22 & \"\\\" & J22,\"\"\"\",\"\")","v":"\\"},{"$f":"IF(A22=\"\",1,IF(ISERROR(MATCH(R22,Input!L$5:L$24,0)),2,1))","v":1},{"$f":"IF(A22=\"\", \"\", SUMIF($Q$8:$Q$17, \"*\" & LEFT(A22, 11) & \"*\", $S$8:$S$17))","v":""},null,{"$f":"IF(A22=\"\", \"\", SUMIF($Q$8:$Q$17, \"*\" & LEFT(A22, 11) & \"*\", $T$8:$T$17))","v":""},{"$f":"IF(N22=\"SY\", T22, IF(N22=\"Tons\", V22+P22, \"\"))","v":""}]
[null,null,null,null,null,{"$f":"IF($J23=\"\",\"\",INDEX(Input!$A$5:$H$24,MATCH($A23&$J23,Input!$A$5:$A$24&Input!$G$5:$G$24,0),2))","v":""},{"$f":"IF($J23=\"\",\"\",INDEX(Input!$A$5:$H$24,MATCH($A23&$J23,Input!$A$5:$A$24&Input!$G$5:$G$24,0),3))","v":""},{"$f":"IF($J23=\"\",\"\",INDEX(Input!$A$5:$H$24,MATCH($A23&$J23,Input!$A$5:$A$24&Input!$G$5:$G$24,0),4))","v":""},{"$f":"IF($J23=\"\",\"\",INDEX(Input!$A$5:$H$24,MATCH($A23&$J23,Input!$A$5:$A$24&Input!$G$5:$G$24,0),5))","v":""},null,null,null,null,{"$f":"IF($A23=\"\",\"\",OFFSET(Input!F$4,MATCH($A23,Input!$A$5:$A$24,0),0))","v":""},{"$f":"IF(N23=\"SY\", T23, IF(N23=\"Tons\", W23, \"\"))","v":""},null,{"$f":"IF(N23=\"SY\", V23, IF(N23=\"Tons\", O23-P23, \"\"))","v":""},"\\",{"$f":"IF(A23=\"\",1,IF(ISERROR(MATCH(R23,Input!L$5:L$24,0)),2,1))","v":1},{"$f":"IF(A23=\"\", \"\", SUMIF($Q$8:$Q$17, \"*\" & LEFT(A23, 11) & \"*\", $S$8:$S$17))","v":""},null,{"$f":"IF(A23=\"\", \"\", SUMIF($Q$8:$Q$17, \"*\" & LEFT(A23, 11) & \"*\", $T$8:$T$17))","v":""},{"$f":"IF(N23=\"SY\", T23, IF(N23=\"Tons\", V23+P23, \"\"))","v":""}]
[null,null,null,null,null,{"$f":"IF($J24=\"\",\"\",INDEX(Input!$A$5:$H$24,MATCH($A24&$J24,Input!$A$5:$A$24&Input!$G$5:$G$24,0),2))","v":""},{"$f":"IF($J24=\"\",\"\",INDEX(Input!$A$5:$H$24,MATCH($A24&$J24,Input!$A$5:$A$24&Input!$G$5:$G$24,0),3))","v":""},{"$f":"IF($J24=\"\",\"\",INDEX(Input!$A$5:$H$24,MATCH($A24&$J24,Input!$A$5:$A$24&Input!$G$5:$G$24,0),4))","v":""},{"$f":"IF($J24=\"\",\"\",INDEX(Input!$A$5:$H$24,MATCH($A24&$J24,Input!$A$5:$A$24&Input!$G$5:$G$24,0),5))","v":""},null,null,null,null,{"$f":"IF($A24=\"\",\"\",OFFSET(Input!F$4,MATCH($A24,Input!$A$5:$A$24,0),0))","v":""},"",null,"","\\",{"$f":"IF(A24=\"\",1,IF(ISERROR(MATCH(R24,Input!L$5:L$24,0)),2,1))","v":1},"",null,{"$f":"IF(A24=\"\", \"\", SUMIF($Q$8:$Q$17, \"*\" & LEFT(A24, 11) & \"*\", $T$8:$T$17))","v":""},{"$f":"IF(N24=\"SY\", T24, IF(N24=\"Tons\", V24+P24, \"\"))","v":""}]
[null,null,null,null,null,{"$f":"IF($J25=\"\",\"\",INDEX(Input!$A$5:$H$24,MATCH($A25&$J25,Input!$A$5:$A$24&Input!$G$5:$G$24,0),2))","v":""},{"$f":"IF($J25=\"\",\"\",INDEX(Input!$A$5:$H$24,MATCH($A25&$J25,Input!$A$5:$A$24&Input!$G$5:$G$24,0),3))","v":""},{"$f":"IF($J25=\"\",\"\",INDEX(Input!$A$5:$H$24,MATCH($A25&$J25,Input!$A$5:$A$24&Input!$G$5:$G$24,0),4))","v":""},{"$f":"IF($J25=\"\",\"\",INDEX(Input!$A$5:$H$24,MATCH($A25&$J25,Input!$A$5:$A$24&Input!$G$5:$G$24,0),5))","v":""},null,null,null,null,{"$f":"IF($A25=\"\",\"\",OFFSET(Input!F$4,MATCH($A25,Input!$A$5:$A$24,0),0))","v":""},"",null,"","\\",{"$f":"IF(A25=\"\",1,IF(ISERROR(MATCH(R25,Input!L$5:L$24,0)),2,1))","v":1},"",null,"",""]
[null,null,null,null,null,null,null,null,null,null,null,null,null,null,null,null,null,null,null,null,null,"",{"$f":"IF(N26=\"SY\", T26, IF(N26=\"Tons\", V26+P26, \"\"))","v":""},{"$f":"IF(A26=\"\", \"\", SUMIF($Q$8:$Q$17, \"*\" & LEFT(A26, 11) & \"*\", $S$8:$S$17))","v":""},{"$f":"IF(N26=\"SY\",X26,\"\")","v":""},{"$f":"IF(A26=\"\", \"\", SUMIF($Q$8:$Q$17, \"*\" & LEFT(A26, 11) & \"*\", $T$8:$T$17))","v":""}]
["Hot Box Sample",null,null,null,null,null,null,null,null,null,"Mat Temperatures °F"]
[null,"Test A","Test B","Test C","Test D","Test E",null,null,null,null,"Time","Temp"]
[" Hot Box ID Number  ",null,null,null,null,null,null,null,null,null,"7:00"]
["Hot Box Sample Tons: ",null,null,null,null,null,null,null,null,null,"9:00",null,null,null,"Intended Thickness:"]
[" Time: ",null,null,null,null,null,null,null,null,null,"11:00",null,null,null,"Cores Waived?"]
[" Station/MP: ",null,null,null,null,null,null,null,null,null,"1:00",null,null,null,"Small Quantity Statement?"]
["Bar Code ID.:",null,null,null,null,null,null,null,null,null,"3:00",null,null,null,"Scale Check Done?"]
["Compaction Temp. °F: ",null,null,null,null,null,null,null,null,null,"5:00",null,null,null,"Tack Tickets Today?"]
[null,null,null,null,null,null,null,null,null,null,"7:00"]
["The Below Comments should show up on the plant report"]
["Comments:"]
[]
[]
["The Below Notes are for the CPI from the field or Plant Monitor"]
["Notes:"]
[]
[]
["RANDOM CORE LOCATIONS"]
[null,null,null,null,null,null,null,"Core #","Station","Offset,ft","Joint Station","Lane"]
[null,null,null,null,null,null,null,1]
[null,null,null,null,null,null,null,2]
[null,null,null,null,null,null,null,3]
[null,null,null,null,null,null,null,4]
[null,null,null,null,null,null,null,5]
[null,null,null,null,null,null,null,6]
[null,null,null,null,null,null,null,7]
[null,null,null,null,null,null,null,8]
[]
[null,null,null,null,null,null,null,null,null,null,"Joint Sublot Size, ft"]
[null,null,null,null,null,null,null,null,null,null,0]
[]
[]
[]
[]
[]
[]
[]
[]
[]
[]
[]
[]
[]
[]
[]
[]
[]
[]
[]
[]
[]
[]
[]
[]
[]
[]
[]
[]
[]
[]
[]
[]
[]
[]
[]
[]
[]
[]
[]
[]
[false]

{"sheet":"2","index":17,"n_rows":97,"n_cols":26,"rows_kept":97,"cut":false,"hidden":false,"merged":[[50,11,50,13],[51,11,51,13],[52,11,52,13],[44,11,44,13],[45,11,45,13],[46,11,46,13],[47,11,47,13],[48,11,48,13],[49,11,49,13],[43,0,43,16],[25,0,25,1],[26,0,26,5],[26,20,26,23],[26,25,26,27],[34,2,34,4],[35,0,35,5],[36,1,36,14],[37,0,37,14],[39,0,39,5],[40,1,40,14],[41,0,41,14],[23,0,23,1],[23,2,23,4],[23,9,23,12],[24,0,24,1],[24,2,24,4],[24,9,24,12],[21,0,21,1],[21,2,21,4],[21,9,21,12],[22,0,22,1],[22,2,22,4],[22,9,22,12],[19,0,19,1],[19,2,19,4],[19,9,19,12],[20,0,20,1],[20,2,20,4],[20,9,20,12],[18,0,18,16],[6,14,6,15],[7,14,7,15],[8,14,8,15],[9,14,9,15],[10,14,10,15],[11,14,11,15],[12,14,12,15],[13,14,13,15],[14,14,14,15],[15,14,15,15],[16,14,16,15],[1,0,1,16],[4,0,4,15],[5,4,5,5],[5,8,5,9],[5,11,5,12],[5,13,5,15]]}
[]
["Iowa DOT HMA Field Report"]
["Date :"]
["Item No.('s)"]
["PLACEMENT RECORD",null,null,null,null,null,null,null,null,null,null,null,null,null,null,null,null,null,null,null,null,{"$f":"SUBSTITUTE(A21 & \"\\\" & J21,\"\"\"\",\"\")","v":"\\"}]
[null,null,null,null,"Additional width to DEDUCT from Field Voids",null,null,null,"Placed Density (Pounds/CF)=",null,150,"Overwritten on the \"Summary\" Tab",null,"ONLY ONE (1) MIX DESIGN PER DFR OTHERWISE IT WILL NOT IMPORT INTO THE PLANT REPORT PROPERLY",null,null,null,null,null,null,null,{"$f":"SUBSTITUTE(A22 & \"\\\" & J22,\"\"\"\",\"\")","v":"\\"}]
["From Station"," To Station","Lane","ML or Widening Placement Width","Additional Width (ft) ","Thickness (in)","Total Length Placed (FT)","\"Pay\"  Est \"SY\"","Thickness (inches)","Calculated Field Voids Tons","Placed Tons            (Not including Waste)","% Yield","SY to be PAID (If Diff. than Est SY)","Mix Design No.","Bid Item/ Project No.",null,null,null,"This uses the correct SY #, if Green is blank uses Est. SY","Adds up the Tons",null,"\\"]
[null,null,null,null,null,null,{"$f":"IF(OR(A8=\"\",B8=\"\"),0,IF($A$97=TRUE,ABS(B8-A8)*5280,ABS(VALUE(SUBSTITUTE(A8,\"+\",\"\"))-VALUE(SUBSTITUTE(B8,\"+\",\"\")))))","v":0},{"$f":"IF(D8=\"\",\"\",G8*(D8+E8)/9)","v":""},null,{"$f":"IF(I8=\"\",\"\",(G8)*(D8+E8)*I8/12*$K$6/2000)","v":""},null,{"$f":"IF(K8=\"\",\"\",K8/J8*100)","v":""},null,null,null,null,{"$f":"O8 & \"\\\" & N8","v":"\\"},{"$f":"IF(AND(A8=\"\",B8=\"\",C8=\"\",D8=\"\"),1,IF(OR(O8=\"\",N8=\"\"),2,IF(ISERROR(MATCH(Q8,Input!M$5:M$24,0)),2,1)))","v":1},{"$f":"IF(M8<>\"\", M8, H8)","v":""},{"$f":"K8","v":0},null,"\\"]
[null,null,null,null,null,null,{"$f":"IF(OR(A9=\"\",B9=\"\"),0,IF($A$97=TRUE,ABS(B9-A9)*5280,ABS(VALUE(SUBSTITUTE(A9,\"+\",\"\"))-VALUE(SUBSTITUTE(B9,\"+\",\"\")))))","v":0},{"$f":"IF(D9=\"\",\"\",G9*(D9+E9)/9)","v":""},null,"",null,{"$f":"IF(K9=\"\",\"\",K9/J9*100)","v":""},null,null,null,null,{"$f":"O9 & \"\\\" & N9","v":"\\"},{"$f":"IF(AND(A9=\"\",B9=\"\",C9=\"\",D9=\"\"),1,IF(OR(O9=\"\",N9=\"\"),2,IF(ISERROR(MATCH(Q9,Input!M$5:M$24,0)),2,1)))","v":1},{"$f":"IF(M9<>\"\", M9, H9)","v":""},{"$f":"K9","v":0},null,"\\"]
[null,null,null,null,null,null,0,"",null,"",null,"",null,null,null,null,"\\",{"$f":"IF(AND(A10=\"\",B10=\"\",C10=\"\",D10=\"\"),1,IF(OR(O10=\"\",N10=\"\"),2,IF(ISERROR(MATCH(Q10,Input!M$5:M$24,0)),2,1)))","v":1},{"$f":"IF(M10<>\"\", M10, H10)","v":""},0]
[null,null,null,null,null,null,0,"",null,"",null,"",null,null,null,null,"\\",{"$f":"IF(AND(A11=\"\",B11=\"\",C11=\"\",D11=\"\"),1,IF(OR(O11=\"\",N11=\"\"),2,IF(ISERROR(MATCH(Q11,Input!M$5:M$24,0)),2,1)))","v":1},"",0]
[null,null,null,null,null,null,0,"",null,"",null,"",null,null,null,null,"\\",{"$f":"IF(AND(A12=\"\",B12=\"\",C12=\"\",D12=\"\"),1,IF(OR(O12=\"\",N12=\"\"),2,IF(ISERROR(MATCH(Q12,Input!M$5:M$24,0)),2,1)))","v":1},"",0]
[null,null,null,null,null,null,0,"",null,"",null,"",null,null,null,null,"\\",{"$f":"IF(AND(A13=\"\",B13=\"\",C13=\"\",D13=\"\"),1,IF(OR(O13=\"\",N13=\"\"),2,IF(ISERROR(MATCH(Q13,Input!M$5:M$24,0)),2,1)))","v":1},"",0]
[null,null,null,null,null,null,0,"",null,"",null,"",null,null,null,null,"\\",{"$f":"IF(AND(A14=\"\",B14=\"\",C14=\"\",D14=\"\"),1,IF(OR(O14=\"\",N14=\"\"),2,IF(ISERROR(MATCH(Q14,Input!M$5:M$24,0)),2,1)))","v":1},"",0]
[null,null,null,null,null,null,0,"",null,"",null,"",null,null,null,null,"\\",{"$f":"IF(AND(A15=\"\",B15=\"\",C15=\"\",D15=\"\"),1,IF(OR(O15=\"\",N15=\"\"),2,IF(ISERROR(MATCH(Q15,Input!M$5:M$24,0)),2,1)))","v":1},"",0]
[null,null,null,null,null,null,0,"",null,"",null,"",null,null,null,null,"\\",{"$f":"IF(AND(A16=\"\",B16=\"\",C16=\"\",D16=\"\"),1,IF(OR(O16=\"\",N16=\"\"),2,IF(ISERROR(MATCH(Q16,Input!M$5:M$24,0)),2,1)))","v":1},"",0]
[null,null,null,null,null,null,0,"",null,"",null,"",null,null,null,null,"\\",{"$f":"IF(AND(A17=\"\",B17=\"\",C17=\"\",D17=\"\"),1,IF(OR(O17=\"\",N17=\"\"),2,IF(ISERROR(MATCH(Q17,Input!M$5:M$24,0)),2,1)))","v":1},"",0]
[]
["TANK SHEET"]
["Bid Item (In Order of Placement)",null,"Today's Placement",null,null,"Bid Item Plan Quantity","Plan Thickness (in)","Contract Mix Price","Contract Binder Price","Project Number",null,null,null,"Mix Pay Units","Mix Delivered to Road\n(Ton or SY)","Waste On Road (Ton)\nNO waste for SY Items","Tons Placed - Waste",null,null,"This adds up column S as it depends if the Est SY is filled out or the SY",null,"Use this Column for SY for the Q column","Uses this Value for Mix on Road"]
[null,null,null,null,null,{"$f":"IF($J21=\"\",\"\",INDEX(Input!$A$5:$H$24,MATCH($A21&$J21,Input!$A$5:$A$24&Input!$G$5:$G$24,0),2))","v":""},{"$f":"IF($J21=\"\",\"\",INDEX(Input!$A$5:$H$24,MATCH($A21&$J21,Input!$A$5:$A$24&Input!$G$5:$G$24,0),3))","v":""},{"$f":"IF($J21=\"\",\"\",INDEX(Input!$A$5:$H$24,MATCH($A21&$J21,Input!$A$5:$A$24&Input!$G$5:$G$24,0),4))","v":""},{"$f":"IF($J21=\"\",\"\",INDEX(Input!$A$5:$H$24,MATCH($A21&$J21,Input!$A$5:$A$24&Input!$G$5:$G$24,0),5))","v":""},null,null,null,null,{"$f":"IF($A21=\"\",\"\",OFFSET(Input!F$4,MATCH($A21,Input!$A$5:$A$24,0),0))","v":""},{"$f":"IF(N21=\"SY\", T21, IF(N21=\"Tons\", W21, \"\"))","v":""},null,{"$f":"IF(N21=\"SY\", V21, IF(N21=\"Tons\", O21-P21, \"\"))","v":""},{"$f":"SUBSTITUTE(A21 & \"\\\" & J21,\"\"\"\",\"\")","v":"\\"},{"$f":"IF(A21=\"\",1,IF(ISERROR(MATCH(R21,Input!L$5:L$24,0)),2,1))","v":1},{"$f":"IF(A21=\"\", \"\", SUMIF($Q$8:$Q$17, \"*\" & LEFT(A21, 11) & \"*\", $S$8:$S$17))","v":""},null,{"$f":"IF(A21=\"\", \"\", SUMIF($Q$8:$Q$17, \"*\" & LEFT(A21, 11) & \"*\", $T$8:$T$17))","v":""},{"$f":"IF(N21=\"SY\", T21, IF(N21=\"Tons\", V21+P21, \"\"))","v":""}]
[null,null,null,null,null,{"$f":"IF($J22=\"\",\"\",INDEX(Input!$A$5:$H$24,MATCH($A22&$J22,Input!$A$5:$A$24&Input!$G$5:$G$24,0),2))","v":""},{"$f":"IF($J22=\"\",\"\",INDEX(Input!$A$5:$H$24,MATCH($A22&$J22,Input!$A$5:$A$24&Input!$G$5:$G$24,0),3))","v":""},{"$f":"IF($J22=\"\",\"\",INDEX(Input!$A$5:$H$24,MATCH($A22&$J22,Input!$A$5:$A$24&Input!$G$5:$G$24,0),4))","v":""},{"$f":"IF($J22=\"\",\"\",INDEX(Input!$A$5:$H$24,MATCH($A22&$J22,Input!$A$5:$A$24&Input!$G$5:$G$24,0),5))","v":""},null,null,null,null,{"$f":"IF($A22=\"\",\"\",OFFSET(Input!F$4,MATCH($A22,Input!$A$5:$A$24,0),0))","v":""},{"$f":"IF(N22=\"SY\", T22, IF(N22=\"Tons\", W22, \"\"))","v":""},null,{"$f":"IF(N22=\"SY\", V22, IF(N22=\"Tons\", O22-P22, \"\"))","v":""},{"$f":"SUBSTITUTE(A22 & \"\\\" & J22,\"\"\"\",\"\")","v":"\\"},{"$f":"IF(A22=\"\",1,IF(ISERROR(MATCH(R22,Input!L$5:L$24,0)),2,1))","v":1},{"$f":"IF(A22=\"\", \"\", SUMIF($Q$8:$Q$17, \"*\" & LEFT(A22, 11) & \"*\", $S$8:$S$17))","v":""},null,{"$f":"IF(A22=\"\", \"\", SUMIF($Q$8:$Q$17, \"*\" & LEFT(A22, 11) & \"*\", $T$8:$T$17))","v":""},{"$f":"IF(N22=\"SY\", T22, IF(N22=\"Tons\", V22+P22, \"\"))","v":""}]
[null,null,null,null,null,{"$f":"IF($J23=\"\",\"\",INDEX(Input!$A$5:$H$24,MATCH($A23&$J23,Input!$A$5:$A$24&Input!$G$5:$G$24,0),2))","v":""},{"$f":"IF($J23=\"\",\"\",INDEX(Input!$A$5:$H$24,MATCH($A23&$J23,Input!$A$5:$A$24&Input!$G$5:$G$24,0),3))","v":""},{"$f":"IF($J23=\"\",\"\",INDEX(Input!$A$5:$H$24,MATCH($A23&$J23,Input!$A$5:$A$24&Input!$G$5:$G$24,0),4))","v":""},{"$f":"IF($J23=\"\",\"\",INDEX(Input!$A$5:$H$24,MATCH($A23&$J23,Input!$A$5:$A$24&Input!$G$5:$G$24,0),5))","v":""},null,null,null,null,{"$f":"IF($A23=\"\",\"\",OFFSET(Input!F$4,MATCH($A23,Input!$A$5:$A$24,0),0))","v":""},{"$f":"IF(N23=\"SY\", T23, IF(N23=\"Tons\", W23, \"\"))","v":""},null,{"$f":"IF(N23=\"SY\", V23, IF(N23=\"Tons\", O23-P23, \"\"))","v":""},"\\",{"$f":"IF(A23=\"\",1,IF(ISERROR(MATCH(R23,Input!L$5:L$24,0)),2,1))","v":1},{"$f":"IF(A23=\"\", \"\", SUMIF($Q$8:$Q$17, \"*\" & LEFT(A23, 11) & \"*\", $S$8:$S$17))","v":""},null,{"$f":"IF(A23=\"\", \"\", SUMIF($Q$8:$Q$17, \"*\" & LEFT(A23, 11) & \"*\", $T$8:$T$17))","v":""},{"$f":"IF(N23=\"SY\", T23, IF(N23=\"Tons\", V23+P23, \"\"))","v":""}]
[null,null,null,null,null,{"$f":"IF($J24=\"\",\"\",INDEX(Input!$A$5:$H$24,MATCH($A24&$J24,Input!$A$5:$A$24&Input!$G$5:$G$24,0),2))","v":""},{"$f":"IF($J24=\"\",\"\",INDEX(Input!$A$5:$H$24,MATCH($A24&$J24,Input!$A$5:$A$24&Input!$G$5:$G$24,0),3))","v":""},{"$f":"IF($J24=\"\",\"\",INDEX(Input!$A$5:$H$24,MATCH($A24&$J24,Input!$A$5:$A$24&Input!$G$5:$G$24,0),4))","v":""},{"$f":"IF($J24=\"\",\"\",INDEX(Input!$A$5:$H$24,MATCH($A24&$J24,Input!$A$5:$A$24&Input!$G$5:$G$24,0),5))","v":""},null,null,null,null,{"$f":"IF($A24=\"\",\"\",OFFSET(Input!F$4,MATCH($A24,Input!$A$5:$A$24,0),0))","v":""},"",null,{"$f":"IF(N24=\"SY\", V24, IF(N24=\"Tons\", O24-P24, \"\"))","v":""},"\\",{"$f":"IF(A24=\"\",1,IF(ISERROR(MATCH(R24,Input!L$5:L$24,0)),2,1))","v":1},"",null,{"$f":"IF(A24=\"\", \"\", SUMIF($Q$8:$Q$17, \"*\" & LEFT(A24, 11) & \"*\", $T$8:$T$17))","v":""},{"$f":"IF(N24=\"SY\", T24, IF(N24=\"Tons\", V24+P24, \"\"))","v":""}]
[null,null,null,null,null,{"$f":"IF($J25=\"\",\"\",INDEX(Input!$A$5:$H$24,MATCH($A25&$J25,Input!$A$5:$A$24&Input!$G$5:$G$24,0),2))","v":""},{"$f":"IF($J25=\"\",\"\",INDEX(Input!$A$5:$H$24,MATCH($A25&$J25,Input!$A$5:$A$24&Input!$G$5:$G$24,0),3))","v":""},{"$f":"IF($J25=\"\",\"\",INDEX(Input!$A$5:$H$24,MATCH($A25&$J25,Input!$A$5:$A$24&Input!$G$5:$G$24,0),4))","v":""},{"$f":"IF($J25=\"\",\"\",INDEX(Input!$A$5:$H$24,MATCH($A25&$J25,Input!$A$5:$A$24&Input!$G$5:$G$24,0),5))","v":""},null,null,null,null,{"$f":"IF($A25=\"\",\"\",OFFSET(Input!F$4,MATCH($A25,Input!$A$5:$A$24,0),0))","v":""},"",null,"","\\",{"$f":"IF(A25=\"\",1,IF(ISERROR(MATCH(R25,Input!L$5:L$24,0)),2,1))","v":1},"",null,"",""]
[null,null,null,null,null,null,null,null,null,null,null,null,null,null,null,null,null,null,null,null,null,"",{"$f":"IF(N26=\"SY\", T26, IF(N26=\"Tons\", V26+P26, \"\"))","v":""},{"$f":"IF(A26=\"\", \"\", SUMIF($Q$8:$Q$17, \"*\" & LEFT(A26, 11) & \"*\", $S$8:$S$17))","v":""},{"$f":"IF(N26=\"SY\",X26,\"\")","v":""},{"$f":"IF(A26=\"\", \"\", SUMIF($Q$8:$Q$17, \"*\" & LEFT(A26, 11) & \"*\", $T$8:$T$17))","v":""}]
["Hot Box Sample",null,null,null,null,null,null,null,null,null,"Mat Temperatures °F"]
[null,"Test A","Test B","Test C","Test D","Test E",null,null,null,null,"Time","Temp"]
[" Hot Box ID Number  ",null,null,null,null,null,null,null,null,null,"7:00"]
["Hot Box Sample Tons: ",null,null,null,null,null,null,null,null,null,"9:00",null,null,null,"Intended Thickness:"]
[" Time: ",null,null,null,null,null,null,null,null,null,"11:00",null,null,null,"Cores Waived?"]
[" Station/MP: ",null,null,null,null,null,null,null,null,null,"1:00",null,null,null,"Small Quantity Statement?"]
["Bar Code ID.:",null,null,null,null,null,null,null,null,null,"3:00",null,null,null,"Scale Check Done?"]
["Compaction Temp. °F: ",null,null,null,null,null,null,null,null,null,"5:00",null,null,null,"Tack Tickets Today?"]
[null,null,null,null,null,null,null,null,null,null,"7:00"]
["The Below Comments should show up on the plant report"]
["Comments:"]
[]
[]
["The Below Notes are for the CPI from the field or Plant Monitor"]
["Notes:"]
[]
[]
["RANDOM CORE LOCATIONS"]
[null,null,null,null,null,null,null,"Core #","Station","Offset,ft","Joint Station","Lane"]
[null,null,null,null,null,null,null,1]
[null,null,null,null,null,null,null,2]
[null,null,null,null,null,null,null,3]
[null,null,null,null,null,null,null,4]
[null,null,null,null,null,null,null,5]
[null,null,null,null,null,null,null,6]
[null,null,null,null,null,null,null,7]
[null,null,null,null,null,null,null,8]
[]
[null,null,null,null,null,null,null,null,null,null,"Joint Sublot Size, ft"]
[null,null,null,null,null,null,null,null,null,null,0]
[]
[]
[]
[]
[]
[]
[]
[]
[]
[]
[]
[]
[]
[]
[]
[]
[]
[]
[]
[]
[]
[]
[]
[]
[]
[]
[]
[]
[]
[]
[]
[]
[]
[]
[]
[]
[]
[]
[]
[]
[false]

{"sheet":"3","index":18,"n_rows":97,"n_cols":26,"rows_kept":97,"cut":false,"hidden":false,"merged":[[50,11,50,13],[51,11,51,13],[52,11,52,13],[44,11,44,13],[45,11,45,13],[46,11,46,13],[47,11,47,13],[48,11,48,13],[49,11,49,13],[43,0,43,16],[25,0,25,1],[26,0,26,5],[26,20,26,23],[26,25,26,27],[34,2,34,4],[35,0,35,5],[36,1,36,14],[37,0,37,14],[39,0,39,5],[40,1,40,14],[41,0,41,14],[23,0,23,1],[23,2,23,4],[23,9,23,12],[24,0,24,1],[24,2,24,4],[24,9,24,12],[21,0,21,1],[21,2,21,4],[21,9,21,12],[22,0,22,1],[22,2,22,4],[22,9,22,12],[19,0,19,1],[19,2,19,4],[19,9,19,12],[20,0,20,1],[20,2,20,4],[20,9,20,12],[18,0,18,16],[6,14,6,15],[7,14,7,15],[8,14,8,15],[9,14,9,15],[10,14,10,15],[11,14,11,15],[12,14,12,15],[13,14,13,15],[14,14,14,15],[15,14,15,15],[16,14,16,15],[1,0,1,16],[4,0,4,15],[5,4,5,5],[5,8,5,9],[5,11,5,12],[5,13,5,15]]}
[]
["Iowa DOT HMA Field Report"]
["Date :"]
["Item No.('s)"]
["PLACEMENT RECORD",null,null,null,null,null,null,null,null,null,null,null,null,null,null,null,null,null,null,null,null,{"$f":"SUBSTITUTE(A21 & \"\\\" & J21,\"\"\"\",\"\")","v":"\\"}]
[null,null,null,null,"Additional width to DEDUCT from Field Voids",null,null,null,"Placed Density (Pounds/CF)=",null,150,"Overwritten on the \"Summary\" Tab",null,"ONLY ONE (1) MIX DESIGN PER DFR OTHERWISE IT WILL NOT IMPORT INTO THE PLANT REPORT PROPERLY",null,null,null,null,null,null,null,{"$f":"SUBSTITUTE(A22 & \"\\\" & J22,\"\"\"\",\"\")","v":"\\"}]
["From Station"," To Station","Lane","ML or Widening Placement Width","Additional Width (ft) ","Thickness (in)","Total Length Placed (FT)","\"Pay\"  Est \"SY\"","Thickness (inches)","Calculated Field Voids Tons","Placed Tons            (Not including Waste)","% Yield","SY to be PAID (If Diff. than Est SY)","Mix Design No.","Bid Item/ Project No.",null,null,null,"This uses the correct SY #, if Green is blank uses Est. SY","Adds up the Tons",null,"\\"]
[null,null,null,null,null,null,{"$f":"IF(OR(A8=\"\",B8=\"\"),0,IF($A$97=TRUE,ABS(B8-A8)*5280,ABS(VALUE(SUBSTITUTE(A8,\"+\",\"\"))-VALUE(SUBSTITUTE(B8,\"+\",\"\")))))","v":0},{"$f":"IF(D8=\"\",\"\",G8*(D8+E8)/9)","v":""},null,{"$f":"IF(I8=\"\",\"\",(G8)*(D8+E8)*I8/12*$K$6/2000)","v":""},null,{"$f":"IF(K8=\"\",\"\",K8/J8*100)","v":""},null,null,null,null,{"$f":"O8 & \"\\\" & N8","v":"\\"},{"$f":"IF(AND(A8=\"\",B8=\"\",C8=\"\",D8=\"\"),1,IF(OR(O8=\"\",N8=\"\"),2,IF(ISERROR(MATCH(Q8,Input!M$5:M$24,0)),2,1)))","v":1},{"$f":"IF(M8<>\"\", M8, H8)","v":""},{"$f":"K8","v":0},null,"\\"]
[null,null,null,null,null,null,{"$f":"IF(OR(A9=\"\",B9=\"\"),0,IF($A$97=TRUE,ABS(B9-A9)*5280,ABS(VALUE(SUBSTITUTE(A9,\"+\",\"\"))-VALUE(SUBSTITUTE(B9,\"+\",\"\")))))","v":0},{"$f":"IF(D9=\"\",\"\",G9*(D9+E9)/9)","v":""},null,"",null,{"$f":"IF(K9=\"\",\"\",K9/J9*100)","v":""},null,null,null,null,{"$f":"O9 & \"\\\" & N9","v":"\\"},{"$f":"IF(AND(A9=\"\",B9=\"\",C9=\"\",D9=\"\"),1,IF(OR(O9=\"\",N9=\"\"),2,IF(ISERROR(MATCH(Q9,Input!M$5:M$24,0)),2,1)))","v":1},{"$f":"IF(M9<>\"\", M9, H9)","v":""},{"$f":"K9","v":0},null,"\\"]
[null,null,null,null,null,null,0,"",null,"",null,"",null,null,null,null,"\\",{"$f":"IF(AND(A10=\"\",B10=\"\",C10=\"\",D10=\"\"),1,IF(OR(O10=\"\",N10=\"\"),2,IF(ISERROR(MATCH(Q10,Input!M$5:M$24,0)),2,1)))","v":1},{"$f":"IF(M10<>\"\", M10, H10)","v":""},0]
[null,null,null,null,null,null,0,"",null,"",null,"",null,null,null,null,"\\",{"$f":"IF(AND(A11=\"\",B11=\"\",C11=\"\",D11=\"\"),1,IF(OR(O11=\"\",N11=\"\"),2,IF(ISERROR(MATCH(Q11,Input!M$5:M$24,0)),2,1)))","v":1},"",0]
[null,null,null,null,null,null,0,"",null,"",null,"",null,null,null,null,"\\",{"$f":"IF(AND(A12=\"\",B12=\"\",C12=\"\",D12=\"\"),1,IF(OR(O12=\"\",N12=\"\"),2,IF(ISERROR(MATCH(Q12,Input!M$5:M$24,0)),2,1)))","v":1},"",0]
[null,null,null,null,null,null,0,"",null,"",null,"",null,null,null,null,"\\",{"$f":"IF(AND(A13=\"\",B13=\"\",C13=\"\",D13=\"\"),1,IF(OR(O13=\"\",N13=\"\"),2,IF(ISERROR(MATCH(Q13,Input!M$5:M$24,0)),2,1)))","v":1},"",0]
[null,null,null,null,null,null,0,"",null,"",null,"",null,null,null,null,"\\",{"$f":"IF(AND(A14=\"\",B14=\"\",C14=\"\",D14=\"\"),1,IF(OR(O14=\"\",N14=\"\"),2,IF(ISERROR(MATCH(Q14,Input!M$5:M$24,0)),2,1)))","v":1},"",0]
[null,null,null,null,null,null,0,"",null,"",null,"",null,null,null,null,"\\",{"$f":"IF(AND(A15=\"\",B15=\"\",C15=\"\",D15=\"\"),1,IF(OR(O15=\"\",N15=\"\"),2,IF(ISERROR(MATCH(Q15,Input!M$5:M$24,0)),2,1)))","v":1},"",0]
[null,null,null,null,null,null,0,"",null,"",null,"",null,null,null,null,"\\",{"$f":"IF(AND(A16=\"\",B16=\"\",C16=\"\",D16=\"\"),1,IF(OR(O16=\"\",N16=\"\"),2,IF(ISERROR(MATCH(Q16,Input!M$5:M$24,0)),2,1)))","v":1},"",0]
[null,null,null,null,null,null,0,"",null,"",null,"",null,null,null,null,"\\",{"$f":"IF(AND(A17=\"\",B17=\"\",C17=\"\",D17=\"\"),1,IF(OR(O17=\"\",N17=\"\"),2,IF(ISERROR(MATCH(Q17,Input!M$5:M$24,0)),2,1)))","v":1},"",0]
[]
["TANK SHEET"]
["Bid Item (In Order of Placement)",null,"Today's Placement",null,null,"Bid Item Plan Quantity","Plan Thickness (in)","Contract Mix Price","Contract Binder Price","Project Number",null,null,null,"Mix Pay Units","Mix Delivered to Road\n(Ton or SY)","Waste On Road (Ton)\nNO waste for SY Items","Tons Placed - Waste",null,null,"This adds up column S as it depends if the Est SY is filled out or the SY",null,"Use this Column for SY for the Q column","Uses this Value for Mix on Road"]
[null,null,null,null,null,{"$f":"IF($J21=\"\",\"\",INDEX(Input!$A$5:$H$24,MATCH($A21&$J21,Input!$A$5:$A$24&Input!$G$5:$G$24,0),2))","v":""},{"$f":"IF($J21=\"\",\"\",INDEX(Input!$A$5:$H$24,MATCH($A21&$J21,Input!$A$5:$A$24&Input!$G$5:$G$24,0),3))","v":""},{"$f":"IF($J21=\"\",\"\",INDEX(Input!$A$5:$H$24,MATCH($A21&$J21,Input!$A$5:$A$24&Input!$G$5:$G$24,0),4))","v":""},{"$f":"IF($J21=\"\",\"\",INDEX(Input!$A$5:$H$24,MATCH($A21&$J21,Input!$A$5:$A$24&Input!$G$5:$G$24,0),5))","v":""},null,null,null,null,{"$f":"IF($A21=\"\",\"\",OFFSET(Input!F$4,MATCH($A21,Input!$A$5:$A$24,0),0))","v":""},{"$f":"IF(N21=\"SY\", T21, IF(N21=\"Tons\", W21, \"\"))","v":""},null,{"$f":"IF(N21=\"SY\", V21, IF(N21=\"Tons\", O21-P21, \"\"))","v":""},{"$f":"SUBSTITUTE(A21 & \"\\\" & J21,\"\"\"\",\"\")","v":"\\"},{"$f":"IF(A21=\"\",1,IF(ISERROR(MATCH(R21,Input!L$5:L$24,0)),2,1))","v":1},{"$f":"IF(A21=\"\", \"\", SUMIF($Q$8:$Q$17, \"*\" & LEFT(A21, 11) & \"*\", $S$8:$S$17))","v":""},null,{"$f":"IF(A21=\"\", \"\", SUMIF($Q$8:$Q$17, \"*\" & LEFT(A21, 11) & \"*\", $T$8:$T$17))","v":""},{"$f":"IF(N21=\"SY\", T21, IF(N21=\"Tons\", V21+P21, \"\"))","v":""}]
[null,null,null,null,null,{"$f":"IF($J22=\"\",\"\",INDEX(Input!$A$5:$H$24,MATCH($A22&$J22,Input!$A$5:$A$24&Input!$G$5:$G$24,0),2))","v":""},{"$f":"IF($J22=\"\",\"\",INDEX(Input!$A$5:$H$24,MATCH($A22&$J22,Input!$A$5:$A$24&Input!$G$5:$G$24,0),3))","v":""},{"$f":"IF($J22=\"\",\"\",INDEX(Input!$A$5:$H$24,MATCH($A22&$J22,Input!$A$5:$A$24&Input!$G$5:$G$24,0),4))","v":""},{"$f":"IF($J22=\"\",\"\",INDEX(Input!$A$5:$H$24,MATCH($A22&$J22,Input!$A$5:$A$24&Input!$G$5:$G$24,0),5))","v":""},null,null,null,null,{"$f":"IF($A22=\"\",\"\",OFFSET(Input!F$4,MATCH($A22,Input!$A$5:$A$24,0),0))","v":""},{"$f":"IF(N22=\"SY\", T22, IF(N22=\"Tons\", W22, \"\"))","v":""},null,{"$f":"IF(N22=\"SY\", V22, IF(N22=\"Tons\", O22-P22, \"\"))","v":""},{"$f":"SUBSTITUTE(A22 & \"\\\" & J22,\"\"\"\",\"\")","v":"\\"},{"$f":"IF(A22=\"\",1,IF(ISERROR(MATCH(R22,Input!L$5:L$24,0)),2,1))","v":1},{"$f":"IF(A22=\"\", \"\", SUMIF($Q$8:$Q$17, \"*\" & LEFT(A22, 11) & \"*\", $S$8:$S$17))","v":""},null,{"$f":"IF(A22=\"\", \"\", SUMIF($Q$8:$Q$17, \"*\" & LEFT(A22, 11) & \"*\", $T$8:$T$17))","v":""},{"$f":"IF(N22=\"SY\", T22, IF(N22=\"Tons\", V22+P22, \"\"))","v":""}]
[null,null,null,null,null,{"$f":"IF($J23=\"\",\"\",INDEX(Input!$A$5:$H$24,MATCH($A23&$J23,Input!$A$5:$A$24&Input!$G$5:$G$24,0),2))","v":""},{"$f":"IF($J23=\"\",\"\",INDEX(Input!$A$5:$H$24,MATCH($A23&$J23,Input!$A$5:$A$24&Input!$G$5:$G$24,0),3))","v":""},{"$f":"IF($J23=\"\",\"\",INDEX(Input!$A$5:$H$24,MATCH($A23&$J23,Input!$A$5:$A$24&Input!$G$5:$G$24,0),4))","v":""},{"$f":"IF($J23=\"\",\"\",INDEX(Input!$A$5:$H$24,MATCH($A23&$J23,Input!$A$5:$A$24&Input!$G$5:$G$24,0),5))","v":""},null,null,null,null,{"$f":"IF($A23=\"\",\"\",OFFSET(Input!F$4,MATCH($A23,Input!$A$5:$A$24,0),0))","v":""},{"$f":"IF(N23=\"SY\", T23, IF(N23=\"Tons\", W23, \"\"))","v":""},null,{"$f":"IF(N23=\"SY\", V23, IF(N23=\"Tons\", O23-P23, \"\"))","v":""},"\\",{"$f":"IF(A23=\"\",1,IF(ISERROR(MATCH(R23,Input!L$5:L$24,0)),2,1))","v":1},{"$f":"IF(A23=\"\", \"\", SUMIF($Q$8:$Q$17, \"*\" & LEFT(A23, 11) & \"*\", $S$8:$S$17))","v":""},null,{"$f":"IF(A23=\"\", \"\", SUMIF($Q$8:$Q$17, \"*\" & LEFT(A23, 11) & \"*\", $T$8:$T$17))","v":""},{"$f":"IF(N23=\"SY\", T23, IF(N23=\"Tons\", V23+P23, \"\"))","v":""}]
[null,null,null,null,null,{"$f":"IF($J24=\"\",\"\",INDEX(Input!$A$5:$H$24,MATCH($A24&$J24,Input!$A$5:$A$24&Input!$G$5:$G$24,0),2))","v":""},{"$f":"IF($J24=\"\",\"\",INDEX(Input!$A$5:$H$24,MATCH($A24&$J24,Input!$A$5:$A$24&Input!$G$5:$G$24,0),3))","v":""},{"$f":"IF($J24=\"\",\"\",INDEX(Input!$A$5:$H$24,MATCH($A24&$J24,Input!$A$5:$A$24&Input!$G$5:$G$24,0),4))","v":""},{"$f":"IF($J24=\"\",\"\",INDEX(Input!$A$5:$H$24,MATCH($A24&$J24,Input!$A$5:$A$24&Input!$G$5:$G$24,0),5))","v":""},null,null,null,null,{"$f":"IF($A24=\"\",\"\",OFFSET(Input!F$4,MATCH($A24,Input!$A$5:$A$24,0),0))","v":""},"",null,{"$f":"IF(N24=\"SY\", V24, IF(N24=\"Tons\", O24-P24, \"\"))","v":""},"\\",{"$f":"IF(A24=\"\",1,IF(ISERROR(MATCH(R24,Input!L$5:L$24,0)),2,1))","v":1},"",null,{"$f":"IF(A24=\"\", \"\", SUMIF($Q$8:$Q$17, \"*\" & LEFT(A24, 11) & \"*\", $T$8:$T$17))","v":""},{"$f":"IF(N24=\"SY\", T24, IF(N24=\"Tons\", V24+P24, \"\"))","v":""}]
[null,null,null,null,null,{"$f":"IF($J25=\"\",\"\",INDEX(Input!$A$5:$H$24,MATCH($A25&$J25,Input!$A$5:$A$24&Input!$G$5:$G$24,0),2))","v":""},{"$f":"IF($J25=\"\",\"\",INDEX(Input!$A$5:$H$24,MATCH($A25&$J25,Input!$A$5:$A$24&Input!$G$5:$G$24,0),3))","v":""},{"$f":"IF($J25=\"\",\"\",INDEX(Input!$A$5:$H$24,MATCH($A25&$J25,Input!$A$5:$A$24&Input!$G$5:$G$24,0),4))","v":""},{"$f":"IF($J25=\"\",\"\",INDEX(Input!$A$5:$H$24,MATCH($A25&$J25,Input!$A$5:$A$24&Input!$G$5:$G$24,0),5))","v":""},null,null,null,null,{"$f":"IF($A25=\"\",\"\",OFFSET(Input!F$4,MATCH($A25,Input!$A$5:$A$24,0),0))","v":""},"",null,"","\\",{"$f":"IF(A25=\"\",1,IF(ISERROR(MATCH(R25,Input!L$5:L$24,0)),2,1))","v":1},"",null,"",""]
[null,null,null,null,null,null,null,null,null,null,null,null,null,null,null,null,null,null,null,null,null,"",{"$f":"IF(N26=\"SY\", T26, IF(N26=\"Tons\", V26+P26, \"\"))","v":""},{"$f":"IF(A26=\"\", \"\", SUMIF($Q$8:$Q$17, \"*\" & LEFT(A26, 11) & \"*\", $S$8:$S$17))","v":""},{"$f":"IF(N26=\"SY\",X26,\"\")","v":""},{"$f":"IF(A26=\"\", \"\", SUMIF($Q$8:$Q$17, \"*\" & LEFT(A26, 11) & \"*\", $T$8:$T$17))","v":""}]
["Hot Box Sample",null,null,null,null,null,null,null,null,null,"Mat Temperatures °F"]
[null,"Test A","Test B","Test C","Test D","Test E",null,null,null,null,"Time","Temp"]
[" Hot Box ID Number  ",null,null,null,null,null,null,null,null,null,"7:00"]
["Hot Box Sample Tons: ",null,null,null,null,null,null,null,null,null,"9:00",null,null,null,"Intended Thickness:"]
[" Time: ",null,null,null,null,null,null,null,null,null,"11:00",null,null,null,"Cores Waived?"]
[" Station/MP: ",null,null,null,null,null,null,null,null,null,"1:00",null,null,null,"Small Quantity Statement?"]
["Bar Code ID.:",null,null,null,null,null,null,null,null,null,"3:00",null,null,null,"Scale Check Done?"]
["Compaction Temp. °F: ",null,null,null,null,null,null,null,null,null,"5:00",null,null,null,"Tack Tickets Today?"]
[null,null,null,null,null,null,null,null,null,null,"7:00"]
["The Below Comments should show up on the plant report"]
["Comments:"]
[]
[]
["The Below Notes are for the CPI from the field or Plant Monitor"]
["Notes:"]
[]
[]
["RANDOM CORE LOCATIONS"]
[null,null,null,null,null,null,null,"Core #","Station","Offset,ft","Joint Station","Lane"]
[null,null,null,null,null,null,null,1]
[null,null,null,null,null,null,null,2]
[null,null,null,null,null,null,null,3]
[null,null,null,null,null,null,null,4]
[null,null,null,null,null,null,null,5]
[null,null,null,null,null,null,null,6]
[null,null,null,null,null,null,null,7]
[null,null,null,null,null,null,null,8]
[]
[null,null,null,null,null,null,null,null,null,null,"Joint Sublot Size, ft"]
[null,null,null,null,null,null,null,null,null,null,0]
[]
[]
[]
[]
[]
[]
[]
[]
[]
[]
[]
[]
[]
[]
[]
[]
[]
[]
[]
[]
[]
[]
[]
[]
[]
[]
[]
[]
[]
[]
[]
[]
[]
[]
[]
[]
[]
[]
[]
[]
[false]

{"sheet":"4","index":19,"n_rows":97,"n_cols":26,"rows_kept":97,"cut":false,"hidden":false,"merged":[[50,11,50,13],[51,11,51,13],[52,11,52,13],[44,11,44,13],[45,11,45,13],[46,11,46,13],[47,11,47,13],[48,11,48,13],[49,11,49,13],[43,0,43,16],[25,0,25,1],[26,0,26,5],[26,20,26,23],[26,25,26,27],[34,2,34,4],[35,0,35,5],[36,1,36,14],[37,0,37,14],[39,0,39,5],[40,1,40,14],[41,0,41,14],[23,0,23,1],[23,2,23,4],[23,9,23,12],[24,0,24,1],[24,2,24,4],[24,9,24,12],[21,0,21,1],[21,2,21,4],[21,9,21,12],[22,0,22,1],[22,2,22,4],[22,9,22,12],[19,0,19,1],[19,2,19,4],[19,9,19,12],[20,0,20,1],[20,2,20,4],[20,9,20,12],[18,0,18,16],[6,14,6,15],[7,14,7,15],[8,14,8,15],[9,14,9,15],[10,14,10,15],[11,14,11,15],[12,14,12,15],[13,14,13,15],[14,14,14,15],[15,14,15,15],[16,14,16,15],[1,0,1,16],[4,0,4,15],[5,4,5,5],[5,8,5,9],[5,11,5,12],[5,13,5,15]]}
[]
["Iowa DOT HMA Field Report"]
["Date :"]
["Item No.('s)"]
["PLACEMENT RECORD",null,null,null,null,null,null,null,null,null,null,null,null,null,null,null,null,null,null,null,null,{"$f":"SUBSTITUTE(A21 & \"\\\" & J21,\"\"\"\",\"\")","v":"\\"}]
[null,null,null,null,"Additional width to DEDUCT from Field Voids",null,null,null,"Placed Density (Pounds/CF)=",null,150,"Overwritten on the \"Summary\" Tab",null,"ONLY ONE (1) MIX DESIGN PER DFR OTHERWISE IT WILL NOT IMPORT INTO THE PLANT REPORT PROPERLY",null,null,null,null,null,null,null,{"$f":"SUBSTITUTE(A22 & \"\\\" & J22,\"\"\"\",\"\")","v":"\\"}]
["From Station"," To Station","Lane","ML or Widening Placement Width","Additional Width (ft) ","Thickness (in)","Total Length Placed (FT)","\"Pay\"  Est \"SY\"","Thickness (inches)","Calculated Field Voids Tons","Placed Tons            (Not including Waste)","% Yield","SY to be PAID (If Diff. than Est SY)","Mix Design No.","Bid Item/ Project No.",null,null,null,"This uses the correct SY #, if Green is blank uses Est. SY","Adds up the Tons",null,"\\"]
[null,null,null,null,null,null,{"$f":"IF(OR(A8=\"\",B8=\"\"),0,IF($A$97=TRUE,ABS(B8-A8)*5280,ABS(VALUE(SUBSTITUTE(A8,\"+\",\"\"))-VALUE(SUBSTITUTE(B8,\"+\",\"\")))))","v":0},{"$f":"IF(D8=\"\",\"\",G8*(D8+E8)/9)","v":""},null,{"$f":"IF(I8=\"\",\"\",(G8)*(D8+E8)*I8/12*$K$6/2000)","v":""},null,{"$f":"IF(K8=\"\",\"\",K8/J8*100)","v":""},null,null,null,null,{"$f":"O8 & \"\\\" & N8","v":"\\"},{"$f":"IF(AND(A8=\"\",B8=\"\",C8=\"\",D8=\"\"),1,IF(OR(O8=\"\",N8=\"\"),2,IF(ISERROR(MATCH(Q8,Input!M$5:M$24,0)),2,1)))","v":1},{"$f":"IF(M8<>\"\", M8, H8)","v":""},{"$f":"K8","v":0},null,"\\"]
[null,null,null,null,null,null,{"$f":"IF(OR(A9=\"\",B9=\"\"),0,IF($A$97=TRUE,ABS(B9-A9)*5280,ABS(VALUE(SUBSTITUTE(A9,\"+\",\"\"))-VALUE(SUBSTITUTE(B9,\"+\",\"\")))))","v":0},{"$f":"IF(D9=\"\",\"\",G9*(D9+E9)/9)","v":""},null,"",null,{"$f":"IF(K9=\"\",\"\",K9/J9*100)","v":""},null,null,null,null,{"$f":"O9 & \"\\\" & N9","v":"\\"},{"$f":"IF(AND(A9=\"\",B9=\"\",C9=\"\",D9=\"\"),1,IF(OR(O9=\"\",N9=\"\"),2,IF(ISERROR(MATCH(Q9,Input!M$5:M$24,0)),2,1)))","v":1},{"$f":"IF(M9<>\"\", M9, H9)","v":""},{"$f":"K9","v":0},null,"\\"]
[null,null,null,null,null,null,0,"",null,"",null,"",null,null,null,null,"\\",{"$f":"IF(AND(A10=\"\",B10=\"\",C10=\"\",D10=\"\"),1,IF(OR(O10=\"\",N10=\"\"),2,IF(ISERROR(MATCH(Q10,Input!M$5:M$24,0)),2,1)))","v":1},{"$f":"IF(M10<>\"\", M10, H10)","v":""},0]
[null,null,null,null,null,null,0,"",null,"",null,"",null,null,null,null,"\\",{"$f":"IF(AND(A11=\"\",B11=\"\",C11=\"\",D11=\"\"),1,IF(OR(O11=\"\",N11=\"\"),2,IF(ISERROR(MATCH(Q11,Input!M$5:M$24,0)),2,1)))","v":1},"",0]
[null,null,null,null,null,null,0,"",null,"",null,"",null,null,null,null,"\\",{"$f":"IF(AND(A12=\"\",B12=\"\",C12=\"\",D12=\"\"),1,IF(OR(O12=\"\",N12=\"\"),2,IF(ISERROR(MATCH(Q12,Input!M$5:M$24,0)),2,1)))","v":1},"",0]
[null,null,null,null,null,null,0,"",null,"",null,"",null,null,null,null,"\\",{"$f":"IF(AND(A13=\"\",B13=\"\",C13=\"\",D13=\"\"),1,IF(OR(O13=\"\",N13=\"\"),2,IF(ISERROR(MATCH(Q13,Input!M$5:M$24,0)),2,1)))","v":1},"",0]
[null,null,null,null,null,null,0,"",null,"",null,"",null,null,null,null,"\\",{"$f":"IF(AND(A14=\"\",B14=\"\",C14=\"\",D14=\"\"),1,IF(OR(O14=\"\",N14=\"\"),2,IF(ISERROR(MATCH(Q14,Input!M$5:M$24,0)),2,1)))","v":1},"",0]
[null,null,null,null,null,null,0,"",null,"",null,"",null,null,null,null,"\\",{"$f":"IF(AND(A15=\"\",B15=\"\",C15=\"\",D15=\"\"),1,IF(OR(O15=\"\",N15=\"\"),2,IF(ISERROR(MATCH(Q15,Input!M$5:M$24,0)),2,1)))","v":1},"",0]
[null,null,null,null,null,null,0,"",null,"",null,"",null,null,null,null,"\\",{"$f":"IF(AND(A16=\"\",B16=\"\",C16=\"\",D16=\"\"),1,IF(OR(O16=\"\",N16=\"\"),2,IF(ISERROR(MATCH(Q16,Input!M$5:M$24,0)),2,1)))","v":1},"",0]
[null,null,null,null,null,null,0,"",null,"",null,"",null,null,null,null,"\\",{"$f":"IF(AND(A17=\"\",B17=\"\",C17=\"\",D17=\"\"),1,IF(OR(O17=\"\",N17=\"\"),2,IF(ISERROR(MATCH(Q17,Input!M$5:M$24,0)),2,1)))","v":1},"",0]
[]
["TANK SHEET"]
["Bid Item (In Order of Placement)",null,"Today's Placement",null,null,"Bid Item Plan Quantity","Plan Thickness (in)","Contract Mix Price","Contract Binder Price","Project Number",null,null,null,"Mix Pay Units","Mix Delivered to Road\n(Ton or SY)","Waste On Road (Ton)\nNO waste for SY Items","Tons Placed - Waste",null,null,"This adds up column S as it depends if the Est SY is filled out or the SY",null,"Use this Column for SY for the Q column","Uses this Value for Mix on Road"]
[null,null,null,null,null,{"$f":"IF($J21=\"\",\"\",INDEX(Input!$A$5:$H$24,MATCH($A21&$J21,Input!$A$5:$A$24&Input!$G$5:$G$24,0),2))","v":""},{"$f":"IF($J21=\"\",\"\",INDEX(Input!$A$5:$H$24,MATCH($A21&$J21,Input!$A$5:$A$24&Input!$G$5:$G$24,0),3))","v":""},{"$f":"IF($J21=\"\",\"\",INDEX(Input!$A$5:$H$24,MATCH($A21&$J21,Input!$A$5:$A$24&Input!$G$5:$G$24,0),4))","v":""},{"$f":"IF($J21=\"\",\"\",INDEX(Input!$A$5:$H$24,MATCH($A21&$J21,Input!$A$5:$A$24&Input!$G$5:$G$24,0),5))","v":""},null,null,null,null,{"$f":"IF($A21=\"\",\"\",OFFSET(Input!F$4,MATCH($A21,Input!$A$5:$A$24,0),0))","v":""},{"$f":"IF(N21=\"SY\", T21, IF(N21=\"Tons\", W21, \"\"))","v":""},null,{"$f":"IF(N21=\"SY\", V21, IF(N21=\"Tons\", O21-P21, \"\"))","v":""},{"$f":"SUBSTITUTE(A21 & \"\\\" & J21,\"\"\"\",\"\")","v":"\\"},{"$f":"IF(A21=\"\",1,IF(ISERROR(MATCH(R21,Input!L$5:L$24,0)),2,1))","v":1},{"$f":"IF(A21=\"\", \"\", SUMIF($Q$8:$Q$17, \"*\" & LEFT(A21, 11) & \"*\", $S$8:$S$17))","v":""},null,{"$f":"IF(A21=\"\", \"\", SUMIF($Q$8:$Q$17, \"*\" & LEFT(A21, 11) & \"*\", $T$8:$T$17))","v":""},{"$f":"IF(N21=\"SY\", T21, IF(N21=\"Tons\", V21+P21, \"\"))","v":""}]
[null,null,null,null,null,{"$f":"IF($J22=\"\",\"\",INDEX(Input!$A$5:$H$24,MATCH($A22&$J22,Input!$A$5:$A$24&Input!$G$5:$G$24,0),2))","v":""},{"$f":"IF($J22=\"\",\"\",INDEX(Input!$A$5:$H$24,MATCH($A22&$J22,Input!$A$5:$A$24&Input!$G$5:$G$24,0),3))","v":""},{"$f":"IF($J22=\"\",\"\",INDEX(Input!$A$5:$H$24,MATCH($A22&$J22,Input!$A$5:$A$24&Input!$G$5:$G$24,0),4))","v":""},{"$f":"IF($J22=\"\",\"\",INDEX(Input!$A$5:$H$24,MATCH($A22&$J22,Input!$A$5:$A$24&Input!$G$5:$G$24,0),5))","v":""},null,null,null,null,{"$f":"IF($A22=\"\",\"\",OFFSET(Input!F$4,MATCH($A22,Input!$A$5:$A$24,0),0))","v":""},{"$f":"IF(N22=\"SY\", T22, IF(N22=\"Tons\", W22, \"\"))","v":""},null,{"$f":"IF(N22=\"SY\", V22, IF(N22=\"Tons\", O22-P22, \"\"))","v":""},{"$f":"SUBSTITUTE(A22 & \"\\\" & J22,\"\"\"\",\"\")","v":"\\"},{"$f":"IF(A22=\"\",1,IF(ISERROR(MATCH(R22,Input!L$5:L$24,0)),2,1))","v":1},{"$f":"IF(A22=\"\", \"\", SUMIF($Q$8:$Q$17, \"*\" & LEFT(A22, 11) & \"*\", $S$8:$S$17))","v":""},null,{"$f":"IF(A22=\"\", \"\", SUMIF($Q$8:$Q$17, \"*\" & LEFT(A22, 11) & \"*\", $T$8:$T$17))","v":""},{"$f":"IF(N22=\"SY\", T22, IF(N22=\"Tons\", V22+P22, \"\"))","v":""}]
[null,null,null,null,null,{"$f":"IF($J23=\"\",\"\",INDEX(Input!$A$5:$H$24,MATCH($A23&$J23,Input!$A$5:$A$24&Input!$G$5:$G$24,0),2))","v":""},{"$f":"IF($J23=\"\",\"\",INDEX(Input!$A$5:$H$24,MATCH($A23&$J23,Input!$A$5:$A$24&Input!$G$5:$G$24,0),3))","v":""},{"$f":"IF($J23=\"\",\"\",INDEX(Input!$A$5:$H$24,MATCH($A23&$J23,Input!$A$5:$A$24&Input!$G$5:$G$24,0),4))","v":""},{"$f":"IF($J23=\"\",\"\",INDEX(Input!$A$5:$H$24,MATCH($A23&$J23,Input!$A$5:$A$24&Input!$G$5:$G$24,0),5))","v":""},null,null,null,null,{"$f":"IF($A23=\"\",\"\",OFFSET(Input!F$4,MATCH($A23,Input!$A$5:$A$24,0),0))","v":""},{"$f":"IF(N23=\"SY\", T23, IF(N23=\"Tons\", W23, \"\"))","v":""},null,{"$f":"IF(N23=\"SY\", V23, IF(N23=\"Tons\", O23-P23, \"\"))","v":""},"\\",{"$f":"IF(A23=\"\",1,IF(ISERROR(MATCH(R23,Input!L$5:L$24,0)),2,1))","v":1},{"$f":"IF(A23=\"\", \"\", SUMIF($Q$8:$Q$17, \"*\" & LEFT(A23, 11) & \"*\", $S$8:$S$17))","v":""},null,{"$f":"IF(A23=\"\", \"\", SUMIF($Q$8:$Q$17, \"*\" & LEFT(A23, 11) & \"*\", $T$8:$T$17))","v":""},{"$f":"IF(N23=\"SY\", T23, IF(N23=\"Tons\", V23+P23, \"\"))","v":""}]
[null,null,null,null,null,{"$f":"IF($J24=\"\",\"\",INDEX(Input!$A$5:$H$24,MATCH($A24&$J24,Input!$A$5:$A$24&Input!$G$5:$G$24,0),2))","v":""},{"$f":"IF($J24=\"\",\"\",INDEX(Input!$A$5:$H$24,MATCH($A24&$J24,Input!$A$5:$A$24&Input!$G$5:$G$24,0),3))","v":""},{"$f":"IF($J24=\"\",\"\",INDEX(Input!$A$5:$H$24,MATCH($A24&$J24,Input!$A$5:$A$24&Input!$G$5:$G$24,0),4))","v":""},{"$f":"IF($J24=\"\",\"\",INDEX(Input!$A$5:$H$24,MATCH($A24&$J24,Input!$A$5:$A$24&Input!$G$5:$G$24,0),5))","v":""},null,null,null,null,{"$f":"IF($A24=\"\",\"\",OFFSET(Input!F$4,MATCH($A24,Input!$A$5:$A$24,0),0))","v":""},"",null,{"$f":"IF(N24=\"SY\", V24, IF(N24=\"Tons\", O24-P24, \"\"))","v":""},"\\",{"$f":"IF(A24=\"\",1,IF(ISERROR(MATCH(R24,Input!L$5:L$24,0)),2,1))","v":1},"",null,{"$f":"IF(A24=\"\", \"\", SUMIF($Q$8:$Q$17, \"*\" & LEFT(A24, 11) & \"*\", $T$8:$T$17))","v":""},{"$f":"IF(N24=\"SY\", T24, IF(N24=\"Tons\", V24+P24, \"\"))","v":""}]
[null,null,null,null,null,{"$f":"IF($J25=\"\",\"\",INDEX(Input!$A$5:$H$24,MATCH($A25&$J25,Input!$A$5:$A$24&Input!$G$5:$G$24,0),2))","v":""},{"$f":"IF($J25=\"\",\"\",INDEX(Input!$A$5:$H$24,MATCH($A25&$J25,Input!$A$5:$A$24&Input!$G$5:$G$24,0),3))","v":""},{"$f":"IF($J25=\"\",\"\",INDEX(Input!$A$5:$H$24,MATCH($A25&$J25,Input!$A$5:$A$24&Input!$G$5:$G$24,0),4))","v":""},{"$f":"IF($J25=\"\",\"\",INDEX(Input!$A$5:$H$24,MATCH($A25&$J25,Input!$A$5:$A$24&Input!$G$5:$G$24,0),5))","v":""},null,null,null,null,{"$f":"IF($A25=\"\",\"\",OFFSET(Input!F$4,MATCH($A25,Input!$A$5:$A$24,0),0))","v":""},"",null,"","\\",{"$f":"IF(A25=\"\",1,IF(ISERROR(MATCH(R25,Input!L$5:L$24,0)),2,1))","v":1},"",null,"",""]
[null,null,null,null,null,null,null,null,null,null,null,null,null,null,null,null,null,null,null,null,null,"",{"$f":"IF(N26=\"SY\", T26, IF(N26=\"Tons\", V26+P26, \"\"))","v":""},{"$f":"IF(A26=\"\", \"\", SUMIF($Q$8:$Q$17, \"*\" & LEFT(A26, 11) & \"*\", $S$8:$S$17))","v":""},{"$f":"IF(N26=\"SY\",X26,\"\")","v":""},{"$f":"IF(A26=\"\", \"\", SUMIF($Q$8:$Q$17, \"*\" & LEFT(A26, 11) & \"*\", $T$8:$T$17))","v":""}]
["Hot Box Sample",null,null,null,null,null,null,null,null,null,"Mat Temperatures °F"]
[null,"Test A","Test B","Test C","Test D","Test E",null,null,null,null,"Time","Temp"]
[" Hot Box ID Number  ",null,null,null,null,null,null,null,null,null,"7:00"]
["Hot Box Sample Tons: ",null,null,null,null,null,null,null,null,null,"9:00",null,null,null,"Intended Thickness:"]
[" Time: ",null,null,null,null,null,null,null,null,null,"11:00",null,null,null,"Cores Waived?"]
[" Station/MP: ",null,null,null,null,null,null,null,null,null,"1:00",null,null,null,"Small Quantity Statement?"]
["Bar Code ID.:",null,null,null,null,null,null,null,null,null,"3:00",null,null,null,"Scale Check Done?"]
["Compaction Temp. °F: ",null,null,null,null,null,null,null,null,null,"5:00",null,null,null,"Tack Tickets Today?"]
[null,null,null,null,null,null,null,null,null,null,"7:00"]
["The Below Comments should show up on the plant report"]
["Comments:"]
[]
[]
["The Below Notes are for the CPI from the field or Plant Monitor"]
["Notes:"]
[]
[]
["RANDOM CORE LOCATIONS"]
[null,null,null,null,null,null,null,"Core #","Station","Offset,ft","Joint Station","Lane"]
[null,null,null,null,null,null,null,1]
[null,null,null,null,null,null,null,2]
[null,null,null,null,null,null,null,3]
[null,null,null,null,null,null,null,4]
[null,null,null,null,null,null,null,5]
[null,null,null,null,null,null,null,6]
[null,null,null,null,null,null,null,7]
[null,null,null,null,null,null,null,8]
[]
[null,null,null,null,null,null,null,null,null,null,"Joint Sublot Size, ft"]
[null,null,null,null,null,null,null,null,null,null,0]
[]
[]
[]
[]
[]
[]
[]
[]
[]
[]
[]
[]
[]
[]
[]
[]
[]
[]
[]
[]
[]
[]
[]
[]
[]
[]
[]
[]
[]
[]
[]
[]
[]
[]
[]
[]
[]
[]
[]
[]
[false]

{"sheet":"5","index":20,"n_rows":97,"n_cols":26,"rows_kept":97,"cut":false,"hidden":false,"merged":[[50,11,50,13],[51,11,51,13],[52,11,52,13],[44,11,44,13],[45,11,45,13],[46,11,46,13],[47,11,47,13],[48,11,48,13],[49,11,49,13],[43,0,43,16],[25,0,25,1],[26,0,26,5],[26,20,26,23],[26,25,26,27],[34,2,34,4],[35,0,35,5],[36,1,36,14],[37,0,37,14],[39,0,39,5],[40,1,40,14],[41,0,41,14],[23,0,23,1],[23,2,23,4],[23,9,23,12],[24,0,24,1],[24,2,24,4],[24,9,24,12],[21,0,21,1],[21,2,21,4],[21,9,21,12],[22,0,22,1],[22,2,22,4],[22,9,22,12],[19,0,19,1],[19,2,19,4],[19,9,19,12],[20,0,20,1],[20,2,20,4],[20,9,20,12],[18,0,18,16],[6,14,6,15],[7,14,7,15],[8,14,8,15],[9,14,9,15],[10,14,10,15],[11,14,11,15],[12,14,12,15],[13,14,13,15],[14,14,14,15],[15,14,15,15],[16,14,16,15],[1,0,1,16],[4,0,4,15],[5,4,5,5],[5,8,5,9],[5,11,5,12],[5,13,5,15]]}
[]
["Iowa DOT HMA Field Report"]
["Date :"]
["Item No.('s)"]
["PLACEMENT RECORD",null,null,null,null,null,null,null,null,null,null,null,null,null,null,null,null,null,null,null,null,{"$f":"SUBSTITUTE(A21 & \"\\\" & J21,\"\"\"\",\"\")","v":"\\"}]
[null,null,null,null,"Additional width to DEDUCT from Field Voids",null,null,null,"Placed Density (Pounds/CF)=",null,150,"Overwritten on the \"Summary\" Tab",null,"ONLY ONE (1) MIX DESIGN PER DFR OTHERWISE IT WILL NOT IMPORT INTO THE PLANT REPORT PROPERLY",null,null,null,null,null,null,null,{"$f":"SUBSTITUTE(A22 & \"\\\" & J22,\"\"\"\",\"\")","v":"\\"}]
["From Station"," To Station","Lane","ML or Widening Placement Width","Additional Width (ft) ","Thickness (in)","Total Length Placed (FT)","\"Pay\"  Est \"SY\"","Thickness (inches)","Calculated Field Voids Tons","Placed Tons            (Not including Waste)","% Yield","SY to be PAID (If Diff. than Est SY)","Mix Design No.","Bid Item/ Project No.",null,null,null,"This uses the correct SY #, if Green is blank uses Est. SY","Adds up the Tons",null,"\\"]
[null,null,null,null,null,null,{"$f":"IF(OR(A8=\"\",B8=\"\"),0,IF($A$97=TRUE,ABS(B8-A8)*5280,ABS(VALUE(SUBSTITUTE(A8,\"+\",\"\"))-VALUE(SUBSTITUTE(B8,\"+\",\"\")))))","v":0},{"$f":"IF(D8=\"\",\"\",G8*(D8+E8)/9)","v":""},null,{"$f":"IF(I8=\"\",\"\",(G8)*(D8+E8)*I8/12*$K$6/2000)","v":""},null,{"$f":"IF(K8=\"\",\"\",K8/J8*100)","v":""},null,null,null,null,{"$f":"O8 & \"\\\" & N8","v":"\\"},{"$f":"IF(AND(A8=\"\",B8=\"\",C8=\"\",D8=\"\"),1,IF(OR(O8=\"\",N8=\"\"),2,IF(ISERROR(MATCH(Q8,Input!M$5:M$24,0)),2,1)))","v":1},{"$f":"IF(M8<>\"\", M8, H8)","v":""},{"$f":"K8","v":0},null,"\\"]
[null,null,null,null,null,null,{"$f":"IF(OR(A9=\"\",B9=\"\"),0,IF($A$97=TRUE,ABS(B9-A9)*5280,ABS(VALUE(SUBSTITUTE(A9,\"+\",\"\"))-VALUE(SUBSTITUTE(B9,\"+\",\"\")))))","v":0},{"$f":"IF(D9=\"\",\"\",G9*(D9+E9)/9)","v":""},null,"",null,{"$f":"IF(K9=\"\",\"\",K9/J9*100)","v":""},null,null,null,null,{"$f":"O9 & \"\\\" & N9","v":"\\"},{"$f":"IF(AND(A9=\"\",B9=\"\",C9=\"\",D9=\"\"),1,IF(OR(O9=\"\",N9=\"\"),2,IF(ISERROR(MATCH(Q9,Input!M$5:M$24,0)),2,1)))","v":1},{"$f":"IF(M9<>\"\", M9, H9)","v":""},{"$f":"K9","v":0},null,"\\"]
[null,null,null,null,null,null,0,"",null,"",null,"",null,null,null,null,"\\",{"$f":"IF(AND(A10=\"\",B10=\"\",C10=\"\",D10=\"\"),1,IF(OR(O10=\"\",N10=\"\"),2,IF(ISERROR(MATCH(Q10,Input!M$5:M$24,0)),2,1)))","v":1},{"$f":"IF(M10<>\"\", M10, H10)","v":""},0]
[null,null,null,null,null,null,0,"",null,"",null,"",null,null,null,null,"\\",{"$f":"IF(AND(A11=\"\",B11=\"\",C11=\"\",D11=\"\"),1,IF(OR(O11=\"\",N11=\"\"),2,IF(ISERROR(MATCH(Q11,Input!M$5:M$24,0)),2,1)))","v":1},"",0]
[null,null,null,null,null,null,0,"",null,"",null,"",null,null,null,null,"\\",{"$f":"IF(AND(A12=\"\",B12=\"\",C12=\"\",D12=\"\"),1,IF(OR(O12=\"\",N12=\"\"),2,IF(ISERROR(MATCH(Q12,Input!M$5:M$24,0)),2,1)))","v":1},"",0]
[null,null,null,null,null,null,0,"",null,"",null,"",null,null,null,null,"\\",{"$f":"IF(AND(A13=\"\",B13=\"\",C13=\"\",D13=\"\"),1,IF(OR(O13=\"\",N13=\"\"),2,IF(ISERROR(MATCH(Q13,Input!M$5:M$24,0)),2,1)))","v":1},"",0]
[null,null,null,null,null,null,0,"",null,"",null,"",null,null,null,null,"\\",{"$f":"IF(AND(A14=\"\",B14=\"\",C14=\"\",D14=\"\"),1,IF(OR(O14=\"\",N14=\"\"),2,IF(ISERROR(MATCH(Q14,Input!M$5:M$24,0)),2,1)))","v":1},"",0]
[null,null,null,null,null,null,0,"",null,"",null,"",null,null,null,null,"\\",{"$f":"IF(AND(A15=\"\",B15=\"\",C15=\"\",D15=\"\"),1,IF(OR(O15=\"\",N15=\"\"),2,IF(ISERROR(MATCH(Q15,Input!M$5:M$24,0)),2,1)))","v":1},"",0]
[null,null,null,null,null,null,0,"",null,"",null,"",null,null,null,null,"\\",{"$f":"IF(AND(A16=\"\",B16=\"\",C16=\"\",D16=\"\"),1,IF(OR(O16=\"\",N16=\"\"),2,IF(ISERROR(MATCH(Q16,Input!M$5:M$24,0)),2,1)))","v":1},"",0]
[null,null,null,null,null,null,0,"",null,"",null,"",null,null,null,null,"\\",{"$f":"IF(AND(A17=\"\",B17=\"\",C17=\"\",D17=\"\"),1,IF(OR(O17=\"\",N17=\"\"),2,IF(ISERROR(MATCH(Q17,Input!M$5:M$24,0)),2,1)))","v":1},"",0]
[]
["TANK SHEET"]
["Bid Item (In Order of Placement)",null,"Today's Placement",null,null,"Bid Item Plan Quantity","Plan Thickness (in)","Contract Mix Price","Contract Binder Price","Project Number",null,null,null,"Mix Pay Units","Mix Delivered to Road\n(Ton or SY)","Waste On Road (Ton)\nNO waste for SY Items","Tons Placed - Waste",null,null,"This adds up column S as it depends if the Est SY is filled out or the SY",null,"Use this Column for SY for the Q column","Uses this Value for Mix on Road"]
[null,null,null,null,null,{"$f":"IF($J21=\"\",\"\",INDEX(Input!$A$5:$H$24,MATCH($A21&$J21,Input!$A$5:$A$24&Input!$G$5:$G$24,0),2))","v":""},{"$f":"IF($J21=\"\",\"\",INDEX(Input!$A$5:$H$24,MATCH($A21&$J21,Input!$A$5:$A$24&Input!$G$5:$G$24,0),3))","v":""},{"$f":"IF($J21=\"\",\"\",INDEX(Input!$A$5:$H$24,MATCH($A21&$J21,Input!$A$5:$A$24&Input!$G$5:$G$24,0),4))","v":""},{"$f":"IF($J21=\"\",\"\",INDEX(Input!$A$5:$H$24,MATCH($A21&$J21,Input!$A$5:$A$24&Input!$G$5:$G$24,0),5))","v":""},null,null,null,null,{"$f":"IF($A21=\"\",\"\",OFFSET(Input!F$4,MATCH($A21,Input!$A$5:$A$24,0),0))","v":""},{"$f":"IF(N21=\"SY\", T21, IF(N21=\"Tons\", W21, \"\"))","v":""},null,{"$f":"IF(N21=\"SY\", V21, IF(N21=\"Tons\", O21-P21, \"\"))","v":""},{"$f":"SUBSTITUTE(A21 & \"\\\" & J21,\"\"\"\",\"\")","v":"\\"},{"$f":"IF(A21=\"\",1,IF(ISERROR(MATCH(R21,Input!L$5:L$24,0)),2,1))","v":1},{"$f":"IF(A21=\"\", \"\", SUMIF($Q$8:$Q$17, \"*\" & LEFT(A21, 11) & \"*\", $S$8:$S$17))","v":""},null,{"$f":"IF(A21=\"\", \"\", SUMIF($Q$8:$Q$17, \"*\" & LEFT(A21, 11) & \"*\", $T$8:$T$17))","v":""},{"$f":"IF(N21=\"SY\", T21, IF(N21=\"Tons\", V21+P21, \"\"))","v":""}]
[null,null,null,null,null,{"$f":"IF($J22=\"\",\"\",INDEX(Input!$A$5:$H$24,MATCH($A22&$J22,Input!$A$5:$A$24&Input!$G$5:$G$24,0),2))","v":""},{"$f":"IF($J22=\"\",\"\",INDEX(Input!$A$5:$H$24,MATCH($A22&$J22,Input!$A$5:$A$24&Input!$G$5:$G$24,0),3))","v":""},{"$f":"IF($J22=\"\",\"\",INDEX(Input!$A$5:$H$24,MATCH($A22&$J22,Input!$A$5:$A$24&Input!$G$5:$G$24,0),4))","v":""},{"$f":"IF($J22=\"\",\"\",INDEX(Input!$A$5:$H$24,MATCH($A22&$J22,Input!$A$5:$A$24&Input!$G$5:$G$24,0),5))","v":""},null,null,null,null,{"$f":"IF($A22=\"\",\"\",OFFSET(Input!F$4,MATCH($A22,Input!$A$5:$A$24,0),0))","v":""},{"$f":"IF(N22=\"SY\", T22, IF(N22=\"Tons\", W22, \"\"))","v":""},null,{"$f":"IF(N22=\"SY\", V22, IF(N22=\"Tons\", O22-P22, \"\"))","v":""},{"$f":"SUBSTITUTE(A22 & \"\\\" & J22,\"\"\"\",\"\")","v":"\\"},{"$f":"IF(A22=\"\",1,IF(ISERROR(MATCH(R22,Input!L$5:L$24,0)),2,1))","v":1},{"$f":"IF(A22=\"\", \"\", SUMIF($Q$8:$Q$17, \"*\" & LEFT(A22, 11) & \"*\", $S$8:$S$17))","v":""},null,{"$f":"IF(A22=\"\", \"\", SUMIF($Q$8:$Q$17, \"*\" & LEFT(A22, 11) & \"*\", $T$8:$T$17))","v":""},{"$f":"IF(N22=\"SY\", T22, IF(N22=\"Tons\", V22+P22, \"\"))","v":""}]
[null,null,null,null,null,{"$f":"IF($J23=\"\",\"\",INDEX(Input!$A$5:$H$24,MATCH($A23&$J23,Input!$A$5:$A$24&Input!$G$5:$G$24,0),2))","v":""},{"$f":"IF($J23=\"\",\"\",INDEX(Input!$A$5:$H$24,MATCH($A23&$J23,Input!$A$5:$A$24&Input!$G$5:$G$24,0),3))","v":""},{"$f":"IF($J23=\"\",\"\",INDEX(Input!$A$5:$H$24,MATCH($A23&$J23,Input!$A$5:$A$24&Input!$G$5:$G$24,0),4))","v":""},{"$f":"IF($J23=\"\",\"\",INDEX(Input!$A$5:$H$24,MATCH($A23&$J23,Input!$A$5:$A$24&Input!$G$5:$G$24,0),5))","v":""},null,null,null,null,{"$f":"IF($A23=\"\",\"\",OFFSET(Input!F$4,MATCH($A23,Input!$A$5:$A$24,0),0))","v":""},{"$f":"IF(N23=\"SY\", T23, IF(N23=\"Tons\", W23, \"\"))","v":""},null,{"$f":"IF(N23=\"SY\", V23, IF(N23=\"Tons\", O23-P23, \"\"))","v":""},"\\",{"$f":"IF(A23=\"\",1,IF(ISERROR(MATCH(R23,Input!L$5:L$24,0)),2,1))","v":1},{"$f":"IF(A23=\"\", \"\", SUMIF($Q$8:$Q$17, \"*\" & LEFT(A23, 11) & \"*\", $S$8:$S$17))","v":""},null,{"$f":"IF(A23=\"\", \"\", SUMIF($Q$8:$Q$17, \"*\" & LEFT(A23, 11) & \"*\", $T$8:$T$17))","v":""},{"$f":"IF(N23=\"SY\", T23, IF(N23=\"Tons\", V23+P23, \"\"))","v":""}]
[null,null,null,null,null,{"$f":"IF($J24=\"\",\"\",INDEX(Input!$A$5:$H$24,MATCH($A24&$J24,Input!$A$5:$A$24&Input!$G$5:$G$24,0),2))","v":""},{"$f":"IF($J24=\"\",\"\",INDEX(Input!$A$5:$H$24,MATCH($A24&$J24,Input!$A$5:$A$24&Input!$G$5:$G$24,0),3))","v":""},{"$f":"IF($J24=\"\",\"\",INDEX(Input!$A$5:$H$24,MATCH($A24&$J24,Input!$A$5:$A$24&Input!$G$5:$G$24,0),4))","v":""},{"$f":"IF($J24=\"\",\"\",INDEX(Input!$A$5:$H$24,MATCH($A24&$J24,Input!$A$5:$A$24&Input!$G$5:$G$24,0),5))","v":""},null,null,null,null,{"$f":"IF($A24=\"\",\"\",OFFSET(Input!F$4,MATCH($A24,Input!$A$5:$A$24,0),0))","v":""},"",null,{"$f":"IF(N24=\"SY\", V24, IF(N24=\"Tons\", O24-P24, \"\"))","v":""},"\\",{"$f":"IF(A24=\"\",1,IF(ISERROR(MATCH(R24,Input!L$5:L$24,0)),2,1))","v":1},"",null,{"$f":"IF(A24=\"\", \"\", SUMIF($Q$8:$Q$17, \"*\" & LEFT(A24, 11) & \"*\", $T$8:$T$17))","v":""},{"$f":"IF(N24=\"SY\", T24, IF(N24=\"Tons\", V24+P24, \"\"))","v":""}]
[null,null,null,null,null,{"$f":"IF($J25=\"\",\"\",INDEX(Input!$A$5:$H$24,MATCH($A25&$J25,Input!$A$5:$A$24&Input!$G$5:$G$24,0),2))","v":""},{"$f":"IF($J25=\"\",\"\",INDEX(Input!$A$5:$H$24,MATCH($A25&$J25,Input!$A$5:$A$24&Input!$G$5:$G$24,0),3))","v":""},{"$f":"IF($J25=\"\",\"\",INDEX(Input!$A$5:$H$24,MATCH($A25&$J25,Input!$A$5:$A$24&Input!$G$5:$G$24,0),4))","v":""},{"$f":"IF($J25=\"\",\"\",INDEX(Input!$A$5:$H$24,MATCH($A25&$J25,Input!$A$5:$A$24&Input!$G$5:$G$24,0),5))","v":""},null,null,null,null,{"$f":"IF($A25=\"\",\"\",OFFSET(Input!F$4,MATCH($A25,Input!$A$5:$A$24,0),0))","v":""},"",null,"","\\",{"$f":"IF(A25=\"\",1,IF(ISERROR(MATCH(R25,Input!L$5:L$24,0)),2,1))","v":1},"",null,"",""]
[null,null,null,null,null,null,null,null,null,null,null,null,null,null,null,null,null,null,null,null,null,"",{"$f":"IF(N26=\"SY\", T26, IF(N26=\"Tons\", V26+P26, \"\"))","v":""},{"$f":"IF(A26=\"\", \"\", SUMIF($Q$8:$Q$17, \"*\" & LEFT(A26, 11) & \"*\", $S$8:$S$17))","v":""},{"$f":"IF(N26=\"SY\",X26,\"\")","v":""},{"$f":"IF(A26=\"\", \"\", SUMIF($Q$8:$Q$17, \"*\" & LEFT(A26, 11) & \"*\", $T$8:$T$17))","v":""}]
["Hot Box Sample",null,null,null,null,null,null,null,null,null,"Mat Temperatures °F"]
[null,"Test A","Test B","Test C","Test D","Test E",null,null,null,null,"Time","Temp"]
[" Hot Box ID Number  ",null,null,null,null,null,null,null,null,null,"7:00"]
["Hot Box Sample Tons: ",null,null,null,null,null,null,null,null,null,"9:00",null,null,null,"Intended Thickness:"]
[" Time: ",null,null,null,null,null,null,null,null,null,"11:00",null,null,null,"Cores Waived?"]
[" Station/MP: ",null,null,null,null,null,null,null,null,null,"1:00",null,null,null,"Small Quantity Statement?"]
["Bar Code ID.:",null,null,null,null,null,null,null,null,null,"3:00",null,null,null,"Scale Check Done?"]
["Compaction Temp. °F: ",null,null,null,null,null,null,null,null,null,"5:00",null,null,null,"Tack Tickets Today?"]
[null,null,null,null,null,null,null,null,null,null,"7:00"]
["The Below Comments should show up on the plant report"]
["Comments:"]
[]
[]
["The Below Notes are for the CPI from the field or Plant Monitor"]
["Notes:"]
[]
[]
["RANDOM CORE LOCATIONS"]
[null,null,null,null,null,null,null,"Core #","Station","Offset,ft","Joint Station","Lane"]
[null,null,null,null,null,null,null,1]
[null,null,null,null,null,null,null,2]
[null,null,null,null,null,null,null,3]
[null,null,null,null,null,null,null,4]
[null,null,null,null,null,null,null,5]
[null,null,null,null,null,null,null,6]
[null,null,null,null,null,null,null,7]
[null,null,null,null,null,null,null,8]
[]
[null,null,null,null,null,null,null,null,null,null,"Joint Sublot Size, ft"]
[null,null,null,null,null,null,null,null,null,null,0]
[]
[]
[]
[]
[]
[]
[]
[]
[]
[]
[]
[]
[]
[]
[]
[]
[]
[]
[]
[]
[]
[]
[]
[]
[]
[]
[]
[]
[]
[]
[]
[]
[]
[]
[]
[]
[]
[]
[]
[]
[false]

{"sheet":"6","index":21,"n_rows":97,"n_cols":26,"rows_kept":97,"cut":false,"hidden":false,"merged":[[50,11,50,13],[51,11,51,13],[52,11,52,13],[44,11,44,13],[45,11,45,13],[46,11,46,13],[47,11,47,13],[48,11,48,13],[49,11,49,13],[43,0,43,16],[25,0,25,1],[26,0,26,5],[26,20,26,23],[26,25,26,27],[34,2,34,4],[35,0,35,5],[36,1,36,14],[37,0,37,14],[39,0,39,5],[40,1,40,14],[41,0,41,14],[23,0,23,1],[23,2,23,4],[23,9,23,12],[24,0,24,1],[24,2,24,4],[24,9,24,12],[21,0,21,1],[21,2,21,4],[21,9,21,12],[22,0,22,1],[22,2,22,4],[22,9,22,12],[19,0,19,1],[19,2,19,4],[19,9,19,12],[20,0,20,1],[20,2,20,4],[20,9,20,12],[18,0,18,16],[6,14,6,15],[7,14,7,15],[8,14,8,15],[9,14,9,15],[10,14,10,15],[11,14,11,15],[12,14,12,15],[13,14,13,15],[14,14,14,15],[15,14,15,15],[16,14,16,15],[1,0,1,16],[4,0,4,15],[5,4,5,5],[5,8,5,9],[5,11,5,12],[5,13,5,15]]}
[]
["Iowa DOT HMA Field Report"]
["Date :"]
["Item No.('s)"]
["PLACEMENT RECORD",null,null,null,null,null,null,null,null,null,null,null,null,null,null,null,null,null,null,null,null,{"$f":"SUBSTITUTE(A21 & \"\\\" & J21,\"\"\"\",\"\")","v":"\\"}]
[null,null,null,null,"Additional width to DEDUCT from Field Voids",null,null,null,"Placed Density (Pounds/CF)=",null,150,"Overwritten on the \"Summary\" Tab",null,"ONLY ONE (1) MIX DESIGN PER DFR OTHERWISE IT WILL NOT IMPORT INTO THE PLANT REPORT PROPERLY",null,null,null,null,null,null,null,{"$f":"SUBSTITUTE(A22 & \"\\\" & J22,\"\"\"\",\"\")","v":"\\"}]
["From Station"," To Station","Lane","ML or Widening Placement Width","Additional Width (ft) ","Thickness (in)","Total Length Placed (FT)","\"Pay\"  Est \"SY\"","Thickness (inches)","Calculated Field Voids Tons","Placed Tons            (Not including Waste)","% Yield","SY to be PAID (If Diff. than Est SY)","Mix Design No.","Bid Item/ Project No.",null,null,null,"This uses the correct SY #, if Green is blank uses Est. SY","Adds up the Tons",null,"\\"]
[null,null,null,null,null,null,{"$f":"IF(OR(A8=\"\",B8=\"\"),0,IF($A$97=TRUE,ABS(B8-A8)*5280,ABS(VALUE(SUBSTITUTE(A8,\"+\",\"\"))-VALUE(SUBSTITUTE(B8,\"+\",\"\")))))","v":0},{"$f":"IF(D8=\"\",\"\",G8*(D8+E8)/9)","v":""},null,{"$f":"IF(I8=\"\",\"\",(G8)*(D8+E8)*I8/12*$K$6/2000)","v":""},null,{"$f":"IF(K8=\"\",\"\",K8/J8*100)","v":""},null,null,null,null,{"$f":"O8 & \"\\\" & N8","v":"\\"},{"$f":"IF(AND(A8=\"\",B8=\"\",C8=\"\",D8=\"\"),1,IF(OR(O8=\"\",N8=\"\"),2,IF(ISERROR(MATCH(Q8,Input!M$5:M$24,0)),2,1)))","v":1},{"$f":"IF(M8<>\"\", M8, H8)","v":""},{"$f":"K8","v":0},null,"\\"]
[null,null,null,null,null,null,{"$f":"IF(OR(A9=\"\",B9=\"\"),0,IF($A$97=TRUE,ABS(B9-A9)*5280,ABS(VALUE(SUBSTITUTE(A9,\"+\",\"\"))-VALUE(SUBSTITUTE(B9,\"+\",\"\")))))","v":0},{"$f":"IF(D9=\"\",\"\",G9*(D9+E9)/9)","v":""},null,"",null,{"$f":"IF(K9=\"\",\"\",K9/J9*100)","v":""},null,null,null,null,{"$f":"O9 & \"\\\" & N9","v":"\\"},{"$f":"IF(AND(A9=\"\",B9=\"\",C9=\"\",D9=\"\"),1,IF(OR(O9=\"\",N9=\"\"),2,IF(ISERROR(MATCH(Q9,Input!M$5:M$24,0)),2,1)))","v":1},{"$f":"IF(M9<>\"\", M9, H9)","v":""},{"$f":"K9","v":0},null,"\\"]
[null,null,null,null,null,null,0,"",null,"",null,"",null,null,null,null,"\\",{"$f":"IF(AND(A10=\"\",B10=\"\",C10=\"\",D10=\"\"),1,IF(OR(O10=\"\",N10=\"\"),2,IF(ISERROR(MATCH(Q10,Input!M$5:M$24,0)),2,1)))","v":1},{"$f":"IF(M10<>\"\", M10, H10)","v":""},0]
[null,null,null,null,null,null,0,"",null,"",null,"",null,null,null,null,"\\",{"$f":"IF(AND(A11=\"\",B11=\"\",C11=\"\",D11=\"\"),1,IF(OR(O11=\"\",N11=\"\"),2,IF(ISERROR(MATCH(Q11,Input!M$5:M$24,0)),2,1)))","v":1},"",0]
[null,null,null,null,null,null,0,"",null,"",null,"",null,null,null,null,"\\",{"$f":"IF(AND(A12=\"\",B12=\"\",C12=\"\",D12=\"\"),1,IF(OR(O12=\"\",N12=\"\"),2,IF(ISERROR(MATCH(Q12,Input!M$5:M$24,0)),2,1)))","v":1},"",0]
[null,null,null,null,null,null,0,"",null,"",null,"",null,null,null,null,"\\",{"$f":"IF(AND(A13=\"\",B13=\"\",C13=\"\",D13=\"\"),1,IF(OR(O13=\"\",N13=\"\"),2,IF(ISERROR(MATCH(Q13,Input!M$5:M$24,0)),2,1)))","v":1},"",0]
[null,null,null,null,null,null,0,"",null,"",null,"",null,null,null,null,"\\",{"$f":"IF(AND(A14=\"\",B14=\"\",C14=\"\",D14=\"\"),1,IF(OR(O14=\"\",N14=\"\"),2,IF(ISERROR(MATCH(Q14,Input!M$5:M$24,0)),2,1)))","v":1},"",0]
[null,null,null,null,null,null,0,"",null,"",null,"",null,null,null,null,"\\",{"$f":"IF(AND(A15=\"\",B15=\"\",C15=\"\",D15=\"\"),1,IF(OR(O15=\"\",N15=\"\"),2,IF(ISERROR(MATCH(Q15,Input!M$5:M$24,0)),2,1)))","v":1},"",0]
[null,null,null,null,null,null,0,"",null,"",null,"",null,null,null,null,"\\",{"$f":"IF(AND(A16=\"\",B16=\"\",C16=\"\",D16=\"\"),1,IF(OR(O16=\"\",N16=\"\"),2,IF(ISERROR(MATCH(Q16,Input!M$5:M$24,0)),2,1)))","v":1},"",0]
[null,null,null,null,null,null,0,"",null,"",null,"",null,null,null,null,"\\",{"$f":"IF(AND(A17=\"\",B17=\"\",C17=\"\",D17=\"\"),1,IF(OR(O17=\"\",N17=\"\"),2,IF(ISERROR(MATCH(Q17,Input!M$5:M$24,0)),2,1)))","v":1},"",0]
[]
["TANK SHEET"]
["Bid Item (In Order of Placement)",null,"Today's Placement",null,null,"Bid Item Plan Quantity","Plan Thickness (in)","Contract Mix Price","Contract Binder Price","Project Number",null,null,null,"Mix Pay Units","Mix Delivered to Road\n(Ton or SY)","Waste On Road (Ton)\nNO waste for SY Items","Tons Placed - Waste",null,null,"This adds up column S as it depends if the Est SY is filled out or the SY",null,"Use this Column for SY for the Q column","Uses this Value for Mix on Road"]
[null,null,null,null,null,{"$f":"IF($J21=\"\",\"\",INDEX(Input!$A$5:$H$24,MATCH($A21&$J21,Input!$A$5:$A$24&Input!$G$5:$G$24,0),2))","v":""},{"$f":"IF($J21=\"\",\"\",INDEX(Input!$A$5:$H$24,MATCH($A21&$J21,Input!$A$5:$A$24&Input!$G$5:$G$24,0),3))","v":""},{"$f":"IF($J21=\"\",\"\",INDEX(Input!$A$5:$H$24,MATCH($A21&$J21,Input!$A$5:$A$24&Input!$G$5:$G$24,0),4))","v":""},{"$f":"IF($J21=\"\",\"\",INDEX(Input!$A$5:$H$24,MATCH($A21&$J21,Input!$A$5:$A$24&Input!$G$5:$G$24,0),5))","v":""},null,null,null,null,{"$f":"IF($A21=\"\",\"\",OFFSET(Input!F$4,MATCH($A21,Input!$A$5:$A$24,0),0))","v":""},{"$f":"IF(N21=\"SY\", T21, IF(N21=\"Tons\", W21, \"\"))","v":""},null,{"$f":"IF(N21=\"SY\", V21, IF(N21=\"Tons\", O21-P21, \"\"))","v":""},{"$f":"SUBSTITUTE(A21 & \"\\\" & J21,\"\"\"\",\"\")","v":"\\"},{"$f":"IF(A21=\"\",1,IF(ISERROR(MATCH(R21,Input!L$5:L$24,0)),2,1))","v":1},{"$f":"IF(A21=\"\", \"\", SUMIF($Q$8:$Q$17, \"*\" & LEFT(A21, 11) & \"*\", $S$8:$S$17))","v":""},null,{"$f":"IF(A21=\"\", \"\", SUMIF($Q$8:$Q$17, \"*\" & LEFT(A21, 11) & \"*\", $T$8:$T$17))","v":""},{"$f":"IF(N21=\"SY\", T21, IF(N21=\"Tons\", V21+P21, \"\"))","v":""}]
[null,null,null,null,null,{"$f":"IF($J22=\"\",\"\",INDEX(Input!$A$5:$H$24,MATCH($A22&$J22,Input!$A$5:$A$24&Input!$G$5:$G$24,0),2))","v":""},{"$f":"IF($J22=\"\",\"\",INDEX(Input!$A$5:$H$24,MATCH($A22&$J22,Input!$A$5:$A$24&Input!$G$5:$G$24,0),3))","v":""},{"$f":"IF($J22=\"\",\"\",INDEX(Input!$A$5:$H$24,MATCH($A22&$J22,Input!$A$5:$A$24&Input!$G$5:$G$24,0),4))","v":""},{"$f":"IF($J22=\"\",\"\",INDEX(Input!$A$5:$H$24,MATCH($A22&$J22,Input!$A$5:$A$24&Input!$G$5:$G$24,0),5))","v":""},null,null,null,null,{"$f":"IF($A22=\"\",\"\",OFFSET(Input!F$4,MATCH($A22,Input!$A$5:$A$24,0),0))","v":""},{"$f":"IF(N22=\"SY\", T22, IF(N22=\"Tons\", W22, \"\"))","v":""},null,{"$f":"IF(N22=\"SY\", V22, IF(N22=\"Tons\", O22-P22, \"\"))","v":""},{"$f":"SUBSTITUTE(A22 & \"\\\" & J22,\"\"\"\",\"\")","v":"\\"},{"$f":"IF(A22=\"\",1,IF(ISERROR(MATCH(R22,Input!L$5:L$24,0)),2,1))","v":1},{"$f":"IF(A22=\"\", \"\", SUMIF($Q$8:$Q$17, \"*\" & LEFT(A22, 11) & \"*\", $S$8:$S$17))","v":""},null,{"$f":"IF(A22=\"\", \"\", SUMIF($Q$8:$Q$17, \"*\" & LEFT(A22, 11) & \"*\", $T$8:$T$17))","v":""},{"$f":"IF(N22=\"SY\", T22, IF(N22=\"Tons\", V22+P22, \"\"))","v":""}]
[null,null,null,null,null,{"$f":"IF($J23=\"\",\"\",INDEX(Input!$A$5:$H$24,MATCH($A23&$J23,Input!$A$5:$A$24&Input!$G$5:$G$24,0),2))","v":""},{"$f":"IF($J23=\"\",\"\",INDEX(Input!$A$5:$H$24,MATCH($A23&$J23,Input!$A$5:$A$24&Input!$G$5:$G$24,0),3))","v":""},{"$f":"IF($J23=\"\",\"\",INDEX(Input!$A$5:$H$24,MATCH($A23&$J23,Input!$A$5:$A$24&Input!$G$5:$G$24,0),4))","v":""},{"$f":"IF($J23=\"\",\"\",INDEX(Input!$A$5:$H$24,MATCH($A23&$J23,Input!$A$5:$A$24&Input!$G$5:$G$24,0),5))","v":""},null,null,null,null,{"$f":"IF($A23=\"\",\"\",OFFSET(Input!F$4,MATCH($A23,Input!$A$5:$A$24,0),0))","v":""},{"$f":"IF(N23=\"SY\", T23, IF(N23=\"Tons\", W23, \"\"))","v":""},null,{"$f":"IF(N23=\"SY\", V23, IF(N23=\"Tons\", O23-P23, \"\"))","v":""},"\\",{"$f":"IF(A23=\"\",1,IF(ISERROR(MATCH(R23,Input!L$5:L$24,0)),2,1))","v":1},{"$f":"IF(A23=\"\", \"\", SUMIF($Q$8:$Q$17, \"*\" & LEFT(A23, 11) & \"*\", $S$8:$S$17))","v":""},null,{"$f":"IF(A23=\"\", \"\", SUMIF($Q$8:$Q$17, \"*\" & LEFT(A23, 11) & \"*\", $T$8:$T$17))","v":""},{"$f":"IF(N23=\"SY\", T23, IF(N23=\"Tons\", V23+P23, \"\"))","v":""}]
[null,null,null,null,null,{"$f":"IF($J24=\"\",\"\",INDEX(Input!$A$5:$H$24,MATCH($A24&$J24,Input!$A$5:$A$24&Input!$G$5:$G$24,0),2))","v":""},{"$f":"IF($J24=\"\",\"\",INDEX(Input!$A$5:$H$24,MATCH($A24&$J24,Input!$A$5:$A$24&Input!$G$5:$G$24,0),3))","v":""},{"$f":"IF($J24=\"\",\"\",INDEX(Input!$A$5:$H$24,MATCH($A24&$J24,Input!$A$5:$A$24&Input!$G$5:$G$24,0),4))","v":""},{"$f":"IF($J24=\"\",\"\",INDEX(Input!$A$5:$H$24,MATCH($A24&$J24,Input!$A$5:$A$24&Input!$G$5:$G$24,0),5))","v":""},null,null,null,null,{"$f":"IF($A24=\"\",\"\",OFFSET(Input!F$4,MATCH($A24,Input!$A$5:$A$24,0),0))","v":""},"",null,{"$f":"IF(N24=\"SY\", V24, IF(N24=\"Tons\", O24-P24, \"\"))","v":""},"\\",{"$f":"IF(A24=\"\",1,IF(ISERROR(MATCH(R24,Input!L$5:L$24,0)),2,1))","v":1},"",null,{"$f":"IF(A24=\"\", \"\", SUMIF($Q$8:$Q$17, \"*\" & LEFT(A24, 11) & \"*\", $T$8:$T$17))","v":""},{"$f":"IF(N24=\"SY\", T24, IF(N24=\"Tons\", V24+P24, \"\"))","v":""}]
[null,null,null,null,null,{"$f":"IF($J25=\"\",\"\",INDEX(Input!$A$5:$H$24,MATCH($A25&$J25,Input!$A$5:$A$24&Input!$G$5:$G$24,0),2))","v":""},{"$f":"IF($J25=\"\",\"\",INDEX(Input!$A$5:$H$24,MATCH($A25&$J25,Input!$A$5:$A$24&Input!$G$5:$G$24,0),3))","v":""},{"$f":"IF($J25=\"\",\"\",INDEX(Input!$A$5:$H$24,MATCH($A25&$J25,Input!$A$5:$A$24&Input!$G$5:$G$24,0),4))","v":""},{"$f":"IF($J25=\"\",\"\",INDEX(Input!$A$5:$H$24,MATCH($A25&$J25,Input!$A$5:$A$24&Input!$G$5:$G$24,0),5))","v":""},null,null,null,null,{"$f":"IF($A25=\"\",\"\",OFFSET(Input!F$4,MATCH($A25,Input!$A$5:$A$24,0),0))","v":""},"",null,"","\\",{"$f":"IF(A25=\"\",1,IF(ISERROR(MATCH(R25,Input!L$5:L$24,0)),2,1))","v":1},"",null,"",""]
[null,null,null,null,null,null,null,null,null,null,null,null,null,null,null,null,null,null,null,null,null,"",{"$f":"IF(N26=\"SY\", T26, IF(N26=\"Tons\", V26+P26, \"\"))","v":""},{"$f":"IF(A26=\"\", \"\", SUMIF($Q$8:$Q$17, \"*\" & LEFT(A26, 11) & \"*\", $S$8:$S$17))","v":""},{"$f":"IF(N26=\"SY\",X26,\"\")","v":""},{"$f":"IF(A26=\"\", \"\", SUMIF($Q$8:$Q$17, \"*\" & LEFT(A26, 11) & \"*\", $T$8:$T$17))","v":""}]
["Hot Box Sample",null,null,null,null,null,null,null,null,null,"Mat Temperatures °F"]
[null,"Test A","Test B","Test C","Test D","Test E",null,null,null,null,"Time","Temp"]
[" Hot Box ID Number  ",null,null,null,null,null,null,null,null,null,"7:00"]
["Hot Box Sample Tons: ",null,null,null,null,null,null,null,null,null,"9:00",null,null,null,"Intended Thickness:"]
[" Time: ",null,null,null,null,null,null,null,null,null,"11:00",null,null,null,"Cores Waived?"]
[" Station/MP: ",null,null,null,null,null,null,null,null,null,"1:00",null,null,null,"Small Quantity Statement?"]
["Bar Code ID.:",null,null,null,null,null,null,null,null,null,"3:00",null,null,null,"Scale Check Done?"]
["Compaction Temp. °F: ",null,null,null,null,null,null,null,null,null,"5:00",null,null,null,"Tack Tickets Today?"]
[null,null,null,null,null,null,null,null,null,null,"7:00"]
["The Below Comments should show up on the plant report"]
["Comments:"]
[]
[]
["The Below Notes are for the CPI from the field or Plant Monitor"]
["Notes:"]
[]
[]
["RANDOM CORE LOCATIONS"]
[null,null,null,null,null,null,null,"Core #","Station","Offset,ft","Joint Station","Lane"]
[null,null,null,null,null,null,null,1]
[null,null,null,null,null,null,null,2]
[null,null,null,null,null,null,null,3]
[null,null,null,null,null,null,null,4]
[null,null,null,null,null,null,null,5]
[null,null,null,null,null,null,null,6]
[null,null,null,null,null,null,null,7]
[null,null,null,null,null,null,null,8]
[]
[null,null,null,null,null,null,null,null,null,null,"Joint Sublot Size, ft"]
[null,null,null,null,null,null,null,null,null,null,0]
[]
[]
[]
[]
[]
[]
[]
[]
[]
[]
[]
[]
[]
[]
[]
[]
[]
[]
[]
[]
[]
[]
[]
[]
[]
[]
[]
[]
[]
[]
[]
[]
[]
[]
[]
[]
[]
[]
[]
[]
[false]

{"sheet":"7","index":22,"n_rows":97,"n_cols":26,"rows_kept":97,"cut":false,"hidden":false,"merged":[[50,11,50,13],[51,11,51,13],[52,11,52,13],[44,11,44,13],[45,11,45,13],[46,11,46,13],[47,11,47,13],[48,11,48,13],[49,11,49,13],[43,0,43,16],[25,0,25,1],[26,0,26,5],[26,20,26,23],[26,25,26,27],[34,2,34,4],[35,0,35,5],[36,1,36,14],[37,0,37,14],[39,0,39,5],[40,1,40,14],[41,0,41,14],[23,0,23,1],[23,2,23,4],[23,9,23,12],[24,0,24,1],[24,2,24,4],[24,9,24,12],[21,0,21,1],[21,2,21,4],[21,9,21,12],[22,0,22,1],[22,2,22,4],[22,9,22,12],[19,0,19,1],[19,2,19,4],[19,9,19,12],[20,0,20,1],[20,2,20,4],[20,9,20,12],[18,0,18,16],[6,14,6,15],[7,14,7,15],[8,14,8,15],[9,14,9,15],[10,14,10,15],[11,14,11,15],[12,14,12,15],[13,14,13,15],[14,14,14,15],[15,14,15,15],[16,14,16,15],[1,0,1,16],[4,0,4,15],[5,4,5,5],[5,8,5,9],[5,11,5,12],[5,13,5,15]]}
[]
["Iowa DOT HMA Field Report"]
["Date :"]
["Item No.('s)"]
["PLACEMENT RECORD",null,null,null,null,null,null,null,null,null,null,null,null,null,null,null,null,null,null,null,null,{"$f":"SUBSTITUTE(A21 & \"\\\" & J21,\"\"\"\",\"\")","v":"\\"}]
[null,null,null,null,"Additional width to DEDUCT from Field Voids",null,null,null,"Placed Density (Pounds/CF)=",null,150,"Overwritten on the \"Summary\" Tab",null,"ONLY ONE (1) MIX DESIGN PER DFR OTHERWISE IT WILL NOT IMPORT INTO THE PLANT REPORT PROPERLY",null,null,null,null,null,null,null,{"$f":"SUBSTITUTE(A22 & \"\\\" & J22,\"\"\"\",\"\")","v":"\\"}]
["From Station"," To Station","Lane","ML or Widening Placement Width","Additional Width (ft) ","Thickness (in)","Total Length Placed (FT)","\"Pay\"  Est \"SY\"","Thickness (inches)","Calculated Field Voids Tons","Placed Tons            (Not including Waste)","% Yield","SY to be PAID (If Diff. than Est SY)","Mix Design No.","Bid Item/ Project No.",null,null,null,"This uses the correct SY #, if Green is blank uses Est. SY","Adds up the Tons",null,"\\"]
[null,null,null,null,null,null,{"$f":"IF(OR(A8=\"\",B8=\"\"),0,IF($A$97=TRUE,ABS(B8-A8)*5280,ABS(VALUE(SUBSTITUTE(A8,\"+\",\"\"))-VALUE(SUBSTITUTE(B8,\"+\",\"\")))))","v":0},{"$f":"IF(D8=\"\",\"\",G8*(D8+E8)/9)","v":""},null,{"$f":"IF(I8=\"\",\"\",(G8)*(D8+E8)*I8/12*$K$6/2000)","v":""},null,{"$f":"IF(K8=\"\",\"\",K8/J8*100)","v":""},null,null,null,null,{"$f":"O8 & \"\\\" & N8","v":"\\"},{"$f":"IF(AND(A8=\"\",B8=\"\",C8=\"\",D8=\"\"),1,IF(OR(O8=\"\",N8=\"\"),2,IF(ISERROR(MATCH(Q8,Input!M$5:M$24,0)),2,1)))","v":1},{"$f":"IF(M8<>\"\", M8, H8)","v":""},{"$f":"K8","v":0},null,"\\"]
[null,null,null,null,null,null,{"$f":"IF(OR(A9=\"\",B9=\"\"),0,IF($A$97=TRUE,ABS(B9-A9)*5280,ABS(VALUE(SUBSTITUTE(A9,\"+\",\"\"))-VALUE(SUBSTITUTE(B9,\"+\",\"\")))))","v":0},{"$f":"IF(D9=\"\",\"\",G9*(D9+E9)/9)","v":""},null,"",null,{"$f":"IF(K9=\"\",\"\",K9/J9*100)","v":""},null,null,null,null,{"$f":"O9 & \"\\\" & N9","v":"\\"},{"$f":"IF(AND(A9=\"\",B9=\"\",C9=\"\",D9=\"\"),1,IF(OR(O9=\"\",N9=\"\"),2,IF(ISERROR(MATCH(Q9,Input!M$5:M$24,0)),2,1)))","v":1},{"$f":"IF(M9<>\"\", M9, H9)","v":""},{"$f":"K9","v":0},null,"\\"]
[null,null,null,null,null,null,0,"",null,"",null,"",null,null,null,null,"\\",{"$f":"IF(AND(A10=\"\",B10=\"\",C10=\"\",D10=\"\"),1,IF(OR(O10=\"\",N10=\"\"),2,IF(ISERROR(MATCH(Q10,Input!M$5:M$24,0)),2,1)))","v":1},{"$f":"IF(M10<>\"\", M10, H10)","v":""},0]
[null,null,null,null,null,null,0,"",null,"",null,"",null,null,null,null,"\\",{"$f":"IF(AND(A11=\"\",B11=\"\",C11=\"\",D11=\"\"),1,IF(OR(O11=\"\",N11=\"\"),2,IF(ISERROR(MATCH(Q11,Input!M$5:M$24,0)),2,1)))","v":1},"",0]
[null,null,null,null,null,null,0,"",null,"",null,"",null,null,null,null,"\\",{"$f":"IF(AND(A12=\"\",B12=\"\",C12=\"\",D12=\"\"),1,IF(OR(O12=\"\",N12=\"\"),2,IF(ISERROR(MATCH(Q12,Input!M$5:M$24,0)),2,1)))","v":1},"",0]
[null,null,null,null,null,null,0,"",null,"",null,"",null,null,null,null,"\\",{"$f":"IF(AND(A13=\"\",B13=\"\",C13=\"\",D13=\"\"),1,IF(OR(O13=\"\",N13=\"\"),2,IF(ISERROR(MATCH(Q13,Input!M$5:M$24,0)),2,1)))","v":1},"",0]
[null,null,null,null,null,null,0,"",null,"",null,"",null,null,null,null,"\\",{"$f":"IF(AND(A14=\"\",B14=\"\",C14=\"\",D14=\"\"),1,IF(OR(O14=\"\",N14=\"\"),2,IF(ISERROR(MATCH(Q14,Input!M$5:M$24,0)),2,1)))","v":1},"",0]
[null,null,null,null,null,null,0,"",null,"",null,"",null,null,null,null,"\\",{"$f":"IF(AND(A15=\"\",B15=\"\",C15=\"\",D15=\"\"),1,IF(OR(O15=\"\",N15=\"\"),2,IF(ISERROR(MATCH(Q15,Input!M$5:M$24,0)),2,1)))","v":1},"",0]
[null,null,null,null,null,null,0,"",null,"",null,"",null,null,null,null,"\\",{"$f":"IF(AND(A16=\"\",B16=\"\",C16=\"\",D16=\"\"),1,IF(OR(O16=\"\",N16=\"\"),2,IF(ISERROR(MATCH(Q16,Input!M$5:M$24,0)),2,1)))","v":1},"",0]
[null,null,null,null,null,null,0,"",null,"",null,"",null,null,null,null,"\\",{"$f":"IF(AND(A17=\"\",B17=\"\",C17=\"\",D17=\"\"),1,IF(OR(O17=\"\",N17=\"\"),2,IF(ISERROR(MATCH(Q17,Input!M$5:M$24,0)),2,1)))","v":1},"",0]
[]
["TANK SHEET"]
["Bid Item (In Order of Placement)",null,"Today's Placement",null,null,"Bid Item Plan Quantity","Plan Thickness (in)","Contract Mix Price","Contract Binder Price","Project Number",null,null,null,"Mix Pay Units","Mix Delivered to Road\n(Ton or SY)","Waste On Road (Ton)\nNO waste for SY Items","Tons Placed - Waste",null,null,"This adds up column S as it depends if the Est SY is filled out or the SY",null,"Use this Column for SY for the Q column","Uses this Value for Mix on Road"]
[null,null,null,null,null,{"$f":"IF($J21=\"\",\"\",INDEX(Input!$A$5:$H$24,MATCH($A21&$J21,Input!$A$5:$A$24&Input!$G$5:$G$24,0),2))","v":""},{"$f":"IF($J21=\"\",\"\",INDEX(Input!$A$5:$H$24,MATCH($A21&$J21,Input!$A$5:$A$24&Input!$G$5:$G$24,0),3))","v":""},{"$f":"IF($J21=\"\",\"\",INDEX(Input!$A$5:$H$24,MATCH($A21&$J21,Input!$A$5:$A$24&Input!$G$5:$G$24,0),4))","v":""},{"$f":"IF($J21=\"\",\"\",INDEX(Input!$A$5:$H$24,MATCH($A21&$J21,Input!$A$5:$A$24&Input!$G$5:$G$24,0),5))","v":""},null,null,null,null,{"$f":"IF($A21=\"\",\"\",OFFSET(Input!F$4,MATCH($A21,Input!$A$5:$A$24,0),0))","v":""},{"$f":"IF(N21=\"SY\", T21, IF(N21=\"Tons\", W21, \"\"))","v":""},null,{"$f":"IF(N21=\"SY\", V21, IF(N21=\"Tons\", O21-P21, \"\"))","v":""},{"$f":"SUBSTITUTE(A21 & \"\\\" & J21,\"\"\"\",\"\")","v":"\\"},{"$f":"IF(A21=\"\",1,IF(ISERROR(MATCH(R21,Input!L$5:L$24,0)),2,1))","v":1},{"$f":"IF(A21=\"\", \"\", SUMIF($Q$8:$Q$17, \"*\" & LEFT(A21, 11) & \"*\", $S$8:$S$17))","v":""},null,{"$f":"IF(A21=\"\", \"\", SUMIF($Q$8:$Q$17, \"*\" & LEFT(A21, 11) & \"*\", $T$8:$T$17))","v":""},{"$f":"IF(N21=\"SY\", T21, IF(N21=\"Tons\", V21+P21, \"\"))","v":""}]
[null,null,null,null,null,{"$f":"IF($J22=\"\",\"\",INDEX(Input!$A$5:$H$24,MATCH($A22&$J22,Input!$A$5:$A$24&Input!$G$5:$G$24,0),2))","v":""},{"$f":"IF($J22=\"\",\"\",INDEX(Input!$A$5:$H$24,MATCH($A22&$J22,Input!$A$5:$A$24&Input!$G$5:$G$24,0),3))","v":""},{"$f":"IF($J22=\"\",\"\",INDEX(Input!$A$5:$H$24,MATCH($A22&$J22,Input!$A$5:$A$24&Input!$G$5:$G$24,0),4))","v":""},{"$f":"IF($J22=\"\",\"\",INDEX(Input!$A$5:$H$24,MATCH($A22&$J22,Input!$A$5:$A$24&Input!$G$5:$G$24,0),5))","v":""},null,null,null,null,{"$f":"IF($A22=\"\",\"\",OFFSET(Input!F$4,MATCH($A22,Input!$A$5:$A$24,0),0))","v":""},{"$f":"IF(N22=\"SY\", T22, IF(N22=\"Tons\", W22, \"\"))","v":""},null,{"$f":"IF(N22=\"SY\", V22, IF(N22=\"Tons\", O22-P22, \"\"))","v":""},{"$f":"SUBSTITUTE(A22 & \"\\\" & J22,\"\"\"\",\"\")","v":"\\"},{"$f":"IF(A22=\"\",1,IF(ISERROR(MATCH(R22,Input!L$5:L$24,0)),2,1))","v":1},{"$f":"IF(A22=\"\", \"\", SUMIF($Q$8:$Q$17, \"*\" & LEFT(A22, 11) & \"*\", $S$8:$S$17))","v":""},null,{"$f":"IF(A22=\"\", \"\", SUMIF($Q$8:$Q$17, \"*\" & LEFT(A22, 11) & \"*\", $T$8:$T$17))","v":""},{"$f":"IF(N22=\"SY\", T22, IF(N22=\"Tons\", V22+P22, \"\"))","v":""}]
[null,null,null,null,null,{"$f":"IF($J23=\"\",\"\",INDEX(Input!$A$5:$H$24,MATCH($A23&$J23,Input!$A$5:$A$24&Input!$G$5:$G$24,0),2))","v":""},{"$f":"IF($J23=\"\",\"\",INDEX(Input!$A$5:$H$24,MATCH($A23&$J23,Input!$A$5:$A$24&Input!$G$5:$G$24,0),3))","v":""},{"$f":"IF($J23=\"\",\"\",INDEX(Input!$A$5:$H$24,MATCH($A23&$J23,Input!$A$5:$A$24&Input!$G$5:$G$24,0),4))","v":""},{"$f":"IF($J23=\"\",\"\",INDEX(Input!$A$5:$H$24,MATCH($A23&$J23,Input!$A$5:$A$24&Input!$G$5:$G$24,0),5))","v":""},null,null,null,null,{"$f":"IF($A23=\"\",\"\",OFFSET(Input!F$4,MATCH($A23,Input!$A$5:$A$24,0),0))","v":""},{"$f":"IF(N23=\"SY\", T23, IF(N23=\"Tons\", W23, \"\"))","v":""},null,{"$f":"IF(N23=\"SY\", V23, IF(N23=\"Tons\", O23-P23, \"\"))","v":""},"\\",{"$f":"IF(A23=\"\",1,IF(ISERROR(MATCH(R23,Input!L$5:L$24,0)),2,1))","v":1},{"$f":"IF(A23=\"\", \"\", SUMIF($Q$8:$Q$17, \"*\" & LEFT(A23, 11) & \"*\", $S$8:$S$17))","v":""},null,{"$f":"IF(A23=\"\", \"\", SUMIF($Q$8:$Q$17, \"*\" & LEFT(A23, 11) & \"*\", $T$8:$T$17))","v":""},{"$f":"IF(N23=\"SY\", T23, IF(N23=\"Tons\", V23+P23, \"\"))","v":""}]
[null,null,null,null,null,{"$f":"IF($J24=\"\",\"\",INDEX(Input!$A$5:$H$24,MATCH($A24&$J24,Input!$A$5:$A$24&Input!$G$5:$G$24,0),2))","v":""},{"$f":"IF($J24=\"\",\"\",INDEX(Input!$A$5:$H$24,MATCH($A24&$J24,Input!$A$5:$A$24&Input!$G$5:$G$24,0),3))","v":""},{"$f":"IF($J24=\"\",\"\",INDEX(Input!$A$5:$H$24,MATCH($A24&$J24,Input!$A$5:$A$24&Input!$G$5:$G$24,0),4))","v":""},{"$f":"IF($J24=\"\",\"\",INDEX(Input!$A$5:$H$24,MATCH($A24&$J24,Input!$A$5:$A$24&Input!$G$5:$G$24,0),5))","v":""},null,null,null,null,{"$f":"IF($A24=\"\",\"\",OFFSET(Input!F$4,MATCH($A24,Input!$A$5:$A$24,0),0))","v":""},"",null,{"$f":"IF(N24=\"SY\", V24, IF(N24=\"Tons\", O24-P24, \"\"))","v":""},"\\",{"$f":"IF(A24=\"\",1,IF(ISERROR(MATCH(R24,Input!L$5:L$24,0)),2,1))","v":1},"",null,{"$f":"IF(A24=\"\", \"\", SUMIF($Q$8:$Q$17, \"*\" & LEFT(A24, 11) & \"*\", $T$8:$T$17))","v":""},{"$f":"IF(N24=\"SY\", T24, IF(N24=\"Tons\", V24+P24, \"\"))","v":""}]
[null,null,null,null,null,{"$f":"IF($J25=\"\",\"\",INDEX(Input!$A$5:$H$24,MATCH($A25&$J25,Input!$A$5:$A$24&Input!$G$5:$G$24,0),2))","v":""},{"$f":"IF($J25=\"\",\"\",INDEX(Input!$A$5:$H$24,MATCH($A25&$J25,Input!$A$5:$A$24&Input!$G$5:$G$24,0),3))","v":""},{"$f":"IF($J25=\"\",\"\",INDEX(Input!$A$5:$H$24,MATCH($A25&$J25,Input!$A$5:$A$24&Input!$G$5:$G$24,0),4))","v":""},{"$f":"IF($J25=\"\",\"\",INDEX(Input!$A$5:$H$24,MATCH($A25&$J25,Input!$A$5:$A$24&Input!$G$5:$G$24,0),5))","v":""},null,null,null,null,{"$f":"IF($A25=\"\",\"\",OFFSET(Input!F$4,MATCH($A25,Input!$A$5:$A$24,0),0))","v":""},"",null,"","\\",{"$f":"IF(A25=\"\",1,IF(ISERROR(MATCH(R25,Input!L$5:L$24,0)),2,1))","v":1},"",null,"",""]
[null,null,null,null,null,null,null,null,null,null,null,null,null,null,null,null,null,null,null,null,null,"",{"$f":"IF(N26=\"SY\", T26, IF(N26=\"Tons\", V26+P26, \"\"))","v":""},{"$f":"IF(A26=\"\", \"\", SUMIF($Q$8:$Q$17, \"*\" & LEFT(A26, 11) & \"*\", $S$8:$S$17))","v":""},{"$f":"IF(N26=\"SY\",X26,\"\")","v":""},{"$f":"IF(A26=\"\", \"\", SUMIF($Q$8:$Q$17, \"*\" & LEFT(A26, 11) & \"*\", $T$8:$T$17))","v":""}]
["Hot Box Sample",null,null,null,null,null,null,null,null,null,"Mat Temperatures °F"]
[null,"Test A","Test B","Test C","Test D","Test E",null,null,null,null,"Time","Temp"]
[" Hot Box ID Number  ",null,null,null,null,null,null,null,null,null,"7:00"]
["Hot Box Sample Tons: ",null,null,null,null,null,null,null,null,null,"9:00",null,null,null,"Intended Thickness:"]
[" Time: ",null,null,null,null,null,null,null,null,null,"11:00",null,null,null,"Cores Waived?"]
[" Station/MP: ",null,null,null,null,null,null,null,null,null,"1:00",null,null,null,"Small Quantity Statement?"]
["Bar Code ID.:",null,null,null,null,null,null,null,null,null,"3:00",null,null,null,"Scale Check Done?"]
["Compaction Temp. °F: ",null,null,null,null,null,null,null,null,null,"5:00",null,null,null,"Tack Tickets Today?"]
[null,null,null,null,null,null,null,null,null,null,"7:00"]
["The Below Comments should show up on the plant report"]
["Comments:"]
[]
[]
["The Below Notes are for the CPI from the field or Plant Monitor"]
["Notes:"]
[]
[]
["RANDOM CORE LOCATIONS"]
[null,null,null,null,null,null,null,"Core #","Station","Offset,ft","Joint Station","Lane"]
[null,null,null,null,null,null,null,1]
[null,null,null,null,null,null,null,2]
[null,null,null,null,null,null,null,3]
[null,null,null,null,null,null,null,4]
[null,null,null,null,null,null,null,5]
[null,null,null,null,null,null,null,6]
[null,null,null,null,null,null,null,7]
[null,null,null,null,null,null,null,8]
[]
[null,null,null,null,null,null,null,null,null,null,"Joint Sublot Size, ft"]
[null,null,null,null,null,null,null,null,null,null,0]
[]
[]
[]
[]
[]
[]
[]
[]
[]
[]
[]
[]
[]
[]
[]
[]
[]
[]
[]
[]
[]
[]
[]
[]
[]
[]
[]
[]
[]
[]
[]
[]
[]
[]
[]
[]
[]
[]
[]
[]
[false]

{"sheet":"8","index":23,"n_rows":97,"n_cols":26,"rows_kept":97,"cut":false,"hidden":false,"merged":[[50,11,50,13],[51,11,51,13],[52,11,52,13],[44,11,44,13],[45,11,45,13],[46,11,46,13],[47,11,47,13],[48,11,48,13],[49,11,49,13],[43,0,43,16],[25,0,25,1],[26,0,26,5],[26,20,26,23],[26,25,26,27],[34,2,34,4],[35,0,35,5],[36,1,36,14],[37,0,37,14],[39,0,39,5],[40,1,40,14],[41,0,41,14],[23,0,23,1],[23,2,23,4],[23,9,23,12],[24,0,24,1],[24,2,24,4],[24,9,24,12],[21,0,21,1],[21,2,21,4],[21,9,21,12],[22,0,22,1],[22,2,22,4],[22,9,22,12],[19,0,19,1],[19,2,19,4],[19,9,19,12],[20,0,20,1],[20,2,20,4],[20,9,20,12],[18,0,18,16],[6,14,6,15],[7,14,7,15],[8,14,8,15],[9,14,9,15],[10,14,10,15],[11,14,11,15],[12,14,12,15],[13,14,13,15],[14,14,14,15],[15,14,15,15],[16,14,16,15],[1,0,1,16],[4,0,4,15],[5,4,5,5],[5,8,5,9],[5,11,5,12],[5,13,5,15]]}
[]
["Iowa DOT HMA Field Report"]
["Date :"]
["Item No.('s)"]
["PLACEMENT RECORD",null,null,null,null,null,null,null,null,null,null,null,null,null,null,null,null,null,null,null,null,{"$f":"SUBSTITUTE(A21 & \"\\\" & J21,\"\"\"\",\"\")","v":"\\"}]
[null,null,null,null,"Additional width to DEDUCT from Field Voids",null,null,null,"Placed Density (Pounds/CF)=",null,150,"Overwritten on the \"Summary\" Tab",null,"ONLY ONE (1) MIX DESIGN PER DFR OTHERWISE IT WILL NOT IMPORT INTO THE PLANT REPORT PROPERLY",null,null,null,null,null,null,null,{"$f":"SUBSTITUTE(A22 & \"\\\" & J22,\"\"\"\",\"\")","v":"\\"}]
["From Station"," To Station","Lane","ML or Widening Placement Width","Additional Width (ft) ","Thickness (in)","Total Length Placed (FT)","\"Pay\"  Est \"SY\"","Thickness (inches)","Calculated Field Voids Tons","Placed Tons            (Not including Waste)","% Yield","SY to be PAID (If Diff. than Est SY)","Mix Design No.","Bid Item/ Project No.",null,null,null,"This uses the correct SY #, if Green is blank uses Est. SY","Adds up the Tons",null,"\\"]
[null,null,null,null,null,null,{"$f":"IF(OR(A8=\"\",B8=\"\"),0,IF($A$97=TRUE,ABS(B8-A8)*5280,ABS(VALUE(SUBSTITUTE(A8,\"+\",\"\"))-VALUE(SUBSTITUTE(B8,\"+\",\"\")))))","v":0},{"$f":"IF(D8=\"\",\"\",G8*(D8+E8)/9)","v":""},null,{"$f":"IF(I8=\"\",\"\",(G8)*(D8+E8)*I8/12*$K$6/2000)","v":""},null,{"$f":"IF(K8=\"\",\"\",K8/J8*100)","v":""},null,null,null,null,{"$f":"O8 & \"\\\" & N8","v":"\\"},{"$f":"IF(AND(A8=\"\",B8=\"\",C8=\"\",D8=\"\"),1,IF(OR(O8=\"\",N8=\"\"),2,IF(ISERROR(MATCH(Q8,Input!M$5:M$24,0)),2,1)))","v":1},{"$f":"IF(M8<>\"\", M8, H8)","v":""},{"$f":"K8","v":0},null,"\\"]
[null,null,null,null,null,null,{"$f":"IF(OR(A9=\"\",B9=\"\"),0,IF($A$97=TRUE,ABS(B9-A9)*5280,ABS(VALUE(SUBSTITUTE(A9,\"+\",\"\"))-VALUE(SUBSTITUTE(B9,\"+\",\"\")))))","v":0},{"$f":"IF(D9=\"\",\"\",G9*(D9+E9)/9)","v":""},null,"",null,{"$f":"IF(K9=\"\",\"\",K9/J9*100)","v":""},null,null,null,null,{"$f":"O9 & \"\\\" & N9","v":"\\"},{"$f":"IF(AND(A9=\"\",B9=\"\",C9=\"\",D9=\"\"),1,IF(OR(O9=\"\",N9=\"\"),2,IF(ISERROR(MATCH(Q9,Input!M$5:M$24,0)),2,1)))","v":1},{"$f":"IF(M9<>\"\", M9, H9)","v":""},{"$f":"K9","v":0},null,"\\"]
[null,null,null,null,null,null,0,"",null,"",null,"",null,null,null,null,"\\",{"$f":"IF(AND(A10=\"\",B10=\"\",C10=\"\",D10=\"\"),1,IF(OR(O10=\"\",N10=\"\"),2,IF(ISERROR(MATCH(Q10,Input!M$5:M$24,0)),2,1)))","v":1},{"$f":"IF(M10<>\"\", M10, H10)","v":""},0]
[null,null,null,null,null,null,0,"",null,"",null,"",null,null,null,null,"\\",{"$f":"IF(AND(A11=\"\",B11=\"\",C11=\"\",D11=\"\"),1,IF(OR(O11=\"\",N11=\"\"),2,IF(ISERROR(MATCH(Q11,Input!M$5:M$24,0)),2,1)))","v":1},"",0]
[null,null,null,null,null,null,0,"",null,"",null,"",null,null,null,null,"\\",{"$f":"IF(AND(A12=\"\",B12=\"\",C12=\"\",D12=\"\"),1,IF(OR(O12=\"\",N12=\"\"),2,IF(ISERROR(MATCH(Q12,Input!M$5:M$24,0)),2,1)))","v":1},"",0]
[null,null,null,null,null,null,0,"",null,"",null,"",null,null,null,null,"\\",{"$f":"IF(AND(A13=\"\",B13=\"\",C13=\"\",D13=\"\"),1,IF(OR(O13=\"\",N13=\"\"),2,IF(ISERROR(MATCH(Q13,Input!M$5:M$24,0)),2,1)))","v":1},"",0]
[null,null,null,null,null,null,0,"",null,"",null,"",null,null,null,null,"\\",{"$f":"IF(AND(A14=\"\",B14=\"\",C14=\"\",D14=\"\"),1,IF(OR(O14=\"\",N14=\"\"),2,IF(ISERROR(MATCH(Q14,Input!M$5:M$24,0)),2,1)))","v":1},"",0]
[null,null,null,null,null,null,0,"",null,"",null,"",null,null,null,null,"\\",{"$f":"IF(AND(A15=\"\",B15=\"\",C15=\"\",D15=\"\"),1,IF(OR(O15=\"\",N15=\"\"),2,IF(ISERROR(MATCH(Q15,Input!M$5:M$24,0)),2,1)))","v":1},"",0]
[null,null,null,null,null,null,0,"",null,"",null,"",null,null,null,null,"\\",{"$f":"IF(AND(A16=\"\",B16=\"\",C16=\"\",D16=\"\"),1,IF(OR(O16=\"\",N16=\"\"),2,IF(ISERROR(MATCH(Q16,Input!M$5:M$24,0)),2,1)))","v":1},"",0]
[null,null,null,null,null,null,0,"",null,"",null,"",null,null,null,null,"\\",{"$f":"IF(AND(A17=\"\",B17=\"\",C17=\"\",D17=\"\"),1,IF(OR(O17=\"\",N17=\"\"),2,IF(ISERROR(MATCH(Q17,Input!M$5:M$24,0)),2,1)))","v":1},"",0]
[]
["TANK SHEET"]
["Bid Item (In Order of Placement)",null,"Today's Placement",null,null,"Bid Item Plan Quantity","Plan Thickness (in)","Contract Mix Price","Contract Binder Price","Project Number",null,null,null,"Mix Pay Units","Mix Delivered to Road\n(Ton or SY)","Waste On Road (Ton)\nNO waste for SY Items","Tons Placed - Waste",null,null,"This adds up column S as it depends if the Est SY is filled out or the SY",null,"Use this Column for SY for the Q column","Uses this Value for Mix on Road"]
[null,null,null,null,null,{"$f":"IF($J21=\"\",\"\",INDEX(Input!$A$5:$H$24,MATCH($A21&$J21,Input!$A$5:$A$24&Input!$G$5:$G$24,0),2))","v":""},{"$f":"IF($J21=\"\",\"\",INDEX(Input!$A$5:$H$24,MATCH($A21&$J21,Input!$A$5:$A$24&Input!$G$5:$G$24,0),3))","v":""},{"$f":"IF($J21=\"\",\"\",INDEX(Input!$A$5:$H$24,MATCH($A21&$J21,Input!$A$5:$A$24&Input!$G$5:$G$24,0),4))","v":""},{"$f":"IF($J21=\"\",\"\",INDEX(Input!$A$5:$H$24,MATCH($A21&$J21,Input!$A$5:$A$24&Input!$G$5:$G$24,0),5))","v":""},null,null,null,null,{"$f":"IF($A21=\"\",\"\",OFFSET(Input!F$4,MATCH($A21,Input!$A$5:$A$24,0),0))","v":""},{"$f":"IF(N21=\"SY\", T21, IF(N21=\"Tons\", W21, \"\"))","v":""},null,{"$f":"IF(N21=\"SY\", V21, IF(N21=\"Tons\", O21-P21, \"\"))","v":""},{"$f":"SUBSTITUTE(A21 & \"\\\" & J21,\"\"\"\",\"\")","v":"\\"},{"$f":"IF(A21=\"\",1,IF(ISERROR(MATCH(R21,Input!L$5:L$24,0)),2,1))","v":1},{"$f":"IF(A21=\"\", \"\", SUMIF($Q$8:$Q$17, \"*\" & LEFT(A21, 11) & \"*\", $S$8:$S$17))","v":""},null,{"$f":"IF(A21=\"\", \"\", SUMIF($Q$8:$Q$17, \"*\" & LEFT(A21, 11) & \"*\", $T$8:$T$17))","v":""},{"$f":"IF(N21=\"SY\", T21, IF(N21=\"Tons\", V21+P21, \"\"))","v":""}]
[null,null,null,null,null,{"$f":"IF($J22=\"\",\"\",INDEX(Input!$A$5:$H$24,MATCH($A22&$J22,Input!$A$5:$A$24&Input!$G$5:$G$24,0),2))","v":""},{"$f":"IF($J22=\"\",\"\",INDEX(Input!$A$5:$H$24,MATCH($A22&$J22,Input!$A$5:$A$24&Input!$G$5:$G$24,0),3))","v":""},{"$f":"IF($J22=\"\",\"\",INDEX(Input!$A$5:$H$24,MATCH($A22&$J22,Input!$A$5:$A$24&Input!$G$5:$G$24,0),4))","v":""},{"$f":"IF($J22=\"\",\"\",INDEX(Input!$A$5:$H$24,MATCH($A22&$J22,Input!$A$5:$A$24&Input!$G$5:$G$24,0),5))","v":""},null,null,null,null,{"$f":"IF($A22=\"\",\"\",OFFSET(Input!F$4,MATCH($A22,Input!$A$5:$A$24,0),0))","v":""},{"$f":"IF(N22=\"SY\", T22, IF(N22=\"Tons\", W22, \"\"))","v":""},null,{"$f":"IF(N22=\"SY\", V22, IF(N22=\"Tons\", O22-P22, \"\"))","v":""},{"$f":"SUBSTITUTE(A22 & \"\\\" & J22,\"\"\"\",\"\")","v":"\\"},{"$f":"IF(A22=\"\",1,IF(ISERROR(MATCH(R22,Input!L$5:L$24,0)),2,1))","v":1},{"$f":"IF(A22=\"\", \"\", SUMIF($Q$8:$Q$17, \"*\" & LEFT(A22, 11) & \"*\", $S$8:$S$17))","v":""},null,{"$f":"IF(A22=\"\", \"\", SUMIF($Q$8:$Q$17, \"*\" & LEFT(A22, 11) & \"*\", $T$8:$T$17))","v":""},{"$f":"IF(N22=\"SY\", T22, IF(N22=\"Tons\", V22+P22, \"\"))","v":""}]
[null,null,null,null,null,{"$f":"IF($J23=\"\",\"\",INDEX(Input!$A$5:$H$24,MATCH($A23&$J23,Input!$A$5:$A$24&Input!$G$5:$G$24,0),2))","v":""},{"$f":"IF($J23=\"\",\"\",INDEX(Input!$A$5:$H$24,MATCH($A23&$J23,Input!$A$5:$A$24&Input!$G$5:$G$24,0),3))","v":""},{"$f":"IF($J23=\"\",\"\",INDEX(Input!$A$5:$H$24,MATCH($A23&$J23,Input!$A$5:$A$24&Input!$G$5:$G$24,0),4))","v":""},{"$f":"IF($J23=\"\",\"\",INDEX(Input!$A$5:$H$24,MATCH($A23&$J23,Input!$A$5:$A$24&Input!$G$5:$G$24,0),5))","v":""},null,null,null,null,{"$f":"IF($A23=\"\",\"\",OFFSET(Input!F$4,MATCH($A23,Input!$A$5:$A$24,0),0))","v":""},{"$f":"IF(N23=\"SY\", T23, IF(N23=\"Tons\", W23, \"\"))","v":""},null,{"$f":"IF(N23=\"SY\", V23, IF(N23=\"Tons\", O23-P23, \"\"))","v":""},"\\",{"$f":"IF(A23=\"\",1,IF(ISERROR(MATCH(R23,Input!L$5:L$24,0)),2,1))","v":1},{"$f":"IF(A23=\"\", \"\", SUMIF($Q$8:$Q$17, \"*\" & LEFT(A23, 11) & \"*\", $S$8:$S$17))","v":""},null,{"$f":"IF(A23=\"\", \"\", SUMIF($Q$8:$Q$17, \"*\" & LEFT(A23, 11) & \"*\", $T$8:$T$17))","v":""},{"$f":"IF(N23=\"SY\", T23, IF(N23=\"Tons\", V23+P23, \"\"))","v":""}]
[null,null,null,null,null,{"$f":"IF($J24=\"\",\"\",INDEX(Input!$A$5:$H$24,MATCH($A24&$J24,Input!$A$5:$A$24&Input!$G$5:$G$24,0),2))","v":""},{"$f":"IF($J24=\"\",\"\",INDEX(Input!$A$5:$H$24,MATCH($A24&$J24,Input!$A$5:$A$24&Input!$G$5:$G$24,0),3))","v":""},{"$f":"IF($J24=\"\",\"\",INDEX(Input!$A$5:$H$24,MATCH($A24&$J24,Input!$A$5:$A$24&Input!$G$5:$G$24,0),4))","v":""},{"$f":"IF($J24=\"\",\"\",INDEX(Input!$A$5:$H$24,MATCH($A24&$J24,Input!$A$5:$A$24&Input!$G$5:$G$24,0),5))","v":""},null,null,null,null,{"$f":"IF($A24=\"\",\"\",OFFSET(Input!F$4,MATCH($A24,Input!$A$5:$A$24,0),0))","v":""},"",null,{"$f":"IF(N24=\"SY\", V24, IF(N24=\"Tons\", O24-P24, \"\"))","v":""},"\\",{"$f":"IF(A24=\"\",1,IF(ISERROR(MATCH(R24,Input!L$5:L$24,0)),2,1))","v":1},"",null,{"$f":"IF(A24=\"\", \"\", SUMIF($Q$8:$Q$17, \"*\" & LEFT(A24, 11) & \"*\", $T$8:$T$17))","v":""},{"$f":"IF(N24=\"SY\", T24, IF(N24=\"Tons\", V24+P24, \"\"))","v":""}]
[null,null,null,null,null,{"$f":"IF($J25=\"\",\"\",INDEX(Input!$A$5:$H$24,MATCH($A25&$J25,Input!$A$5:$A$24&Input!$G$5:$G$24,0),2))","v":""},{"$f":"IF($J25=\"\",\"\",INDEX(Input!$A$5:$H$24,MATCH($A25&$J25,Input!$A$5:$A$24&Input!$G$5:$G$24,0),3))","v":""},{"$f":"IF($J25=\"\",\"\",INDEX(Input!$A$5:$H$24,MATCH($A25&$J25,Input!$A$5:$A$24&Input!$G$5:$G$24,0),4))","v":""},{"$f":"IF($J25=\"\",\"\",INDEX(Input!$A$5:$H$24,MATCH($A25&$J25,Input!$A$5:$A$24&Input!$G$5:$G$24,0),5))","v":""},null,null,null,null,{"$f":"IF($A25=\"\",\"\",OFFSET(Input!F$4,MATCH($A25,Input!$A$5:$A$24,0),0))","v":""},"",null,"","\\",{"$f":"IF(A25=\"\",1,IF(ISERROR(MATCH(R25,Input!L$5:L$24,0)),2,1))","v":1},"",null,"",""]
[null,null,null,null,null,null,null,null,null,null,null,null,null,null,null,null,null,null,null,null,null,"",{"$f":"IF(N26=\"SY\", T26, IF(N26=\"Tons\", V26+P26, \"\"))","v":""},{"$f":"IF(A26=\"\", \"\", SUMIF($Q$8:$Q$17, \"*\" & LEFT(A26, 11) & \"*\", $S$8:$S$17))","v":""},{"$f":"IF(N26=\"SY\",X26,\"\")","v":""},{"$f":"IF(A26=\"\", \"\", SUMIF($Q$8:$Q$17, \"*\" & LEFT(A26, 11) & \"*\", $T$8:$T$17))","v":""}]
["Hot Box Sample",null,null,null,null,null,null,null,null,null,"Mat Temperatures °F"]
[null,"Test A","Test B","Test C","Test D","Test E",null,null,null,null,"Time","Temp"]
[" Hot Box ID Number  ",null,null,null,null,null,null,null,null,null,"7:00"]
["Hot Box Sample Tons: ",null,null,null,null,null,null,null,null,null,"9:00",null,null,null,"Intended Thickness:"]
[" Time: ",null,null,null,null,null,null,null,null,null,"11:00",null,null,null,"Cores Waived?"]
[" Station/MP: ",null,null,null,null,null,null,null,null,null,"1:00",null,null,null,"Small Quantity Statement?"]
["Bar Code ID.:",null,null,null,null,null,null,null,null,null,"3:00",null,null,null,"Scale Check Done?"]
["Compaction Temp. °F: ",null,null,null,null,null,null,null,null,null,"5:00",null,null,null,"Tack Tickets Today?"]
[null,null,null,null,null,null,null,null,null,null,"7:00"]
["The Below Comments should show up on the plant report"]
["Comments:"]
[]
[]
["The Below Notes are for the CPI from the field or Plant Monitor"]
["Notes:"]
[]
[]
["RANDOM CORE LOCATIONS"]
[null,null,null,null,null,null,null,"Core #","Station","Offset,ft","Joint Station","Lane"]
[null,null,null,null,null,null,null,1]
[null,null,null,null,null,null,null,2]
[null,null,null,null,null,null,null,3]
[null,null,null,null,null,null,null,4]
[null,null,null,null,null,null,null,5]
[null,null,null,null,null,null,null,6]
[null,null,null,null,null,null,null,7]
[null,null,null,null,null,null,null,8]
[]
[null,null,null,null,null,null,null,null,null,null,"Joint Sublot Size, ft"]
[null,null,null,null,null,null,null,null,null,null,0]
[]
[]
[]
[]
[]
[]
[]
[]
[]
[]
[]
[]
[]
[]
[]
[]
[]
[]
[]
[]
[]
[]
[]
[]
[]
[]
[]
[]
[]
[]
[]
[]
[]
[]
[]
[]
[]
[]
[]
[]
[false]

{"sheet":"9","index":24,"n_rows":97,"n_cols":26,"rows_kept":97,"cut":false,"hidden":false,"merged":[[50,11,50,13],[51,11,51,13],[52,11,52,13],[44,11,44,13],[45,11,45,13],[46,11,46,13],[47,11,47,13],[48,11,48,13],[49,11,49,13],[43,0,43,16],[25,0,25,1],[26,0,26,5],[26,20,26,23],[26,25,26,27],[34,2,34,4],[35,0,35,5],[36,1,36,14],[37,0,37,14],[39,0,39,5],[40,1,40,14],[41,0,41,14],[23,0,23,1],[23,2,23,4],[23,9,23,12],[24,0,24,1],[24,2,24,4],[24,9,24,12],[21,0,21,1],[21,2,21,4],[21,9,21,12],[22,0,22,1],[22,2,22,4],[22,9,22,12],[19,0,19,1],[19,2,19,4],[19,9,19,12],[20,0,20,1],[20,2,20,4],[20,9,20,12],[18,0,18,16],[6,14,6,15],[7,14,7,15],[8,14,8,15],[9,14,9,15],[10,14,10,15],[11,14,11,15],[12,14,12,15],[13,14,13,15],[14,14,14,15],[15,14,15,15],[16,14,16,15],[1,0,1,16],[4,0,4,15],[5,4,5,5],[5,8,5,9],[5,11,5,12],[5,13,5,15]]}
[]
["Iowa DOT HMA Field Report"]
["Date :"]
["Item No.('s)"]
["PLACEMENT RECORD",null,null,null,null,null,null,null,null,null,null,null,null,null,null,null,null,null,null,null,null,{"$f":"SUBSTITUTE(A21 & \"\\\" & J21,\"\"\"\",\"\")","v":"\\"}]
[null,null,null,null,"Additional width to DEDUCT from Field Voids",null,null,null,"Placed Density (Pounds/CF)=",null,150,"Overwritten on the \"Summary\" Tab",null,"ONLY ONE (1) MIX DESIGN PER DFR OTHERWISE IT WILL NOT IMPORT INTO THE PLANT REPORT PROPERLY",null,null,null,null,null,null,null,{"$f":"SUBSTITUTE(A22 & \"\\\" & J22,\"\"\"\",\"\")","v":"\\"}]
["From Station"," To Station","Lane","ML or Widening Placement Width","Additional Width (ft) ","Thickness (in)","Total Length Placed (FT)","\"Pay\"  Est \"SY\"","Thickness (inches)","Calculated Field Voids Tons","Placed Tons            (Not including Waste)","% Yield","SY to be PAID (If Diff. than Est SY)","Mix Design No.","Bid Item/ Project No.",null,null,null,"This uses the correct SY #, if Green is blank uses Est. SY","Adds up the Tons",null,"\\"]
[null,null,null,null,null,null,{"$f":"IF(OR(A8=\"\",B8=\"\"),0,IF($A$97=TRUE,ABS(B8-A8)*5280,ABS(VALUE(SUBSTITUTE(A8,\"+\",\"\"))-VALUE(SUBSTITUTE(B8,\"+\",\"\")))))","v":0},{"$f":"IF(D8=\"\",\"\",G8*(D8+E8)/9)","v":""},null,{"$f":"IF(I8=\"\",\"\",(G8)*(D8+E8)*I8/12*$K$6/2000)","v":""},null,{"$f":"IF(K8=\"\",\"\",K8/J8*100)","v":""},null,null,null,null,{"$f":"O8 & \"\\\" & N8","v":"\\"},{"$f":"IF(AND(A8=\"\",B8=\"\",C8=\"\",D8=\"\"),1,IF(OR(O8=\"\",N8=\"\"),2,IF(ISERROR(MATCH(Q8,Input!M$5:M$24,0)),2,1)))","v":1},{"$f":"IF(M8<>\"\", M8, H8)","v":""},{"$f":"K8","v":0},null,"\\"]
[null,null,null,null,null,null,{"$f":"IF(OR(A9=\"\",B9=\"\"),0,IF($A$97=TRUE,ABS(B9-A9)*5280,ABS(VALUE(SUBSTITUTE(A9,\"+\",\"\"))-VALUE(SUBSTITUTE(B9,\"+\",\"\")))))","v":0},{"$f":"IF(D9=\"\",\"\",G9*(D9+E9)/9)","v":""},null,"",null,{"$f":"IF(K9=\"\",\"\",K9/J9*100)","v":""},null,null,null,null,{"$f":"O9 & \"\\\" & N9","v":"\\"},{"$f":"IF(AND(A9=\"\",B9=\"\",C9=\"\",D9=\"\"),1,IF(OR(O9=\"\",N9=\"\"),2,IF(ISERROR(MATCH(Q9,Input!M$5:M$24,0)),2,1)))","v":1},{"$f":"IF(M9<>\"\", M9, H9)","v":""},{"$f":"K9","v":0},null,"\\"]
[null,null,null,null,null,null,0,"",null,"",null,"",null,null,null,null,"\\",{"$f":"IF(AND(A10=\"\",B10=\"\",C10=\"\",D10=\"\"),1,IF(OR(O10=\"\",N10=\"\"),2,IF(ISERROR(MATCH(Q10,Input!M$5:M$24,0)),2,1)))","v":1},{"$f":"IF(M10<>\"\", M10, H10)","v":""},0]
[null,null,null,null,null,null,0,"",null,"",null,"",null,null,null,null,"\\",{"$f":"IF(AND(A11=\"\",B11=\"\",C11=\"\",D11=\"\"),1,IF(OR(O11=\"\",N11=\"\"),2,IF(ISERROR(MATCH(Q11,Input!M$5:M$24,0)),2,1)))","v":1},"",0]
[null,null,null,null,null,null,0,"",null,"",null,"",null,null,null,null,"\\",{"$f":"IF(AND(A12=\"\",B12=\"\",C12=\"\",D12=\"\"),1,IF(OR(O12=\"\",N12=\"\"),2,IF(ISERROR(MATCH(Q12,Input!M$5:M$24,0)),2,1)))","v":1},"",0]
[null,null,null,null,null,null,0,"",null,"",null,"",null,null,null,null,"\\",{"$f":"IF(AND(A13=\"\",B13=\"\",C13=\"\",D13=\"\"),1,IF(OR(O13=\"\",N13=\"\"),2,IF(ISERROR(MATCH(Q13,Input!M$5:M$24,0)),2,1)))","v":1},"",0]
[null,null,null,null,null,null,0,"",null,"",null,"",null,null,null,null,"\\",{"$f":"IF(AND(A14=\"\",B14=\"\",C14=\"\",D14=\"\"),1,IF(OR(O14=\"\",N14=\"\"),2,IF(ISERROR(MATCH(Q14,Input!M$5:M$24,0)),2,1)))","v":1},"",0]
[null,null,null,null,null,null,0,"",null,"",null,"",null,null,null,null,"\\",{"$f":"IF(AND(A15=\"\",B15=\"\",C15=\"\",D15=\"\"),1,IF(OR(O15=\"\",N15=\"\"),2,IF(ISERROR(MATCH(Q15,Input!M$5:M$24,0)),2,1)))","v":1},"",0]
[null,null,null,null,null,null,0,"",null,"",null,"",null,null,null,null,"\\",{"$f":"IF(AND(A16=\"\",B16=\"\",C16=\"\",D16=\"\"),1,IF(OR(O16=\"\",N16=\"\"),2,IF(ISERROR(MATCH(Q16,Input!M$5:M$24,0)),2,1)))","v":1},"",0]
[null,null,null,null,null,null,0,"",null,"",null,"",null,null,null,null,"\\",{"$f":"IF(AND(A17=\"\",B17=\"\",C17=\"\",D17=\"\"),1,IF(OR(O17=\"\",N17=\"\"),2,IF(ISERROR(MATCH(Q17,Input!M$5:M$24,0)),2,1)))","v":1},"",0]
[]
["TANK SHEET"]
["Bid Item (In Order of Placement)",null,"Today's Placement",null,null,"Bid Item Plan Quantity","Plan Thickness (in)","Contract Mix Price","Contract Binder Price","Project Number",null,null,null,"Mix Pay Units","Mix Delivered to Road\n(Ton or SY)","Waste On Road (Ton)\nNO waste for SY Items","Tons Placed - Waste",null,null,"This adds up column S as it depends if the Est SY is filled out or the SY",null,"Use this Column for SY for the Q column","Uses this Value for Mix on Road"]
[null,null,null,null,null,{"$f":"IF($J21=\"\",\"\",INDEX(Input!$A$5:$H$24,MATCH($A21&$J21,Input!$A$5:$A$24&Input!$G$5:$G$24,0),2))","v":""},{"$f":"IF($J21=\"\",\"\",INDEX(Input!$A$5:$H$24,MATCH($A21&$J21,Input!$A$5:$A$24&Input!$G$5:$G$24,0),3))","v":""},{"$f":"IF($J21=\"\",\"\",INDEX(Input!$A$5:$H$24,MATCH($A21&$J21,Input!$A$5:$A$24&Input!$G$5:$G$24,0),4))","v":""},{"$f":"IF($J21=\"\",\"\",INDEX(Input!$A$5:$H$24,MATCH($A21&$J21,Input!$A$5:$A$24&Input!$G$5:$G$24,0),5))","v":""},null,null,null,null,{"$f":"IF($A21=\"\",\"\",OFFSET(Input!F$4,MATCH($A21,Input!$A$5:$A$24,0),0))","v":""},{"$f":"IF(N21=\"SY\", T21, IF(N21=\"Tons\", W21, \"\"))","v":""},null,{"$f":"IF(N21=\"SY\", V21, IF(N21=\"Tons\", O21-P21, \"\"))","v":""},{"$f":"SUBSTITUTE(A21 & \"\\\" & J21,\"\"\"\",\"\")","v":"\\"},{"$f":"IF(A21=\"\",1,IF(ISERROR(MATCH(R21,Input!L$5:L$24,0)),2,1))","v":1},{"$f":"IF(A21=\"\", \"\", SUMIF($Q$8:$Q$17, \"*\" & LEFT(A21, 11) & \"*\", $S$8:$S$17))","v":""},null,{"$f":"IF(A21=\"\", \"\", SUMIF($Q$8:$Q$17, \"*\" & LEFT(A21, 11) & \"*\", $T$8:$T$17))","v":""},{"$f":"IF(N21=\"SY\", T21, IF(N21=\"Tons\", V21+P21, \"\"))","v":""}]
[null,null,null,null,null,{"$f":"IF($J22=\"\",\"\",INDEX(Input!$A$5:$H$24,MATCH($A22&$J22,Input!$A$5:$A$24&Input!$G$5:$G$24,0),2))","v":""},{"$f":"IF($J22=\"\",\"\",INDEX(Input!$A$5:$H$24,MATCH($A22&$J22,Input!$A$5:$A$24&Input!$G$5:$G$24,0),3))","v":""},{"$f":"IF($J22=\"\",\"\",INDEX(Input!$A$5:$H$24,MATCH($A22&$J22,Input!$A$5:$A$24&Input!$G$5:$G$24,0),4))","v":""},{"$f":"IF($J22=\"\",\"\",INDEX(Input!$A$5:$H$24,MATCH($A22&$J22,Input!$A$5:$A$24&Input!$G$5:$G$24,0),5))","v":""},null,null,null,null,{"$f":"IF($A22=\"\",\"\",OFFSET(Input!F$4,MATCH($A22,Input!$A$5:$A$24,0),0))","v":""},{"$f":"IF(N22=\"SY\", T22, IF(N22=\"Tons\", W22, \"\"))","v":""},null,{"$f":"IF(N22=\"SY\", V22, IF(N22=\"Tons\", O22-P22, \"\"))","v":""},{"$f":"SUBSTITUTE(A22 & \"\\\" & J22,\"\"\"\",\"\")","v":"\\"},{"$f":"IF(A22=\"\",1,IF(ISERROR(MATCH(R22,Input!L$5:L$24,0)),2,1))","v":1},{"$f":"IF(A22=\"\", \"\", SUMIF($Q$8:$Q$17, \"*\" & LEFT(A22, 11) & \"*\", $S$8:$S$17))","v":""},null,{"$f":"IF(A22=\"\", \"\", SUMIF($Q$8:$Q$17, \"*\" & LEFT(A22, 11) & \"*\", $T$8:$T$17))","v":""},{"$f":"IF(N22=\"SY\", T22, IF(N22=\"Tons\", V22+P22, \"\"))","v":""}]
[null,null,null,null,null,{"$f":"IF($J23=\"\",\"\",INDEX(Input!$A$5:$H$24,MATCH($A23&$J23,Input!$A$5:$A$24&Input!$G$5:$G$24,0),2))","v":""},{"$f":"IF($J23=\"\",\"\",INDEX(Input!$A$5:$H$24,MATCH($A23&$J23,Input!$A$5:$A$24&Input!$G$5:$G$24,0),3))","v":""},{"$f":"IF($J23=\"\",\"\",INDEX(Input!$A$5:$H$24,MATCH($A23&$J23,Input!$A$5:$A$24&Input!$G$5:$G$24,0),4))","v":""},{"$f":"IF($J23=\"\",\"\",INDEX(Input!$A$5:$H$24,MATCH($A23&$J23,Input!$A$5:$A$24&Input!$G$5:$G$24,0),5))","v":""},null,null,null,null,{"$f":"IF($A23=\"\",\"\",OFFSET(Input!F$4,MATCH($A23,Input!$A$5:$A$24,0),0))","v":""},{"$f":"IF(N23=\"SY\", T23, IF(N23=\"Tons\", W23, \"\"))","v":""},null,{"$f":"IF(N23=\"SY\", V23, IF(N23=\"Tons\", O23-P23, \"\"))","v":""},"\\",{"$f":"IF(A23=\"\",1,IF(ISERROR(MATCH(R23,Input!L$5:L$24,0)),2,1))","v":1},{"$f":"IF(A23=\"\", \"\", SUMIF($Q$8:$Q$17, \"*\" & LEFT(A23, 11) & \"*\", $S$8:$S$17))","v":""},null,{"$f":"IF(A23=\"\", \"\", SUMIF($Q$8:$Q$17, \"*\" & LEFT(A23, 11) & \"*\", $T$8:$T$17))","v":""},{"$f":"IF(N23=\"SY\", T23, IF(N23=\"Tons\", V23+P23, \"\"))","v":""}]
[null,null,null,null,null,{"$f":"IF($J24=\"\",\"\",INDEX(Input!$A$5:$H$24,MATCH($A24&$J24,Input!$A$5:$A$24&Input!$G$5:$G$24,0),2))","v":""},{"$f":"IF($J24=\"\",\"\",INDEX(Input!$A$5:$H$24,MATCH($A24&$J24,Input!$A$5:$A$24&Input!$G$5:$G$24,0),3))","v":""},{"$f":"IF($J24=\"\",\"\",INDEX(Input!$A$5:$H$24,MATCH($A24&$J24,Input!$A$5:$A$24&Input!$G$5:$G$24,0),4))","v":""},{"$f":"IF($J24=\"\",\"\",INDEX(Input!$A$5:$H$24,MATCH($A24&$J24,Input!$A$5:$A$24&Input!$G$5:$G$24,0),5))","v":""},null,null,null,null,{"$f":"IF($A24=\"\",\"\",OFFSET(Input!F$4,MATCH($A24,Input!$A$5:$A$24,0),0))","v":""},"",null,{"$f":"IF(N24=\"SY\", V24, IF(N24=\"Tons\", O24-P24, \"\"))","v":""},"\\",{"$f":"IF(A24=\"\",1,IF(ISERROR(MATCH(R24,Input!L$5:L$24,0)),2,1))","v":1},"",null,{"$f":"IF(A24=\"\", \"\", SUMIF($Q$8:$Q$17, \"*\" & LEFT(A24, 11) & \"*\", $T$8:$T$17))","v":""},{"$f":"IF(N24=\"SY\", T24, IF(N24=\"Tons\", V24+P24, \"\"))","v":""}]
[null,null,null,null,null,{"$f":"IF($J25=\"\",\"\",INDEX(Input!$A$5:$H$24,MATCH($A25&$J25,Input!$A$5:$A$24&Input!$G$5:$G$24,0),2))","v":""},{"$f":"IF($J25=\"\",\"\",INDEX(Input!$A$5:$H$24,MATCH($A25&$J25,Input!$A$5:$A$24&Input!$G$5:$G$24,0),3))","v":""},{"$f":"IF($J25=\"\",\"\",INDEX(Input!$A$5:$H$24,MATCH($A25&$J25,Input!$A$5:$A$24&Input!$G$5:$G$24,0),4))","v":""},{"$f":"IF($J25=\"\",\"\",INDEX(Input!$A$5:$H$24,MATCH($A25&$J25,Input!$A$5:$A$24&Input!$G$5:$G$24,0),5))","v":""},null,null,null,null,{"$f":"IF($A25=\"\",\"\",OFFSET(Input!F$4,MATCH($A25,Input!$A$5:$A$24,0),0))","v":""},"",null,"","\\",{"$f":"IF(A25=\"\",1,IF(ISERROR(MATCH(R25,Input!L$5:L$24,0)),2,1))","v":1},"",null,"",""]
[null,null,null,null,null,null,null,null,null,null,null,null,null,null,null,null,null,null,null,null,null,"",{"$f":"IF(N26=\"SY\", T26, IF(N26=\"Tons\", V26+P26, \"\"))","v":""},{"$f":"IF(A26=\"\", \"\", SUMIF($Q$8:$Q$17, \"*\" & LEFT(A26, 11) & \"*\", $S$8:$S$17))","v":""},{"$f":"IF(N26=\"SY\",X26,\"\")","v":""},{"$f":"IF(A26=\"\", \"\", SUMIF($Q$8:$Q$17, \"*\" & LEFT(A26, 11) & \"*\", $T$8:$T$17))","v":""}]
["Hot Box Sample",null,null,null,null,null,null,null,null,null,"Mat Temperatures °F"]
[null,"Test A","Test B","Test C","Test D","Test E",null,null,null,null,"Time","Temp"]
[" Hot Box ID Number  ",null,null,null,null,null,null,null,null,null,"7:00"]
["Hot Box Sample Tons: ",null,null,null,null,null,null,null,null,null,"9:00",null,null,null,"Intended Thickness:"]
[" Time: ",null,null,null,null,null,null,null,null,null,"11:00",null,null,null,"Cores Waived?"]
[" Station/MP: ",null,null,null,null,null,null,null,null,null,"1:00",null,null,null,"Small Quantity Statement?"]
["Bar Code ID.:",null,null,null,null,null,null,null,null,null,"3:00",null,null,null,"Scale Check Done?"]
["Compaction Temp. °F: ",null,null,null,null,null,null,null,null,null,"5:00",null,null,null,"Tack Tickets Today?"]
[null,null,null,null,null,null,null,null,null,null,"7:00"]
["The Below Comments should show up on the plant report"]
["Comments:"]
[]
[]
["The Below Notes are for the CPI from the field or Plant Monitor"]
["Notes:"]
[]
[]
["RANDOM CORE LOCATIONS"]
[null,null,null,null,null,null,null,"Core #","Station","Offset,ft","Joint Station","Lane"]
[null,null,null,null,null,null,null,1]
[null,null,null,null,null,null,null,2]
[null,null,null,null,null,null,null,3]
[null,null,null,null,null,null,null,4]
[null,null,null,null,null,null,null,5]
[null,null,null,null,null,null,null,6]
[null,null,null,null,null,null,null,7]
[null,null,null,null,null,null,null,8]
[]
[null,null,null,null,null,null,null,null,null,null,"Joint Sublot Size, ft"]
[null,null,null,null,null,null,null,null,null,null,0]
[]
[]
[]
[]
[]
[]
[]
[]
[]
[]
[]
[]
[]
[]
[]
[]
[]
[]
[]
[]
[]
[]
[]
[]
[]
[]
[]
[]
[]
[]
[]
[]
[]
[]
[]
[]
[]
[]
[]
[]
[false]

{"sheet":"10","index":25,"n_rows":97,"n_cols":26,"rows_kept":97,"cut":false,"hidden":false,"merged":[[50,11,50,13],[51,11,51,13],[52,11,52,13],[44,11,44,13],[45,11,45,13],[46,11,46,13],[47,11,47,13],[48,11,48,13],[49,11,49,13],[43,0,43,16],[25,0,25,1],[26,0,26,5],[26,20,26,23],[26,25,26,27],[34,2,34,4],[35,0,35,5],[36,1,36,14],[37,0,37,14],[39,0,39,5],[40,1,40,14],[41,0,41,14],[23,0,23,1],[23,2,23,4],[23,9,23,12],[24,0,24,1],[24,2,24,4],[24,9,24,12],[21,0,21,1],[21,2,21,4],[21,9,21,12],[22,0,22,1],[22,2,22,4],[22,9,22,12],[19,0,19,1],[19,2,19,4],[19,9,19,12],[20,0,20,1],[20,2,20,4],[20,9,20,12],[18,0,18,16],[6,14,6,15],[7,14,7,15],[8,14,8,15],[9,14,9,15],[10,14,10,15],[11,14,11,15],[12,14,12,15],[13,14,13,15],[14,14,14,15],[15,14,15,15],[16,14,16,15],[1,0,1,16],[4,0,4,15],[5,4,5,5],[5,8,5,9],[5,11,5,12],[5,13,5,15]]}
[]
["Iowa DOT HMA Field Report"]
["Date :"]
["Item No.('s)"]
["PLACEMENT RECORD",null,null,null,null,null,null,null,null,null,null,null,null,null,null,null,null,null,null,null,null,{"$f":"SUBSTITUTE(A21 & \"\\\" & J21,\"\"\"\",\"\")","v":"\\"}]
[null,null,null,null,"Additional width to DEDUCT from Field Voids",null,null,null,"Placed Density (Pounds/CF)=",null,150,"Overwritten on the \"Summary\" Tab",null,"ONLY ONE (1) MIX DESIGN PER DFR OTHERWISE IT WILL NOT IMPORT INTO THE PLANT REPORT PROPERLY",null,null,null,null,null,null,null,{"$f":"SUBSTITUTE(A22 & \"\\\" & J22,\"\"\"\",\"\")","v":"\\"}]
["From Station"," To Station","Lane","ML or Widening Placement Width","Additional Width (ft) ","Thickness (in)","Total Length Placed (FT)","\"Pay\"  Est \"SY\"","Thickness (inches)","Calculated Field Voids Tons","Placed Tons            (Not including Waste)","% Yield","SY to be PAID (If Diff. than Est SY)","Mix Design No.","Bid Item/ Project No.",null,null,null,"This uses the correct SY #, if Green is blank uses Est. SY","Adds up the Tons",null,"\\"]
[null,null,null,null,null,null,{"$f":"IF(OR(A8=\"\",B8=\"\"),0,IF($A$97=TRUE,ABS(B8-A8)*5280,ABS(VALUE(SUBSTITUTE(A8,\"+\",\"\"))-VALUE(SUBSTITUTE(B8,\"+\",\"\")))))","v":0},{"$f":"IF(D8=\"\",\"\",G8*(D8+E8)/9)","v":""},null,{"$f":"IF(I8=\"\",\"\",(G8)*(D8+E8)*I8/12*$K$6/2000)","v":""},null,{"$f":"IF(K8=\"\",\"\",K8/J8*100)","v":""},null,null,null,null,{"$f":"O8 & \"\\\" & N8","v":"\\"},{"$f":"IF(AND(A8=\"\",B8=\"\",C8=\"\",D8=\"\"),1,IF(OR(O8=\"\",N8=\"\"),2,IF(ISERROR(MATCH(Q8,Input!M$5:M$24,0)),2,1)))","v":1},{"$f":"IF(M8<>\"\", M8, H8)","v":""},{"$f":"K8","v":0},null,"\\"]
[null,null,null,null,null,null,{"$f":"IF(OR(A9=\"\",B9=\"\"),0,IF($A$97=TRUE,ABS(B9-A9)*5280,ABS(VALUE(SUBSTITUTE(A9,\"+\",\"\"))-VALUE(SUBSTITUTE(B9,\"+\",\"\")))))","v":0},{"$f":"IF(D9=\"\",\"\",G9*(D9+E9)/9)","v":""},null,"",null,{"$f":"IF(K9=\"\",\"\",K9/J9*100)","v":""},null,null,null,null,{"$f":"O9 & \"\\\" & N9","v":"\\"},{"$f":"IF(AND(A9=\"\",B9=\"\",C9=\"\",D9=\"\"),1,IF(OR(O9=\"\",N9=\"\"),2,IF(ISERROR(MATCH(Q9,Input!M$5:M$24,0)),2,1)))","v":1},{"$f":"IF(M9<>\"\", M9, H9)","v":""},{"$f":"K9","v":0},null,"\\"]
[null,null,null,null,null,null,0,"",null,"",null,"",null,null,null,null,"\\",{"$f":"IF(AND(A10=\"\",B10=\"\",C10=\"\",D10=\"\"),1,IF(OR(O10=\"\",N10=\"\"),2,IF(ISERROR(MATCH(Q10,Input!M$5:M$24,0)),2,1)))","v":1},{"$f":"IF(M10<>\"\", M10, H10)","v":""},0]
[null,null,null,null,null,null,0,"",null,"",null,"",null,null,null,null,"\\",{"$f":"IF(AND(A11=\"\",B11=\"\",C11=\"\",D11=\"\"),1,IF(OR(O11=\"\",N11=\"\"),2,IF(ISERROR(MATCH(Q11,Input!M$5:M$24,0)),2,1)))","v":1},"",0]
[null,null,null,null,null,null,0,"",null,"",null,"",null,null,null,null,"\\",{"$f":"IF(AND(A12=\"\",B12=\"\",C12=\"\",D12=\"\"),1,IF(OR(O12=\"\",N12=\"\"),2,IF(ISERROR(MATCH(Q12,Input!M$5:M$24,0)),2,1)))","v":1},"",0]
[null,null,null,null,null,null,0,"",null,"",null,"",null,null,null,null,"\\",{"$f":"IF(AND(A13=\"\",B13=\"\",C13=\"\",D13=\"\"),1,IF(OR(O13=\"\",N13=\"\"),2,IF(ISERROR(MATCH(Q13,Input!M$5:M$24,0)),2,1)))","v":1},"",0]
[null,null,null,null,null,null,0,"",null,"",null,"",null,null,null,null,"\\",{"$f":"IF(AND(A14=\"\",B14=\"\",C14=\"\",D14=\"\"),1,IF(OR(O14=\"\",N14=\"\"),2,IF(ISERROR(MATCH(Q14,Input!M$5:M$24,0)),2,1)))","v":1},"",0]
[null,null,null,null,null,null,0,"",null,"",null,"",null,null,null,null,"\\",{"$f":"IF(AND(A15=\"\",B15=\"\",C15=\"\",D15=\"\"),1,IF(OR(O15=\"\",N15=\"\"),2,IF(ISERROR(MATCH(Q15,Input!M$5:M$24,0)),2,1)))","v":1},"",0]
[null,null,null,null,null,null,0,"",null,"",null,"",null,null,null,null,"\\",{"$f":"IF(AND(A16=\"\",B16=\"\",C16=\"\",D16=\"\"),1,IF(OR(O16=\"\",N16=\"\"),2,IF(ISERROR(MATCH(Q16,Input!M$5:M$24,0)),2,1)))","v":1},"",0]
[null,null,null,null,null,null,0,"",null,"",null,"",null,null,null,null,"\\",{"$f":"IF(AND(A17=\"\",B17=\"\",C17=\"\",D17=\"\"),1,IF(OR(O17=\"\",N17=\"\"),2,IF(ISERROR(MATCH(Q17,Input!M$5:M$24,0)),2,1)))","v":1},"",0]
[]
["TANK SHEET"]
["Bid Item (In Order of Placement)",null,"Today's Placement",null,null,"Bid Item Plan Quantity","Plan Thickness (in)","Contract Mix Price","Contract Binder Price","Project Number",null,null,null,"Mix Pay Units","Mix Delivered to Road\n(Ton or SY)","Waste On Road (Ton)\nNO waste for SY Items","Tons Placed - Waste",null,null,"This adds up column S as it depends if the Est SY is filled out or the SY",null,"Use this Column for SY for the Q column","Uses this Value for Mix on Road"]
[null,null,null,null,null,{"$f":"IF($J21=\"\",\"\",INDEX(Input!$A$5:$H$24,MATCH($A21&$J21,Input!$A$5:$A$24&Input!$G$5:$G$24,0),2))","v":""},{"$f":"IF($J21=\"\",\"\",INDEX(Input!$A$5:$H$24,MATCH($A21&$J21,Input!$A$5:$A$24&Input!$G$5:$G$24,0),3))","v":""},{"$f":"IF($J21=\"\",\"\",INDEX(Input!$A$5:$H$24,MATCH($A21&$J21,Input!$A$5:$A$24&Input!$G$5:$G$24,0),4))","v":""},{"$f":"IF($J21=\"\",\"\",INDEX(Input!$A$5:$H$24,MATCH($A21&$J21,Input!$A$5:$A$24&Input!$G$5:$G$24,0),5))","v":""},null,null,null,null,{"$f":"IF($A21=\"\",\"\",OFFSET(Input!F$4,MATCH($A21,Input!$A$5:$A$24,0),0))","v":""},{"$f":"IF(N21=\"SY\", T21, IF(N21=\"Tons\", W21, \"\"))","v":""},null,{"$f":"IF(N21=\"SY\", V21, IF(N21=\"Tons\", O21-P21, \"\"))","v":""},{"$f":"SUBSTITUTE(A21 & \"\\\" & J21,\"\"\"\",\"\")","v":"\\"},{"$f":"IF(A21=\"\",1,IF(ISERROR(MATCH(R21,Input!L$5:L$24,0)),2,1))","v":1},{"$f":"IF(A21=\"\", \"\", SUMIF($Q$8:$Q$17, \"*\" & LEFT(A21, 11) & \"*\", $S$8:$S$17))","v":""},null,{"$f":"IF(A21=\"\", \"\", SUMIF($Q$8:$Q$17, \"*\" & LEFT(A21, 11) & \"*\", $T$8:$T$17))","v":""},{"$f":"IF(N21=\"SY\", T21, IF(N21=\"Tons\", V21+P21, \"\"))","v":""}]
[null,null,null,null,null,{"$f":"IF($J22=\"\",\"\",INDEX(Input!$A$5:$H$24,MATCH($A22&$J22,Input!$A$5:$A$24&Input!$G$5:$G$24,0),2))","v":""},{"$f":"IF($J22=\"\",\"\",INDEX(Input!$A$5:$H$24,MATCH($A22&$J22,Input!$A$5:$A$24&Input!$G$5:$G$24,0),3))","v":""},{"$f":"IF($J22=\"\",\"\",INDEX(Input!$A$5:$H$24,MATCH($A22&$J22,Input!$A$5:$A$24&Input!$G$5:$G$24,0),4))","v":""},{"$f":"IF($J22=\"\",\"\",INDEX(Input!$A$5:$H$24,MATCH($A22&$J22,Input!$A$5:$A$24&Input!$G$5:$G$24,0),5))","v":""},null,null,null,null,{"$f":"IF($A22=\"\",\"\",OFFSET(Input!F$4,MATCH($A22,Input!$A$5:$A$24,0),0))","v":""},{"$f":"IF(N22=\"SY\", T22, IF(N22=\"Tons\", W22, \"\"))","v":""},null,{"$f":"IF(N22=\"SY\", V22, IF(N22=\"Tons\", O22-P22, \"\"))","v":""},{"$f":"SUBSTITUTE(A22 & \"\\\" & J22,\"\"\"\",\"\")","v":"\\"},{"$f":"IF(A22=\"\",1,IF(ISERROR(MATCH(R22,Input!L$5:L$24,0)),2,1))","v":1},{"$f":"IF(A22=\"\", \"\", SUMIF($Q$8:$Q$17, \"*\" & LEFT(A22, 11) & \"*\", $S$8:$S$17))","v":""},null,{"$f":"IF(A22=\"\", \"\", SUMIF($Q$8:$Q$17, \"*\" & LEFT(A22, 11) & \"*\", $T$8:$T$17))","v":""},{"$f":"IF(N22=\"SY\", T22, IF(N22=\"Tons\", V22+P22, \"\"))","v":""}]
[null,null,null,null,null,{"$f":"IF($J23=\"\",\"\",INDEX(Input!$A$5:$H$24,MATCH($A23&$J23,Input!$A$5:$A$24&Input!$G$5:$G$24,0),2))","v":""},{"$f":"IF($J23=\"\",\"\",INDEX(Input!$A$5:$H$24,MATCH($A23&$J23,Input!$A$5:$A$24&Input!$G$5:$G$24,0),3))","v":""},{"$f":"IF($J23=\"\",\"\",INDEX(Input!$A$5:$H$24,MATCH($A23&$J23,Input!$A$5:$A$24&Input!$G$5:$G$24,0),4))","v":""},{"$f":"IF($J23=\"\",\"\",INDEX(Input!$A$5:$H$24,MATCH($A23&$J23,Input!$A$5:$A$24&Input!$G$5:$G$24,0),5))","v":""},null,null,null,null,{"$f":"IF($A23=\"\",\"\",OFFSET(Input!F$4,MATCH($A23,Input!$A$5:$A$24,0),0))","v":""},{"$f":"IF(N23=\"SY\", T23, IF(N23=\"Tons\", W23, \"\"))","v":""},null,{"$f":"IF(N23=\"SY\", V23, IF(N23=\"Tons\", O23-P23, \"\"))","v":""},"\\",{"$f":"IF(A23=\"\",1,IF(ISERROR(MATCH(R23,Input!L$5:L$24,0)),2,1))","v":1},{"$f":"IF(A23=\"\", \"\", SUMIF($Q$8:$Q$17, \"*\" & LEFT(A23, 11) & \"*\", $S$8:$S$17))","v":""},null,{"$f":"IF(A23=\"\", \"\", SUMIF($Q$8:$Q$17, \"*\" & LEFT(A23, 11) & \"*\", $T$8:$T$17))","v":""},{"$f":"IF(N23=\"SY\", T23, IF(N23=\"Tons\", V23+P23, \"\"))","v":""}]
[null,null,null,null,null,{"$f":"IF($J24=\"\",\"\",INDEX(Input!$A$5:$H$24,MATCH($A24&$J24,Input!$A$5:$A$24&Input!$G$5:$G$24,0),2))","v":""},{"$f":"IF($J24=\"\",\"\",INDEX(Input!$A$5:$H$24,MATCH($A24&$J24,Input!$A$5:$A$24&Input!$G$5:$G$24,0),3))","v":""},{"$f":"IF($J24=\"\",\"\",INDEX(Input!$A$5:$H$24,MATCH($A24&$J24,Input!$A$5:$A$24&Input!$G$5:$G$24,0),4))","v":""},{"$f":"IF($J24=\"\",\"\",INDEX(Input!$A$5:$H$24,MATCH($A24&$J24,Input!$A$5:$A$24&Input!$G$5:$G$24,0),5))","v":""},null,null,null,null,{"$f":"IF($A24=\"\",\"\",OFFSET(Input!F$4,MATCH($A24,Input!$A$5:$A$24,0),0))","v":""},"",null,{"$f":"IF(N24=\"SY\", V24, IF(N24=\"Tons\", O24-P24, \"\"))","v":""},"\\",{"$f":"IF(A24=\"\",1,IF(ISERROR(MATCH(R24,Input!L$5:L$24,0)),2,1))","v":1},"",null,{"$f":"IF(A24=\"\", \"\", SUMIF($Q$8:$Q$17, \"*\" & LEFT(A24, 11) & \"*\", $T$8:$T$17))","v":""},{"$f":"IF(N24=\"SY\", T24, IF(N24=\"Tons\", V24+P24, \"\"))","v":""}]
[null,null,null,null,null,{"$f":"IF($J25=\"\",\"\",INDEX(Input!$A$5:$H$24,MATCH($A25&$J25,Input!$A$5:$A$24&Input!$G$5:$G$24,0),2))","v":""},{"$f":"IF($J25=\"\",\"\",INDEX(Input!$A$5:$H$24,MATCH($A25&$J25,Input!$A$5:$A$24&Input!$G$5:$G$24,0),3))","v":""},{"$f":"IF($J25=\"\",\"\",INDEX(Input!$A$5:$H$24,MATCH($A25&$J25,Input!$A$5:$A$24&Input!$G$5:$G$24,0),4))","v":""},{"$f":"IF($J25=\"\",\"\",INDEX(Input!$A$5:$H$24,MATCH($A25&$J25,Input!$A$5:$A$24&Input!$G$5:$G$24,0),5))","v":""},null,null,null,null,{"$f":"IF($A25=\"\",\"\",OFFSET(Input!F$4,MATCH($A25,Input!$A$5:$A$24,0),0))","v":""},"",null,"","\\",{"$f":"IF(A25=\"\",1,IF(ISERROR(MATCH(R25,Input!L$5:L$24,0)),2,1))","v":1},"",null,"",""]
[null,null,null,null,null,null,null,null,null,null,null,null,null,null,null,null,null,null,null,null,null,"",{"$f":"IF(N26=\"SY\", T26, IF(N26=\"Tons\", V26+P26, \"\"))","v":""},{"$f":"IF(A26=\"\", \"\", SUMIF($Q$8:$Q$17, \"*\" & LEFT(A26, 11) & \"*\", $S$8:$S$17))","v":""},{"$f":"IF(N26=\"SY\",X26,\"\")","v":""},{"$f":"IF(A26=\"\", \"\", SUMIF($Q$8:$Q$17, \"*\" & LEFT(A26, 11) & \"*\", $T$8:$T$17))","v":""}]
["Hot Box Sample",null,null,null,null,null,null,null,null,null,"Mat Temperatures °F"]
[null,"Test A","Test B","Test C","Test D","Test E",null,null,null,null,"Time","Temp"]
[" Hot Box ID Number  ",null,null,null,null,null,null,null,null,null,"7:00"]
["Hot Box Sample Tons: ",null,null,null,null,null,null,null,null,null,"9:00",null,null,null,"Intended Thickness:"]
[" Time: ",null,null,null,null,null,null,null,null,null,"11:00",null,null,null,"Cores Waived?"]
[" Station/MP: ",null,null,null,null,null,null,null,null,null,"1:00",null,null,null,"Small Quantity Statement?"]
["Bar Code ID.:",null,null,null,null,null,null,null,null,null,"3:00",null,null,null,"Scale Check Done?"]
["Compaction Temp. °F: ",null,null,null,null,null,null,null,null,null,"5:00",null,null,null,"Tack Tickets Today?"]
[null,null,null,null,null,null,null,null,null,null,"7:00"]
["The Below Comments should show up on the plant report"]
["Comments:"]
[]
[]
["The Below Notes are for the CPI from the field or Plant Monitor"]
["Notes:"]
[]
[]
["RANDOM CORE LOCATIONS"]
[null,null,null,null,null,null,null,"Core #","Station","Offset,ft","Joint Station","Lane"]
[null,null,null,null,null,null,null,1]
[null,null,null,null,null,null,null,2]
[null,null,null,null,null,null,null,3]
[null,null,null,null,null,null,null,4]
[null,null,null,null,null,null,null,5]
[null,null,null,null,null,null,null,6]
[null,null,null,null,null,null,null,7]
[null,null,null,null,null,null,null,8]
[]
[null,null,null,null,null,null,null,null,null,null,"Joint Sublot Size, ft"]
[null,null,null,null,null,null,null,null,null,null,0]
[]
[]
[]
[]
[]
[]
[]
[]
[]
[]
[]
[]
[]
[]
[]
[]
[]
[]
[]
[]
[]
[]
[]
[]
[]
[]
[]
[]
[]
[]
[]
[]
[]
[]
[]
[]
[]
[]
[]
[]
[false]

{"sheet":"11","index":26,"n_rows":97,"n_cols":26,"rows_kept":97,"cut":false,"hidden":false,"merged":[[50,11,50,13],[51,11,51,13],[52,11,52,13],[44,11,44,13],[45,11,45,13],[46,11,46,13],[47,11,47,13],[48,11,48,13],[49,11,49,13],[43,0,43,16],[25,0,25,1],[26,0,26,5],[26,20,26,23],[26,25,26,27],[34,2,34,4],[35,0,35,5],[36,1,36,14],[37,0,37,14],[39,0,39,5],[40,1,40,14],[41,0,41,14],[23,0,23,1],[23,2,23,4],[23,9,23,12],[24,0,24,1],[24,2,24,4],[24,9,24,12],[21,0,21,1],[21,2,21,4],[21,9,21,12],[22,0,22,1],[22,2,22,4],[22,9,22,12],[19,0,19,1],[19,2,19,4],[19,9,19,12],[20,0,20,1],[20,2,20,4],[20,9,20,12],[18,0,18,16],[6,14,6,15],[7,14,7,15],[8,14,8,15],[9,14,9,15],[10,14,10,15],[11,14,11,15],[12,14,12,15],[13,14,13,15],[14,14,14,15],[15,14,15,15],[16,14,16,15],[1,0,1,16],[4,0,4,15],[5,4,5,5],[5,8,5,9],[5,11,5,12],[5,13,5,15]]}
[]
["Iowa DOT HMA Field Report"]
["Date :"]
["Item No.('s)"]
["PLACEMENT RECORD",null,null,null,null,null,null,null,null,null,null,null,null,null,null,null,null,null,null,null,null,{"$f":"SUBSTITUTE(A21 & \"\\\" & J21,\"\"\"\",\"\")","v":"\\"}]
[null,null,null,null,"Additional width to DEDUCT from Field Voids",null,null,null,"Placed Density (Pounds/CF)=",null,150,"Overwritten on the \"Summary\" Tab",null,"ONLY ONE (1) MIX DESIGN PER DFR OTHERWISE IT WILL NOT IMPORT INTO THE PLANT REPORT PROPERLY",null,null,null,null,null,null,null,{"$f":"SUBSTITUTE(A22 & \"\\\" & J22,\"\"\"\",\"\")","v":"\\"}]
["From Station"," To Station","Lane","ML or Widening Placement Width","Additional Width (ft) ","Thickness (in)","Total Length Placed (FT)","\"Pay\"  Est \"SY\"","Thickness (inches)","Calculated Field Voids Tons","Placed Tons            (Not including Waste)","% Yield","SY to be PAID (If Diff. than Est SY)","Mix Design No.","Bid Item/ Project No.",null,null,null,"This uses the correct SY #, if Green is blank uses Est. SY","Adds up the Tons",null,"\\"]
[null,null,null,null,null,null,{"$f":"IF(OR(A8=\"\",B8=\"\"),0,IF($A$97=TRUE,ABS(B8-A8)*5280,ABS(VALUE(SUBSTITUTE(A8,\"+\",\"\"))-VALUE(SUBSTITUTE(B8,\"+\",\"\")))))","v":0},{"$f":"IF(D8=\"\",\"\",G8*(D8+E8)/9)","v":""},null,{"$f":"IF(I8=\"\",\"\",(G8)*(D8+E8)*I8/12*$K$6/2000)","v":""},null,{"$f":"IF(K8=\"\",\"\",K8/J8*100)","v":""},null,null,null,null,{"$f":"O8 & \"\\\" & N8","v":"\\"},{"$f":"IF(AND(A8=\"\",B8=\"\",C8=\"\",D8=\"\"),1,IF(OR(O8=\"\",N8=\"\"),2,IF(ISERROR(MATCH(Q8,Input!M$5:M$24,0)),2,1)))","v":1},{"$f":"IF(M8<>\"\", M8, H8)","v":""},{"$f":"K8","v":0},null,"\\"]
[null,null,null,null,null,null,{"$f":"IF(OR(A9=\"\",B9=\"\"),0,IF($A$97=TRUE,ABS(B9-A9)*5280,ABS(VALUE(SUBSTITUTE(A9,\"+\",\"\"))-VALUE(SUBSTITUTE(B9,\"+\",\"\")))))","v":0},{"$f":"IF(D9=\"\",\"\",G9*(D9+E9)/9)","v":""},null,"",null,{"$f":"IF(K9=\"\",\"\",K9/J9*100)","v":""},null,null,null,null,{"$f":"O9 & \"\\\" & N9","v":"\\"},{"$f":"IF(AND(A9=\"\",B9=\"\",C9=\"\",D9=\"\"),1,IF(OR(O9=\"\",N9=\"\"),2,IF(ISERROR(MATCH(Q9,Input!M$5:M$24,0)),2,1)))","v":1},{"$f":"IF(M9<>\"\", M9, H9)","v":""},{"$f":"K9","v":0},null,"\\"]
[null,null,null,null,null,null,0,"",null,"",null,"",null,null,null,null,"\\",{"$f":"IF(AND(A10=\"\",B10=\"\",C10=\"\",D10=\"\"),1,IF(OR(O10=\"\",N10=\"\"),2,IF(ISERROR(MATCH(Q10,Input!M$5:M$24,0)),2,1)))","v":1},{"$f":"IF(M10<>\"\", M10, H10)","v":""},0]
[null,null,null,null,null,null,0,"",null,"",null,"",null,null,null,null,"\\",{"$f":"IF(AND(A11=\"\",B11=\"\",C11=\"\",D11=\"\"),1,IF(OR(O11=\"\",N11=\"\"),2,IF(ISERROR(MATCH(Q11,Input!M$5:M$24,0)),2,1)))","v":1},"",0]
[null,null,null,null,null,null,0,"",null,"",null,"",null,null,null,null,"\\",{"$f":"IF(AND(A12=\"\",B12=\"\",C12=\"\",D12=\"\"),1,IF(OR(O12=\"\",N12=\"\"),2,IF(ISERROR(MATCH(Q12,Input!M$5:M$24,0)),2,1)))","v":1},"",0]
[null,null,null,null,null,null,0,"",null,"",null,"",null,null,null,null,"\\",{"$f":"IF(AND(A13=\"\",B13=\"\",C13=\"\",D13=\"\"),1,IF(OR(O13=\"\",N13=\"\"),2,IF(ISERROR(MATCH(Q13,Input!M$5:M$24,0)),2,1)))","v":1},"",0]
[null,null,null,null,null,null,0,"",null,"",null,"",null,null,null,null,"\\",{"$f":"IF(AND(A14=\"\",B14=\"\",C14=\"\",D14=\"\"),1,IF(OR(O14=\"\",N14=\"\"),2,IF(ISERROR(MATCH(Q14,Input!M$5:M$24,0)),2,1)))","v":1},"",0]
[null,null,null,null,null,null,0,"",null,"",null,"",null,null,null,null,"\\",{"$f":"IF(AND(A15=\"\",B15=\"\",C15=\"\",D15=\"\"),1,IF(OR(O15=\"\",N15=\"\"),2,IF(ISERROR(MATCH(Q15,Input!M$5:M$24,0)),2,1)))","v":1},"",0]
[null,null,null,null,null,null,0,"",null,"",null,"",null,null,null,null,"\\",{"$f":"IF(AND(A16=\"\",B16=\"\",C16=\"\",D16=\"\"),1,IF(OR(O16=\"\",N16=\"\"),2,IF(ISERROR(MATCH(Q16,Input!M$5:M$24,0)),2,1)))","v":1},"",0]
[null,null,null,null,null,null,0,"",null,"",null,"",null,null,null,null,"\\",{"$f":"IF(AND(A17=\"\",B17=\"\",C17=\"\",D17=\"\"),1,IF(OR(O17=\"\",N17=\"\"),2,IF(ISERROR(MATCH(Q17,Input!M$5:M$24,0)),2,1)))","v":1},"",0]
[]
["TANK SHEET"]
["Bid Item (In Order of Placement)",null,"Today's Placement",null,null,"Bid Item Plan Quantity","Plan Thickness (in)","Contract Mix Price","Contract Binder Price","Project Number",null,null,null,"Mix Pay Units","Mix Delivered to Road\n(Ton or SY)","Waste On Road (Ton)\nNO waste for SY Items","Tons Placed - Waste",null,null,"This adds up column S as it depends if the Est SY is filled out or the SY",null,"Use this Column for SY for the Q column","Uses this Value for Mix on Road"]
[null,null,null,null,null,{"$f":"IF($J21=\"\",\"\",INDEX(Input!$A$5:$H$24,MATCH($A21&$J21,Input!$A$5:$A$24&Input!$G$5:$G$24,0),2))","v":""},{"$f":"IF($J21=\"\",\"\",INDEX(Input!$A$5:$H$24,MATCH($A21&$J21,Input!$A$5:$A$24&Input!$G$5:$G$24,0),3))","v":""},{"$f":"IF($J21=\"\",\"\",INDEX(Input!$A$5:$H$24,MATCH($A21&$J21,Input!$A$5:$A$24&Input!$G$5:$G$24,0),4))","v":""},{"$f":"IF($J21=\"\",\"\",INDEX(Input!$A$5:$H$24,MATCH($A21&$J21,Input!$A$5:$A$24&Input!$G$5:$G$24,0),5))","v":""},null,null,null,null,{"$f":"IF($A21=\"\",\"\",OFFSET(Input!F$4,MATCH($A21,Input!$A$5:$A$24,0),0))","v":""},{"$f":"IF(N21=\"SY\", T21, IF(N21=\"Tons\", W21, \"\"))","v":""},null,{"$f":"IF(N21=\"SY\", V21, IF(N21=\"Tons\", O21-P21, \"\"))","v":""},{"$f":"SUBSTITUTE(A21 & \"\\\" & J21,\"\"\"\",\"\")","v":"\\"},{"$f":"IF(A21=\"\",1,IF(ISERROR(MATCH(R21,Input!L$5:L$24,0)),2,1))","v":1},{"$f":"IF(A21=\"\", \"\", SUMIF($Q$8:$Q$17, \"*\" & LEFT(A21, 11) & \"*\", $S$8:$S$17))","v":""},null,{"$f":"IF(A21=\"\", \"\", SUMIF($Q$8:$Q$17, \"*\" & LEFT(A21, 11) & \"*\", $T$8:$T$17))","v":""},{"$f":"IF(N21=\"SY\", T21, IF(N21=\"Tons\", V21+P21, \"\"))","v":""}]
[null,null,null,null,null,{"$f":"IF($J22=\"\",\"\",INDEX(Input!$A$5:$H$24,MATCH($A22&$J22,Input!$A$5:$A$24&Input!$G$5:$G$24,0),2))","v":""},{"$f":"IF($J22=\"\",\"\",INDEX(Input!$A$5:$H$24,MATCH($A22&$J22,Input!$A$5:$A$24&Input!$G$5:$G$24,0),3))","v":""},{"$f":"IF($J22=\"\",\"\",INDEX(Input!$A$5:$H$24,MATCH($A22&$J22,Input!$A$5:$A$24&Input!$G$5:$G$24,0),4))","v":""},{"$f":"IF($J22=\"\",\"\",INDEX(Input!$A$5:$H$24,MATCH($A22&$J22,Input!$A$5:$A$24&Input!$G$5:$G$24,0),5))","v":""},null,null,null,null,{"$f":"IF($A22=\"\",\"\",OFFSET(Input!F$4,MATCH($A22,Input!$A$5:$A$24,0),0))","v":""},{"$f":"IF(N22=\"SY\", T22, IF(N22=\"Tons\", W22, \"\"))","v":""},null,{"$f":"IF(N22=\"SY\", V22, IF(N22=\"Tons\", O22-P22, \"\"))","v":""},{"$f":"SUBSTITUTE(A22 & \"\\\" & J22,\"\"\"\",\"\")","v":"\\"},{"$f":"IF(A22=\"\",1,IF(ISERROR(MATCH(R22,Input!L$5:L$24,0)),2,1))","v":1},{"$f":"IF(A22=\"\", \"\", SUMIF($Q$8:$Q$17, \"*\" & LEFT(A22, 11) & \"*\", $S$8:$S$17))","v":""},null,{"$f":"IF(A22=\"\", \"\", SUMIF($Q$8:$Q$17, \"*\" & LEFT(A22, 11) & \"*\", $T$8:$T$17))","v":""},{"$f":"IF(N22=\"SY\", T22, IF(N22=\"Tons\", V22+P22, \"\"))","v":""}]
[null,null,null,null,null,{"$f":"IF($J23=\"\",\"\",INDEX(Input!$A$5:$H$24,MATCH($A23&$J23,Input!$A$5:$A$24&Input!$G$5:$G$24,0),2))","v":""},{"$f":"IF($J23=\"\",\"\",INDEX(Input!$A$5:$H$24,MATCH($A23&$J23,Input!$A$5:$A$24&Input!$G$5:$G$24,0),3))","v":""},{"$f":"IF($J23=\"\",\"\",INDEX(Input!$A$5:$H$24,MATCH($A23&$J23,Input!$A$5:$A$24&Input!$G$5:$G$24,0),4))","v":""},{"$f":"IF($J23=\"\",\"\",INDEX(Input!$A$5:$H$24,MATCH($A23&$J23,Input!$A$5:$A$24&Input!$G$5:$G$24,0),5))","v":""},null,null,null,null,{"$f":"IF($A23=\"\",\"\",OFFSET(Input!F$4,MATCH($A23,Input!$A$5:$A$24,0),0))","v":""},{"$f":"IF(N23=\"SY\", T23, IF(N23=\"Tons\", W23, \"\"))","v":""},null,{"$f":"IF(N23=\"SY\", V23, IF(N23=\"Tons\", O23-P23, \"\"))","v":""},"\\",{"$f":"IF(A23=\"\",1,IF(ISERROR(MATCH(R23,Input!L$5:L$24,0)),2,1))","v":1},{"$f":"IF(A23=\"\", \"\", SUMIF($Q$8:$Q$17, \"*\" & LEFT(A23, 11) & \"*\", $S$8:$S$17))","v":""},null,{"$f":"IF(A23=\"\", \"\", SUMIF($Q$8:$Q$17, \"*\" & LEFT(A23, 11) & \"*\", $T$8:$T$17))","v":""},{"$f":"IF(N23=\"SY\", T23, IF(N23=\"Tons\", V23+P23, \"\"))","v":""}]
[null,null,null,null,null,{"$f":"IF($J24=\"\",\"\",INDEX(Input!$A$5:$H$24,MATCH($A24&$J24,Input!$A$5:$A$24&Input!$G$5:$G$24,0),2))","v":""},{"$f":"IF($J24=\"\",\"\",INDEX(Input!$A$5:$H$24,MATCH($A24&$J24,Input!$A$5:$A$24&Input!$G$5:$G$24,0),3))","v":""},{"$f":"IF($J24=\"\",\"\",INDEX(Input!$A$5:$H$24,MATCH($A24&$J24,Input!$A$5:$A$24&Input!$G$5:$G$24,0),4))","v":""},{"$f":"IF($J24=\"\",\"\",INDEX(Input!$A$5:$H$24,MATCH($A24&$J24,Input!$A$5:$A$24&Input!$G$5:$G$24,0),5))","v":""},null,null,null,null,{"$f":"IF($A24=\"\",\"\",OFFSET(Input!F$4,MATCH($A24,Input!$A$5:$A$24,0),0))","v":""},"",null,{"$f":"IF(N24=\"SY\", V24, IF(N24=\"Tons\", O24-P24, \"\"))","v":""},"\\",{"$f":"IF(A24=\"\",1,IF(ISERROR(MATCH(R24,Input!L$5:L$24,0)),2,1))","v":1},"",null,{"$f":"IF(A24=\"\", \"\", SUMIF($Q$8:$Q$17, \"*\" & LEFT(A24, 11) & \"*\", $T$8:$T$17))","v":""},{"$f":"IF(N24=\"SY\", T24, IF(N24=\"Tons\", V24+P24, \"\"))","v":""}]
[null,null,null,null,null,{"$f":"IF($J25=\"\",\"\",INDEX(Input!$A$5:$H$24,MATCH($A25&$J25,Input!$A$5:$A$24&Input!$G$5:$G$24,0),2))","v":""},{"$f":"IF($J25=\"\",\"\",INDEX(Input!$A$5:$H$24,MATCH($A25&$J25,Input!$A$5:$A$24&Input!$G$5:$G$24,0),3))","v":""},{"$f":"IF($J25=\"\",\"\",INDEX(Input!$A$5:$H$24,MATCH($A25&$J25,Input!$A$5:$A$24&Input!$G$5:$G$24,0),4))","v":""},{"$f":"IF($J25=\"\",\"\",INDEX(Input!$A$5:$H$24,MATCH($A25&$J25,Input!$A$5:$A$24&Input!$G$5:$G$24,0),5))","v":""},null,null,null,null,{"$f":"IF($A25=\"\",\"\",OFFSET(Input!F$4,MATCH($A25,Input!$A$5:$A$24,0),0))","v":""},"",null,"","\\",{"$f":"IF(A25=\"\",1,IF(ISERROR(MATCH(R25,Input!L$5:L$24,0)),2,1))","v":1},"",null,"",""]
[null,null,null,null,null,null,null,null,null,null,null,null,null,null,null,null,null,null,null,null,null,"",{"$f":"IF(N26=\"SY\", T26, IF(N26=\"Tons\", V26+P26, \"\"))","v":""},{"$f":"IF(A26=\"\", \"\", SUMIF($Q$8:$Q$17, \"*\" & LEFT(A26, 11) & \"*\", $S$8:$S$17))","v":""},{"$f":"IF(N26=\"SY\",X26,\"\")","v":""},{"$f":"IF(A26=\"\", \"\", SUMIF($Q$8:$Q$17, \"*\" & LEFT(A26, 11) & \"*\", $T$8:$T$17))","v":""}]
["Hot Box Sample",null,null,null,null,null,null,null,null,null,"Mat Temperatures °F"]
[null,"Test A","Test B","Test C","Test D","Test E",null,null,null,null,"Time","Temp"]
[" Hot Box ID Number  ",null,null,null,null,null,null,null,null,null,"7:00"]
["Hot Box Sample Tons: ",null,null,null,null,null,null,null,null,null,"9:00",null,null,null,"Intended Thickness:"]
[" Time: ",null,null,null,null,null,null,null,null,null,"11:00",null,null,null,"Cores Waived?"]
[" Station/MP: ",null,null,null,null,null,null,null,null,null,"1:00",null,null,null,"Small Quantity Statement?"]
["Bar Code ID.:",null,null,null,null,null,null,null,null,null,"3:00",null,null,null,"Scale Check Done?"]
["Compaction Temp. °F: ",null,null,null,null,null,null,null,null,null,"5:00",null,null,null,"Tack Tickets Today?"]
[null,null,null,null,null,null,null,null,null,null,"7:00"]
["The Below Comments should show up on the plant report"]
["Comments:"]
[]
[]
["The Below Notes are for the CPI from the field or Plant Monitor"]
["Notes:"]
[]
[]
["RANDOM CORE LOCATIONS"]
[null,null,null,null,null,null,null,"Core #","Station","Offset,ft","Joint Station","Lane"]
[null,null,null,null,null,null,null,1]
[null,null,null,null,null,null,null,2]
[null,null,null,null,null,null,null,3]
[null,null,null,null,null,null,null,4]
[null,null,null,null,null,null,null,5]
[null,null,null,null,null,null,null,6]
[null,null,null,null,null,null,null,7]
[null,null,null,null,null,null,null,8]
[]
[null,null,null,null,null,null,null,null,null,null,"Joint Sublot Size, ft"]
[null,null,null,null,null,null,null,null,null,null,0]
[]
[]
[]
[]
[]
[]
[]
[]
[]
[]
[]
[]
[]
[]
[]
[]
[]
[]
[]
[]
[]
[]
[]
[]
[]
[]
[]
[]
[]
[]
[]
[]
[]
[]
[]
[]
[]
[]
[]
[]
[false]

{"sheet":"12","index":27,"n_rows":97,"n_cols":26,"rows_kept":97,"cut":false,"hidden":false,"merged":[[50,11,50,13],[51,11,51,13],[52,11,52,13],[44,11,44,13],[45,11,45,13],[46,11,46,13],[47,11,47,13],[48,11,48,13],[49,11,49,13],[43,0,43,16],[25,0,25,1],[26,0,26,5],[26,20,26,23],[26,25,26,27],[34,2,34,4],[35,0,35,5],[36,1,36,14],[37,0,37,14],[39,0,39,5],[40,1,40,14],[41,0,41,14],[23,0,23,1],[23,2,23,4],[23,9,23,12],[24,0,24,1],[24,2,24,4],[24,9,24,12],[21,0,21,1],[21,2,21,4],[21,9,21,12],[22,0,22,1],[22,2,22,4],[22,9,22,12],[19,0,19,1],[19,2,19,4],[19,9,19,12],[20,0,20,1],[20,2,20,4],[20,9,20,12],[18,0,18,16],[6,14,6,15],[7,14,7,15],[8,14,8,15],[9,14,9,15],[10,14,10,15],[11,14,11,15],[12,14,12,15],[13,14,13,15],[14,14,14,15],[15,14,15,15],[16,14,16,15],[1,0,1,16],[4,0,4,15],[5,4,5,5],[5,8,5,9],[5,11,5,12],[5,13,5,15]]}
[]
["Iowa DOT HMA Field Report"]
["Date :"]
["Item No.('s)"]
["PLACEMENT RECORD",null,null,null,null,null,null,null,null,null,null,null,null,null,null,null,null,null,null,null,null,{"$f":"SUBSTITUTE(A21 & \"\\\" & J21,\"\"\"\",\"\")","v":"\\"}]
[null,null,null,null,"Additional width to DEDUCT from Field Voids",null,null,null,"Placed Density (Pounds/CF)=",null,150,"Overwritten on the \"Summary\" Tab",null,"ONLY ONE (1) MIX DESIGN PER DFR OTHERWISE IT WILL NOT IMPORT INTO THE PLANT REPORT PROPERLY",null,null,null,null,null,null,null,{"$f":"SUBSTITUTE(A22 & \"\\\" & J22,\"\"\"\",\"\")","v":"\\"}]
["From Station"," To Station","Lane","ML or Widening Placement Width","Additional Width (ft) ","Thickness (in)","Total Length Placed (FT)","\"Pay\"  Est \"SY\"","Thickness (inches)","Calculated Field Voids Tons","Placed Tons            (Not including Waste)","% Yield","SY to be PAID (If Diff. than Est SY)","Mix Design No.","Bid Item/ Project No.",null,null,null,"This uses the correct SY #, if Green is blank uses Est. SY","Adds up the Tons",null,"\\"]
[null,null,null,null,null,null,{"$f":"IF(OR(A8=\"\",B8=\"\"),0,IF($A$97=TRUE,ABS(B8-A8)*5280,ABS(VALUE(SUBSTITUTE(A8,\"+\",\"\"))-VALUE(SUBSTITUTE(B8,\"+\",\"\")))))","v":0},{"$f":"IF(D8=\"\",\"\",G8*(D8+E8)/9)","v":""},null,{"$f":"IF(I8=\"\",\"\",(G8)*(D8+E8)*I8/12*$K$6/2000)","v":""},null,{"$f":"IF(K8=\"\",\"\",K8/J8*100)","v":""},null,null,null,null,{"$f":"O8 & \"\\\" & N8","v":"\\"},{"$f":"IF(AND(A8=\"\",B8=\"\",C8=\"\",D8=\"\"),1,IF(OR(O8=\"\",N8=\"\"),2,IF(ISERROR(MATCH(Q8,Input!M$5:M$24,0)),2,1)))","v":1},{"$f":"IF(M8<>\"\", M8, H8)","v":""},{"$f":"K8","v":0},null,"\\"]
[null,null,null,null,null,null,{"$f":"IF(OR(A9=\"\",B9=\"\"),0,IF($A$97=TRUE,ABS(B9-A9)*5280,ABS(VALUE(SUBSTITUTE(A9,\"+\",\"\"))-VALUE(SUBSTITUTE(B9,\"+\",\"\")))))","v":0},{"$f":"IF(D9=\"\",\"\",G9*(D9+E9)/9)","v":""},null,"",null,{"$f":"IF(K9=\"\",\"\",K9/J9*100)","v":""},null,null,null,null,{"$f":"O9 & \"\\\" & N9","v":"\\"},{"$f":"IF(AND(A9=\"\",B9=\"\",C9=\"\",D9=\"\"),1,IF(OR(O9=\"\",N9=\"\"),2,IF(ISERROR(MATCH(Q9,Input!M$5:M$24,0)),2,1)))","v":1},{"$f":"IF(M9<>\"\", M9, H9)","v":""},{"$f":"K9","v":0},null,"\\"]
[null,null,null,null,null,null,0,"",null,"",null,"",null,null,null,null,"\\",{"$f":"IF(AND(A10=\"\",B10=\"\",C10=\"\",D10=\"\"),1,IF(OR(O10=\"\",N10=\"\"),2,IF(ISERROR(MATCH(Q10,Input!M$5:M$24,0)),2,1)))","v":1},{"$f":"IF(M10<>\"\", M10, H10)","v":""},0]
[null,null,null,null,null,null,0,"",null,"",null,"",null,null,null,null,"\\",{"$f":"IF(AND(A11=\"\",B11=\"\",C11=\"\",D11=\"\"),1,IF(OR(O11=\"\",N11=\"\"),2,IF(ISERROR(MATCH(Q11,Input!M$5:M$24,0)),2,1)))","v":1},"",0]
[null,null,null,null,null,null,0,"",null,"",null,"",null,null,null,null,"\\",{"$f":"IF(AND(A12=\"\",B12=\"\",C12=\"\",D12=\"\"),1,IF(OR(O12=\"\",N12=\"\"),2,IF(ISERROR(MATCH(Q12,Input!M$5:M$24,0)),2,1)))","v":1},"",0]
[null,null,null,null,null,null,0,"",null,"",null,"",null,null,null,null,"\\",{"$f":"IF(AND(A13=\"\",B13=\"\",C13=\"\",D13=\"\"),1,IF(OR(O13=\"\",N13=\"\"),2,IF(ISERROR(MATCH(Q13,Input!M$5:M$24,0)),2,1)))","v":1},"",0]
[null,null,null,null,null,null,0,"",null,"",null,"",null,null,null,null,"\\",{"$f":"IF(AND(A14=\"\",B14=\"\",C14=\"\",D14=\"\"),1,IF(OR(O14=\"\",N14=\"\"),2,IF(ISERROR(MATCH(Q14,Input!M$5:M$24,0)),2,1)))","v":1},"",0]
[null,null,null,null,null,null,0,"",null,"",null,"",null,null,null,null,"\\",{"$f":"IF(AND(A15=\"\",B15=\"\",C15=\"\",D15=\"\"),1,IF(OR(O15=\"\",N15=\"\"),2,IF(ISERROR(MATCH(Q15,Input!M$5:M$24,0)),2,1)))","v":1},"",0]
[null,null,null,null,null,null,0,"",null,"",null,"",null,null,null,null,"\\",{"$f":"IF(AND(A16=\"\",B16=\"\",C16=\"\",D16=\"\"),1,IF(OR(O16=\"\",N16=\"\"),2,IF(ISERROR(MATCH(Q16,Input!M$5:M$24,0)),2,1)))","v":1},"",0]
[null,null,null,null,null,null,0,"",null,"",null,"",null,null,null,null,"\\",{"$f":"IF(AND(A17=\"\",B17=\"\",C17=\"\",D17=\"\"),1,IF(OR(O17=\"\",N17=\"\"),2,IF(ISERROR(MATCH(Q17,Input!M$5:M$24,0)),2,1)))","v":1},"",0]
[]
["TANK SHEET"]
["Bid Item (In Order of Placement)",null,"Today's Placement",null,null,"Bid Item Plan Quantity","Plan Thickness (in)","Contract Mix Price","Contract Binder Price","Project Number",null,null,null,"Mix Pay Units","Mix Delivered to Road\n(Ton or SY)","Waste On Road (Ton)\nNO waste for SY Items","Tons Placed - Waste",null,null,"This adds up column S as it depends if the Est SY is filled out or the SY",null,"Use this Column for SY for the Q column","Uses this Value for Mix on Road"]
[null,null,null,null,null,{"$f":"IF($J21=\"\",\"\",INDEX(Input!$A$5:$H$24,MATCH($A21&$J21,Input!$A$5:$A$24&Input!$G$5:$G$24,0),2))","v":""},{"$f":"IF($J21=\"\",\"\",INDEX(Input!$A$5:$H$24,MATCH($A21&$J21,Input!$A$5:$A$24&Input!$G$5:$G$24,0),3))","v":""},{"$f":"IF($J21=\"\",\"\",INDEX(Input!$A$5:$H$24,MATCH($A21&$J21,Input!$A$5:$A$24&Input!$G$5:$G$24,0),4))","v":""},{"$f":"IF($J21=\"\",\"\",INDEX(Input!$A$5:$H$24,MATCH($A21&$J21,Input!$A$5:$A$24&Input!$G$5:$G$24,0),5))","v":""},null,null,null,null,{"$f":"IF($A21=\"\",\"\",OFFSET(Input!F$4,MATCH($A21,Input!$A$5:$A$24,0),0))","v":""},{"$f":"IF(N21=\"SY\", T21, IF(N21=\"Tons\", W21, \"\"))","v":""},null,{"$f":"IF(N21=\"SY\", V21, IF(N21=\"Tons\", O21-P21, \"\"))","v":""},{"$f":"SUBSTITUTE(A21 & \"\\\" & J21,\"\"\"\",\"\")","v":"\\"},{"$f":"IF(A21=\"\",1,IF(ISERROR(MATCH(R21,Input!L$5:L$24,0)),2,1))","v":1},{"$f":"IF(A21=\"\", \"\", SUMIF($Q$8:$Q$17, \"*\" & LEFT(A21, 11) & \"*\", $S$8:$S$17))","v":""},null,{"$f":"IF(A21=\"\", \"\", SUMIF($Q$8:$Q$17, \"*\" & LEFT(A21, 11) & \"*\", $T$8:$T$17))","v":""},{"$f":"IF(N21=\"SY\", T21, IF(N21=\"Tons\", V21+P21, \"\"))","v":""}]
[null,null,null,null,null,{"$f":"IF($J22=\"\",\"\",INDEX(Input!$A$5:$H$24,MATCH($A22&$J22,Input!$A$5:$A$24&Input!$G$5:$G$24,0),2))","v":""},{"$f":"IF($J22=\"\",\"\",INDEX(Input!$A$5:$H$24,MATCH($A22&$J22,Input!$A$5:$A$24&Input!$G$5:$G$24,0),3))","v":""},{"$f":"IF($J22=\"\",\"\",INDEX(Input!$A$5:$H$24,MATCH($A22&$J22,Input!$A$5:$A$24&Input!$G$5:$G$24,0),4))","v":""},{"$f":"IF($J22=\"\",\"\",INDEX(Input!$A$5:$H$24,MATCH($A22&$J22,Input!$A$5:$A$24&Input!$G$5:$G$24,0),5))","v":""},null,null,null,null,{"$f":"IF($A22=\"\",\"\",OFFSET(Input!F$4,MATCH($A22,Input!$A$5:$A$24,0),0))","v":""},{"$f":"IF(N22=\"SY\", T22, IF(N22=\"Tons\", W22, \"\"))","v":""},null,{"$f":"IF(N22=\"SY\", V22, IF(N22=\"Tons\", O22-P22, \"\"))","v":""},{"$f":"SUBSTITUTE(A22 & \"\\\" & J22,\"\"\"\",\"\")","v":"\\"},{"$f":"IF(A22=\"\",1,IF(ISERROR(MATCH(R22,Input!L$5:L$24,0)),2,1))","v":1},{"$f":"IF(A22=\"\", \"\", SUMIF($Q$8:$Q$17, \"*\" & LEFT(A22, 11) & \"*\", $S$8:$S$17))","v":""},null,{"$f":"IF(A22=\"\", \"\", SUMIF($Q$8:$Q$17, \"*\" & LEFT(A22, 11) & \"*\", $T$8:$T$17))","v":""},{"$f":"IF(N22=\"SY\", T22, IF(N22=\"Tons\", V22+P22, \"\"))","v":""}]
[null,null,null,null,null,{"$f":"IF($J23=\"\",\"\",INDEX(Input!$A$5:$H$24,MATCH($A23&$J23,Input!$A$5:$A$24&Input!$G$5:$G$24,0),2))","v":""},{"$f":"IF($J23=\"\",\"\",INDEX(Input!$A$5:$H$24,MATCH($A23&$J23,Input!$A$5:$A$24&Input!$G$5:$G$24,0),3))","v":""},{"$f":"IF($J23=\"\",\"\",INDEX(Input!$A$5:$H$24,MATCH($A23&$J23,Input!$A$5:$A$24&Input!$G$5:$G$24,0),4))","v":""},{"$f":"IF($J23=\"\",\"\",INDEX(Input!$A$5:$H$24,MATCH($A23&$J23,Input!$A$5:$A$24&Input!$G$5:$G$24,0),5))","v":""},null,null,null,null,{"$f":"IF($A23=\"\",\"\",OFFSET(Input!F$4,MATCH($A23,Input!$A$5:$A$24,0),0))","v":""},{"$f":"IF(N23=\"SY\", T23, IF(N23=\"Tons\", W23, \"\"))","v":""},null,{"$f":"IF(N23=\"SY\", V23, IF(N23=\"Tons\", O23-P23, \"\"))","v":""},"\\",{"$f":"IF(A23=\"\",1,IF(ISERROR(MATCH(R23,Input!L$5:L$24,0)),2,1))","v":1},{"$f":"IF(A23=\"\", \"\", SUMIF($Q$8:$Q$17, \"*\" & LEFT(A23, 11) & \"*\", $S$8:$S$17))","v":""},null,{"$f":"IF(A23=\"\", \"\", SUMIF($Q$8:$Q$17, \"*\" & LEFT(A23, 11) & \"*\", $T$8:$T$17))","v":""},{"$f":"IF(N23=\"SY\", T23, IF(N23=\"Tons\", V23+P23, \"\"))","v":""}]
[null,null,null,null,null,{"$f":"IF($J24=\"\",\"\",INDEX(Input!$A$5:$H$24,MATCH($A24&$J24,Input!$A$5:$A$24&Input!$G$5:$G$24,0),2))","v":""},{"$f":"IF($J24=\"\",\"\",INDEX(Input!$A$5:$H$24,MATCH($A24&$J24,Input!$A$5:$A$24&Input!$G$5:$G$24,0),3))","v":""},{"$f":"IF($J24=\"\",\"\",INDEX(Input!$A$5:$H$24,MATCH($A24&$J24,Input!$A$5:$A$24&Input!$G$5:$G$24,0),4))","v":""},{"$f":"IF($J24=\"\",\"\",INDEX(Input!$A$5:$H$24,MATCH($A24&$J24,Input!$A$5:$A$24&Input!$G$5:$G$24,0),5))","v":""},null,null,null,null,{"$f":"IF($A24=\"\",\"\",OFFSET(Input!F$4,MATCH($A24,Input!$A$5:$A$24,0),0))","v":""},"",null,{"$f":"IF(N24=\"SY\", V24, IF(N24=\"Tons\", O24-P24, \"\"))","v":""},"\\",{"$f":"IF(A24=\"\",1,IF(ISERROR(MATCH(R24,Input!L$5:L$24,0)),2,1))","v":1},"",null,{"$f":"IF(A24=\"\", \"\", SUMIF($Q$8:$Q$17, \"*\" & LEFT(A24, 11) & \"*\", $T$8:$T$17))","v":""},{"$f":"IF(N24=\"SY\", T24, IF(N24=\"Tons\", V24+P24, \"\"))","v":""}]
[null,null,null,null,null,{"$f":"IF($J25=\"\",\"\",INDEX(Input!$A$5:$H$24,MATCH($A25&$J25,Input!$A$5:$A$24&Input!$G$5:$G$24,0),2))","v":""},{"$f":"IF($J25=\"\",\"\",INDEX(Input!$A$5:$H$24,MATCH($A25&$J25,Input!$A$5:$A$24&Input!$G$5:$G$24,0),3))","v":""},{"$f":"IF($J25=\"\",\"\",INDEX(Input!$A$5:$H$24,MATCH($A25&$J25,Input!$A$5:$A$24&Input!$G$5:$G$24,0),4))","v":""},{"$f":"IF($J25=\"\",\"\",INDEX(Input!$A$5:$H$24,MATCH($A25&$J25,Input!$A$5:$A$24&Input!$G$5:$G$24,0),5))","v":""},null,null,null,null,{"$f":"IF($A25=\"\",\"\",OFFSET(Input!F$4,MATCH($A25,Input!$A$5:$A$24,0),0))","v":""},"",null,"","\\",{"$f":"IF(A25=\"\",1,IF(ISERROR(MATCH(R25,Input!L$5:L$24,0)),2,1))","v":1},"",null,"",""]
[null,null,null,null,null,null,null,null,null,null,null,null,null,null,null,null,null,null,null,null,null,"",{"$f":"IF(N26=\"SY\", T26, IF(N26=\"Tons\", V26+P26, \"\"))","v":""},{"$f":"IF(A26=\"\", \"\", SUMIF($Q$8:$Q$17, \"*\" & LEFT(A26, 11) & \"*\", $S$8:$S$17))","v":""},{"$f":"IF(N26=\"SY\",X26,\"\")","v":""},{"$f":"IF(A26=\"\", \"\", SUMIF($Q$8:$Q$17, \"*\" & LEFT(A26, 11) & \"*\", $T$8:$T$17))","v":""}]
["Hot Box Sample",null,null,null,null,null,null,null,null,null,"Mat Temperatures °F"]
[null,"Test A","Test B","Test C","Test D","Test E",null,null,null,null,"Time","Temp"]
[" Hot Box ID Number  ",null,null,null,null,null,null,null,null,null,"7:00"]
["Hot Box Sample Tons: ",null,null,null,null,null,null,null,null,null,"9:00",null,null,null,"Intended Thickness:"]
[" Time: ",null,null,null,null,null,null,null,null,null,"11:00",null,null,null,"Cores Waived?"]
[" Station/MP: ",null,null,null,null,null,null,null,null,null,"1:00",null,null,null,"Small Quantity Statement?"]
["Bar Code ID.:",null,null,null,null,null,null,null,null,null,"3:00",null,null,null,"Scale Check Done?"]
["Compaction Temp. °F: ",null,null,null,null,null,null,null,null,null,"5:00",null,null,null,"Tack Tickets Today?"]
[null,null,null,null,null,null,null,null,null,null,"7:00"]
["The Below Comments should show up on the plant report"]
["Comments:"]
[]
[]
["The Below Notes are for the CPI from the field or Plant Monitor"]
["Notes:"]
[]
[]
["RANDOM CORE LOCATIONS"]
[null,null,null,null,null,null,null,"Core #","Station","Offset,ft","Joint Station","Lane"]
[null,null,null,null,null,null,null,1]
[null,null,null,null,null,null,null,2]
[null,null,null,null,null,null,null,3]
[null,null,null,null,null,null,null,4]
[null,null,null,null,null,null,null,5]
[null,null,null,null,null,null,null,6]
[null,null,null,null,null,null,null,7]
[null,null,null,null,null,null,null,8]
[]
[null,null,null,null,null,null,null,null,null,null,"Joint Sublot Size, ft"]
[null,null,null,null,null,null,null,null,null,null,0]
[]
[]
[]
[]
[]
[]
[]
[]
[]
[]
[]
[]
[]
[]
[]
[]
[]
[]
[]
[]
[]
[]
[]
[]
[]
[]
[]
[]
[]
[]
[]
[]
[]
[]
[]
[]
[]
[]
[]
[]
[false]

{"sheet":"13","index":28,"n_rows":97,"n_cols":26,"rows_kept":97,"cut":false,"hidden":false,"merged":[[50,11,50,13],[51,11,51,13],[52,11,52,13],[44,11,44,13],[45,11,45,13],[46,11,46,13],[47,11,47,13],[48,11,48,13],[49,11,49,13],[43,0,43,16],[25,0,25,1],[26,0,26,5],[26,20,26,23],[26,25,26,27],[34,2,34,4],[35,0,35,5],[36,1,36,14],[37,0,37,14],[39,0,39,5],[40,1,40,14],[41,0,41,14],[23,0,23,1],[23,2,23,4],[23,9,23,12],[24,0,24,1],[24,2,24,4],[24,9,24,12],[21,0,21,1],[21,2,21,4],[21,9,21,12],[22,0,22,1],[22,2,22,4],[22,9,22,12],[19,0,19,1],[19,2,19,4],[19,9,19,12],[20,0,20,1],[20,2,20,4],[20,9,20,12],[18,0,18,16],[6,14,6,15],[7,14,7,15],[8,14,8,15],[9,14,9,15],[10,14,10,15],[11,14,11,15],[12,14,12,15],[13,14,13,15],[14,14,14,15],[15,14,15,15],[16,14,16,15],[1,0,1,16],[4,0,4,15],[5,4,5,5],[5,8,5,9],[5,11,5,12],[5,13,5,15]]}
[]
["Iowa DOT HMA Field Report"]
["Date :"]
["Item No.('s)"]
["PLACEMENT RECORD",null,null,null,null,null,null,null,null,null,null,null,null,null,null,null,null,null,null,null,null,{"$f":"SUBSTITUTE(A21 & \"\\\" & J21,\"\"\"\",\"\")","v":"\\"}]
[null,null,null,null,"Additional width to DEDUCT from Field Voids",null,null,null,"Placed Density (Pounds/CF)=",null,150,"Overwritten on the \"Summary\" Tab",null,"ONLY ONE (1) MIX DESIGN PER DFR OTHERWISE IT WILL NOT IMPORT INTO THE PLANT REPORT PROPERLY",null,null,null,null,null,null,null,{"$f":"SUBSTITUTE(A22 & \"\\\" & J22,\"\"\"\",\"\")","v":"\\"}]
["From Station"," To Station","Lane","ML or Widening Placement Width","Additional Width (ft) ","Thickness (in)","Total Length Placed (FT)","\"Pay\"  Est \"SY\"","Thickness (inches)","Calculated Field Voids Tons","Placed Tons            (Not including Waste)","% Yield","SY to be PAID (If Diff. than Est SY)","Mix Design No.","Bid Item/ Project No.",null,null,null,"This uses the correct SY #, if Green is blank uses Est. SY","Adds up the Tons",null,"\\"]
[null,null,null,null,null,null,{"$f":"IF(OR(A8=\"\",B8=\"\"),0,IF($A$97=TRUE,ABS(B8-A8)*5280,ABS(VALUE(SUBSTITUTE(A8,\"+\",\"\"))-VALUE(SUBSTITUTE(B8,\"+\",\"\")))))","v":0},{"$f":"IF(D8=\"\",\"\",G8*(D8+E8)/9)","v":""},null,{"$f":"IF(I8=\"\",\"\",(G8)*(D8+E8)*I8/12*$K$6/2000)","v":""},null,{"$f":"IF(K8=\"\",\"\",K8/J8*100)","v":""},null,null,null,null,{"$f":"O8 & \"\\\" & N8","v":"\\"},{"$f":"IF(AND(A8=\"\",B8=\"\",C8=\"\",D8=\"\"),1,IF(OR(O8=\"\",N8=\"\"),2,IF(ISERROR(MATCH(Q8,Input!M$5:M$24,0)),2,1)))","v":1},{"$f":"IF(M8<>\"\", M8, H8)","v":""},{"$f":"K8","v":0},null,"\\"]
[null,null,null,null,null,null,{"$f":"IF(OR(A9=\"\",B9=\"\"),0,IF($A$97=TRUE,ABS(B9-A9)*5280,ABS(VALUE(SUBSTITUTE(A9,\"+\",\"\"))-VALUE(SUBSTITUTE(B9,\"+\",\"\")))))","v":0},{"$f":"IF(D9=\"\",\"\",G9*(D9+E9)/9)","v":""},null,"",null,{"$f":"IF(K9=\"\",\"\",K9/J9*100)","v":""},null,null,null,null,{"$f":"O9 & \"\\\" & N9","v":"\\"},{"$f":"IF(AND(A9=\"\",B9=\"\",C9=\"\",D9=\"\"),1,IF(OR(O9=\"\",N9=\"\"),2,IF(ISERROR(MATCH(Q9,Input!M$5:M$24,0)),2,1)))","v":1},{"$f":"IF(M9<>\"\", M9, H9)","v":""},{"$f":"K9","v":0},null,"\\"]
[null,null,null,null,null,null,0,"",null,"",null,"",null,null,null,null,"\\",{"$f":"IF(AND(A10=\"\",B10=\"\",C10=\"\",D10=\"\"),1,IF(OR(O10=\"\",N10=\"\"),2,IF(ISERROR(MATCH(Q10,Input!M$5:M$24,0)),2,1)))","v":1},{"$f":"IF(M10<>\"\", M10, H10)","v":""},0]
[null,null,null,null,null,null,0,"",null,"",null,"",null,null,null,null,"\\",{"$f":"IF(AND(A11=\"\",B11=\"\",C11=\"\",D11=\"\"),1,IF(OR(O11=\"\",N11=\"\"),2,IF(ISERROR(MATCH(Q11,Input!M$5:M$24,0)),2,1)))","v":1},"",0]
[null,null,null,null,null,null,0,"",null,"",null,"",null,null,null,null,"\\",{"$f":"IF(AND(A12=\"\",B12=\"\",C12=\"\",D12=\"\"),1,IF(OR(O12=\"\",N12=\"\"),2,IF(ISERROR(MATCH(Q12,Input!M$5:M$24,0)),2,1)))","v":1},"",0]
[null,null,null,null,null,null,0,"",null,"",null,"",null,null,null,null,"\\",{"$f":"IF(AND(A13=\"\",B13=\"\",C13=\"\",D13=\"\"),1,IF(OR(O13=\"\",N13=\"\"),2,IF(ISERROR(MATCH(Q13,Input!M$5:M$24,0)),2,1)))","v":1},"",0]
[null,null,null,null,null,null,0,"",null,"",null,"",null,null,null,null,"\\",{"$f":"IF(AND(A14=\"\",B14=\"\",C14=\"\",D14=\"\"),1,IF(OR(O14=\"\",N14=\"\"),2,IF(ISERROR(MATCH(Q14,Input!M$5:M$24,0)),2,1)))","v":1},"",0]
[null,null,null,null,null,null,0,"",null,"",null,"",null,null,null,null,"\\",{"$f":"IF(AND(A15=\"\",B15=\"\",C15=\"\",D15=\"\"),1,IF(OR(O15=\"\",N15=\"\"),2,IF(ISERROR(MATCH(Q15,Input!M$5:M$24,0)),2,1)))","v":1},"",0]
[null,null,null,null,null,null,0,"",null,"",null,"",null,null,null,null,"\\",{"$f":"IF(AND(A16=\"\",B16=\"\",C16=\"\",D16=\"\"),1,IF(OR(O16=\"\",N16=\"\"),2,IF(ISERROR(MATCH(Q16,Input!M$5:M$24,0)),2,1)))","v":1},"",0]
[null,null,null,null,null,null,0,"",null,"",null,"",null,null,null,null,"\\",{"$f":"IF(AND(A17=\"\",B17=\"\",C17=\"\",D17=\"\"),1,IF(OR(O17=\"\",N17=\"\"),2,IF(ISERROR(MATCH(Q17,Input!M$5:M$24,0)),2,1)))","v":1},"",0]
[]
["TANK SHEET"]
["Bid Item (In Order of Placement)",null,"Today's Placement",null,null,"Bid Item Plan Quantity","Plan Thickness (in)","Contract Mix Price","Contract Binder Price","Project Number",null,null,null,"Mix Pay Units","Mix Delivered to Road\n(Ton or SY)","Waste On Road (Ton)\nNO waste for SY Items","Tons Placed - Waste",null,null,"This adds up column S as it depends if the Est SY is filled out or the SY",null,"Use this Column for SY for the Q column","Uses this Value for Mix on Road"]
[null,null,null,null,null,{"$f":"IF($J21=\"\",\"\",INDEX(Input!$A$5:$H$24,MATCH($A21&$J21,Input!$A$5:$A$24&Input!$G$5:$G$24,0),2))","v":""},{"$f":"IF($J21=\"\",\"\",INDEX(Input!$A$5:$H$24,MATCH($A21&$J21,Input!$A$5:$A$24&Input!$G$5:$G$24,0),3))","v":""},{"$f":"IF($J21=\"\",\"\",INDEX(Input!$A$5:$H$24,MATCH($A21&$J21,Input!$A$5:$A$24&Input!$G$5:$G$24,0),4))","v":""},{"$f":"IF($J21=\"\",\"\",INDEX(Input!$A$5:$H$24,MATCH($A21&$J21,Input!$A$5:$A$24&Input!$G$5:$G$24,0),5))","v":""},null,null,null,null,{"$f":"IF($A21=\"\",\"\",OFFSET(Input!F$4,MATCH($A21,Input!$A$5:$A$24,0),0))","v":""},{"$f":"IF(N21=\"SY\", T21, IF(N21=\"Tons\", W21, \"\"))","v":""},null,{"$f":"IF(N21=\"SY\", V21, IF(N21=\"Tons\", O21-P21, \"\"))","v":""},{"$f":"SUBSTITUTE(A21 & \"\\\" & J21,\"\"\"\",\"\")","v":"\\"},{"$f":"IF(A21=\"\",1,IF(ISERROR(MATCH(R21,Input!L$5:L$24,0)),2,1))","v":1},{"$f":"IF(A21=\"\", \"\", SUMIF($Q$8:$Q$17, \"*\" & LEFT(A21, 11) & \"*\", $S$8:$S$17))","v":""},null,{"$f":"IF(A21=\"\", \"\", SUMIF($Q$8:$Q$17, \"*\" & LEFT(A21, 11) & \"*\", $T$8:$T$17))","v":""},{"$f":"IF(N21=\"SY\", T21, IF(N21=\"Tons\", V21+P21, \"\"))","v":""}]
[null,null,null,null,null,{"$f":"IF($J22=\"\",\"\",INDEX(Input!$A$5:$H$24,MATCH($A22&$J22,Input!$A$5:$A$24&Input!$G$5:$G$24,0),2))","v":""},{"$f":"IF($J22=\"\",\"\",INDEX(Input!$A$5:$H$24,MATCH($A22&$J22,Input!$A$5:$A$24&Input!$G$5:$G$24,0),3))","v":""},{"$f":"IF($J22=\"\",\"\",INDEX(Input!$A$5:$H$24,MATCH($A22&$J22,Input!$A$5:$A$24&Input!$G$5:$G$24,0),4))","v":""},{"$f":"IF($J22=\"\",\"\",INDEX(Input!$A$5:$H$24,MATCH($A22&$J22,Input!$A$5:$A$24&Input!$G$5:$G$24,0),5))","v":""},null,null,null,null,{"$f":"IF($A22=\"\",\"\",OFFSET(Input!F$4,MATCH($A22,Input!$A$5:$A$24,0),0))","v":""},{"$f":"IF(N22=\"SY\", T22, IF(N22=\"Tons\", W22, \"\"))","v":""},null,{"$f":"IF(N22=\"SY\", V22, IF(N22=\"Tons\", O22-P22, \"\"))","v":""},{"$f":"SUBSTITUTE(A22 & \"\\\" & J22,\"\"\"\",\"\")","v":"\\"},{"$f":"IF(A22=\"\",1,IF(ISERROR(MATCH(R22,Input!L$5:L$24,0)),2,1))","v":1},{"$f":"IF(A22=\"\", \"\", SUMIF($Q$8:$Q$17, \"*\" & LEFT(A22, 11) & \"*\", $S$8:$S$17))","v":""},null,{"$f":"IF(A22=\"\", \"\", SUMIF($Q$8:$Q$17, \"*\" & LEFT(A22, 11) & \"*\", $T$8:$T$17))","v":""},{"$f":"IF(N22=\"SY\", T22, IF(N22=\"Tons\", V22+P22, \"\"))","v":""}]
[null,null,null,null,null,{"$f":"IF($J23=\"\",\"\",INDEX(Input!$A$5:$H$24,MATCH($A23&$J23,Input!$A$5:$A$24&Input!$G$5:$G$24,0),2))","v":""},{"$f":"IF($J23=\"\",\"\",INDEX(Input!$A$5:$H$24,MATCH($A23&$J23,Input!$A$5:$A$24&Input!$G$5:$G$24,0),3))","v":""},{"$f":"IF($J23=\"\",\"\",INDEX(Input!$A$5:$H$24,MATCH($A23&$J23,Input!$A$5:$A$24&Input!$G$5:$G$24,0),4))","v":""},{"$f":"IF($J23=\"\",\"\",INDEX(Input!$A$5:$H$24,MATCH($A23&$J23,Input!$A$5:$A$24&Input!$G$5:$G$24,0),5))","v":""},null,null,null,null,{"$f":"IF($A23=\"\",\"\",OFFSET(Input!F$4,MATCH($A23,Input!$A$5:$A$24,0),0))","v":""},{"$f":"IF(N23=\"SY\", T23, IF(N23=\"Tons\", W23, \"\"))","v":""},null,{"$f":"IF(N23=\"SY\", V23, IF(N23=\"Tons\", O23-P23, \"\"))","v":""},"\\",{"$f":"IF(A23=\"\",1,IF(ISERROR(MATCH(R23,Input!L$5:L$24,0)),2,1))","v":1},{"$f":"IF(A23=\"\", \"\", SUMIF($Q$8:$Q$17, \"*\" & LEFT(A23, 11) & \"*\", $S$8:$S$17))","v":""},null,{"$f":"IF(A23=\"\", \"\", SUMIF($Q$8:$Q$17, \"*\" & LEFT(A23, 11) & \"*\", $T$8:$T$17))","v":""},{"$f":"IF(N23=\"SY\", T23, IF(N23=\"Tons\", V23+P23, \"\"))","v":""}]
[null,null,null,null,null,{"$f":"IF($J24=\"\",\"\",INDEX(Input!$A$5:$H$24,MATCH($A24&$J24,Input!$A$5:$A$24&Input!$G$5:$G$24,0),2))","v":""},{"$f":"IF($J24=\"\",\"\",INDEX(Input!$A$5:$H$24,MATCH($A24&$J24,Input!$A$5:$A$24&Input!$G$5:$G$24,0),3))","v":""},{"$f":"IF($J24=\"\",\"\",INDEX(Input!$A$5:$H$24,MATCH($A24&$J24,Input!$A$5:$A$24&Input!$G$5:$G$24,0),4))","v":""},{"$f":"IF($J24=\"\",\"\",INDEX(Input!$A$5:$H$24,MATCH($A24&$J24,Input!$A$5:$A$24&Input!$G$5:$G$24,0),5))","v":""},null,null,null,null,{"$f":"IF($A24=\"\",\"\",OFFSET(Input!F$4,MATCH($A24,Input!$A$5:$A$24,0),0))","v":""},"",null,{"$f":"IF(N24=\"SY\", V24, IF(N24=\"Tons\", O24-P24, \"\"))","v":""},"\\",{"$f":"IF(A24=\"\",1,IF(ISERROR(MATCH(R24,Input!L$5:L$24,0)),2,1))","v":1},"",null,{"$f":"IF(A24=\"\", \"\", SUMIF($Q$8:$Q$17, \"*\" & LEFT(A24, 11) & \"*\", $T$8:$T$17))","v":""},{"$f":"IF(N24=\"SY\", T24, IF(N24=\"Tons\", V24+P24, \"\"))","v":""}]
[null,null,null,null,null,{"$f":"IF($J25=\"\",\"\",INDEX(Input!$A$5:$H$24,MATCH($A25&$J25,Input!$A$5:$A$24&Input!$G$5:$G$24,0),2))","v":""},{"$f":"IF($J25=\"\",\"\",INDEX(Input!$A$5:$H$24,MATCH($A25&$J25,Input!$A$5:$A$24&Input!$G$5:$G$24,0),3))","v":""},{"$f":"IF($J25=\"\",\"\",INDEX(Input!$A$5:$H$24,MATCH($A25&$J25,Input!$A$5:$A$24&Input!$G$5:$G$24,0),4))","v":""},{"$f":"IF($J25=\"\",\"\",INDEX(Input!$A$5:$H$24,MATCH($A25&$J25,Input!$A$5:$A$24&Input!$G$5:$G$24,0),5))","v":""},null,null,null,null,{"$f":"IF($A25=\"\",\"\",OFFSET(Input!F$4,MATCH($A25,Input!$A$5:$A$24,0),0))","v":""},"",null,"","\\",{"$f":"IF(A25=\"\",1,IF(ISERROR(MATCH(R25,Input!L$5:L$24,0)),2,1))","v":1},"",null,"",""]
[null,null,null,null,null,null,null,null,null,null,null,null,null,null,null,null,null,null,null,null,null,"",{"$f":"IF(N26=\"SY\", T26, IF(N26=\"Tons\", V26+P26, \"\"))","v":""},{"$f":"IF(A26=\"\", \"\", SUMIF($Q$8:$Q$17, \"*\" & LEFT(A26, 11) & \"*\", $S$8:$S$17))","v":""},{"$f":"IF(N26=\"SY\",X26,\"\")","v":""},{"$f":"IF(A26=\"\", \"\", SUMIF($Q$8:$Q$17, \"*\" & LEFT(A26, 11) & \"*\", $T$8:$T$17))","v":""}]
["Hot Box Sample",null,null,null,null,null,null,null,null,null,"Mat Temperatures °F"]
[null,"Test A","Test B","Test C","Test D","Test E",null,null,null,null,"Time","Temp"]
[" Hot Box ID Number  ",null,null,null,null,null,null,null,null,null,"7:00"]
["Hot Box Sample Tons: ",null,null,null,null,null,null,null,null,null,"9:00",null,null,null,"Intended Thickness:"]
[" Time: ",null,null,null,null,null,null,null,null,null,"11:00",null,null,null,"Cores Waived?"]
[" Station/MP: ",null,null,null,null,null,null,null,null,null,"1:00",null,null,null,"Small Quantity Statement?"]
["Bar Code ID.:",null,null,null,null,null,null,null,null,null,"3:00",null,null,null,"Scale Check Done?"]
["Compaction Temp. °F: ",null,null,null,null,null,null,null,null,null,"5:00",null,null,null,"Tack Tickets Today?"]
[null,null,null,null,null,null,null,null,null,null,"7:00"]
["The Below Comments should show up on the plant report"]
["Comments:"]
[]
[]
["The Below Notes are for the CPI from the field or Plant Monitor"]
["Notes:"]
[]
[]
["RANDOM CORE LOCATIONS"]
[null,null,null,null,null,null,null,"Core #","Station","Offset,ft","Joint Station","Lane"]
[null,null,null,null,null,null,null,1]
[null,null,null,null,null,null,null,2]
[null,null,null,null,null,null,null,3]
[null,null,null,null,null,null,null,4]
[null,null,null,null,null,null,null,5]
[null,null,null,null,null,null,null,6]
[null,null,null,null,null,null,null,7]
[null,null,null,null,null,null,null,8]
[]
[null,null,null,null,null,null,null,null,null,null,"Joint Sublot Size, ft"]
[null,null,null,null,null,null,null,null,null,null,0]
[]
[]
[]
[]
[]
[]
[]
[]
[]
[]
[]
[]
[]
[]
[]
[]
[]
[]
[]
[]
[]
[]
[]
[]
[]
[]
[]
[]
[]
[]
[]
[]
[]
[]
[]
[]
[]
[]
[]
[]
[false]

{"sheet":"14","index":29,"n_rows":97,"n_cols":26,"rows_kept":97,"cut":false,"hidden":false,"merged":[[50,11,50,13],[51,11,51,13],[52,11,52,13],[44,11,44,13],[45,11,45,13],[46,11,46,13],[47,11,47,13],[48,11,48,13],[49,11,49,13],[43,0,43,16],[25,0,25,1],[26,0,26,5],[26,20,26,23],[26,25,26,27],[34,2,34,4],[35,0,35,5],[36,1,36,14],[37,0,37,14],[39,0,39,5],[40,1,40,14],[41,0,41,14],[23,0,23,1],[23,2,23,4],[23,9,23,12],[24,0,24,1],[24,2,24,4],[24,9,24,12],[21,0,21,1],[21,2,21,4],[21,9,21,12],[22,0,22,1],[22,2,22,4],[22,9,22,12],[19,0,19,1],[19,2,19,4],[19,9,19,12],[20,0,20,1],[20,2,20,4],[20,9,20,12],[18,0,18,16],[6,14,6,15],[7,14,7,15],[8,14,8,15],[9,14,9,15],[10,14,10,15],[11,14,11,15],[12,14,12,15],[13,14,13,15],[14,14,14,15],[15,14,15,15],[16,14,16,15],[1,0,1,16],[4,0,4,15],[5,4,5,5],[5,8,5,9],[5,11,5,12],[5,13,5,15]]}
[]
["Iowa DOT HMA Field Report"]
["Date :"]
["Item No.('s)"]
["PLACEMENT RECORD",null,null,null,null,null,null,null,null,null,null,null,null,null,null,null,null,null,null,null,null,{"$f":"SUBSTITUTE(A21 & \"\\\" & J21,\"\"\"\",\"\")","v":"\\"}]
[null,null,null,null,"Additional width to DEDUCT from Field Voids",null,null,null,"Placed Density (Pounds/CF)=",null,150,"Overwritten on the \"Summary\" Tab",null,"ONLY ONE (1) MIX DESIGN PER DFR OTHERWISE IT WILL NOT IMPORT INTO THE PLANT REPORT PROPERLY",null,null,null,null,null,null,null,{"$f":"SUBSTITUTE(A22 & \"\\\" & J22,\"\"\"\",\"\")","v":"\\"}]
["From Station"," To Station","Lane","ML or Widening Placement Width","Additional Width (ft) ","Thickness (in)","Total Length Placed (FT)","\"Pay\"  Est \"SY\"","Thickness (inches)","Calculated Field Voids Tons","Placed Tons            (Not including Waste)","% Yield","SY to be PAID (If Diff. than Est SY)","Mix Design No.","Bid Item/ Project No.",null,null,null,"This uses the correct SY #, if Green is blank uses Est. SY","Adds up the Tons",null,"\\"]
[null,null,null,null,null,null,{"$f":"IF(OR(A8=\"\",B8=\"\"),0,IF($A$97=TRUE,ABS(B8-A8)*5280,ABS(VALUE(SUBSTITUTE(A8,\"+\",\"\"))-VALUE(SUBSTITUTE(B8,\"+\",\"\")))))","v":0},{"$f":"IF(D8=\"\",\"\",G8*(D8+E8)/9)","v":""},null,{"$f":"IF(I8=\"\",\"\",(G8)*(D8+E8)*I8/12*$K$6/2000)","v":""},null,{"$f":"IF(K8=\"\",\"\",K8/J8*100)","v":""},null,null,null,null,{"$f":"O8 & \"\\\" & N8","v":"\\"},{"$f":"IF(AND(A8=\"\",B8=\"\",C8=\"\",D8=\"\"),1,IF(OR(O8=\"\",N8=\"\"),2,IF(ISERROR(MATCH(Q8,Input!M$5:M$24,0)),2,1)))","v":1},{"$f":"IF(M8<>\"\", M8, H8)","v":""},{"$f":"K8","v":0},null,"\\"]
[null,null,null,null,null,null,{"$f":"IF(OR(A9=\"\",B9=\"\"),0,IF($A$97=TRUE,ABS(B9-A9)*5280,ABS(VALUE(SUBSTITUTE(A9,\"+\",\"\"))-VALUE(SUBSTITUTE(B9,\"+\",\"\")))))","v":0},{"$f":"IF(D9=\"\",\"\",G9*(D9+E9)/9)","v":""},null,"",null,{"$f":"IF(K9=\"\",\"\",K9/J9*100)","v":""},null,null,null,null,{"$f":"O9 & \"\\\" & N9","v":"\\"},{"$f":"IF(AND(A9=\"\",B9=\"\",C9=\"\",D9=\"\"),1,IF(OR(O9=\"\",N9=\"\"),2,IF(ISERROR(MATCH(Q9,Input!M$5:M$24,0)),2,1)))","v":1},{"$f":"IF(M9<>\"\", M9, H9)","v":""},{"$f":"K9","v":0},null,"\\"]
[null,null,null,null,null,null,0,"",null,"",null,"",null,null,null,null,"\\",{"$f":"IF(AND(A10=\"\",B10=\"\",C10=\"\",D10=\"\"),1,IF(OR(O10=\"\",N10=\"\"),2,IF(ISERROR(MATCH(Q10,Input!M$5:M$24,0)),2,1)))","v":1},{"$f":"IF(M10<>\"\", M10, H10)","v":""},0]
[null,null,null,null,null,null,0,"",null,"",null,"",null,null,null,null,"\\",{"$f":"IF(AND(A11=\"\",B11=\"\",C11=\"\",D11=\"\"),1,IF(OR(O11=\"\",N11=\"\"),2,IF(ISERROR(MATCH(Q11,Input!M$5:M$24,0)),2,1)))","v":1},"",0]
[null,null,null,null,null,null,0,"",null,"",null,"",null,null,null,null,"\\",{"$f":"IF(AND(A12=\"\",B12=\"\",C12=\"\",D12=\"\"),1,IF(OR(O12=\"\",N12=\"\"),2,IF(ISERROR(MATCH(Q12,Input!M$5:M$24,0)),2,1)))","v":1},"",0]
[null,null,null,null,null,null,0,"",null,"",null,"",null,null,null,null,"\\",{"$f":"IF(AND(A13=\"\",B13=\"\",C13=\"\",D13=\"\"),1,IF(OR(O13=\"\",N13=\"\"),2,IF(ISERROR(MATCH(Q13,Input!M$5:M$24,0)),2,1)))","v":1},"",0]
[null,null,null,null,null,null,0,"",null,"",null,"",null,null,null,null,"\\",{"$f":"IF(AND(A14=\"\",B14=\"\",C14=\"\",D14=\"\"),1,IF(OR(O14=\"\",N14=\"\"),2,IF(ISERROR(MATCH(Q14,Input!M$5:M$24,0)),2,1)))","v":1},"",0]
[null,null,null,null,null,null,0,"",null,"",null,"",null,null,null,null,"\\",{"$f":"IF(AND(A15=\"\",B15=\"\",C15=\"\",D15=\"\"),1,IF(OR(O15=\"\",N15=\"\"),2,IF(ISERROR(MATCH(Q15,Input!M$5:M$24,0)),2,1)))","v":1},"",0]
[null,null,null,null,null,null,0,"",null,"",null,"",null,null,null,null,"\\",{"$f":"IF(AND(A16=\"\",B16=\"\",C16=\"\",D16=\"\"),1,IF(OR(O16=\"\",N16=\"\"),2,IF(ISERROR(MATCH(Q16,Input!M$5:M$24,0)),2,1)))","v":1},"",0]
[null,null,null,null,null,null,0,"",null,"",null,"",null,null,null,null,"\\",{"$f":"IF(AND(A17=\"\",B17=\"\",C17=\"\",D17=\"\"),1,IF(OR(O17=\"\",N17=\"\"),2,IF(ISERROR(MATCH(Q17,Input!M$5:M$24,0)),2,1)))","v":1},"",0]
[]
["TANK SHEET"]
["Bid Item (In Order of Placement)",null,"Today's Placement",null,null,"Bid Item Plan Quantity","Plan Thickness (in)","Contract Mix Price","Contract Binder Price","Project Number",null,null,null,"Mix Pay Units","Mix Delivered to Road\n(Ton or SY)","Waste On Road (Ton)\nNO waste for SY Items","Tons Placed - Waste",null,null,"This adds up column S as it depends if the Est SY is filled out or the SY",null,"Use this Column for SY for the Q column","Uses this Value for Mix on Road"]
[null,null,null,null,null,{"$f":"IF($J21=\"\",\"\",INDEX(Input!$A$5:$H$24,MATCH($A21&$J21,Input!$A$5:$A$24&Input!$G$5:$G$24,0),2))","v":""},{"$f":"IF($J21=\"\",\"\",INDEX(Input!$A$5:$H$24,MATCH($A21&$J21,Input!$A$5:$A$24&Input!$G$5:$G$24,0),3))","v":""},{"$f":"IF($J21=\"\",\"\",INDEX(Input!$A$5:$H$24,MATCH($A21&$J21,Input!$A$5:$A$24&Input!$G$5:$G$24,0),4))","v":""},{"$f":"IF($J21=\"\",\"\",INDEX(Input!$A$5:$H$24,MATCH($A21&$J21,Input!$A$5:$A$24&Input!$G$5:$G$24,0),5))","v":""},null,null,null,null,{"$f":"IF($A21=\"\",\"\",OFFSET(Input!F$4,MATCH($A21,Input!$A$5:$A$24,0),0))","v":""},{"$f":"IF(N21=\"SY\", T21, IF(N21=\"Tons\", W21, \"\"))","v":""},null,{"$f":"IF(N21=\"SY\", V21, IF(N21=\"Tons\", O21-P21, \"\"))","v":""},{"$f":"SUBSTITUTE(A21 & \"\\\" & J21,\"\"\"\",\"\")","v":"\\"},{"$f":"IF(A21=\"\",1,IF(ISERROR(MATCH(R21,Input!L$5:L$24,0)),2,1))","v":1},{"$f":"IF(A21=\"\", \"\", SUMIF($Q$8:$Q$17, \"*\" & LEFT(A21, 11) & \"*\", $S$8:$S$17))","v":""},null,{"$f":"IF(A21=\"\", \"\", SUMIF($Q$8:$Q$17, \"*\" & LEFT(A21, 11) & \"*\", $T$8:$T$17))","v":""},{"$f":"IF(N21=\"SY\", T21, IF(N21=\"Tons\", V21+P21, \"\"))","v":""}]
[null,null,null,null,null,{"$f":"IF($J22=\"\",\"\",INDEX(Input!$A$5:$H$24,MATCH($A22&$J22,Input!$A$5:$A$24&Input!$G$5:$G$24,0),2))","v":""},{"$f":"IF($J22=\"\",\"\",INDEX(Input!$A$5:$H$24,MATCH($A22&$J22,Input!$A$5:$A$24&Input!$G$5:$G$24,0),3))","v":""},{"$f":"IF($J22=\"\",\"\",INDEX(Input!$A$5:$H$24,MATCH($A22&$J22,Input!$A$5:$A$24&Input!$G$5:$G$24,0),4))","v":""},{"$f":"IF($J22=\"\",\"\",INDEX(Input!$A$5:$H$24,MATCH($A22&$J22,Input!$A$5:$A$24&Input!$G$5:$G$24,0),5))","v":""},null,null,null,null,{"$f":"IF($A22=\"\",\"\",OFFSET(Input!F$4,MATCH($A22,Input!$A$5:$A$24,0),0))","v":""},{"$f":"IF(N22=\"SY\", T22, IF(N22=\"Tons\", W22, \"\"))","v":""},null,{"$f":"IF(N22=\"SY\", V22, IF(N22=\"Tons\", O22-P22, \"\"))","v":""},{"$f":"SUBSTITUTE(A22 & \"\\\" & J22,\"\"\"\",\"\")","v":"\\"},{"$f":"IF(A22=\"\",1,IF(ISERROR(MATCH(R22,Input!L$5:L$24,0)),2,1))","v":1},{"$f":"IF(A22=\"\", \"\", SUMIF($Q$8:$Q$17, \"*\" & LEFT(A22, 11) & \"*\", $S$8:$S$17))","v":""},null,{"$f":"IF(A22=\"\", \"\", SUMIF($Q$8:$Q$17, \"*\" & LEFT(A22, 11) & \"*\", $T$8:$T$17))","v":""},{"$f":"IF(N22=\"SY\", T22, IF(N22=\"Tons\", V22+P22, \"\"))","v":""}]
[null,null,null,null,null,{"$f":"IF($J23=\"\",\"\",INDEX(Input!$A$5:$H$24,MATCH($A23&$J23,Input!$A$5:$A$24&Input!$G$5:$G$24,0),2))","v":""},{"$f":"IF($J23=\"\",\"\",INDEX(Input!$A$5:$H$24,MATCH($A23&$J23,Input!$A$5:$A$24&Input!$G$5:$G$24,0),3))","v":""},{"$f":"IF($J23=\"\",\"\",INDEX(Input!$A$5:$H$24,MATCH($A23&$J23,Input!$A$5:$A$24&Input!$G$5:$G$24,0),4))","v":""},{"$f":"IF($J23=\"\",\"\",INDEX(Input!$A$5:$H$24,MATCH($A23&$J23,Input!$A$5:$A$24&Input!$G$5:$G$24,0),5))","v":""},null,null,null,null,{"$f":"IF($A23=\"\",\"\",OFFSET(Input!F$4,MATCH($A23,Input!$A$5:$A$24,0),0))","v":""},{"$f":"IF(N23=\"SY\", T23, IF(N23=\"Tons\", W23, \"\"))","v":""},null,{"$f":"IF(N23=\"SY\", V23, IF(N23=\"Tons\", O23-P23, \"\"))","v":""},"\\",{"$f":"IF(A23=\"\",1,IF(ISERROR(MATCH(R23,Input!L$5:L$24,0)),2,1))","v":1},{"$f":"IF(A23=\"\", \"\", SUMIF($Q$8:$Q$17, \"*\" & LEFT(A23, 11) & \"*\", $S$8:$S$17))","v":""},null,{"$f":"IF(A23=\"\", \"\", SUMIF($Q$8:$Q$17, \"*\" & LEFT(A23, 11) & \"*\", $T$8:$T$17))","v":""},{"$f":"IF(N23=\"SY\", T23, IF(N23=\"Tons\", V23+P23, \"\"))","v":""}]
[null,null,null,null,null,{"$f":"IF($J24=\"\",\"\",INDEX(Input!$A$5:$H$24,MATCH($A24&$J24,Input!$A$5:$A$24&Input!$G$5:$G$24,0),2))","v":""},{"$f":"IF($J24=\"\",\"\",INDEX(Input!$A$5:$H$24,MATCH($A24&$J24,Input!$A$5:$A$24&Input!$G$5:$G$24,0),3))","v":""},{"$f":"IF($J24=\"\",\"\",INDEX(Input!$A$5:$H$24,MATCH($A24&$J24,Input!$A$5:$A$24&Input!$G$5:$G$24,0),4))","v":""},{"$f":"IF($J24=\"\",\"\",INDEX(Input!$A$5:$H$24,MATCH($A24&$J24,Input!$A$5:$A$24&Input!$G$5:$G$24,0),5))","v":""},null,null,null,null,{"$f":"IF($A24=\"\",\"\",OFFSET(Input!F$4,MATCH($A24,Input!$A$5:$A$24,0),0))","v":""},"",null,{"$f":"IF(N24=\"SY\", V24, IF(N24=\"Tons\", O24-P24, \"\"))","v":""},"\\",{"$f":"IF(A24=\"\",1,IF(ISERROR(MATCH(R24,Input!L$5:L$24,0)),2,1))","v":1},"",null,{"$f":"IF(A24=\"\", \"\", SUMIF($Q$8:$Q$17, \"*\" & LEFT(A24, 11) & \"*\", $T$8:$T$17))","v":""},{"$f":"IF(N24=\"SY\", T24, IF(N24=\"Tons\", V24+P24, \"\"))","v":""}]
[null,null,null,null,null,{"$f":"IF($J25=\"\",\"\",INDEX(Input!$A$5:$H$24,MATCH($A25&$J25,Input!$A$5:$A$24&Input!$G$5:$G$24,0),2))","v":""},{"$f":"IF($J25=\"\",\"\",INDEX(Input!$A$5:$H$24,MATCH($A25&$J25,Input!$A$5:$A$24&Input!$G$5:$G$24,0),3))","v":""},{"$f":"IF($J25=\"\",\"\",INDEX(Input!$A$5:$H$24,MATCH($A25&$J25,Input!$A$5:$A$24&Input!$G$5:$G$24,0),4))","v":""},{"$f":"IF($J25=\"\",\"\",INDEX(Input!$A$5:$H$24,MATCH($A25&$J25,Input!$A$5:$A$24&Input!$G$5:$G$24,0),5))","v":""},null,null,null,null,{"$f":"IF($A25=\"\",\"\",OFFSET(Input!F$4,MATCH($A25,Input!$A$5:$A$24,0),0))","v":""},"",null,"","\\",{"$f":"IF(A25=\"\",1,IF(ISERROR(MATCH(R25,Input!L$5:L$24,0)),2,1))","v":1},"",null,"",""]
[null,null,null,null,null,null,null,null,null,null,null,null,null,null,null,null,null,null,null,null,null,"",{"$f":"IF(N26=\"SY\", T26, IF(N26=\"Tons\", V26+P26, \"\"))","v":""},{"$f":"IF(A26=\"\", \"\", SUMIF($Q$8:$Q$17, \"*\" & LEFT(A26, 11) & \"*\", $S$8:$S$17))","v":""},{"$f":"IF(N26=\"SY\",X26,\"\")","v":""},{"$f":"IF(A26=\"\", \"\", SUMIF($Q$8:$Q$17, \"*\" & LEFT(A26, 11) & \"*\", $T$8:$T$17))","v":""}]
["Hot Box Sample",null,null,null,null,null,null,null,null,null,"Mat Temperatures °F"]
[null,"Test A","Test B","Test C","Test D","Test E",null,null,null,null,"Time","Temp"]
[" Hot Box ID Number  ",null,null,null,null,null,null,null,null,null,"7:00"]
["Hot Box Sample Tons: ",null,null,null,null,null,null,null,null,null,"9:00",null,null,null,"Intended Thickness:"]
[" Time: ",null,null,null,null,null,null,null,null,null,"11:00",null,null,null,"Cores Waived?"]
[" Station/MP: ",null,null,null,null,null,null,null,null,null,"1:00",null,null,null,"Small Quantity Statement?"]
["Bar Code ID.:",null,null,null,null,null,null,null,null,null,"3:00",null,null,null,"Scale Check Done?"]
["Compaction Temp. °F: ",null,null,null,null,null,null,null,null,null,"5:00",null,null,null,"Tack Tickets Today?"]
[null,null,null,null,null,null,null,null,null,null,"7:00"]
["The Below Comments should show up on the plant report"]
["Comments:"]
[]
[]
["The Below Notes are for the CPI from the field or Plant Monitor"]
["Notes:"]
[]
[]
["RANDOM CORE LOCATIONS"]
[null,null,null,null,null,null,null,"Core #","Station","Offset,ft","Joint Station","Lane"]
[null,null,null,null,null,null,null,1]
[null,null,null,null,null,null,null,2]
[null,null,null,null,null,null,null,3]
[null,null,null,null,null,null,null,4]
[null,null,null,null,null,null,null,5]
[null,null,null,null,null,null,null,6]
[null,null,null,null,null,null,null,7]
[null,null,null,null,null,null,null,8]
[]
[null,null,null,null,null,null,null,null,null,null,"Joint Sublot Size, ft"]
[null,null,null,null,null,null,null,null,null,null,0]
[]
[]
[]
[]
[]
[]
[]
[]
[]
[]
[]
[]
[]
[]
[]
[]
[]
[]
[]
[]
[]
[]
[]
[]
[]
[]
[]
[]
[]
[]
[]
[]
[]
[]
[]
[]
[]
[]
[]
[]
[false]

{"sheet":"15","index":30,"n_rows":97,"n_cols":26,"rows_kept":97,"cut":false,"hidden":false,"merged":[[50,11,50,13],[51,11,51,13],[52,11,52,13],[44,11,44,13],[45,11,45,13],[46,11,46,13],[47,11,47,13],[48,11,48,13],[49,11,49,13],[43,0,43,16],[25,0,25,1],[26,0,26,5],[26,20,26,23],[26,25,26,27],[34,2,34,4],[35,0,35,5],[36,1,36,14],[37,0,37,14],[39,0,39,5],[40,1,40,14],[41,0,41,14],[23,0,23,1],[23,2,23,4],[23,9,23,12],[24,0,24,1],[24,2,24,4],[24,9,24,12],[21,0,21,1],[21,2,21,4],[21,9,21,12],[22,0,22,1],[22,2,22,4],[22,9,22,12],[19,0,19,1],[19,2,19,4],[19,9,19,12],[20,0,20,1],[20,2,20,4],[20,9,20,12],[18,0,18,16],[6,14,6,15],[7,14,7,15],[8,14,8,15],[9,14,9,15],[10,14,10,15],[11,14,11,15],[12,14,12,15],[13,14,13,15],[14,14,14,15],[15,14,15,15],[16,14,16,15],[1,0,1,16],[4,0,4,15],[5,4,5,5],[5,8,5,9],[5,11,5,12],[5,13,5,15]]}
[]
["Iowa DOT HMA Field Report"]
["Date :"]
["Item No.('s)"]
["PLACEMENT RECORD",null,null,null,null,null,null,null,null,null,null,null,null,null,null,null,null,null,null,null,null,{"$f":"SUBSTITUTE(A21 & \"\\\" & J21,\"\"\"\",\"\")","v":"\\"}]
[null,null,null,null,"Additional width to DEDUCT from Field Voids",null,null,null,"Placed Density (Pounds/CF)=",null,150,"Overwritten on the \"Summary\" Tab",null,"ONLY ONE (1) MIX DESIGN PER DFR OTHERWISE IT WILL NOT IMPORT INTO THE PLANT REPORT PROPERLY",null,null,null,null,null,null,null,{"$f":"SUBSTITUTE(A22 & \"\\\" & J22,\"\"\"\",\"\")","v":"\\"}]
["From Station"," To Station","Lane","ML or Widening Placement Width","Additional Width (ft) ","Thickness (in)","Total Length Placed (FT)","\"Pay\"  Est \"SY\"","Thickness (inches)","Calculated Field Voids Tons","Placed Tons            (Not including Waste)","% Yield","SY to be PAID (If Diff. than Est SY)","Mix Design No.","Bid Item/ Project No.",null,null,null,"This uses the correct SY #, if Green is blank uses Est. SY","Adds up the Tons",null,"\\"]
[null,null,null,null,null,null,{"$f":"IF(OR(A8=\"\",B8=\"\"),0,IF($A$97=TRUE,ABS(B8-A8)*5280,ABS(VALUE(SUBSTITUTE(A8,\"+\",\"\"))-VALUE(SUBSTITUTE(B8,\"+\",\"\")))))","v":0},{"$f":"IF(D8=\"\",\"\",G8*(D8+E8)/9)","v":""},null,{"$f":"IF(I8=\"\",\"\",(G8)*(D8+E8)*I8/12*$K$6/2000)","v":""},null,{"$f":"IF(K8=\"\",\"\",K8/J8*100)","v":""},null,null,null,null,{"$f":"O8 & \"\\\" & N8","v":"\\"},{"$f":"IF(AND(A8=\"\",B8=\"\",C8=\"\",D8=\"\"),1,IF(OR(O8=\"\",N8=\"\"),2,IF(ISERROR(MATCH(Q8,Input!M$5:M$24,0)),2,1)))","v":1},{"$f":"IF(M8<>\"\", M8, H8)","v":""},{"$f":"K8","v":0},null,"\\"]
[null,null,null,null,null,null,{"$f":"IF(OR(A9=\"\",B9=\"\"),0,IF($A$97=TRUE,ABS(B9-A9)*5280,ABS(VALUE(SUBSTITUTE(A9,\"+\",\"\"))-VALUE(SUBSTITUTE(B9,\"+\",\"\")))))","v":0},{"$f":"IF(D9=\"\",\"\",G9*(D9+E9)/9)","v":""},null,"",null,{"$f":"IF(K9=\"\",\"\",K9/J9*100)","v":""},null,null,null,null,{"$f":"O9 & \"\\\" & N9","v":"\\"},{"$f":"IF(AND(A9=\"\",B9=\"\",C9=\"\",D9=\"\"),1,IF(OR(O9=\"\",N9=\"\"),2,IF(ISERROR(MATCH(Q9,Input!M$5:M$24,0)),2,1)))","v":1},{"$f":"IF(M9<>\"\", M9, H9)","v":""},{"$f":"K9","v":0},null,"\\"]
[null,null,null,null,null,null,0,"",null,"",null,"",null,null,null,null,"\\",{"$f":"IF(AND(A10=\"\",B10=\"\",C10=\"\",D10=\"\"),1,IF(OR(O10=\"\",N10=\"\"),2,IF(ISERROR(MATCH(Q10,Input!M$5:M$24,0)),2,1)))","v":1},{"$f":"IF(M10<>\"\", M10, H10)","v":""},0]
[null,null,null,null,null,null,0,"",null,"",null,"",null,null,null,null,"\\",{"$f":"IF(AND(A11=\"\",B11=\"\",C11=\"\",D11=\"\"),1,IF(OR(O11=\"\",N11=\"\"),2,IF(ISERROR(MATCH(Q11,Input!M$5:M$24,0)),2,1)))","v":1},"",0]
[null,null,null,null,null,null,0,"",null,"",null,"",null,null,null,null,"\\",{"$f":"IF(AND(A12=\"\",B12=\"\",C12=\"\",D12=\"\"),1,IF(OR(O12=\"\",N12=\"\"),2,IF(ISERROR(MATCH(Q12,Input!M$5:M$24,0)),2,1)))","v":1},"",0]
[null,null,null,null,null,null,0,"",null,"",null,"",null,null,null,null,"\\",{"$f":"IF(AND(A13=\"\",B13=\"\",C13=\"\",D13=\"\"),1,IF(OR(O13=\"\",N13=\"\"),2,IF(ISERROR(MATCH(Q13,Input!M$5:M$24,0)),2,1)))","v":1},"",0]
[null,null,null,null,null,null,0,"",null,"",null,"",null,null,null,null,"\\",{"$f":"IF(AND(A14=\"\",B14=\"\",C14=\"\",D14=\"\"),1,IF(OR(O14=\"\",N14=\"\"),2,IF(ISERROR(MATCH(Q14,Input!M$5:M$24,0)),2,1)))","v":1},"",0]
[null,null,null,null,null,null,0,"",null,"",null,"",null,null,null,null,"\\",{"$f":"IF(AND(A15=\"\",B15=\"\",C15=\"\",D15=\"\"),1,IF(OR(O15=\"\",N15=\"\"),2,IF(ISERROR(MATCH(Q15,Input!M$5:M$24,0)),2,1)))","v":1},"",0]
[null,null,null,null,null,null,0,"",null,"",null,"",null,null,null,null,"\\",{"$f":"IF(AND(A16=\"\",B16=\"\",C16=\"\",D16=\"\"),1,IF(OR(O16=\"\",N16=\"\"),2,IF(ISERROR(MATCH(Q16,Input!M$5:M$24,0)),2,1)))","v":1},"",0]
[null,null,null,null,null,null,0,"",null,"",null,"",null,null,null,null,"\\",{"$f":"IF(AND(A17=\"\",B17=\"\",C17=\"\",D17=\"\"),1,IF(OR(O17=\"\",N17=\"\"),2,IF(ISERROR(MATCH(Q17,Input!M$5:M$24,0)),2,1)))","v":1},"",0]
[]
["TANK SHEET"]
["Bid Item (In Order of Placement)",null,"Today's Placement",null,null,"Bid Item Plan Quantity","Plan Thickness (in)","Contract Mix Price","Contract Binder Price","Project Number",null,null,null,"Mix Pay Units","Mix Delivered to Road\n(Ton or SY)","Waste On Road (Ton)\nNO waste for SY Items","Tons Placed - Waste",null,null,"This adds up column S as it depends if the Est SY is filled out or the SY",null,"Use this Column for SY for the Q column","Uses this Value for Mix on Road"]
[null,null,null,null,null,{"$f":"IF($J21=\"\",\"\",INDEX(Input!$A$5:$H$24,MATCH($A21&$J21,Input!$A$5:$A$24&Input!$G$5:$G$24,0),2))","v":""},{"$f":"IF($J21=\"\",\"\",INDEX(Input!$A$5:$H$24,MATCH($A21&$J21,Input!$A$5:$A$24&Input!$G$5:$G$24,0),3))","v":""},{"$f":"IF($J21=\"\",\"\",INDEX(Input!$A$5:$H$24,MATCH($A21&$J21,Input!$A$5:$A$24&Input!$G$5:$G$24,0),4))","v":""},{"$f":"IF($J21=\"\",\"\",INDEX(Input!$A$5:$H$24,MATCH($A21&$J21,Input!$A$5:$A$24&Input!$G$5:$G$24,0),5))","v":""},null,null,null,null,{"$f":"IF($A21=\"\",\"\",OFFSET(Input!F$4,MATCH($A21,Input!$A$5:$A$24,0),0))","v":""},{"$f":"IF(N21=\"SY\", T21, IF(N21=\"Tons\", W21, \"\"))","v":""},null,{"$f":"IF(N21=\"SY\", V21, IF(N21=\"Tons\", O21-P21, \"\"))","v":""},{"$f":"SUBSTITUTE(A21 & \"\\\" & J21,\"\"\"\",\"\")","v":"\\"},{"$f":"IF(A21=\"\",1,IF(ISERROR(MATCH(R21,Input!L$5:L$24,0)),2,1))","v":1},{"$f":"IF(A21=\"\", \"\", SUMIF($Q$8:$Q$17, \"*\" & LEFT(A21, 11) & \"*\", $S$8:$S$17))","v":""},null,{"$f":"IF(A21=\"\", \"\", SUMIF($Q$8:$Q$17, \"*\" & LEFT(A21, 11) & \"*\", $T$8:$T$17))","v":""},{"$f":"IF(N21=\"SY\", T21, IF(N21=\"Tons\", V21+P21, \"\"))","v":""}]
[null,null,null,null,null,{"$f":"IF($J22=\"\",\"\",INDEX(Input!$A$5:$H$24,MATCH($A22&$J22,Input!$A$5:$A$24&Input!$G$5:$G$24,0),2))","v":""},{"$f":"IF($J22=\"\",\"\",INDEX(Input!$A$5:$H$24,MATCH($A22&$J22,Input!$A$5:$A$24&Input!$G$5:$G$24,0),3))","v":""},{"$f":"IF($J22=\"\",\"\",INDEX(Input!$A$5:$H$24,MATCH($A22&$J22,Input!$A$5:$A$24&Input!$G$5:$G$24,0),4))","v":""},{"$f":"IF($J22=\"\",\"\",INDEX(Input!$A$5:$H$24,MATCH($A22&$J22,Input!$A$5:$A$24&Input!$G$5:$G$24,0),5))","v":""},null,null,null,null,{"$f":"IF($A22=\"\",\"\",OFFSET(Input!F$4,MATCH($A22,Input!$A$5:$A$24,0),0))","v":""},{"$f":"IF(N22=\"SY\", T22, IF(N22=\"Tons\", W22, \"\"))","v":""},null,{"$f":"IF(N22=\"SY\", V22, IF(N22=\"Tons\", O22-P22, \"\"))","v":""},{"$f":"SUBSTITUTE(A22 & \"\\\" & J22,\"\"\"\",\"\")","v":"\\"},{"$f":"IF(A22=\"\",1,IF(ISERROR(MATCH(R22,Input!L$5:L$24,0)),2,1))","v":1},{"$f":"IF(A22=\"\", \"\", SUMIF($Q$8:$Q$17, \"*\" & LEFT(A22, 11) & \"*\", $S$8:$S$17))","v":""},null,{"$f":"IF(A22=\"\", \"\", SUMIF($Q$8:$Q$17, \"*\" & LEFT(A22, 11) & \"*\", $T$8:$T$17))","v":""},{"$f":"IF(N22=\"SY\", T22, IF(N22=\"Tons\", V22+P22, \"\"))","v":""}]
[null,null,null,null,null,{"$f":"IF($J23=\"\",\"\",INDEX(Input!$A$5:$H$24,MATCH($A23&$J23,Input!$A$5:$A$24&Input!$G$5:$G$24,0),2))","v":""},{"$f":"IF($J23=\"\",\"\",INDEX(Input!$A$5:$H$24,MATCH($A23&$J23,Input!$A$5:$A$24&Input!$G$5:$G$24,0),3))","v":""},{"$f":"IF($J23=\"\",\"\",INDEX(Input!$A$5:$H$24,MATCH($A23&$J23,Input!$A$5:$A$24&Input!$G$5:$G$24,0),4))","v":""},{"$f":"IF($J23=\"\",\"\",INDEX(Input!$A$5:$H$24,MATCH($A23&$J23,Input!$A$5:$A$24&Input!$G$5:$G$24,0),5))","v":""},null,null,null,null,{"$f":"IF($A23=\"\",\"\",OFFSET(Input!F$4,MATCH($A23,Input!$A$5:$A$24,0),0))","v":""},{"$f":"IF(N23=\"SY\", T23, IF(N23=\"Tons\", W23, \"\"))","v":""},null,{"$f":"IF(N23=\"SY\", V23, IF(N23=\"Tons\", O23-P23, \"\"))","v":""},"\\",{"$f":"IF(A23=\"\",1,IF(ISERROR(MATCH(R23,Input!L$5:L$24,0)),2,1))","v":1},{"$f":"IF(A23=\"\", \"\", SUMIF($Q$8:$Q$17, \"*\" & LEFT(A23, 11) & \"*\", $S$8:$S$17))","v":""},null,{"$f":"IF(A23=\"\", \"\", SUMIF($Q$8:$Q$17, \"*\" & LEFT(A23, 11) & \"*\", $T$8:$T$17))","v":""},{"$f":"IF(N23=\"SY\", T23, IF(N23=\"Tons\", V23+P23, \"\"))","v":""}]
[null,null,null,null,null,{"$f":"IF($J24=\"\",\"\",INDEX(Input!$A$5:$H$24,MATCH($A24&$J24,Input!$A$5:$A$24&Input!$G$5:$G$24,0),2))","v":""},{"$f":"IF($J24=\"\",\"\",INDEX(Input!$A$5:$H$24,MATCH($A24&$J24,Input!$A$5:$A$24&Input!$G$5:$G$24,0),3))","v":""},{"$f":"IF($J24=\"\",\"\",INDEX(Input!$A$5:$H$24,MATCH($A24&$J24,Input!$A$5:$A$24&Input!$G$5:$G$24,0),4))","v":""},{"$f":"IF($J24=\"\",\"\",INDEX(Input!$A$5:$H$24,MATCH($A24&$J24,Input!$A$5:$A$24&Input!$G$5:$G$24,0),5))","v":""},null,null,null,null,{"$f":"IF($A24=\"\",\"\",OFFSET(Input!F$4,MATCH($A24,Input!$A$5:$A$24,0),0))","v":""},"",null,{"$f":"IF(N24=\"SY\", V24, IF(N24=\"Tons\", O24-P24, \"\"))","v":""},"\\",{"$f":"IF(A24=\"\",1,IF(ISERROR(MATCH(R24,Input!L$5:L$24,0)),2,1))","v":1},"",null,{"$f":"IF(A24=\"\", \"\", SUMIF($Q$8:$Q$17, \"*\" & LEFT(A24, 11) & \"*\", $T$8:$T$17))","v":""},{"$f":"IF(N24=\"SY\", T24, IF(N24=\"Tons\", V24+P24, \"\"))","v":""}]
[null,null,null,null,null,{"$f":"IF($J25=\"\",\"\",INDEX(Input!$A$5:$H$24,MATCH($A25&$J25,Input!$A$5:$A$24&Input!$G$5:$G$24,0),2))","v":""},{"$f":"IF($J25=\"\",\"\",INDEX(Input!$A$5:$H$24,MATCH($A25&$J25,Input!$A$5:$A$24&Input!$G$5:$G$24,0),3))","v":""},{"$f":"IF($J25=\"\",\"\",INDEX(Input!$A$5:$H$24,MATCH($A25&$J25,Input!$A$5:$A$24&Input!$G$5:$G$24,0),4))","v":""},{"$f":"IF($J25=\"\",\"\",INDEX(Input!$A$5:$H$24,MATCH($A25&$J25,Input!$A$5:$A$24&Input!$G$5:$G$24,0),5))","v":""},null,null,null,null,{"$f":"IF($A25=\"\",\"\",OFFSET(Input!F$4,MATCH($A25,Input!$A$5:$A$24,0),0))","v":""},"",null,"","\\",{"$f":"IF(A25=\"\",1,IF(ISERROR(MATCH(R25,Input!L$5:L$24,0)),2,1))","v":1},"",null,"",""]
[null,null,null,null,null,null,null,null,null,null,null,null,null,null,null,null,null,null,null,null,null,"",{"$f":"IF(N26=\"SY\", T26, IF(N26=\"Tons\", V26+P26, \"\"))","v":""},{"$f":"IF(A26=\"\", \"\", SUMIF($Q$8:$Q$17, \"*\" & LEFT(A26, 11) & \"*\", $S$8:$S$17))","v":""},{"$f":"IF(N26=\"SY\",X26,\"\")","v":""},{"$f":"IF(A26=\"\", \"\", SUMIF($Q$8:$Q$17, \"*\" & LEFT(A26, 11) & \"*\", $T$8:$T$17))","v":""}]
["Hot Box Sample",null,null,null,null,null,null,null,null,null,"Mat Temperatures °F"]
[null,"Test A","Test B","Test C","Test D","Test E",null,null,null,null,"Time","Temp"]
[" Hot Box ID Number  ",null,null,null,null,null,null,null,null,null,"7:00"]
["Hot Box Sample Tons: ",null,null,null,null,null,null,null,null,null,"9:00",null,null,null,"Intended Thickness:"]
[" Time: ",null,null,null,null,null,null,null,null,null,"11:00",null,null,null,"Cores Waived?"]
[" Station/MP: ",null,null,null,null,null,null,null,null,null,"1:00",null,null,null,"Small Quantity Statement?"]
["Bar Code ID.:",null,null,null,null,null,null,null,null,null,"3:00",null,null,null,"Scale Check Done?"]
["Compaction Temp. °F: ",null,null,null,null,null,null,null,null,null,"5:00",null,null,null,"Tack Tickets Today?"]
[null,null,null,null,null,null,null,null,null,null,"7:00"]
["The Below Comments should show up on the plant report"]
["Comments:"]
[]
[]
["The Below Notes are for the CPI from the field or Plant Monitor"]
["Notes:"]
[]
[]
["RANDOM CORE LOCATIONS"]
[null,null,null,null,null,null,null,"Core #","Station","Offset,ft","Joint Station","Lane"]
[null,null,null,null,null,null,null,1]
[null,null,null,null,null,null,null,2]
[null,null,null,null,null,null,null,3]
[null,null,null,null,null,null,null,4]
[null,null,null,null,null,null,null,5]
[null,null,null,null,null,null,null,6]
[null,null,null,null,null,null,null,7]
[null,null,null,null,null,null,null,8]
[]
[null,null,null,null,null,null,null,null,null,null,"Joint Sublot Size, ft"]
[null,null,null,null,null,null,null,null,null,null,0]
[]
[]
[]
[]
[]
[]
[]
[]
[]
[]
[]
[]
[]
[]
[]
[]
[]
[]
[]
[]
[]
[]
[]
[]
[]
[]
[]
[]
[]
[]
[]
[]
[]
[]
[]
[]
[]
[]
[]
[]
[false]

{"sheet":"16","index":31,"n_rows":97,"n_cols":26,"rows_kept":97,"cut":false,"hidden":false,"merged":[[50,11,50,13],[51,11,51,13],[52,11,52,13],[44,11,44,13],[45,11,45,13],[46,11,46,13],[47,11,47,13],[48,11,48,13],[49,11,49,13],[43,0,43,16],[25,0,25,1],[26,0,26,5],[26,20,26,23],[26,25,26,27],[34,2,34,4],[35,0,35,5],[36,1,36,14],[37,0,37,14],[39,0,39,5],[40,1,40,14],[41,0,41,14],[23,0,23,1],[23,2,23,4],[23,9,23,12],[24,0,24,1],[24,2,24,4],[24,9,24,12],[21,0,21,1],[21,2,21,4],[21,9,21,12],[22,0,22,1],[22,2,22,4],[22,9,22,12],[19,0,19,1],[19,2,19,4],[19,9,19,12],[20,0,20,1],[20,2,20,4],[20,9,20,12],[18,0,18,16],[6,14,6,15],[7,14,7,15],[8,14,8,15],[9,14,9,15],[10,14,10,15],[11,14,11,15],[12,14,12,15],[13,14,13,15],[14,14,14,15],[15,14,15,15],[16,14,16,15],[1,0,1,16],[4,0,4,15],[5,4,5,5],[5,8,5,9],[5,11,5,12],[5,13,5,15]]}
[]
["Iowa DOT HMA Field Report"]
["Date :"]
["Item No.('s)"]
["PLACEMENT RECORD",null,null,null,null,null,null,null,null,null,null,null,null,null,null,null,null,null,null,null,null,{"$f":"SUBSTITUTE(A21 & \"\\\" & J21,\"\"\"\",\"\")","v":"\\"}]
[null,null,null,null,"Additional width to DEDUCT from Field Voids",null,null,null,"Placed Density (Pounds/CF)=",null,150,"Overwritten on the \"Summary\" Tab",null,"ONLY ONE (1) MIX DESIGN PER DFR OTHERWISE IT WILL NOT IMPORT INTO THE PLANT REPORT PROPERLY",null,null,null,null,null,null,null,{"$f":"SUBSTITUTE(A22 & \"\\\" & J22,\"\"\"\",\"\")","v":"\\"}]
["From Station"," To Station","Lane","ML or Widening Placement Width","Additional Width (ft) ","Thickness (in)","Total Length Placed (FT)","\"Pay\"  Est \"SY\"","Thickness (inches)","Calculated Field Voids Tons","Placed Tons            (Not including Waste)","% Yield","SY to be PAID (If Diff. than Est SY)","Mix Design No.","Bid Item/ Project No.",null,null,null,"This uses the correct SY #, if Green is blank uses Est. SY","Adds up the Tons",null,"\\"]
[null,null,null,null,null,null,{"$f":"IF(OR(A8=\"\",B8=\"\"),0,IF($A$97=TRUE,ABS(B8-A8)*5280,ABS(VALUE(SUBSTITUTE(A8,\"+\",\"\"))-VALUE(SUBSTITUTE(B8,\"+\",\"\")))))","v":0},{"$f":"IF(D8=\"\",\"\",G8*(D8+E8)/9)","v":""},null,{"$f":"IF(I8=\"\",\"\",(G8)*(D8+E8)*I8/12*$K$6/2000)","v":""},null,{"$f":"IF(K8=\"\",\"\",K8/J8*100)","v":""},null,null,null,null,{"$f":"O8 & \"\\\" & N8","v":"\\"},{"$f":"IF(AND(A8=\"\",B8=\"\",C8=\"\",D8=\"\"),1,IF(OR(O8=\"\",N8=\"\"),2,IF(ISERROR(MATCH(Q8,Input!M$5:M$24,0)),2,1)))","v":1},{"$f":"IF(M8<>\"\", M8, H8)","v":""},{"$f":"K8","v":0},null,"\\"]
[null,null,null,null,null,null,{"$f":"IF(OR(A9=\"\",B9=\"\"),0,IF($A$97=TRUE,ABS(B9-A9)*5280,ABS(VALUE(SUBSTITUTE(A9,\"+\",\"\"))-VALUE(SUBSTITUTE(B9,\"+\",\"\")))))","v":0},{"$f":"IF(D9=\"\",\"\",G9*(D9+E9)/9)","v":""},null,"",null,{"$f":"IF(K9=\"\",\"\",K9/J9*100)","v":""},null,null,null,null,{"$f":"O9 & \"\\\" & N9","v":"\\"},{"$f":"IF(AND(A9=\"\",B9=\"\",C9=\"\",D9=\"\"),1,IF(OR(O9=\"\",N9=\"\"),2,IF(ISERROR(MATCH(Q9,Input!M$5:M$24,0)),2,1)))","v":1},{"$f":"IF(M9<>\"\", M9, H9)","v":""},{"$f":"K9","v":0},null,"\\"]
[null,null,null,null,null,null,0,"",null,"",null,"",null,null,null,null,"\\",{"$f":"IF(AND(A10=\"\",B10=\"\",C10=\"\",D10=\"\"),1,IF(OR(O10=\"\",N10=\"\"),2,IF(ISERROR(MATCH(Q10,Input!M$5:M$24,0)),2,1)))","v":1},{"$f":"IF(M10<>\"\", M10, H10)","v":""},0]
[null,null,null,null,null,null,0,"",null,"",null,"",null,null,null,null,"\\",{"$f":"IF(AND(A11=\"\",B11=\"\",C11=\"\",D11=\"\"),1,IF(OR(O11=\"\",N11=\"\"),2,IF(ISERROR(MATCH(Q11,Input!M$5:M$24,0)),2,1)))","v":1},"",0]
[null,null,null,null,null,null,0,"",null,"",null,"",null,null,null,null,"\\",{"$f":"IF(AND(A12=\"\",B12=\"\",C12=\"\",D12=\"\"),1,IF(OR(O12=\"\",N12=\"\"),2,IF(ISERROR(MATCH(Q12,Input!M$5:M$24,0)),2,1)))","v":1},"",0]
[null,null,null,null,null,null,0,"",null,"",null,"",null,null,null,null,"\\",{"$f":"IF(AND(A13=\"\",B13=\"\",C13=\"\",D13=\"\"),1,IF(OR(O13=\"\",N13=\"\"),2,IF(ISERROR(MATCH(Q13,Input!M$5:M$24,0)),2,1)))","v":1},"",0]
[null,null,null,null,null,null,0,"",null,"",null,"",null,null,null,null,"\\",{"$f":"IF(AND(A14=\"\",B14=\"\",C14=\"\",D14=\"\"),1,IF(OR(O14=\"\",N14=\"\"),2,IF(ISERROR(MATCH(Q14,Input!M$5:M$24,0)),2,1)))","v":1},"",0]
[null,null,null,null,null,null,0,"",null,"",null,"",null,null,null,null,"\\",{"$f":"IF(AND(A15=\"\",B15=\"\",C15=\"\",D15=\"\"),1,IF(OR(O15=\"\",N15=\"\"),2,IF(ISERROR(MATCH(Q15,Input!M$5:M$24,0)),2,1)))","v":1},"",0]
[null,null,null,null,null,null,0,"",null,"",null,"",null,null,null,null,"\\",{"$f":"IF(AND(A16=\"\",B16=\"\",C16=\"\",D16=\"\"),1,IF(OR(O16=\"\",N16=\"\"),2,IF(ISERROR(MATCH(Q16,Input!M$5:M$24,0)),2,1)))","v":1},"",0]
[null,null,null,null,null,null,0,"",null,"",null,"",null,null,null,null,"\\",{"$f":"IF(AND(A17=\"\",B17=\"\",C17=\"\",D17=\"\"),1,IF(OR(O17=\"\",N17=\"\"),2,IF(ISERROR(MATCH(Q17,Input!M$5:M$24,0)),2,1)))","v":1},"",0]
[]
["TANK SHEET"]
["Bid Item (In Order of Placement)",null,"Today's Placement",null,null,"Bid Item Plan Quantity","Plan Thickness (in)","Contract Mix Price","Contract Binder Price","Project Number",null,null,null,"Mix Pay Units","Mix Delivered to Road\n(Ton or SY)","Waste On Road (Ton)\nNO waste for SY Items","Tons Placed - Waste",null,null,"This adds up column S as it depends if the Est SY is filled out or the SY",null,"Use this Column for SY for the Q column","Uses this Value for Mix on Road"]
[null,null,null,null,null,{"$f":"IF($J21=\"\",\"\",INDEX(Input!$A$5:$H$24,MATCH($A21&$J21,Input!$A$5:$A$24&Input!$G$5:$G$24,0),2))","v":""},{"$f":"IF($J21=\"\",\"\",INDEX(Input!$A$5:$H$24,MATCH($A21&$J21,Input!$A$5:$A$24&Input!$G$5:$G$24,0),3))","v":""},{"$f":"IF($J21=\"\",\"\",INDEX(Input!$A$5:$H$24,MATCH($A21&$J21,Input!$A$5:$A$24&Input!$G$5:$G$24,0),4))","v":""},{"$f":"IF($J21=\"\",\"\",INDEX(Input!$A$5:$H$24,MATCH($A21&$J21,Input!$A$5:$A$24&Input!$G$5:$G$24,0),5))","v":""},null,null,null,null,{"$f":"IF($A21=\"\",\"\",OFFSET(Input!F$4,MATCH($A21,Input!$A$5:$A$24,0),0))","v":""},{"$f":"IF(N21=\"SY\", T21, IF(N21=\"Tons\", W21, \"\"))","v":""},null,{"$f":"IF(N21=\"SY\", V21, IF(N21=\"Tons\", O21-P21, \"\"))","v":""},{"$f":"SUBSTITUTE(A21 & \"\\\" & J21,\"\"\"\",\"\")","v":"\\"},{"$f":"IF(A21=\"\",1,IF(ISERROR(MATCH(R21,Input!L$5:L$24,0)),2,1))","v":1},{"$f":"IF(A21=\"\", \"\", SUMIF($Q$8:$Q$17, \"*\" & LEFT(A21, 11) & \"*\", $S$8:$S$17))","v":""},null,{"$f":"IF(A21=\"\", \"\", SUMIF($Q$8:$Q$17, \"*\" & LEFT(A21, 11) & \"*\", $T$8:$T$17))","v":""},{"$f":"IF(N21=\"SY\", T21, IF(N21=\"Tons\", V21+P21, \"\"))","v":""}]
[null,null,null,null,null,{"$f":"IF($J22=\"\",\"\",INDEX(Input!$A$5:$H$24,MATCH($A22&$J22,Input!$A$5:$A$24&Input!$G$5:$G$24,0),2))","v":""},{"$f":"IF($J22=\"\",\"\",INDEX(Input!$A$5:$H$24,MATCH($A22&$J22,Input!$A$5:$A$24&Input!$G$5:$G$24,0),3))","v":""},{"$f":"IF($J22=\"\",\"\",INDEX(Input!$A$5:$H$24,MATCH($A22&$J22,Input!$A$5:$A$24&Input!$G$5:$G$24,0),4))","v":""},{"$f":"IF($J22=\"\",\"\",INDEX(Input!$A$5:$H$24,MATCH($A22&$J22,Input!$A$5:$A$24&Input!$G$5:$G$24,0),5))","v":""},null,null,null,null,{"$f":"IF($A22=\"\",\"\",OFFSET(Input!F$4,MATCH($A22,Input!$A$5:$A$24,0),0))","v":""},{"$f":"IF(N22=\"SY\", T22, IF(N22=\"Tons\", W22, \"\"))","v":""},null,{"$f":"IF(N22=\"SY\", V22, IF(N22=\"Tons\", O22-P22, \"\"))","v":""},{"$f":"SUBSTITUTE(A22 & \"\\\" & J22,\"\"\"\",\"\")","v":"\\"},{"$f":"IF(A22=\"\",1,IF(ISERROR(MATCH(R22,Input!L$5:L$24,0)),2,1))","v":1},{"$f":"IF(A22=\"\", \"\", SUMIF($Q$8:$Q$17, \"*\" & LEFT(A22, 11) & \"*\", $S$8:$S$17))","v":""},null,{"$f":"IF(A22=\"\", \"\", SUMIF($Q$8:$Q$17, \"*\" & LEFT(A22, 11) & \"*\", $T$8:$T$17))","v":""},{"$f":"IF(N22=\"SY\", T22, IF(N22=\"Tons\", V22+P22, \"\"))","v":""}]
[null,null,null,null,null,{"$f":"IF($J23=\"\",\"\",INDEX(Input!$A$5:$H$24,MATCH($A23&$J23,Input!$A$5:$A$24&Input!$G$5:$G$24,0),2))","v":""},{"$f":"IF($J23=\"\",\"\",INDEX(Input!$A$5:$H$24,MATCH($A23&$J23,Input!$A$5:$A$24&Input!$G$5:$G$24,0),3))","v":""},{"$f":"IF($J23=\"\",\"\",INDEX(Input!$A$5:$H$24,MATCH($A23&$J23,Input!$A$5:$A$24&Input!$G$5:$G$24,0),4))","v":""},{"$f":"IF($J23=\"\",\"\",INDEX(Input!$A$5:$H$24,MATCH($A23&$J23,Input!$A$5:$A$24&Input!$G$5:$G$24,0),5))","v":""},null,null,null,null,{"$f":"IF($A23=\"\",\"\",OFFSET(Input!F$4,MATCH($A23,Input!$A$5:$A$24,0),0))","v":""},{"$f":"IF(N23=\"SY\", T23, IF(N23=\"Tons\", W23, \"\"))","v":""},null,{"$f":"IF(N23=\"SY\", V23, IF(N23=\"Tons\", O23-P23, \"\"))","v":""},"\\",{"$f":"IF(A23=\"\",1,IF(ISERROR(MATCH(R23,Input!L$5:L$24,0)),2,1))","v":1},{"$f":"IF(A23=\"\", \"\", SUMIF($Q$8:$Q$17, \"*\" & LEFT(A23, 11) & \"*\", $S$8:$S$17))","v":""},null,{"$f":"IF(A23=\"\", \"\", SUMIF($Q$8:$Q$17, \"*\" & LEFT(A23, 11) & \"*\", $T$8:$T$17))","v":""},{"$f":"IF(N23=\"SY\", T23, IF(N23=\"Tons\", V23+P23, \"\"))","v":""}]
[null,null,null,null,null,{"$f":"IF($J24=\"\",\"\",INDEX(Input!$A$5:$H$24,MATCH($A24&$J24,Input!$A$5:$A$24&Input!$G$5:$G$24,0),2))","v":""},{"$f":"IF($J24=\"\",\"\",INDEX(Input!$A$5:$H$24,MATCH($A24&$J24,Input!$A$5:$A$24&Input!$G$5:$G$24,0),3))","v":""},{"$f":"IF($J24=\"\",\"\",INDEX(Input!$A$5:$H$24,MATCH($A24&$J24,Input!$A$5:$A$24&Input!$G$5:$G$24,0),4))","v":""},{"$f":"IF($J24=\"\",\"\",INDEX(Input!$A$5:$H$24,MATCH($A24&$J24,Input!$A$5:$A$24&Input!$G$5:$G$24,0),5))","v":""},null,null,null,null,{"$f":"IF($A24=\"\",\"\",OFFSET(Input!F$4,MATCH($A24,Input!$A$5:$A$24,0),0))","v":""},"",null,{"$f":"IF(N24=\"SY\", V24, IF(N24=\"Tons\", O24-P24, \"\"))","v":""},"\\",{"$f":"IF(A24=\"\",1,IF(ISERROR(MATCH(R24,Input!L$5:L$24,0)),2,1))","v":1},"",null,{"$f":"IF(A24=\"\", \"\", SUMIF($Q$8:$Q$17, \"*\" & LEFT(A24, 11) & \"*\", $T$8:$T$17))","v":""},{"$f":"IF(N24=\"SY\", T24, IF(N24=\"Tons\", V24+P24, \"\"))","v":""}]
[null,null,null,null,null,{"$f":"IF($J25=\"\",\"\",INDEX(Input!$A$5:$H$24,MATCH($A25&$J25,Input!$A$5:$A$24&Input!$G$5:$G$24,0),2))","v":""},{"$f":"IF($J25=\"\",\"\",INDEX(Input!$A$5:$H$24,MATCH($A25&$J25,Input!$A$5:$A$24&Input!$G$5:$G$24,0),3))","v":""},{"$f":"IF($J25=\"\",\"\",INDEX(Input!$A$5:$H$24,MATCH($A25&$J25,Input!$A$5:$A$24&Input!$G$5:$G$24,0),4))","v":""},{"$f":"IF($J25=\"\",\"\",INDEX(Input!$A$5:$H$24,MATCH($A25&$J25,Input!$A$5:$A$24&Input!$G$5:$G$24,0),5))","v":""},null,null,null,null,{"$f":"IF($A25=\"\",\"\",OFFSET(Input!F$4,MATCH($A25,Input!$A$5:$A$24,0),0))","v":""},"",null,"","\\",{"$f":"IF(A25=\"\",1,IF(ISERROR(MATCH(R25,Input!L$5:L$24,0)),2,1))","v":1},"",null,"",""]
[null,null,null,null,null,null,null,null,null,null,null,null,null,null,null,null,null,null,null,null,null,"",{"$f":"IF(N26=\"SY\", T26, IF(N26=\"Tons\", V26+P26, \"\"))","v":""},{"$f":"IF(A26=\"\", \"\", SUMIF($Q$8:$Q$17, \"*\" & LEFT(A26, 11) & \"*\", $S$8:$S$17))","v":""},{"$f":"IF(N26=\"SY\",X26,\"\")","v":""},{"$f":"IF(A26=\"\", \"\", SUMIF($Q$8:$Q$17, \"*\" & LEFT(A26, 11) & \"*\", $T$8:$T$17))","v":""}]
["Hot Box Sample",null,null,null,null,null,null,null,null,null,"Mat Temperatures °F"]
[null,"Test A","Test B","Test C","Test D","Test E",null,null,null,null,"Time","Temp"]
[" Hot Box ID Number  ",null,null,null,null,null,null,null,null,null,"7:00"]
["Hot Box Sample Tons: ",null,null,null,null,null,null,null,null,null,"9:00",null,null,null,"Intended Thickness:"]
[" Time: ",null,null,null,null,null,null,null,null,null,"11:00",null,null,null,"Cores Waived?"]
[" Station/MP: ",null,null,null,null,null,null,null,null,null,"1:00",null,null,null,"Small Quantity Statement?"]
["Bar Code ID.:",null,null,null,null,null,null,null,null,null,"3:00",null,null,null,"Scale Check Done?"]
["Compaction Temp. °F: ",null,null,null,null,null,null,null,null,null,"5:00",null,null,null,"Tack Tickets Today?"]
[null,null,null,null,null,null,null,null,null,null,"7:00"]
["The Below Comments should show up on the plant report"]
["Comments:"]
[]
[]
["The Below Notes are for the CPI from the field or Plant Monitor"]
["Notes:"]
[]
[]
["RANDOM CORE LOCATIONS"]
[null,null,null,null,null,null,null,"Core #","Station","Offset,ft","Joint Station","Lane"]
[null,null,null,null,null,null,null,1]
[null,null,null,null,null,null,null,2]
[null,null,null,null,null,null,null,3]
[null,null,null,null,null,null,null,4]
[null,null,null,null,null,null,null,5]
[null,null,null,null,null,null,null,6]
[null,null,null,null,null,null,null,7]
[null,null,null,null,null,null,null,8]
[]
[null,null,null,null,null,null,null,null,null,null,"Joint Sublot Size, ft"]
[null,null,null,null,null,null,null,null,null,null,0]
[]
[]
[]
[]
[]
[]
[]
[]
[]
[]
[]
[]
[]
[]
[]
[]
[]
[]
[]
[]
[]
[]
[]
[]
[]
[]
[]
[]
[]
[]
[]
[]
[]
[]
[]
[]
[]
[]
[]
[]
[false]

{"sheet":"17","index":32,"n_rows":97,"n_cols":26,"rows_kept":97,"cut":false,"hidden":false,"merged":[[50,11,50,13],[51,11,51,13],[52,11,52,13],[44,11,44,13],[45,11,45,13],[46,11,46,13],[47,11,47,13],[48,11,48,13],[49,11,49,13],[43,0,43,16],[25,0,25,1],[26,0,26,5],[26,20,26,23],[26,25,26,27],[34,2,34,4],[35,0,35,5],[36,1,36,14],[37,0,37,14],[39,0,39,5],[40,1,40,14],[41,0,41,14],[23,0,23,1],[23,2,23,4],[23,9,23,12],[24,0,24,1],[24,2,24,4],[24,9,24,12],[21,0,21,1],[21,2,21,4],[21,9,21,12],[22,0,22,1],[22,2,22,4],[22,9,22,12],[19,0,19,1],[19,2,19,4],[19,9,19,12],[20,0,20,1],[20,2,20,4],[20,9,20,12],[18,0,18,16],[6,14,6,15],[7,14,7,15],[8,14,8,15],[9,14,9,15],[10,14,10,15],[11,14,11,15],[12,14,12,15],[13,14,13,15],[14,14,14,15],[15,14,15,15],[16,14,16,15],[1,0,1,16],[4,0,4,15],[5,4,5,5],[5,8,5,9],[5,11,5,12],[5,13,5,15]]}
[]
["Iowa DOT HMA Field Report"]
["Date :"]
["Item No.('s)"]
["PLACEMENT RECORD",null,null,null,null,null,null,null,null,null,null,null,null,null,null,null,null,null,null,null,null,{"$f":"SUBSTITUTE(A21 & \"\\\" & J21,\"\"\"\",\"\")","v":"\\"}]
[null,null,null,null,"Additional width to DEDUCT from Field Voids",null,null,null,"Placed Density (Pounds/CF)=",null,150,"Overwritten on the \"Summary\" Tab",null,"ONLY ONE (1) MIX DESIGN PER DFR OTHERWISE IT WILL NOT IMPORT INTO THE PLANT REPORT PROPERLY",null,null,null,null,null,null,null,{"$f":"SUBSTITUTE(A22 & \"\\\" & J22,\"\"\"\",\"\")","v":"\\"}]
["From Station"," To Station","Lane","ML or Widening Placement Width","Additional Width (ft) ","Thickness (in)","Total Length Placed (FT)","\"Pay\"  Est \"SY\"","Thickness (inches)","Calculated Field Voids Tons","Placed Tons            (Not including Waste)","% Yield","SY to be PAID (If Diff. than Est SY)","Mix Design No.","Bid Item/ Project No.",null,null,null,"This uses the correct SY #, if Green is blank uses Est. SY","Adds up the Tons",null,"\\"]
[null,null,null,null,null,null,{"$f":"IF(OR(A8=\"\",B8=\"\"),0,IF($A$97=TRUE,ABS(B8-A8)*5280,ABS(VALUE(SUBSTITUTE(A8,\"+\",\"\"))-VALUE(SUBSTITUTE(B8,\"+\",\"\")))))","v":0},{"$f":"IF(D8=\"\",\"\",G8*(D8+E8)/9)","v":""},null,{"$f":"IF(I8=\"\",\"\",(G8)*(D8+E8)*I8/12*$K$6/2000)","v":""},null,{"$f":"IF(K8=\"\",\"\",K8/J8*100)","v":""},null,null,null,null,{"$f":"O8 & \"\\\" & N8","v":"\\"},{"$f":"IF(AND(A8=\"\",B8=\"\",C8=\"\",D8=\"\"),1,IF(OR(O8=\"\",N8=\"\"),2,IF(ISERROR(MATCH(Q8,Input!M$5:M$24,0)),2,1)))","v":1},{"$f":"IF(M8<>\"\", M8, H8)","v":""},{"$f":"K8","v":0},null,"\\"]
[null,null,null,null,null,null,{"$f":"IF(OR(A9=\"\",B9=\"\"),0,IF($A$97=TRUE,ABS(B9-A9)*5280,ABS(VALUE(SUBSTITUTE(A9,\"+\",\"\"))-VALUE(SUBSTITUTE(B9,\"+\",\"\")))))","v":0},{"$f":"IF(D9=\"\",\"\",G9*(D9+E9)/9)","v":""},null,"",null,{"$f":"IF(K9=\"\",\"\",K9/J9*100)","v":""},null,null,null,null,{"$f":"O9 & \"\\\" & N9","v":"\\"},{"$f":"IF(AND(A9=\"\",B9=\"\",C9=\"\",D9=\"\"),1,IF(OR(O9=\"\",N9=\"\"),2,IF(ISERROR(MATCH(Q9,Input!M$5:M$24,0)),2,1)))","v":1},{"$f":"IF(M9<>\"\", M9, H9)","v":""},{"$f":"K9","v":0},null,"\\"]
[null,null,null,null,null,null,0,"",null,"",null,"",null,null,null,null,"\\",{"$f":"IF(AND(A10=\"\",B10=\"\",C10=\"\",D10=\"\"),1,IF(OR(O10=\"\",N10=\"\"),2,IF(ISERROR(MATCH(Q10,Input!M$5:M$24,0)),2,1)))","v":1},{"$f":"IF(M10<>\"\", M10, H10)","v":""},0]
[null,null,null,null,null,null,0,"",null,"",null,"",null,null,null,null,"\\",{"$f":"IF(AND(A11=\"\",B11=\"\",C11=\"\",D11=\"\"),1,IF(OR(O11=\"\",N11=\"\"),2,IF(ISERROR(MATCH(Q11,Input!M$5:M$24,0)),2,1)))","v":1},"",0]
[null,null,null,null,null,null,0,"",null,"",null,"",null,null,null,null,"\\",{"$f":"IF(AND(A12=\"\",B12=\"\",C12=\"\",D12=\"\"),1,IF(OR(O12=\"\",N12=\"\"),2,IF(ISERROR(MATCH(Q12,Input!M$5:M$24,0)),2,1)))","v":1},"",0]
[null,null,null,null,null,null,0,"",null,"",null,"",null,null,null,null,"\\",{"$f":"IF(AND(A13=\"\",B13=\"\",C13=\"\",D13=\"\"),1,IF(OR(O13=\"\",N13=\"\"),2,IF(ISERROR(MATCH(Q13,Input!M$5:M$24,0)),2,1)))","v":1},"",0]
[null,null,null,null,null,null,0,"",null,"",null,"",null,null,null,null,"\\",{"$f":"IF(AND(A14=\"\",B14=\"\",C14=\"\",D14=\"\"),1,IF(OR(O14=\"\",N14=\"\"),2,IF(ISERROR(MATCH(Q14,Input!M$5:M$24,0)),2,1)))","v":1},"",0]
[null,null,null,null,null,null,0,"",null,"",null,"",null,null,null,null,"\\",{"$f":"IF(AND(A15=\"\",B15=\"\",C15=\"\",D15=\"\"),1,IF(OR(O15=\"\",N15=\"\"),2,IF(ISERROR(MATCH(Q15,Input!M$5:M$24,0)),2,1)))","v":1},"",0]
[null,null,null,null,null,null,0,"",null,"",null,"",null,null,null,null,"\\",{"$f":"IF(AND(A16=\"\",B16=\"\",C16=\"\",D16=\"\"),1,IF(OR(O16=\"\",N16=\"\"),2,IF(ISERROR(MATCH(Q16,Input!M$5:M$24,0)),2,1)))","v":1},"",0]
[null,null,null,null,null,null,0,"",null,"",null,"",null,null,null,null,"\\",{"$f":"IF(AND(A17=\"\",B17=\"\",C17=\"\",D17=\"\"),1,IF(OR(O17=\"\",N17=\"\"),2,IF(ISERROR(MATCH(Q17,Input!M$5:M$24,0)),2,1)))","v":1},"",0]
[]
["TANK SHEET"]
["Bid Item (In Order of Placement)",null,"Today's Placement",null,null,"Bid Item Plan Quantity","Plan Thickness (in)","Contract Mix Price","Contract Binder Price","Project Number",null,null,null,"Mix Pay Units","Mix Delivered to Road\n(Ton or SY)","Waste On Road (Ton)\nNO waste for SY Items","Tons Placed - Waste",null,null,"This adds up column S as it depends if the Est SY is filled out or the SY",null,"Use this Column for SY for the Q column","Uses this Value for Mix on Road"]
[null,null,null,null,null,{"$f":"IF($J21=\"\",\"\",INDEX(Input!$A$5:$H$24,MATCH($A21&$J21,Input!$A$5:$A$24&Input!$G$5:$G$24,0),2))","v":""},{"$f":"IF($J21=\"\",\"\",INDEX(Input!$A$5:$H$24,MATCH($A21&$J21,Input!$A$5:$A$24&Input!$G$5:$G$24,0),3))","v":""},{"$f":"IF($J21=\"\",\"\",INDEX(Input!$A$5:$H$24,MATCH($A21&$J21,Input!$A$5:$A$24&Input!$G$5:$G$24,0),4))","v":""},{"$f":"IF($J21=\"\",\"\",INDEX(Input!$A$5:$H$24,MATCH($A21&$J21,Input!$A$5:$A$24&Input!$G$5:$G$24,0),5))","v":""},null,null,null,null,{"$f":"IF($A21=\"\",\"\",OFFSET(Input!F$4,MATCH($A21,Input!$A$5:$A$24,0),0))","v":""},{"$f":"IF(N21=\"SY\", T21, IF(N21=\"Tons\", W21, \"\"))","v":""},null,{"$f":"IF(N21=\"SY\", V21, IF(N21=\"Tons\", O21-P21, \"\"))","v":""},{"$f":"SUBSTITUTE(A21 & \"\\\" & J21,\"\"\"\",\"\")","v":"\\"},{"$f":"IF(A21=\"\",1,IF(ISERROR(MATCH(R21,Input!L$5:L$24,0)),2,1))","v":1},{"$f":"IF(A21=\"\", \"\", SUMIF($Q$8:$Q$17, \"*\" & LEFT(A21, 11) & \"*\", $S$8:$S$17))","v":""},null,{"$f":"IF(A21=\"\", \"\", SUMIF($Q$8:$Q$17, \"*\" & LEFT(A21, 11) & \"*\", $T$8:$T$17))","v":""},{"$f":"IF(N21=\"SY\", T21, IF(N21=\"Tons\", V21+P21, \"\"))","v":""}]
[null,null,null,null,null,{"$f":"IF($J22=\"\",\"\",INDEX(Input!$A$5:$H$24,MATCH($A22&$J22,Input!$A$5:$A$24&Input!$G$5:$G$24,0),2))","v":""},{"$f":"IF($J22=\"\",\"\",INDEX(Input!$A$5:$H$24,MATCH($A22&$J22,Input!$A$5:$A$24&Input!$G$5:$G$24,0),3))","v":""},{"$f":"IF($J22=\"\",\"\",INDEX(Input!$A$5:$H$24,MATCH($A22&$J22,Input!$A$5:$A$24&Input!$G$5:$G$24,0),4))","v":""},{"$f":"IF($J22=\"\",\"\",INDEX(Input!$A$5:$H$24,MATCH($A22&$J22,Input!$A$5:$A$24&Input!$G$5:$G$24,0),5))","v":""},null,null,null,null,{"$f":"IF($A22=\"\",\"\",OFFSET(Input!F$4,MATCH($A22,Input!$A$5:$A$24,0),0))","v":""},{"$f":"IF(N22=\"SY\", T22, IF(N22=\"Tons\", W22, \"\"))","v":""},null,{"$f":"IF(N22=\"SY\", V22, IF(N22=\"Tons\", O22-P22, \"\"))","v":""},{"$f":"SUBSTITUTE(A22 & \"\\\" & J22,\"\"\"\",\"\")","v":"\\"},{"$f":"IF(A22=\"\",1,IF(ISERROR(MATCH(R22,Input!L$5:L$24,0)),2,1))","v":1},{"$f":"IF(A22=\"\", \"\", SUMIF($Q$8:$Q$17, \"*\" & LEFT(A22, 11) & \"*\", $S$8:$S$17))","v":""},null,{"$f":"IF(A22=\"\", \"\", SUMIF($Q$8:$Q$17, \"*\" & LEFT(A22, 11) & \"*\", $T$8:$T$17))","v":""},{"$f":"IF(N22=\"SY\", T22, IF(N22=\"Tons\", V22+P22, \"\"))","v":""}]
[null,null,null,null,null,{"$f":"IF($J23=\"\",\"\",INDEX(Input!$A$5:$H$24,MATCH($A23&$J23,Input!$A$5:$A$24&Input!$G$5:$G$24,0),2))","v":""},{"$f":"IF($J23=\"\",\"\",INDEX(Input!$A$5:$H$24,MATCH($A23&$J23,Input!$A$5:$A$24&Input!$G$5:$G$24,0),3))","v":""},{"$f":"IF($J23=\"\",\"\",INDEX(Input!$A$5:$H$24,MATCH($A23&$J23,Input!$A$5:$A$24&Input!$G$5:$G$24,0),4))","v":""},{"$f":"IF($J23=\"\",\"\",INDEX(Input!$A$5:$H$24,MATCH($A23&$J23,Input!$A$5:$A$24&Input!$G$5:$G$24,0),5))","v":""},null,null,null,null,{"$f":"IF($A23=\"\",\"\",OFFSET(Input!F$4,MATCH($A23,Input!$A$5:$A$24,0),0))","v":""},{"$f":"IF(N23=\"SY\", T23, IF(N23=\"Tons\", W23, \"\"))","v":""},null,{"$f":"IF(N23=\"SY\", V23, IF(N23=\"Tons\", O23-P23, \"\"))","v":""},"\\",{"$f":"IF(A23=\"\",1,IF(ISERROR(MATCH(R23,Input!L$5:L$24,0)),2,1))","v":1},{"$f":"IF(A23=\"\", \"\", SUMIF($Q$8:$Q$17, \"*\" & LEFT(A23, 11) & \"*\", $S$8:$S$17))","v":""},null,{"$f":"IF(A23=\"\", \"\", SUMIF($Q$8:$Q$17, \"*\" & LEFT(A23, 11) & \"*\", $T$8:$T$17))","v":""},{"$f":"IF(N23=\"SY\", T23, IF(N23=\"Tons\", V23+P23, \"\"))","v":""}]
[null,null,null,null,null,{"$f":"IF($J24=\"\",\"\",INDEX(Input!$A$5:$H$24,MATCH($A24&$J24,Input!$A$5:$A$24&Input!$G$5:$G$24,0),2))","v":""},{"$f":"IF($J24=\"\",\"\",INDEX(Input!$A$5:$H$24,MATCH($A24&$J24,Input!$A$5:$A$24&Input!$G$5:$G$24,0),3))","v":""},{"$f":"IF($J24=\"\",\"\",INDEX(Input!$A$5:$H$24,MATCH($A24&$J24,Input!$A$5:$A$24&Input!$G$5:$G$24,0),4))","v":""},{"$f":"IF($J24=\"\",\"\",INDEX(Input!$A$5:$H$24,MATCH($A24&$J24,Input!$A$5:$A$24&Input!$G$5:$G$24,0),5))","v":""},null,null,null,null,{"$f":"IF($A24=\"\",\"\",OFFSET(Input!F$4,MATCH($A24,Input!$A$5:$A$24,0),0))","v":""},"",null,{"$f":"IF(N24=\"SY\", V24, IF(N24=\"Tons\", O24-P24, \"\"))","v":""},"\\",{"$f":"IF(A24=\"\",1,IF(ISERROR(MATCH(R24,Input!L$5:L$24,0)),2,1))","v":1},"",null,{"$f":"IF(A24=\"\", \"\", SUMIF($Q$8:$Q$17, \"*\" & LEFT(A24, 11) & \"*\", $T$8:$T$17))","v":""},{"$f":"IF(N24=\"SY\", T24, IF(N24=\"Tons\", V24+P24, \"\"))","v":""}]
[null,null,null,null,null,{"$f":"IF($J25=\"\",\"\",INDEX(Input!$A$5:$H$24,MATCH($A25&$J25,Input!$A$5:$A$24&Input!$G$5:$G$24,0),2))","v":""},{"$f":"IF($J25=\"\",\"\",INDEX(Input!$A$5:$H$24,MATCH($A25&$J25,Input!$A$5:$A$24&Input!$G$5:$G$24,0),3))","v":""},{"$f":"IF($J25=\"\",\"\",INDEX(Input!$A$5:$H$24,MATCH($A25&$J25,Input!$A$5:$A$24&Input!$G$5:$G$24,0),4))","v":""},{"$f":"IF($J25=\"\",\"\",INDEX(Input!$A$5:$H$24,MATCH($A25&$J25,Input!$A$5:$A$24&Input!$G$5:$G$24,0),5))","v":""},null,null,null,null,{"$f":"IF($A25=\"\",\"\",OFFSET(Input!F$4,MATCH($A25,Input!$A$5:$A$24,0),0))","v":""},"",null,"","\\",{"$f":"IF(A25=\"\",1,IF(ISERROR(MATCH(R25,Input!L$5:L$24,0)),2,1))","v":1},"",null,"",""]
[null,null,null,null,null,null,null,null,null,null,null,null,null,null,null,null,null,null,null,null,null,"",{"$f":"IF(N26=\"SY\", T26, IF(N26=\"Tons\", V26+P26, \"\"))","v":""},{"$f":"IF(A26=\"\", \"\", SUMIF($Q$8:$Q$17, \"*\" & LEFT(A26, 11) & \"*\", $S$8:$S$17))","v":""},{"$f":"IF(N26=\"SY\",X26,\"\")","v":""},{"$f":"IF(A26=\"\", \"\", SUMIF($Q$8:$Q$17, \"*\" & LEFT(A26, 11) & \"*\", $T$8:$T$17))","v":""}]
["Hot Box Sample",null,null,null,null,null,null,null,null,null,"Mat Temperatures °F"]
[null,"Test A","Test B","Test C","Test D","Test E",null,null,null,null,"Time","Temp"]
[" Hot Box ID Number  ",null,null,null,null,null,null,null,null,null,"7:00"]
["Hot Box Sample Tons: ",null,null,null,null,null,null,null,null,null,"9:00",null,null,null,"Intended Thickness:"]
[" Time: ",null,null,null,null,null,null,null,null,null,"11:00",null,null,null,"Cores Waived?"]
[" Station/MP: ",null,null,null,null,null,null,null,null,null,"1:00",null,null,null,"Small Quantity Statement?"]
["Bar Code ID.:",null,null,null,null,null,null,null,null,null,"3:00",null,null,null,"Scale Check Done?"]
["Compaction Temp. °F: ",null,null,null,null,null,null,null,null,null,"5:00",null,null,null,"Tack Tickets Today?"]
[null,null,null,null,null,null,null,null,null,null,"7:00"]
["The Below Comments should show up on the plant report"]
["Comments:"]
[]
[]
["The Below Notes are for the CPI from the field or Plant Monitor"]
["Notes:"]
[]
[]
["RANDOM CORE LOCATIONS"]
[null,null,null,null,null,null,null,"Core #","Station","Offset,ft","Joint Station","Lane"]
[null,null,null,null,null,null,null,1]
[null,null,null,null,null,null,null,2]
[null,null,null,null,null,null,null,3]
[null,null,null,null,null,null,null,4]
[null,null,null,null,null,null,null,5]
[null,null,null,null,null,null,null,6]
[null,null,null,null,null,null,null,7]
[null,null,null,null,null,null,null,8]
[]
[null,null,null,null,null,null,null,null,null,null,"Joint Sublot Size, ft"]
[null,null,null,null,null,null,null,null,null,null,0]
[]
[]
[]
[]
[]
[]
[]
[]
[]
[]
[]
[]
[]
[]
[]
[]
[]
[]
[]
[]
[]
[]
[]
[]
[]
[]
[]
[]
[]
[]
[]
[]
[]
[]
[]
[]
[]
[]
[]
[]
[false]

{"sheet":"18","index":33,"n_rows":97,"n_cols":26,"rows_kept":97,"cut":false,"hidden":false,"merged":[[50,11,50,13],[51,11,51,13],[52,11,52,13],[44,11,44,13],[45,11,45,13],[46,11,46,13],[47,11,47,13],[48,11,48,13],[49,11,49,13],[43,0,43,16],[25,0,25,1],[26,0,26,5],[26,20,26,23],[26,25,26,27],[34,2,34,4],[35,0,35,5],[36,1,36,14],[37,0,37,14],[39,0,39,5],[40,1,40,14],[41,0,41,14],[23,0,23,1],[23,2,23,4],[23,9,23,12],[24,0,24,1],[24,2,24,4],[24,9,24,12],[21,0,21,1],[21,2,21,4],[21,9,21,12],[22,0,22,1],[22,2,22,4],[22,9,22,12],[19,0,19,1],[19,2,19,4],[19,9,19,12],[20,0,20,1],[20,2,20,4],[20,9,20,12],[18,0,18,16],[6,14,6,15],[7,14,7,15],[8,14,8,15],[9,14,9,15],[10,14,10,15],[11,14,11,15],[12,14,12,15],[13,14,13,15],[14,14,14,15],[15,14,15,15],[16,14,16,15],[1,0,1,16],[4,0,4,15],[5,4,5,5],[5,8,5,9],[5,11,5,12],[5,13,5,15]]}
[]
["Iowa DOT HMA Field Report"]
["Date :"]
["Item No.('s)"]
["PLACEMENT RECORD",null,null,null,null,null,null,null,null,null,null,null,null,null,null,null,null,null,null,null,null,{"$f":"SUBSTITUTE(A21 & \"\\\" & J21,\"\"\"\",\"\")","v":"\\"}]
[null,null,null,null,"Additional width to DEDUCT from Field Voids",null,null,null,"Placed Density (Pounds/CF)=",null,150,"Overwritten on the \"Summary\" Tab",null,"ONLY ONE (1) MIX DESIGN PER DFR OTHERWISE IT WILL NOT IMPORT INTO THE PLANT REPORT PROPERLY",null,null,null,null,null,null,null,{"$f":"SUBSTITUTE(A22 & \"\\\" & J22,\"\"\"\",\"\")","v":"\\"}]
["From Station"," To Station","Lane","ML or Widening Placement Width","Additional Width (ft) ","Thickness (in)","Total Length Placed (FT)","\"Pay\"  Est \"SY\"","Thickness (inches)","Calculated Field Voids Tons","Placed Tons            (Not including Waste)","% Yield","SY to be PAID (If Diff. than Est SY)","Mix Design No.","Bid Item/ Project No.",null,null,null,"This uses the correct SY #, if Green is blank uses Est. SY","Adds up the Tons",null,"\\"]
[null,null,null,null,null,null,{"$f":"IF(OR(A8=\"\",B8=\"\"),0,IF($A$97=TRUE,ABS(B8-A8)*5280,ABS(VALUE(SUBSTITUTE(A8,\"+\",\"\"))-VALUE(SUBSTITUTE(B8,\"+\",\"\")))))","v":0},{"$f":"IF(D8=\"\",\"\",G8*(D8+E8)/9)","v":""},null,{"$f":"IF(I8=\"\",\"\",(G8)*(D8+E8)*I8/12*$K$6/2000)","v":""},null,{"$f":"IF(K8=\"\",\"\",K8/J8*100)","v":""},null,null,null,null,{"$f":"O8 & \"\\\" & N8","v":"\\"},{"$f":"IF(AND(A8=\"\",B8=\"\",C8=\"\",D8=\"\"),1,IF(OR(O8=\"\",N8=\"\"),2,IF(ISERROR(MATCH(Q8,Input!M$5:M$24,0)),2,1)))","v":1},{"$f":"IF(M8<>\"\", M8, H8)","v":""},{"$f":"K8","v":0},null,"\\"]
[null,null,null,null,null,null,{"$f":"IF(OR(A9=\"\",B9=\"\"),0,IF($A$97=TRUE,ABS(B9-A9)*5280,ABS(VALUE(SUBSTITUTE(A9,\"+\",\"\"))-VALUE(SUBSTITUTE(B9,\"+\",\"\")))))","v":0},{"$f":"IF(D9=\"\",\"\",G9*(D9+E9)/9)","v":""},null,"",null,{"$f":"IF(K9=\"\",\"\",K9/J9*100)","v":""},null,null,null,null,{"$f":"O9 & \"\\\" & N9","v":"\\"},{"$f":"IF(AND(A9=\"\",B9=\"\",C9=\"\",D9=\"\"),1,IF(OR(O9=\"\",N9=\"\"),2,IF(ISERROR(MATCH(Q9,Input!M$5:M$24,0)),2,1)))","v":1},{"$f":"IF(M9<>\"\", M9, H9)","v":""},{"$f":"K9","v":0},null,"\\"]
[null,null,null,null,null,null,0,"",null,"",null,"",null,null,null,null,"\\",{"$f":"IF(AND(A10=\"\",B10=\"\",C10=\"\",D10=\"\"),1,IF(OR(O10=\"\",N10=\"\"),2,IF(ISERROR(MATCH(Q10,Input!M$5:M$24,0)),2,1)))","v":1},{"$f":"IF(M10<>\"\", M10, H10)","v":""},0]
[null,null,null,null,null,null,0,"",null,"",null,"",null,null,null,null,"\\",{"$f":"IF(AND(A11=\"\",B11=\"\",C11=\"\",D11=\"\"),1,IF(OR(O11=\"\",N11=\"\"),2,IF(ISERROR(MATCH(Q11,Input!M$5:M$24,0)),2,1)))","v":1},"",0]
[null,null,null,null,null,null,0,"",null,"",null,"",null,null,null,null,"\\",{"$f":"IF(AND(A12=\"\",B12=\"\",C12=\"\",D12=\"\"),1,IF(OR(O12=\"\",N12=\"\"),2,IF(ISERROR(MATCH(Q12,Input!M$5:M$24,0)),2,1)))","v":1},"",0]
[null,null,null,null,null,null,0,"",null,"",null,"",null,null,null,null,"\\",{"$f":"IF(AND(A13=\"\",B13=\"\",C13=\"\",D13=\"\"),1,IF(OR(O13=\"\",N13=\"\"),2,IF(ISERROR(MATCH(Q13,Input!M$5:M$24,0)),2,1)))","v":1},"",0]
[null,null,null,null,null,null,0,"",null,"",null,"",null,null,null,null,"\\",{"$f":"IF(AND(A14=\"\",B14=\"\",C14=\"\",D14=\"\"),1,IF(OR(O14=\"\",N14=\"\"),2,IF(ISERROR(MATCH(Q14,Input!M$5:M$24,0)),2,1)))","v":1},"",0]
[null,null,null,null,null,null,0,"",null,"",null,"",null,null,null,null,"\\",{"$f":"IF(AND(A15=\"\",B15=\"\",C15=\"\",D15=\"\"),1,IF(OR(O15=\"\",N15=\"\"),2,IF(ISERROR(MATCH(Q15,Input!M$5:M$24,0)),2,1)))","v":1},"",0]
[null,null,null,null,null,null,0,"",null,"",null,"",null,null,null,null,"\\",{"$f":"IF(AND(A16=\"\",B16=\"\",C16=\"\",D16=\"\"),1,IF(OR(O16=\"\",N16=\"\"),2,IF(ISERROR(MATCH(Q16,Input!M$5:M$24,0)),2,1)))","v":1},"",0]
[null,null,null,null,null,null,0,"",null,"",null,"",null,null,null,null,"\\",{"$f":"IF(AND(A17=\"\",B17=\"\",C17=\"\",D17=\"\"),1,IF(OR(O17=\"\",N17=\"\"),2,IF(ISERROR(MATCH(Q17,Input!M$5:M$24,0)),2,1)))","v":1},"",0]
[]
["TANK SHEET"]
["Bid Item (In Order of Placement)",null,"Today's Placement",null,null,"Bid Item Plan Quantity","Plan Thickness (in)","Contract Mix Price","Contract Binder Price","Project Number",null,null,null,"Mix Pay Units","Mix Delivered to Road\n(Ton or SY)","Waste On Road (Ton)\nNO waste for SY Items","Tons Placed - Waste",null,null,"This adds up column S as it depends if the Est SY is filled out or the SY",null,"Use this Column for SY for the Q column","Uses this Value for Mix on Road"]
[null,null,null,null,null,{"$f":"IF($J21=\"\",\"\",INDEX(Input!$A$5:$H$24,MATCH($A21&$J21,Input!$A$5:$A$24&Input!$G$5:$G$24,0),2))","v":""},{"$f":"IF($J21=\"\",\"\",INDEX(Input!$A$5:$H$24,MATCH($A21&$J21,Input!$A$5:$A$24&Input!$G$5:$G$24,0),3))","v":""},{"$f":"IF($J21=\"\",\"\",INDEX(Input!$A$5:$H$24,MATCH($A21&$J21,Input!$A$5:$A$24&Input!$G$5:$G$24,0),4))","v":""},{"$f":"IF($J21=\"\",\"\",INDEX(Input!$A$5:$H$24,MATCH($A21&$J21,Input!$A$5:$A$24&Input!$G$5:$G$24,0),5))","v":""},null,null,null,null,{"$f":"IF($A21=\"\",\"\",OFFSET(Input!F$4,MATCH($A21,Input!$A$5:$A$24,0),0))","v":""},{"$f":"IF(N21=\"SY\", T21, IF(N21=\"Tons\", W21, \"\"))","v":""},null,{"$f":"IF(N21=\"SY\", V21, IF(N21=\"Tons\", O21-P21, \"\"))","v":""},{"$f":"SUBSTITUTE(A21 & \"\\\" & J21,\"\"\"\",\"\")","v":"\\"},{"$f":"IF(A21=\"\",1,IF(ISERROR(MATCH(R21,Input!L$5:L$24,0)),2,1))","v":1},{"$f":"IF(A21=\"\", \"\", SUMIF($Q$8:$Q$17, \"*\" & LEFT(A21, 11) & \"*\", $S$8:$S$17))","v":""},null,{"$f":"IF(A21=\"\", \"\", SUMIF($Q$8:$Q$17, \"*\" & LEFT(A21, 11) & \"*\", $T$8:$T$17))","v":""},{"$f":"IF(N21=\"SY\", T21, IF(N21=\"Tons\", V21+P21, \"\"))","v":""}]
[null,null,null,null,null,{"$f":"IF($J22=\"\",\"\",INDEX(Input!$A$5:$H$24,MATCH($A22&$J22,Input!$A$5:$A$24&Input!$G$5:$G$24,0),2))","v":""},{"$f":"IF($J22=\"\",\"\",INDEX(Input!$A$5:$H$24,MATCH($A22&$J22,Input!$A$5:$A$24&Input!$G$5:$G$24,0),3))","v":""},{"$f":"IF($J22=\"\",\"\",INDEX(Input!$A$5:$H$24,MATCH($A22&$J22,Input!$A$5:$A$24&Input!$G$5:$G$24,0),4))","v":""},{"$f":"IF($J22=\"\",\"\",INDEX(Input!$A$5:$H$24,MATCH($A22&$J22,Input!$A$5:$A$24&Input!$G$5:$G$24,0),5))","v":""},null,null,null,null,{"$f":"IF($A22=\"\",\"\",OFFSET(Input!F$4,MATCH($A22,Input!$A$5:$A$24,0),0))","v":""},{"$f":"IF(N22=\"SY\", T22, IF(N22=\"Tons\", W22, \"\"))","v":""},null,{"$f":"IF(N22=\"SY\", V22, IF(N22=\"Tons\", O22-P22, \"\"))","v":""},{"$f":"SUBSTITUTE(A22 & \"\\\" & J22,\"\"\"\",\"\")","v":"\\"},{"$f":"IF(A22=\"\",1,IF(ISERROR(MATCH(R22,Input!L$5:L$24,0)),2,1))","v":1},{"$f":"IF(A22=\"\", \"\", SUMIF($Q$8:$Q$17, \"*\" & LEFT(A22, 11) & \"*\", $S$8:$S$17))","v":""},null,{"$f":"IF(A22=\"\", \"\", SUMIF($Q$8:$Q$17, \"*\" & LEFT(A22, 11) & \"*\", $T$8:$T$17))","v":""},{"$f":"IF(N22=\"SY\", T22, IF(N22=\"Tons\", V22+P22, \"\"))","v":""}]
[null,null,null,null,null,{"$f":"IF($J23=\"\",\"\",INDEX(Input!$A$5:$H$24,MATCH($A23&$J23,Input!$A$5:$A$24&Input!$G$5:$G$24,0),2))","v":""},{"$f":"IF($J23=\"\",\"\",INDEX(Input!$A$5:$H$24,MATCH($A23&$J23,Input!$A$5:$A$24&Input!$G$5:$G$24,0),3))","v":""},{"$f":"IF($J23=\"\",\"\",INDEX(Input!$A$5:$H$24,MATCH($A23&$J23,Input!$A$5:$A$24&Input!$G$5:$G$24,0),4))","v":""},{"$f":"IF($J23=\"\",\"\",INDEX(Input!$A$5:$H$24,MATCH($A23&$J23,Input!$A$5:$A$24&Input!$G$5:$G$24,0),5))","v":""},null,null,null,null,{"$f":"IF($A23=\"\",\"\",OFFSET(Input!F$4,MATCH($A23,Input!$A$5:$A$24,0),0))","v":""},{"$f":"IF(N23=\"SY\", T23, IF(N23=\"Tons\", W23, \"\"))","v":""},null,{"$f":"IF(N23=\"SY\", V23, IF(N23=\"Tons\", O23-P23, \"\"))","v":""},"\\",{"$f":"IF(A23=\"\",1,IF(ISERROR(MATCH(R23,Input!L$5:L$24,0)),2,1))","v":1},{"$f":"IF(A23=\"\", \"\", SUMIF($Q$8:$Q$17, \"*\" & LEFT(A23, 11) & \"*\", $S$8:$S$17))","v":""},null,{"$f":"IF(A23=\"\", \"\", SUMIF($Q$8:$Q$17, \"*\" & LEFT(A23, 11) & \"*\", $T$8:$T$17))","v":""},{"$f":"IF(N23=\"SY\", T23, IF(N23=\"Tons\", V23+P23, \"\"))","v":""}]
[null,null,null,null,null,{"$f":"IF($J24=\"\",\"\",INDEX(Input!$A$5:$H$24,MATCH($A24&$J24,Input!$A$5:$A$24&Input!$G$5:$G$24,0),2))","v":""},{"$f":"IF($J24=\"\",\"\",INDEX(Input!$A$5:$H$24,MATCH($A24&$J24,Input!$A$5:$A$24&Input!$G$5:$G$24,0),3))","v":""},{"$f":"IF($J24=\"\",\"\",INDEX(Input!$A$5:$H$24,MATCH($A24&$J24,Input!$A$5:$A$24&Input!$G$5:$G$24,0),4))","v":""},{"$f":"IF($J24=\"\",\"\",INDEX(Input!$A$5:$H$24,MATCH($A24&$J24,Input!$A$5:$A$24&Input!$G$5:$G$24,0),5))","v":""},null,null,null,null,{"$f":"IF($A24=\"\",\"\",OFFSET(Input!F$4,MATCH($A24,Input!$A$5:$A$24,0),0))","v":""},"",null,{"$f":"IF(N24=\"SY\", V24, IF(N24=\"Tons\", O24-P24, \"\"))","v":""},"\\",{"$f":"IF(A24=\"\",1,IF(ISERROR(MATCH(R24,Input!L$5:L$24,0)),2,1))","v":1},"",null,{"$f":"IF(A24=\"\", \"\", SUMIF($Q$8:$Q$17, \"*\" & LEFT(A24, 11) & \"*\", $T$8:$T$17))","v":""},{"$f":"IF(N24=\"SY\", T24, IF(N24=\"Tons\", V24+P24, \"\"))","v":""}]
[null,null,null,null,null,{"$f":"IF($J25=\"\",\"\",INDEX(Input!$A$5:$H$24,MATCH($A25&$J25,Input!$A$5:$A$24&Input!$G$5:$G$24,0),2))","v":""},{"$f":"IF($J25=\"\",\"\",INDEX(Input!$A$5:$H$24,MATCH($A25&$J25,Input!$A$5:$A$24&Input!$G$5:$G$24,0),3))","v":""},{"$f":"IF($J25=\"\",\"\",INDEX(Input!$A$5:$H$24,MATCH($A25&$J25,Input!$A$5:$A$24&Input!$G$5:$G$24,0),4))","v":""},{"$f":"IF($J25=\"\",\"\",INDEX(Input!$A$5:$H$24,MATCH($A25&$J25,Input!$A$5:$A$24&Input!$G$5:$G$24,0),5))","v":""},null,null,null,null,{"$f":"IF($A25=\"\",\"\",OFFSET(Input!F$4,MATCH($A25,Input!$A$5:$A$24,0),0))","v":""},"",null,"","\\",{"$f":"IF(A25=\"\",1,IF(ISERROR(MATCH(R25,Input!L$5:L$24,0)),2,1))","v":1},"",null,"",""]
[null,null,null,null,null,null,null,null,null,null,null,null,null,null,null,null,null,null,null,null,null,"",{"$f":"IF(N26=\"SY\", T26, IF(N26=\"Tons\", V26+P26, \"\"))","v":""},{"$f":"IF(A26=\"\", \"\", SUMIF($Q$8:$Q$17, \"*\" & LEFT(A26, 11) & \"*\", $S$8:$S$17))","v":""},{"$f":"IF(N26=\"SY\",X26,\"\")","v":""},{"$f":"IF(A26=\"\", \"\", SUMIF($Q$8:$Q$17, \"*\" & LEFT(A26, 11) & \"*\", $T$8:$T$17))","v":""}]
["Hot Box Sample",null,null,null,null,null,null,null,null,null,"Mat Temperatures °F"]
[null,"Test A","Test B","Test C","Test D","Test E",null,null,null,null,"Time","Temp"]
[" Hot Box ID Number  ",null,null,null,null,null,null,null,null,null,"7:00"]
["Hot Box Sample Tons: ",null,null,null,null,null,null,null,null,null,"9:00",null,null,null,"Intended Thickness:"]
[" Time: ",null,null,null,null,null,null,null,null,null,"11:00",null,null,null,"Cores Waived?"]
[" Station/MP: ",null,null,null,null,null,null,null,null,null,"1:00",null,null,null,"Small Quantity Statement?"]
["Bar Code ID.:",null,null,null,null,null,null,null,null,null,"3:00",null,null,null,"Scale Check Done?"]
["Compaction Temp. °F: ",null,null,null,null,null,null,null,null,null,"5:00",null,null,null,"Tack Tickets Today?"]
[null,null,null,null,null,null,null,null,null,null,"7:00"]
["The Below Comments should show up on the plant report"]
["Comments:"]
[]
[]
["The Below Notes are for the CPI from the field or Plant Monitor"]
["Notes:"]
[]
[]
["RANDOM CORE LOCATIONS"]
[null,null,null,null,null,null,null,"Core #","Station","Offset,ft","Joint Station","Lane"]
[null,null,null,null,null,null,null,1]
[null,null,null,null,null,null,null,2]
[null,null,null,null,null,null,null,3]
[null,null,null,null,null,null,null,4]
[null,null,null,null,null,null,null,5]
[null,null,null,null,null,null,null,6]
[null,null,null,null,null,null,null,7]
[null,null,null,null,null,null,null,8]
[]
[null,null,null,null,null,null,null,null,null,null,"Joint Sublot Size, ft"]
[null,null,null,null,null,null,null,null,null,null,0]
[]
[]
[]
[]
[]
[]
[]
[]
[]
[]
[]
[]
[]
[]
[]
[]
[]
[]
[]
[]
[]
[]
[]
[]
[]
[]
[]
[]
[]
[]
[]
[]
[]
[]
[]
[]
[]
[]
[]
[]
[false]

{"sheet":"19","index":34,"n_rows":97,"n_cols":26,"rows_kept":97,"cut":false,"hidden":false,"merged":[[50,11,50,13],[51,11,51,13],[52,11,52,13],[44,11,44,13],[45,11,45,13],[46,11,46,13],[47,11,47,13],[48,11,48,13],[49,11,49,13],[43,0,43,16],[25,0,25,1],[26,0,26,5],[26,20,26,23],[26,25,26,27],[34,2,34,4],[35,0,35,5],[36,1,36,14],[37,0,37,14],[39,0,39,5],[40,1,40,14],[41,0,41,14],[23,0,23,1],[23,2,23,4],[23,9,23,12],[24,0,24,1],[24,2,24,4],[24,9,24,12],[21,0,21,1],[21,2,21,4],[21,9,21,12],[22,0,22,1],[22,2,22,4],[22,9,22,12],[19,0,19,1],[19,2,19,4],[19,9,19,12],[20,0,20,1],[20,2,20,4],[20,9,20,12],[18,0,18,16],[6,14,6,15],[7,14,7,15],[8,14,8,15],[9,14,9,15],[10,14,10,15],[11,14,11,15],[12,14,12,15],[13,14,13,15],[14,14,14,15],[15,14,15,15],[16,14,16,15],[1,0,1,16],[4,0,4,15],[5,4,5,5],[5,8,5,9],[5,11,5,12],[5,13,5,15]]}
[]
["Iowa DOT HMA Field Report"]
["Date :"]
["Item No.('s)"]
["PLACEMENT RECORD",null,null,null,null,null,null,null,null,null,null,null,null,null,null,null,null,null,null,null,null,{"$f":"SUBSTITUTE(A21 & \"\\\" & J21,\"\"\"\",\"\")","v":"\\"}]
[null,null,null,null,"Additional width to DEDUCT from Field Voids",null,null,null,"Placed Density (Pounds/CF)=",null,150,"Overwritten on the \"Summary\" Tab",null,"ONLY ONE (1) MIX DESIGN PER DFR OTHERWISE IT WILL NOT IMPORT INTO THE PLANT REPORT PROPERLY",null,null,null,null,null,null,null,{"$f":"SUBSTITUTE(A22 & \"\\\" & J22,\"\"\"\",\"\")","v":"\\"}]
["From Station"," To Station","Lane","ML or Widening Placement Width","Additional Width (ft) ","Thickness (in)","Total Length Placed (FT)","\"Pay\"  Est \"SY\"","Thickness (inches)","Calculated Field Voids Tons","Placed Tons            (Not including Waste)","% Yield","SY to be PAID (If Diff. than Est SY)","Mix Design No.","Bid Item/ Project No.",null,null,null,"This uses the correct SY #, if Green is blank uses Est. SY","Adds up the Tons",null,"\\"]
[null,null,null,null,null,null,{"$f":"IF(OR(A8=\"\",B8=\"\"),0,IF($A$97=TRUE,ABS(B8-A8)*5280,ABS(VALUE(SUBSTITUTE(A8,\"+\",\"\"))-VALUE(SUBSTITUTE(B8,\"+\",\"\")))))","v":0},{"$f":"IF(D8=\"\",\"\",G8*(D8+E8)/9)","v":""},null,{"$f":"IF(I8=\"\",\"\",(G8)*(D8+E8)*I8/12*$K$6/2000)","v":""},null,{"$f":"IF(K8=\"\",\"\",K8/J8*100)","v":""},null,null,null,null,{"$f":"O8 & \"\\\" & N8","v":"\\"},{"$f":"IF(AND(A8=\"\",B8=\"\",C8=\"\",D8=\"\"),1,IF(OR(O8=\"\",N8=\"\"),2,IF(ISERROR(MATCH(Q8,Input!M$5:M$24,0)),2,1)))","v":1},{"$f":"IF(M8<>\"\", M8, H8)","v":""},{"$f":"K8","v":0},null,"\\"]
[null,null,null,null,null,null,{"$f":"IF(OR(A9=\"\",B9=\"\"),0,IF($A$97=TRUE,ABS(B9-A9)*5280,ABS(VALUE(SUBSTITUTE(A9,\"+\",\"\"))-VALUE(SUBSTITUTE(B9,\"+\",\"\")))))","v":0},{"$f":"IF(D9=\"\",\"\",G9*(D9+E9)/9)","v":""},null,"",null,{"$f":"IF(K9=\"\",\"\",K9/J9*100)","v":""},null,null,null,null,{"$f":"O9 & \"\\\" & N9","v":"\\"},{"$f":"IF(AND(A9=\"\",B9=\"\",C9=\"\",D9=\"\"),1,IF(OR(O9=\"\",N9=\"\"),2,IF(ISERROR(MATCH(Q9,Input!M$5:M$24,0)),2,1)))","v":1},{"$f":"IF(M9<>\"\", M9, H9)","v":""},{"$f":"K9","v":0},null,"\\"]
[null,null,null,null,null,null,0,"",null,"",null,"",null,null,null,null,"\\",{"$f":"IF(AND(A10=\"\",B10=\"\",C10=\"\",D10=\"\"),1,IF(OR(O10=\"\",N10=\"\"),2,IF(ISERROR(MATCH(Q10,Input!M$5:M$24,0)),2,1)))","v":1},{"$f":"IF(M10<>\"\", M10, H10)","v":""},0]
[null,null,null,null,null,null,0,"",null,"",null,"",null,null,null,null,"\\",{"$f":"IF(AND(A11=\"\",B11=\"\",C11=\"\",D11=\"\"),1,IF(OR(O11=\"\",N11=\"\"),2,IF(ISERROR(MATCH(Q11,Input!M$5:M$24,0)),2,1)))","v":1},"",0]
[null,null,null,null,null,null,0,"",null,"",null,"",null,null,null,null,"\\",{"$f":"IF(AND(A12=\"\",B12=\"\",C12=\"\",D12=\"\"),1,IF(OR(O12=\"\",N12=\"\"),2,IF(ISERROR(MATCH(Q12,Input!M$5:M$24,0)),2,1)))","v":1},"",0]
[null,null,null,null,null,null,0,"",null,"",null,"",null,null,null,null,"\\",{"$f":"IF(AND(A13=\"\",B13=\"\",C13=\"\",D13=\"\"),1,IF(OR(O13=\"\",N13=\"\"),2,IF(ISERROR(MATCH(Q13,Input!M$5:M$24,0)),2,1)))","v":1},"",0]
[null,null,null,null,null,null,0,"",null,"",null,"",null,null,null,null,"\\",{"$f":"IF(AND(A14=\"\",B14=\"\",C14=\"\",D14=\"\"),1,IF(OR(O14=\"\",N14=\"\"),2,IF(ISERROR(MATCH(Q14,Input!M$5:M$24,0)),2,1)))","v":1},"",0]
[null,null,null,null,null,null,0,"",null,"",null,"",null,null,null,null,"\\",{"$f":"IF(AND(A15=\"\",B15=\"\",C15=\"\",D15=\"\"),1,IF(OR(O15=\"\",N15=\"\"),2,IF(ISERROR(MATCH(Q15,Input!M$5:M$24,0)),2,1)))","v":1},"",0]
[null,null,null,null,null,null,0,"",null,"",null,"",null,null,null,null,"\\",{"$f":"IF(AND(A16=\"\",B16=\"\",C16=\"\",D16=\"\"),1,IF(OR(O16=\"\",N16=\"\"),2,IF(ISERROR(MATCH(Q16,Input!M$5:M$24,0)),2,1)))","v":1},"",0]
[null,null,null,null,null,null,0,"",null,"",null,"",null,null,null,null,"\\",{"$f":"IF(AND(A17=\"\",B17=\"\",C17=\"\",D17=\"\"),1,IF(OR(O17=\"\",N17=\"\"),2,IF(ISERROR(MATCH(Q17,Input!M$5:M$24,0)),2,1)))","v":1},"",0]
[]
["TANK SHEET"]
["Bid Item (In Order of Placement)",null,"Today's Placement",null,null,"Bid Item Plan Quantity","Plan Thickness (in)","Contract Mix Price","Contract Binder Price","Project Number",null,null,null,"Mix Pay Units","Mix Delivered to Road\n(Ton or SY)","Waste On Road (Ton)\nNO waste for SY Items","Tons Placed - Waste",null,null,"This adds up column S as it depends if the Est SY is filled out or the SY",null,"Use this Column for SY for the Q column","Uses this Value for Mix on Road"]
[null,null,null,null,null,{"$f":"IF($J21=\"\",\"\",INDEX(Input!$A$5:$H$24,MATCH($A21&$J21,Input!$A$5:$A$24&Input!$G$5:$G$24,0),2))","v":""},{"$f":"IF($J21=\"\",\"\",INDEX(Input!$A$5:$H$24,MATCH($A21&$J21,Input!$A$5:$A$24&Input!$G$5:$G$24,0),3))","v":""},{"$f":"IF($J21=\"\",\"\",INDEX(Input!$A$5:$H$24,MATCH($A21&$J21,Input!$A$5:$A$24&Input!$G$5:$G$24,0),4))","v":""},{"$f":"IF($J21=\"\",\"\",INDEX(Input!$A$5:$H$24,MATCH($A21&$J21,Input!$A$5:$A$24&Input!$G$5:$G$24,0),5))","v":""},null,null,null,null,{"$f":"IF($A21=\"\",\"\",OFFSET(Input!F$4,MATCH($A21,Input!$A$5:$A$24,0),0))","v":""},{"$f":"IF(N21=\"SY\", T21, IF(N21=\"Tons\", W21, \"\"))","v":""},null,{"$f":"IF(N21=\"SY\", V21, IF(N21=\"Tons\", O21-P21, \"\"))","v":""},{"$f":"SUBSTITUTE(A21 & \"\\\" & J21,\"\"\"\",\"\")","v":"\\"},{"$f":"IF(A21=\"\",1,IF(ISERROR(MATCH(R21,Input!L$5:L$24,0)),2,1))","v":1},{"$f":"IF(A21=\"\", \"\", SUMIF($Q$8:$Q$17, \"*\" & LEFT(A21, 11) & \"*\", $S$8:$S$17))","v":""},null,{"$f":"IF(A21=\"\", \"\", SUMIF($Q$8:$Q$17, \"*\" & LEFT(A21, 11) & \"*\", $T$8:$T$17))","v":""},{"$f":"IF(N21=\"SY\", T21, IF(N21=\"Tons\", V21+P21, \"\"))","v":""}]
[null,null,null,null,null,{"$f":"IF($J22=\"\",\"\",INDEX(Input!$A$5:$H$24,MATCH($A22&$J22,Input!$A$5:$A$24&Input!$G$5:$G$24,0),2))","v":""},{"$f":"IF($J22=\"\",\"\",INDEX(Input!$A$5:$H$24,MATCH($A22&$J22,Input!$A$5:$A$24&Input!$G$5:$G$24,0),3))","v":""},{"$f":"IF($J22=\"\",\"\",INDEX(Input!$A$5:$H$24,MATCH($A22&$J22,Input!$A$5:$A$24&Input!$G$5:$G$24,0),4))","v":""},{"$f":"IF($J22=\"\",\"\",INDEX(Input!$A$5:$H$24,MATCH($A22&$J22,Input!$A$5:$A$24&Input!$G$5:$G$24,0),5))","v":""},null,null,null,null,{"$f":"IF($A22=\"\",\"\",OFFSET(Input!F$4,MATCH($A22,Input!$A$5:$A$24,0),0))","v":""},{"$f":"IF(N22=\"SY\", T22, IF(N22=\"Tons\", W22, \"\"))","v":""},null,{"$f":"IF(N22=\"SY\", V22, IF(N22=\"Tons\", O22-P22, \"\"))","v":""},{"$f":"SUBSTITUTE(A22 & \"\\\" & J22,\"\"\"\",\"\")","v":"\\"},{"$f":"IF(A22=\"\",1,IF(ISERROR(MATCH(R22,Input!L$5:L$24,0)),2,1))","v":1},{"$f":"IF(A22=\"\", \"\", SUMIF($Q$8:$Q$17, \"*\" & LEFT(A22, 11) & \"*\", $S$8:$S$17))","v":""},null,{"$f":"IF(A22=\"\", \"\", SUMIF($Q$8:$Q$17, \"*\" & LEFT(A22, 11) & \"*\", $T$8:$T$17))","v":""},{"$f":"IF(N22=\"SY\", T22, IF(N22=\"Tons\", V22+P22, \"\"))","v":""}]
[null,null,null,null,null,{"$f":"IF($J23=\"\",\"\",INDEX(Input!$A$5:$H$24,MATCH($A23&$J23,Input!$A$5:$A$24&Input!$G$5:$G$24,0),2))","v":""},{"$f":"IF($J23=\"\",\"\",INDEX(Input!$A$5:$H$24,MATCH($A23&$J23,Input!$A$5:$A$24&Input!$G$5:$G$24,0),3))","v":""},{"$f":"IF($J23=\"\",\"\",INDEX(Input!$A$5:$H$24,MATCH($A23&$J23,Input!$A$5:$A$24&Input!$G$5:$G$24,0),4))","v":""},{"$f":"IF($J23=\"\",\"\",INDEX(Input!$A$5:$H$24,MATCH($A23&$J23,Input!$A$5:$A$24&Input!$G$5:$G$24,0),5))","v":""},null,null,null,null,{"$f":"IF($A23=\"\",\"\",OFFSET(Input!F$4,MATCH($A23,Input!$A$5:$A$24,0),0))","v":""},{"$f":"IF(N23=\"SY\", T23, IF(N23=\"Tons\", W23, \"\"))","v":""},null,{"$f":"IF(N23=\"SY\", V23, IF(N23=\"Tons\", O23-P23, \"\"))","v":""},"\\",{"$f":"IF(A23=\"\",1,IF(ISERROR(MATCH(R23,Input!L$5:L$24,0)),2,1))","v":1},{"$f":"IF(A23=\"\", \"\", SUMIF($Q$8:$Q$17, \"*\" & LEFT(A23, 11) & \"*\", $S$8:$S$17))","v":""},null,{"$f":"IF(A23=\"\", \"\", SUMIF($Q$8:$Q$17, \"*\" & LEFT(A23, 11) & \"*\", $T$8:$T$17))","v":""},{"$f":"IF(N23=\"SY\", T23, IF(N23=\"Tons\", V23+P23, \"\"))","v":""}]
[null,null,null,null,null,{"$f":"IF($J24=\"\",\"\",INDEX(Input!$A$5:$H$24,MATCH($A24&$J24,Input!$A$5:$A$24&Input!$G$5:$G$24,0),2))","v":""},{"$f":"IF($J24=\"\",\"\",INDEX(Input!$A$5:$H$24,MATCH($A24&$J24,Input!$A$5:$A$24&Input!$G$5:$G$24,0),3))","v":""},{"$f":"IF($J24=\"\",\"\",INDEX(Input!$A$5:$H$24,MATCH($A24&$J24,Input!$A$5:$A$24&Input!$G$5:$G$24,0),4))","v":""},{"$f":"IF($J24=\"\",\"\",INDEX(Input!$A$5:$H$24,MATCH($A24&$J24,Input!$A$5:$A$24&Input!$G$5:$G$24,0),5))","v":""},null,null,null,null,{"$f":"IF($A24=\"\",\"\",OFFSET(Input!F$4,MATCH($A24,Input!$A$5:$A$24,0),0))","v":""},"",null,{"$f":"IF(N24=\"SY\", V24, IF(N24=\"Tons\", O24-P24, \"\"))","v":""},"\\",{"$f":"IF(A24=\"\",1,IF(ISERROR(MATCH(R24,Input!L$5:L$24,0)),2,1))","v":1},"",null,{"$f":"IF(A24=\"\", \"\", SUMIF($Q$8:$Q$17, \"*\" & LEFT(A24, 11) & \"*\", $T$8:$T$17))","v":""},{"$f":"IF(N24=\"SY\", T24, IF(N24=\"Tons\", V24+P24, \"\"))","v":""}]
[null,null,null,null,null,{"$f":"IF($J25=\"\",\"\",INDEX(Input!$A$5:$H$24,MATCH($A25&$J25,Input!$A$5:$A$24&Input!$G$5:$G$24,0),2))","v":""},{"$f":"IF($J25=\"\",\"\",INDEX(Input!$A$5:$H$24,MATCH($A25&$J25,Input!$A$5:$A$24&Input!$G$5:$G$24,0),3))","v":""},{"$f":"IF($J25=\"\",\"\",INDEX(Input!$A$5:$H$24,MATCH($A25&$J25,Input!$A$5:$A$24&Input!$G$5:$G$24,0),4))","v":""},{"$f":"IF($J25=\"\",\"\",INDEX(Input!$A$5:$H$24,MATCH($A25&$J25,Input!$A$5:$A$24&Input!$G$5:$G$24,0),5))","v":""},null,null,null,null,{"$f":"IF($A25=\"\",\"\",OFFSET(Input!F$4,MATCH($A25,Input!$A$5:$A$24,0),0))","v":""},"",null,"","\\",{"$f":"IF(A25=\"\",1,IF(ISERROR(MATCH(R25,Input!L$5:L$24,0)),2,1))","v":1},"",null,"",""]
[null,null,null,null,null,null,null,null,null,null,null,null,null,null,null,null,null,null,null,null,null,"",{"$f":"IF(N26=\"SY\", T26, IF(N26=\"Tons\", V26+P26, \"\"))","v":""},{"$f":"IF(A26=\"\", \"\", SUMIF($Q$8:$Q$17, \"*\" & LEFT(A26, 11) & \"*\", $S$8:$S$17))","v":""},{"$f":"IF(N26=\"SY\",X26,\"\")","v":""},{"$f":"IF(A26=\"\", \"\", SUMIF($Q$8:$Q$17, \"*\" & LEFT(A26, 11) & \"*\", $T$8:$T$17))","v":""}]
["Hot Box Sample",null,null,null,null,null,null,null,null,null,"Mat Temperatures °F"]
[null,"Test A","Test B","Test C","Test D","Test E",null,null,null,null,"Time","Temp"]
[" Hot Box ID Number  ",null,null,null,null,null,null,null,null,null,"7:00"]
["Hot Box Sample Tons: ",null,null,null,null,null,null,null,null,null,"9:00",null,null,null,"Intended Thickness:"]
[" Time: ",null,null,null,null,null,null,null,null,null,"11:00",null,null,null,"Cores Waived?"]
[" Station/MP: ",null,null,null,null,null,null,null,null,null,"1:00",null,null,null,"Small Quantity Statement?"]
["Bar Code ID.:",null,null,null,null,null,null,null,null,null,"3:00",null,null,null,"Scale Check Done?"]
["Compaction Temp. °F: ",null,null,null,null,null,null,null,null,null,"5:00",null,null,null,"Tack Tickets Today?"]
[null,null,null,null,null,null,null,null,null,null,"7:00"]
["The Below Comments should show up on the plant report"]
["Comments:"]
[]
[]
["The Below Notes are for the CPI from the field or Plant Monitor"]
["Notes:"]
[]
[]
["RANDOM CORE LOCATIONS"]
[null,null,null,null,null,null,null,"Core #","Station","Offset,ft","Joint Station","Lane"]
[null,null,null,null,null,null,null,1]
[null,null,null,null,null,null,null,2]
[null,null,null,null,null,null,null,3]
[null,null,null,null,null,null,null,4]
[null,null,null,null,null,null,null,5]
[null,null,null,null,null,null,null,6]
[null,null,null,null,null,null,null,7]
[null,null,null,null,null,null,null,8]
[]
[null,null,null,null,null,null,null,null,null,null,"Joint Sublot Size, ft"]
[null,null,null,null,null,null,null,null,null,null,0]
[]
[]
[]
[]
[]
[]
[]
[]
[]
[]
[]
[]
[]
[]
[]
[]
[]
[]
[]
[]
[]
[]
[]
[]
[]
[]
[]
[]
[]
[]
[]
[]
[]
[]
[]
[]
[]
[]
[]
[]
[false]

{"sheet":"20","index":35,"n_rows":97,"n_cols":26,"rows_kept":97,"cut":false,"hidden":false,"merged":[[50,11,50,13],[51,11,51,13],[52,11,52,13],[44,11,44,13],[45,11,45,13],[46,11,46,13],[47,11,47,13],[48,11,48,13],[49,11,49,13],[43,0,43,16],[25,0,25,1],[26,0,26,5],[26,20,26,23],[26,25,26,27],[34,2,34,4],[35,0,35,5],[36,1,36,14],[37,0,37,14],[39,0,39,5],[40,1,40,14],[41,0,41,14],[23,0,23,1],[23,2,23,4],[23,9,23,12],[24,0,24,1],[24,2,24,4],[24,9,24,12],[21,0,21,1],[21,2,21,4],[21,9,21,12],[22,0,22,1],[22,2,22,4],[22,9,22,12],[19,0,19,1],[19,2,19,4],[19,9,19,12],[20,0,20,1],[20,2,20,4],[20,9,20,12],[18,0,18,16],[6,14,6,15],[7,14,7,15],[8,14,8,15],[9,14,9,15],[10,14,10,15],[11,14,11,15],[12,14,12,15],[13,14,13,15],[14,14,14,15],[15,14,15,15],[16,14,16,15],[1,0,1,16],[4,0,4,15],[5,4,5,5],[5,8,5,9],[5,11,5,12],[5,13,5,15]]}
[]
["Iowa DOT HMA Field Report"]
["Date :"]
["Item No.('s)"]
["PLACEMENT RECORD",null,null,null,null,null,null,null,null,null,null,null,null,null,null,null,null,null,null,null,null,{"$f":"SUBSTITUTE(A21 & \"\\\" & J21,\"\"\"\",\"\")","v":"\\"}]
[null,null,null,null,"Additional width to DEDUCT from Field Voids",null,null,null,"Placed Density (Pounds/CF)=",null,150,"Overwritten on the \"Summary\" Tab",null,"ONLY ONE (1) MIX DESIGN PER DFR OTHERWISE IT WILL NOT IMPORT INTO THE PLANT REPORT PROPERLY",null,null,null,null,null,null,null,{"$f":"SUBSTITUTE(A22 & \"\\\" & J22,\"\"\"\",\"\")","v":"\\"}]
["From Station"," To Station","Lane","ML or Widening Placement Width","Additional Width (ft) ","Thickness (in)","Total Length Placed (FT)","\"Pay\"  Est \"SY\"","Thickness (inches)","Calculated Field Voids Tons","Placed Tons            (Not including Waste)","% Yield","SY to be PAID (If Diff. than Est SY)","Mix Design No.","Bid Item/ Project No.",null,null,null,"This uses the correct SY #, if Green is blank uses Est. SY","Adds up the Tons",null,"\\"]
[null,null,null,null,null,null,{"$f":"IF(OR(A8=\"\",B8=\"\"),0,IF($A$97=TRUE,ABS(B8-A8)*5280,ABS(VALUE(SUBSTITUTE(A8,\"+\",\"\"))-VALUE(SUBSTITUTE(B8,\"+\",\"\")))))","v":0},{"$f":"IF(D8=\"\",\"\",G8*(D8+E8)/9)","v":""},null,{"$f":"IF(I8=\"\",\"\",(G8)*(D8+E8)*I8/12*$K$6/2000)","v":""},null,{"$f":"IF(K8=\"\",\"\",K8/J8*100)","v":""},null,null,null,null,{"$f":"O8 & \"\\\" & N8","v":"\\"},{"$f":"IF(AND(A8=\"\",B8=\"\",C8=\"\",D8=\"\"),1,IF(OR(O8=\"\",N8=\"\"),2,IF(ISERROR(MATCH(Q8,Input!M$5:M$24,0)),2,1)))","v":1},{"$f":"IF(M8<>\"\", M8, H8)","v":""},{"$f":"K8","v":0},null,"\\"]
[null,null,null,null,null,null,{"$f":"IF(OR(A9=\"\",B9=\"\"),0,IF($A$97=TRUE,ABS(B9-A9)*5280,ABS(VALUE(SUBSTITUTE(A9,\"+\",\"\"))-VALUE(SUBSTITUTE(B9,\"+\",\"\")))))","v":0},{"$f":"IF(D9=\"\",\"\",G9*(D9+E9)/9)","v":""},null,"",null,{"$f":"IF(K9=\"\",\"\",K9/J9*100)","v":""},null,null,null,null,{"$f":"O9 & \"\\\" & N9","v":"\\"},{"$f":"IF(AND(A9=\"\",B9=\"\",C9=\"\",D9=\"\"),1,IF(OR(O9=\"\",N9=\"\"),2,IF(ISERROR(MATCH(Q9,Input!M$5:M$24,0)),2,1)))","v":1},{"$f":"IF(M9<>\"\", M9, H9)","v":""},{"$f":"K9","v":0},null,"\\"]
[null,null,null,null,null,null,0,"",null,"",null,"",null,null,null,null,"\\",{"$f":"IF(AND(A10=\"\",B10=\"\",C10=\"\",D10=\"\"),1,IF(OR(O10=\"\",N10=\"\"),2,IF(ISERROR(MATCH(Q10,Input!M$5:M$24,0)),2,1)))","v":1},{"$f":"IF(M10<>\"\", M10, H10)","v":""},0]
[null,null,null,null,null,null,0,"",null,"",null,"",null,null,null,null,"\\",{"$f":"IF(AND(A11=\"\",B11=\"\",C11=\"\",D11=\"\"),1,IF(OR(O11=\"\",N11=\"\"),2,IF(ISERROR(MATCH(Q11,Input!M$5:M$24,0)),2,1)))","v":1},"",0]
[null,null,null,null,null,null,0,"",null,"",null,"",null,null,null,null,"\\",{"$f":"IF(AND(A12=\"\",B12=\"\",C12=\"\",D12=\"\"),1,IF(OR(O12=\"\",N12=\"\"),2,IF(ISERROR(MATCH(Q12,Input!M$5:M$24,0)),2,1)))","v":1},"",0]
[null,null,null,null,null,null,0,"",null,"",null,"",null,null,null,null,"\\",{"$f":"IF(AND(A13=\"\",B13=\"\",C13=\"\",D13=\"\"),1,IF(OR(O13=\"\",N13=\"\"),2,IF(ISERROR(MATCH(Q13,Input!M$5:M$24,0)),2,1)))","v":1},"",0]
[null,null,null,null,null,null,0,"",null,"",null,"",null,null,null,null,"\\",{"$f":"IF(AND(A14=\"\",B14=\"\",C14=\"\",D14=\"\"),1,IF(OR(O14=\"\",N14=\"\"),2,IF(ISERROR(MATCH(Q14,Input!M$5:M$24,0)),2,1)))","v":1},"",0]
[null,null,null,null,null,null,0,"",null,"",null,"",null,null,null,null,"\\",{"$f":"IF(AND(A15=\"\",B15=\"\",C15=\"\",D15=\"\"),1,IF(OR(O15=\"\",N15=\"\"),2,IF(ISERROR(MATCH(Q15,Input!M$5:M$24,0)),2,1)))","v":1},"",0]
[null,null,null,null,null,null,0,"",null,"",null,"",null,null,null,null,"\\",{"$f":"IF(AND(A16=\"\",B16=\"\",C16=\"\",D16=\"\"),1,IF(OR(O16=\"\",N16=\"\"),2,IF(ISERROR(MATCH(Q16,Input!M$5:M$24,0)),2,1)))","v":1},"",0]
[null,null,null,null,null,null,0,"",null,"",null,"",null,null,null,null,"\\",{"$f":"IF(AND(A17=\"\",B17=\"\",C17=\"\",D17=\"\"),1,IF(OR(O17=\"\",N17=\"\"),2,IF(ISERROR(MATCH(Q17,Input!M$5:M$24,0)),2,1)))","v":1},"",0]
[]
["TANK SHEET"]
["Bid Item (In Order of Placement)",null,"Today's Placement",null,null,"Bid Item Plan Quantity","Plan Thickness (in)","Contract Mix Price","Contract Binder Price","Project Number",null,null,null,"Mix Pay Units","Mix Delivered to Road\n(Ton or SY)","Waste On Road (Ton)\nNO waste for SY Items","Tons Placed - Waste",null,null,"This adds up column S as it depends if the Est SY is filled out or the SY",null,"Use this Column for SY for the Q column","Uses this Value for Mix on Road"]
[null,null,null,null,null,{"$f":"IF($J21=\"\",\"\",INDEX(Input!$A$5:$H$24,MATCH($A21&$J21,Input!$A$5:$A$24&Input!$G$5:$G$24,0),2))","v":""},{"$f":"IF($J21=\"\",\"\",INDEX(Input!$A$5:$H$24,MATCH($A21&$J21,Input!$A$5:$A$24&Input!$G$5:$G$24,0),3))","v":""},{"$f":"IF($J21=\"\",\"\",INDEX(Input!$A$5:$H$24,MATCH($A21&$J21,Input!$A$5:$A$24&Input!$G$5:$G$24,0),4))","v":""},{"$f":"IF($J21=\"\",\"\",INDEX(Input!$A$5:$H$24,MATCH($A21&$J21,Input!$A$5:$A$24&Input!$G$5:$G$24,0),5))","v":""},null,null,null,null,{"$f":"IF($A21=\"\",\"\",OFFSET(Input!F$4,MATCH($A21,Input!$A$5:$A$24,0),0))","v":""},{"$f":"IF(N21=\"SY\", T21, IF(N21=\"Tons\", W21, \"\"))","v":""},null,{"$f":"IF(N21=\"SY\", V21, IF(N21=\"Tons\", O21-P21, \"\"))","v":""},{"$f":"SUBSTITUTE(A21 & \"\\\" & J21,\"\"\"\",\"\")","v":"\\"},{"$f":"IF(A21=\"\",1,IF(ISERROR(MATCH(R21,Input!L$5:L$24,0)),2,1))","v":1},{"$f":"IF(A21=\"\", \"\", SUMIF($Q$8:$Q$17, \"*\" & LEFT(A21, 11) & \"*\", $S$8:$S$17))","v":""},null,{"$f":"IF(A21=\"\", \"\", SUMIF($Q$8:$Q$17, \"*\" & LEFT(A21, 11) & \"*\", $T$8:$T$17))","v":""},{"$f":"IF(N21=\"SY\", T21, IF(N21=\"Tons\", V21+P21, \"\"))","v":""}]
[null,null,null,null,null,{"$f":"IF($J22=\"\",\"\",INDEX(Input!$A$5:$H$24,MATCH($A22&$J22,Input!$A$5:$A$24&Input!$G$5:$G$24,0),2))","v":""},{"$f":"IF($J22=\"\",\"\",INDEX(Input!$A$5:$H$24,MATCH($A22&$J22,Input!$A$5:$A$24&Input!$G$5:$G$24,0),3))","v":""},{"$f":"IF($J22=\"\",\"\",INDEX(Input!$A$5:$H$24,MATCH($A22&$J22,Input!$A$5:$A$24&Input!$G$5:$G$24,0),4))","v":""},{"$f":"IF($J22=\"\",\"\",INDEX(Input!$A$5:$H$24,MATCH($A22&$J22,Input!$A$5:$A$24&Input!$G$5:$G$24,0),5))","v":""},null,null,null,null,{"$f":"IF($A22=\"\",\"\",OFFSET(Input!F$4,MATCH($A22,Input!$A$5:$A$24,0),0))","v":""},{"$f":"IF(N22=\"SY\", T22, IF(N22=\"Tons\", W22, \"\"))","v":""},null,{"$f":"IF(N22=\"SY\", V22, IF(N22=\"Tons\", O22-P22, \"\"))","v":""},{"$f":"SUBSTITUTE(A22 & \"\\\" & J22,\"\"\"\",\"\")","v":"\\"},{"$f":"IF(A22=\"\",1,IF(ISERROR(MATCH(R22,Input!L$5:L$24,0)),2,1))","v":1},{"$f":"IF(A22=\"\", \"\", SUMIF($Q$8:$Q$17, \"*\" & LEFT(A22, 11) & \"*\", $S$8:$S$17))","v":""},null,{"$f":"IF(A22=\"\", \"\", SUMIF($Q$8:$Q$17, \"*\" & LEFT(A22, 11) & \"*\", $T$8:$T$17))","v":""},{"$f":"IF(N22=\"SY\", T22, IF(N22=\"Tons\", V22+P22, \"\"))","v":""}]
[null,null,null,null,null,{"$f":"IF($J23=\"\",\"\",INDEX(Input!$A$5:$H$24,MATCH($A23&$J23,Input!$A$5:$A$24&Input!$G$5:$G$24,0),2))","v":""},{"$f":"IF($J23=\"\",\"\",INDEX(Input!$A$5:$H$24,MATCH($A23&$J23,Input!$A$5:$A$24&Input!$G$5:$G$24,0),3))","v":""},{"$f":"IF($J23=\"\",\"\",INDEX(Input!$A$5:$H$24,MATCH($A23&$J23,Input!$A$5:$A$24&Input!$G$5:$G$24,0),4))","v":""},{"$f":"IF($J23=\"\",\"\",INDEX(Input!$A$5:$H$24,MATCH($A23&$J23,Input!$A$5:$A$24&Input!$G$5:$G$24,0),5))","v":""},null,null,null,null,{"$f":"IF($A23=\"\",\"\",OFFSET(Input!F$4,MATCH($A23,Input!$A$5:$A$24,0),0))","v":""},{"$f":"IF(N23=\"SY\", T23, IF(N23=\"Tons\", W23, \"\"))","v":""},null,{"$f":"IF(N23=\"SY\", V23, IF(N23=\"Tons\", O23-P23, \"\"))","v":""},"\\",{"$f":"IF(A23=\"\",1,IF(ISERROR(MATCH(R23,Input!L$5:L$24,0)),2,1))","v":1},{"$f":"IF(A23=\"\", \"\", SUMIF($Q$8:$Q$17, \"*\" & LEFT(A23, 11) & \"*\", $S$8:$S$17))","v":""},null,{"$f":"IF(A23=\"\", \"\", SUMIF($Q$8:$Q$17, \"*\" & LEFT(A23, 11) & \"*\", $T$8:$T$17))","v":""},{"$f":"IF(N23=\"SY\", T23, IF(N23=\"Tons\", V23+P23, \"\"))","v":""}]
[null,null,null,null,null,{"$f":"IF($J24=\"\",\"\",INDEX(Input!$A$5:$H$24,MATCH($A24&$J24,Input!$A$5:$A$24&Input!$G$5:$G$24,0),2))","v":""},{"$f":"IF($J24=\"\",\"\",INDEX(Input!$A$5:$H$24,MATCH($A24&$J24,Input!$A$5:$A$24&Input!$G$5:$G$24,0),3))","v":""},{"$f":"IF($J24=\"\",\"\",INDEX(Input!$A$5:$H$24,MATCH($A24&$J24,Input!$A$5:$A$24&Input!$G$5:$G$24,0),4))","v":""},{"$f":"IF($J24=\"\",\"\",INDEX(Input!$A$5:$H$24,MATCH($A24&$J24,Input!$A$5:$A$24&Input!$G$5:$G$24,0),5))","v":""},null,null,null,null,{"$f":"IF($A24=\"\",\"\",OFFSET(Input!F$4,MATCH($A24,Input!$A$5:$A$24,0),0))","v":""},"",null,{"$f":"IF(N24=\"SY\", V24, IF(N24=\"Tons\", O24-P24, \"\"))","v":""},"\\",{"$f":"IF(A24=\"\",1,IF(ISERROR(MATCH(R24,Input!L$5:L$24,0)),2,1))","v":1},"",null,{"$f":"IF(A24=\"\", \"\", SUMIF($Q$8:$Q$17, \"*\" & LEFT(A24, 11) & \"*\", $T$8:$T$17))","v":""},{"$f":"IF(N24=\"SY\", T24, IF(N24=\"Tons\", V24+P24, \"\"))","v":""}]
[null,null,null,null,null,{"$f":"IF($J25=\"\",\"\",INDEX(Input!$A$5:$H$24,MATCH($A25&$J25,Input!$A$5:$A$24&Input!$G$5:$G$24,0),2))","v":""},{"$f":"IF($J25=\"\",\"\",INDEX(Input!$A$5:$H$24,MATCH($A25&$J25,Input!$A$5:$A$24&Input!$G$5:$G$24,0),3))","v":""},{"$f":"IF($J25=\"\",\"\",INDEX(Input!$A$5:$H$24,MATCH($A25&$J25,Input!$A$5:$A$24&Input!$G$5:$G$24,0),4))","v":""},{"$f":"IF($J25=\"\",\"\",INDEX(Input!$A$5:$H$24,MATCH($A25&$J25,Input!$A$5:$A$24&Input!$G$5:$G$24,0),5))","v":""},null,null,null,null,{"$f":"IF($A25=\"\",\"\",OFFSET(Input!F$4,MATCH($A25,Input!$A$5:$A$24,0),0))","v":""},"",null,"","\\",{"$f":"IF(A25=\"\",1,IF(ISERROR(MATCH(R25,Input!L$5:L$24,0)),2,1))","v":1},"",null,"",""]
[null,null,null,null,null,null,null,null,null,null,null,null,null,null,null,null,null,null,null,null,null,"",{"$f":"IF(N26=\"SY\", T26, IF(N26=\"Tons\", V26+P26, \"\"))","v":""},{"$f":"IF(A26=\"\", \"\", SUMIF($Q$8:$Q$17, \"*\" & LEFT(A26, 11) & \"*\", $S$8:$S$17))","v":""},{"$f":"IF(N26=\"SY\",X26,\"\")","v":""},{"$f":"IF(A26=\"\", \"\", SUMIF($Q$8:$Q$17, \"*\" & LEFT(A26, 11) & \"*\", $T$8:$T$17))","v":""}]
["Hot Box Sample",null,null,null,null,null,null,null,null,null,"Mat Temperatures °F"]
[null,"Test A","Test B","Test C","Test D","Test E",null,null,null,null,"Time","Temp"]
[" Hot Box ID Number  ",null,null,null,null,null,null,null,null,null,"7:00"]
["Hot Box Sample Tons: ",null,null,null,null,null,null,null,null,null,"9:00",null,null,null,"Intended Thickness:"]
[" Time: ",null,null,null,null,null,null,null,null,null,"11:00",null,null,null,"Cores Waived?"]
[" Station/MP: ",null,null,null,null,null,null,null,null,null,"1:00",null,null,null,"Small Quantity Statement?"]
["Bar Code ID.:",null,null,null,null,null,null,null,null,null,"3:00",null,null,null,"Scale Check Done?"]
["Compaction Temp. °F: ",null,null,null,null,null,null,null,null,null,"5:00",null,null,null,"Tack Tickets Today?"]
[null,null,null,null,null,null,null,null,null,null,"7:00"]
["The Below Comments should show up on the plant report"]
["Comments:"]
[]
[]
["The Below Notes are for the CPI from the field or Plant Monitor"]
["Notes:"]
[]
[]
["RANDOM CORE LOCATIONS"]
[null,null,null,null,null,null,null,"Core #","Station","Offset,ft","Joint Station","Lane"]
[null,null,null,null,null,null,null,1]
[null,null,null,null,null,null,null,2]
[null,null,null,null,null,null,null,3]
[null,null,null,null,null,null,null,4]
[null,null,null,null,null,null,null,5]
[null,null,null,null,null,null,null,6]
[null,null,null,null,null,null,null,7]
[null,null,null,null,null,null,null,8]
[]
[null,null,null,null,null,null,null,null,null,null,"Joint Sublot Size, ft"]
[null,null,null,null,null,null,null,null,null,null,0]
[]
[]
[]
[]
[]
[]
[]
[]
[]
[]
[]
[]
[]
[]
[]
[]
[]
[]
[]
[]
[]
[]
[]
[]
[]
[]
[]
[]
[]
[]
[]
[]
[]
[]
[]
[]
[]
[]
[]
[]
[false]

{"sheet":"21","index":36,"n_rows":97,"n_cols":26,"rows_kept":97,"cut":false,"hidden":false,"merged":[[50,11,50,13],[51,11,51,13],[52,11,52,13],[44,11,44,13],[45,11,45,13],[46,11,46,13],[47,11,47,13],[48,11,48,13],[49,11,49,13],[43,0,43,16],[25,0,25,1],[26,0,26,5],[26,20,26,23],[26,25,26,27],[34,2,34,4],[35,0,35,5],[36,1,36,14],[37,0,37,14],[39,0,39,5],[40,1,40,14],[41,0,41,14],[23,0,23,1],[23,2,23,4],[23,9,23,12],[24,0,24,1],[24,2,24,4],[24,9,24,12],[21,0,21,1],[21,2,21,4],[21,9,21,12],[22,0,22,1],[22,2,22,4],[22,9,22,12],[19,0,19,1],[19,2,19,4],[19,9,19,12],[20,0,20,1],[20,2,20,4],[20,9,20,12],[18,0,18,16],[6,14,6,15],[7,14,7,15],[8,14,8,15],[9,14,9,15],[10,14,10,15],[11,14,11,15],[12,14,12,15],[13,14,13,15],[14,14,14,15],[15,14,15,15],[16,14,16,15],[1,0,1,16],[4,0,4,15],[5,4,5,5],[5,8,5,9],[5,11,5,12],[5,13,5,15]]}
[]
["Iowa DOT HMA Field Report"]
["Date :"]
["Item No.('s)"]
["PLACEMENT RECORD",null,null,null,null,null,null,null,null,null,null,null,null,null,null,null,null,null,null,null,null,{"$f":"SUBSTITUTE(A21 & \"\\\" & J21,\"\"\"\",\"\")","v":"\\"}]
[null,null,null,null,"Additional width to DEDUCT from Field Voids",null,null,null,"Placed Density (Pounds/CF)=",null,150,"Overwritten on the \"Summary\" Tab",null,"ONLY ONE (1) MIX DESIGN PER DFR OTHERWISE IT WILL NOT IMPORT INTO THE PLANT REPORT PROPERLY",null,null,null,null,null,null,null,{"$f":"SUBSTITUTE(A22 & \"\\\" & J22,\"\"\"\",\"\")","v":"\\"}]
["From Station"," To Station","Lane","ML or Widening Placement Width","Additional Width (ft) ","Thickness (in)","Total Length Placed (FT)","\"Pay\"  Est \"SY\"","Thickness (inches)","Calculated Field Voids Tons","Placed Tons            (Not including Waste)","% Yield","SY to be PAID (If Diff. than Est SY)","Mix Design No.","Bid Item/ Project No.",null,null,null,"This uses the correct SY #, if Green is blank uses Est. SY","Adds up the Tons",null,"\\"]
[null,null,null,null,null,null,{"$f":"IF(OR(A8=\"\",B8=\"\"),0,IF($A$97=TRUE,ABS(B8-A8)*5280,ABS(VALUE(SUBSTITUTE(A8,\"+\",\"\"))-VALUE(SUBSTITUTE(B8,\"+\",\"\")))))","v":0},{"$f":"IF(D8=\"\",\"\",G8*(D8+E8)/9)","v":""},null,{"$f":"IF(I8=\"\",\"\",(G8)*(D8+E8)*I8/12*$K$6/2000)","v":""},null,{"$f":"IF(K8=\"\",\"\",K8/J8*100)","v":""},null,null,null,null,{"$f":"O8 & \"\\\" & N8","v":"\\"},{"$f":"IF(AND(A8=\"\",B8=\"\",C8=\"\",D8=\"\"),1,IF(OR(O8=\"\",N8=\"\"),2,IF(ISERROR(MATCH(Q8,Input!M$5:M$24,0)),2,1)))","v":1},{"$f":"IF(M8<>\"\", M8, H8)","v":""},{"$f":"K8","v":0},null,"\\"]
[null,null,null,null,null,null,{"$f":"IF(OR(A9=\"\",B9=\"\"),0,IF($A$97=TRUE,ABS(B9-A9)*5280,ABS(VALUE(SUBSTITUTE(A9,\"+\",\"\"))-VALUE(SUBSTITUTE(B9,\"+\",\"\")))))","v":0},{"$f":"IF(D9=\"\",\"\",G9*(D9+E9)/9)","v":""},null,"",null,{"$f":"IF(K9=\"\",\"\",K9/J9*100)","v":""},null,null,null,null,{"$f":"O9 & \"\\\" & N9","v":"\\"},{"$f":"IF(AND(A9=\"\",B9=\"\",C9=\"\",D9=\"\"),1,IF(OR(O9=\"\",N9=\"\"),2,IF(ISERROR(MATCH(Q9,Input!M$5:M$24,0)),2,1)))","v":1},{"$f":"IF(M9<>\"\", M9, H9)","v":""},{"$f":"K9","v":0},null,"\\"]
[null,null,null,null,null,null,0,"",null,"",null,"",null,null,null,null,"\\",{"$f":"IF(AND(A10=\"\",B10=\"\",C10=\"\",D10=\"\"),1,IF(OR(O10=\"\",N10=\"\"),2,IF(ISERROR(MATCH(Q10,Input!M$5:M$24,0)),2,1)))","v":1},{"$f":"IF(M10<>\"\", M10, H10)","v":""},0]
[null,null,null,null,null,null,0,"",null,"",null,"",null,null,null,null,"\\",{"$f":"IF(AND(A11=\"\",B11=\"\",C11=\"\",D11=\"\"),1,IF(OR(O11=\"\",N11=\"\"),2,IF(ISERROR(MATCH(Q11,Input!M$5:M$24,0)),2,1)))","v":1},"",0]
[null,null,null,null,null,null,0,"",null,"",null,"",null,null,null,null,"\\",{"$f":"IF(AND(A12=\"\",B12=\"\",C12=\"\",D12=\"\"),1,IF(OR(O12=\"\",N12=\"\"),2,IF(ISERROR(MATCH(Q12,Input!M$5:M$24,0)),2,1)))","v":1},"",0]
[null,null,null,null,null,null,0,"",null,"",null,"",null,null,null,null,"\\",{"$f":"IF(AND(A13=\"\",B13=\"\",C13=\"\",D13=\"\"),1,IF(OR(O13=\"\",N13=\"\"),2,IF(ISERROR(MATCH(Q13,Input!M$5:M$24,0)),2,1)))","v":1},"",0]
[null,null,null,null,null,null,0,"",null,"",null,"",null,null,null,null,"\\",{"$f":"IF(AND(A14=\"\",B14=\"\",C14=\"\",D14=\"\"),1,IF(OR(O14=\"\",N14=\"\"),2,IF(ISERROR(MATCH(Q14,Input!M$5:M$24,0)),2,1)))","v":1},"",0]
[null,null,null,null,null,null,0,"",null,"",null,"",null,null,null,null,"\\",{"$f":"IF(AND(A15=\"\",B15=\"\",C15=\"\",D15=\"\"),1,IF(OR(O15=\"\",N15=\"\"),2,IF(ISERROR(MATCH(Q15,Input!M$5:M$24,0)),2,1)))","v":1},"",0]
[null,null,null,null,null,null,0,"",null,"",null,"",null,null,null,null,"\\",{"$f":"IF(AND(A16=\"\",B16=\"\",C16=\"\",D16=\"\"),1,IF(OR(O16=\"\",N16=\"\"),2,IF(ISERROR(MATCH(Q16,Input!M$5:M$24,0)),2,1)))","v":1},"",0]
[null,null,null,null,null,null,0,"",null,"",null,"",null,null,null,null,"\\",{"$f":"IF(AND(A17=\"\",B17=\"\",C17=\"\",D17=\"\"),1,IF(OR(O17=\"\",N17=\"\"),2,IF(ISERROR(MATCH(Q17,Input!M$5:M$24,0)),2,1)))","v":1},"",0]
[]
["TANK SHEET"]
["Bid Item (In Order of Placement)",null,"Today's Placement",null,null,"Bid Item Plan Quantity","Plan Thickness (in)","Contract Mix Price","Contract Binder Price","Project Number",null,null,null,"Mix Pay Units","Mix Delivered to Road\n(Ton or SY)","Waste On Road (Ton)\nNO waste for SY Items","Tons Placed - Waste",null,null,"This adds up column S as it depends if the Est SY is filled out or the SY",null,"Use this Column for SY for the Q column","Uses this Value for Mix on Road"]
[null,null,null,null,null,{"$f":"IF($J21=\"\",\"\",INDEX(Input!$A$5:$H$24,MATCH($A21&$J21,Input!$A$5:$A$24&Input!$G$5:$G$24,0),2))","v":""},{"$f":"IF($J21=\"\",\"\",INDEX(Input!$A$5:$H$24,MATCH($A21&$J21,Input!$A$5:$A$24&Input!$G$5:$G$24,0),3))","v":""},{"$f":"IF($J21=\"\",\"\",INDEX(Input!$A$5:$H$24,MATCH($A21&$J21,Input!$A$5:$A$24&Input!$G$5:$G$24,0),4))","v":""},{"$f":"IF($J21=\"\",\"\",INDEX(Input!$A$5:$H$24,MATCH($A21&$J21,Input!$A$5:$A$24&Input!$G$5:$G$24,0),5))","v":""},null,null,null,null,{"$f":"IF($A21=\"\",\"\",OFFSET(Input!F$4,MATCH($A21,Input!$A$5:$A$24,0),0))","v":""},{"$f":"IF(N21=\"SY\", T21, IF(N21=\"Tons\", W21, \"\"))","v":""},null,{"$f":"IF(N21=\"SY\", V21, IF(N21=\"Tons\", O21-P21, \"\"))","v":""},{"$f":"SUBSTITUTE(A21 & \"\\\" & J21,\"\"\"\",\"\")","v":"\\"},{"$f":"IF(A21=\"\",1,IF(ISERROR(MATCH(R21,Input!L$5:L$24,0)),2,1))","v":1},{"$f":"IF(A21=\"\", \"\", SUMIF($Q$8:$Q$17, \"*\" & LEFT(A21, 11) & \"*\", $S$8:$S$17))","v":""},null,{"$f":"IF(A21=\"\", \"\", SUMIF($Q$8:$Q$17, \"*\" & LEFT(A21, 11) & \"*\", $T$8:$T$17))","v":""},{"$f":"IF(N21=\"SY\", T21, IF(N21=\"Tons\", V21+P21, \"\"))","v":""}]
[null,null,null,null,null,{"$f":"IF($J22=\"\",\"\",INDEX(Input!$A$5:$H$24,MATCH($A22&$J22,Input!$A$5:$A$24&Input!$G$5:$G$24,0),2))","v":""},{"$f":"IF($J22=\"\",\"\",INDEX(Input!$A$5:$H$24,MATCH($A22&$J22,Input!$A$5:$A$24&Input!$G$5:$G$24,0),3))","v":""},{"$f":"IF($J22=\"\",\"\",INDEX(Input!$A$5:$H$24,MATCH($A22&$J22,Input!$A$5:$A$24&Input!$G$5:$G$24,0),4))","v":""},{"$f":"IF($J22=\"\",\"\",INDEX(Input!$A$5:$H$24,MATCH($A22&$J22,Input!$A$5:$A$24&Input!$G$5:$G$24,0),5))","v":""},null,null,null,null,{"$f":"IF($A22=\"\",\"\",OFFSET(Input!F$4,MATCH($A22,Input!$A$5:$A$24,0),0))","v":""},{"$f":"IF(N22=\"SY\", T22, IF(N22=\"Tons\", W22, \"\"))","v":""},null,{"$f":"IF(N22=\"SY\", V22, IF(N22=\"Tons\", O22-P22, \"\"))","v":""},{"$f":"SUBSTITUTE(A22 & \"\\\" & J22,\"\"\"\",\"\")","v":"\\"},{"$f":"IF(A22=\"\",1,IF(ISERROR(MATCH(R22,Input!L$5:L$24,0)),2,1))","v":1},{"$f":"IF(A22=\"\", \"\", SUMIF($Q$8:$Q$17, \"*\" & LEFT(A22, 11) & \"*\", $S$8:$S$17))","v":""},null,{"$f":"IF(A22=\"\", \"\", SUMIF($Q$8:$Q$17, \"*\" & LEFT(A22, 11) & \"*\", $T$8:$T$17))","v":""},{"$f":"IF(N22=\"SY\", T22, IF(N22=\"Tons\", V22+P22, \"\"))","v":""}]
[null,null,null,null,null,{"$f":"IF($J23=\"\",\"\",INDEX(Input!$A$5:$H$24,MATCH($A23&$J23,Input!$A$5:$A$24&Input!$G$5:$G$24,0),2))","v":""},{"$f":"IF($J23=\"\",\"\",INDEX(Input!$A$5:$H$24,MATCH($A23&$J23,Input!$A$5:$A$24&Input!$G$5:$G$24,0),3))","v":""},{"$f":"IF($J23=\"\",\"\",INDEX(Input!$A$5:$H$24,MATCH($A23&$J23,Input!$A$5:$A$24&Input!$G$5:$G$24,0),4))","v":""},{"$f":"IF($J23=\"\",\"\",INDEX(Input!$A$5:$H$24,MATCH($A23&$J23,Input!$A$5:$A$24&Input!$G$5:$G$24,0),5))","v":""},null,null,null,null,{"$f":"IF($A23=\"\",\"\",OFFSET(Input!F$4,MATCH($A23,Input!$A$5:$A$24,0),0))","v":""},{"$f":"IF(N23=\"SY\", T23, IF(N23=\"Tons\", W23, \"\"))","v":""},null,{"$f":"IF(N23=\"SY\", V23, IF(N23=\"Tons\", O23-P23, \"\"))","v":""},"\\",{"$f":"IF(A23=\"\",1,IF(ISERROR(MATCH(R23,Input!L$5:L$24,0)),2,1))","v":1},{"$f":"IF(A23=\"\", \"\", SUMIF($Q$8:$Q$17, \"*\" & LEFT(A23, 11) & \"*\", $S$8:$S$17))","v":""},null,{"$f":"IF(A23=\"\", \"\", SUMIF($Q$8:$Q$17, \"*\" & LEFT(A23, 11) & \"*\", $T$8:$T$17))","v":""},{"$f":"IF(N23=\"SY\", T23, IF(N23=\"Tons\", V23+P23, \"\"))","v":""}]
[null,null,null,null,null,{"$f":"IF($J24=\"\",\"\",INDEX(Input!$A$5:$H$24,MATCH($A24&$J24,Input!$A$5:$A$24&Input!$G$5:$G$24,0),2))","v":""},{"$f":"IF($J24=\"\",\"\",INDEX(Input!$A$5:$H$24,MATCH($A24&$J24,Input!$A$5:$A$24&Input!$G$5:$G$24,0),3))","v":""},{"$f":"IF($J24=\"\",\"\",INDEX(Input!$A$5:$H$24,MATCH($A24&$J24,Input!$A$5:$A$24&Input!$G$5:$G$24,0),4))","v":""},{"$f":"IF($J24=\"\",\"\",INDEX(Input!$A$5:$H$24,MATCH($A24&$J24,Input!$A$5:$A$24&Input!$G$5:$G$24,0),5))","v":""},null,null,null,null,{"$f":"IF($A24=\"\",\"\",OFFSET(Input!F$4,MATCH($A24,Input!$A$5:$A$24,0),0))","v":""},"",null,{"$f":"IF(N24=\"SY\", V24, IF(N24=\"Tons\", O24-P24, \"\"))","v":""},"\\",{"$f":"IF(A24=\"\",1,IF(ISERROR(MATCH(R24,Input!L$5:L$24,0)),2,1))","v":1},"",null,{"$f":"IF(A24=\"\", \"\", SUMIF($Q$8:$Q$17, \"*\" & LEFT(A24, 11) & \"*\", $T$8:$T$17))","v":""},{"$f":"IF(N24=\"SY\", T24, IF(N24=\"Tons\", V24+P24, \"\"))","v":""}]
[null,null,null,null,null,{"$f":"IF($J25=\"\",\"\",INDEX(Input!$A$5:$H$24,MATCH($A25&$J25,Input!$A$5:$A$24&Input!$G$5:$G$24,0),2))","v":""},{"$f":"IF($J25=\"\",\"\",INDEX(Input!$A$5:$H$24,MATCH($A25&$J25,Input!$A$5:$A$24&Input!$G$5:$G$24,0),3))","v":""},{"$f":"IF($J25=\"\",\"\",INDEX(Input!$A$5:$H$24,MATCH($A25&$J25,Input!$A$5:$A$24&Input!$G$5:$G$24,0),4))","v":""},{"$f":"IF($J25=\"\",\"\",INDEX(Input!$A$5:$H$24,MATCH($A25&$J25,Input!$A$5:$A$24&Input!$G$5:$G$24,0),5))","v":""},null,null,null,null,{"$f":"IF($A25=\"\",\"\",OFFSET(Input!F$4,MATCH($A25,Input!$A$5:$A$24,0),0))","v":""},"",null,"","\\",{"$f":"IF(A25=\"\",1,IF(ISERROR(MATCH(R25,Input!L$5:L$24,0)),2,1))","v":1},"",null,"",""]
[null,null,null,null,null,null,null,null,null,null,null,null,null,null,null,null,null,null,null,null,null,"",{"$f":"IF(N26=\"SY\", T26, IF(N26=\"Tons\", V26+P26, \"\"))","v":""},{"$f":"IF(A26=\"\", \"\", SUMIF($Q$8:$Q$17, \"*\" & LEFT(A26, 11) & \"*\", $S$8:$S$17))","v":""},{"$f":"IF(N26=\"SY\",X26,\"\")","v":""},{"$f":"IF(A26=\"\", \"\", SUMIF($Q$8:$Q$17, \"*\" & LEFT(A26, 11) & \"*\", $T$8:$T$17))","v":""}]
["Hot Box Sample",null,null,null,null,null,null,null,null,null,"Mat Temperatures °F"]
[null,"Test A","Test B","Test C","Test D","Test E",null,null,null,null,"Time","Temp"]
[" Hot Box ID Number  ",null,null,null,null,null,null,null,null,null,"7:00"]
["Hot Box Sample Tons: ",null,null,null,null,null,null,null,null,null,"9:00",null,null,null,"Intended Thickness:"]
[" Time: ",null,null,null,null,null,null,null,null,null,"11:00",null,null,null,"Cores Waived?"]
[" Station/MP: ",null,null,null,null,null,null,null,null,null,"1:00",null,null,null,"Small Quantity Statement?"]
["Bar Code ID.:",null,null,null,null,null,null,null,null,null,"3:00",null,null,null,"Scale Check Done?"]
["Compaction Temp. °F: ",null,null,null,null,null,null,null,null,null,"5:00",null,null,null,"Tack Tickets Today?"]
[null,null,null,null,null,null,null,null,null,null,"7:00"]
["The Below Comments should show up on the plant report"]
["Comments:"]
[]
[]
["The Below Notes are for the CPI from the field or Plant Monitor"]
["Notes:"]
[]
[]
["RANDOM CORE LOCATIONS"]
[null,null,null,null,null,null,null,"Core #","Station","Offset,ft","Joint Station","Lane"]
[null,null,null,null,null,null,null,1]
[null,null,null,null,null,null,null,2]
[null,null,null,null,null,null,null,3]
[null,null,null,null,null,null,null,4]
[null,null,null,null,null,null,null,5]
[null,null,null,null,null,null,null,6]
[null,null,null,null,null,null,null,7]
[null,null,null,null,null,null,null,8]
[]
[null,null,null,null,null,null,null,null,null,null,"Joint Sublot Size, ft"]
[null,null,null,null,null,null,null,null,null,null,0]
[]
[]
[]
[]
[]
[]
[]
[]
[]
[]
[]
[]
[]
[]
[]
[]
[]
[]
[]
[]
[]
[]
[]
[]
[]
[]
[]
[]
[]
[]
[]
[]
[]
[]
[]
[]
[]
[]
[]
[]
[false]

{"sheet":"22","index":37,"n_rows":97,"n_cols":26,"rows_kept":97,"cut":false,"hidden":false,"merged":[[50,11,50,13],[51,11,51,13],[52,11,52,13],[44,11,44,13],[45,11,45,13],[46,11,46,13],[47,11,47,13],[48,11,48,13],[49,11,49,13],[43,0,43,16],[25,0,25,1],[26,0,26,5],[26,20,26,23],[26,25,26,27],[34,2,34,4],[35,0,35,5],[36,1,36,14],[37,0,37,14],[39,0,39,5],[40,1,40,14],[41,0,41,14],[23,0,23,1],[23,2,23,4],[23,9,23,12],[24,0,24,1],[24,2,24,4],[24,9,24,12],[21,0,21,1],[21,2,21,4],[21,9,21,12],[22,0,22,1],[22,2,22,4],[22,9,22,12],[19,0,19,1],[19,2,19,4],[19,9,19,12],[20,0,20,1],[20,2,20,4],[20,9,20,12],[18,0,18,16],[6,14,6,15],[7,14,7,15],[8,14,8,15],[9,14,9,15],[10,14,10,15],[11,14,11,15],[12,14,12,15],[13,14,13,15],[14,14,14,15],[15,14,15,15],[16,14,16,15],[1,0,1,16],[4,0,4,15],[5,4,5,5],[5,8,5,9],[5,11,5,12],[5,13,5,15]]}
[]
["Iowa DOT HMA Field Report"]
["Date :"]
["Item No.('s)"]
["PLACEMENT RECORD",null,null,null,null,null,null,null,null,null,null,null,null,null,null,null,null,null,null,null,null,{"$f":"SUBSTITUTE(A21 & \"\\\" & J21,\"\"\"\",\"\")","v":"\\"}]
[null,null,null,null,"Additional width to DEDUCT from Field Voids",null,null,null,"Placed Density (Pounds/CF)=",null,150,"Overwritten on the \"Summary\" Tab",null,"ONLY ONE (1) MIX DESIGN PER DFR OTHERWISE IT WILL NOT IMPORT INTO THE PLANT REPORT PROPERLY",null,null,null,null,null,null,null,{"$f":"SUBSTITUTE(A22 & \"\\\" & J22,\"\"\"\",\"\")","v":"\\"}]
["From Station"," To Station","Lane","ML or Widening Placement Width","Additional Width (ft) ","Thickness (in)","Total Length Placed (FT)","\"Pay\"  Est \"SY\"","Thickness (inches)","Calculated Field Voids Tons","Placed Tons            (Not including Waste)","% Yield","SY to be PAID (If Diff. than Est SY)","Mix Design No.","Bid Item/ Project No.",null,null,null,"This uses the correct SY #, if Green is blank uses Est. SY","Adds up the Tons",null,"\\"]
[null,null,null,null,null,null,{"$f":"IF(OR(A8=\"\",B8=\"\"),0,IF($A$97=TRUE,ABS(B8-A8)*5280,ABS(VALUE(SUBSTITUTE(A8,\"+\",\"\"))-VALUE(SUBSTITUTE(B8,\"+\",\"\")))))","v":0},{"$f":"IF(D8=\"\",\"\",G8*(D8+E8)/9)","v":""},null,{"$f":"IF(I8=\"\",\"\",(G8)*(D8+E8)*I8/12*$K$6/2000)","v":""},null,{"$f":"IF(K8=\"\",\"\",K8/J8*100)","v":""},null,null,null,null,{"$f":"O8 & \"\\\" & N8","v":"\\"},{"$f":"IF(AND(A8=\"\",B8=\"\",C8=\"\",D8=\"\"),1,IF(OR(O8=\"\",N8=\"\"),2,IF(ISERROR(MATCH(Q8,Input!M$5:M$24,0)),2,1)))","v":1},{"$f":"IF(M8<>\"\", M8, H8)","v":""},{"$f":"K8","v":0},null,"\\"]
[null,null,null,null,null,null,{"$f":"IF(OR(A9=\"\",B9=\"\"),0,IF($A$97=TRUE,ABS(B9-A9)*5280,ABS(VALUE(SUBSTITUTE(A9,\"+\",\"\"))-VALUE(SUBSTITUTE(B9,\"+\",\"\")))))","v":0},{"$f":"IF(D9=\"\",\"\",G9*(D9+E9)/9)","v":""},null,"",null,{"$f":"IF(K9=\"\",\"\",K9/J9*100)","v":""},null,null,null,null,{"$f":"O9 & \"\\\" & N9","v":"\\"},{"$f":"IF(AND(A9=\"\",B9=\"\",C9=\"\",D9=\"\"),1,IF(OR(O9=\"\",N9=\"\"),2,IF(ISERROR(MATCH(Q9,Input!M$5:M$24,0)),2,1)))","v":1},{"$f":"IF(M9<>\"\", M9, H9)","v":""},{"$f":"K9","v":0},null,"\\"]
[null,null,null,null,null,null,0,"",null,"",null,"",null,null,null,null,"\\",{"$f":"IF(AND(A10=\"\",B10=\"\",C10=\"\",D10=\"\"),1,IF(OR(O10=\"\",N10=\"\"),2,IF(ISERROR(MATCH(Q10,Input!M$5:M$24,0)),2,1)))","v":1},{"$f":"IF(M10<>\"\", M10, H10)","v":""},0]
[null,null,null,null,null,null,0,"",null,"",null,"",null,null,null,null,"\\",{"$f":"IF(AND(A11=\"\",B11=\"\",C11=\"\",D11=\"\"),1,IF(OR(O11=\"\",N11=\"\"),2,IF(ISERROR(MATCH(Q11,Input!M$5:M$24,0)),2,1)))","v":1},"",0]
[null,null,null,null,null,null,0,"",null,"",null,"",null,null,null,null,"\\",{"$f":"IF(AND(A12=\"\",B12=\"\",C12=\"\",D12=\"\"),1,IF(OR(O12=\"\",N12=\"\"),2,IF(ISERROR(MATCH(Q12,Input!M$5:M$24,0)),2,1)))","v":1},"",0]
[null,null,null,null,null,null,0,"",null,"",null,"",null,null,null,null,"\\",{"$f":"IF(AND(A13=\"\",B13=\"\",C13=\"\",D13=\"\"),1,IF(OR(O13=\"\",N13=\"\"),2,IF(ISERROR(MATCH(Q13,Input!M$5:M$24,0)),2,1)))","v":1},"",0]
[null,null,null,null,null,null,0,"",null,"",null,"",null,null,null,null,"\\",{"$f":"IF(AND(A14=\"\",B14=\"\",C14=\"\",D14=\"\"),1,IF(OR(O14=\"\",N14=\"\"),2,IF(ISERROR(MATCH(Q14,Input!M$5:M$24,0)),2,1)))","v":1},"",0]
[null,null,null,null,null,null,0,"",null,"",null,"",null,null,null,null,"\\",{"$f":"IF(AND(A15=\"\",B15=\"\",C15=\"\",D15=\"\"),1,IF(OR(O15=\"\",N15=\"\"),2,IF(ISERROR(MATCH(Q15,Input!M$5:M$24,0)),2,1)))","v":1},"",0]
[null,null,null,null,null,null,0,"",null,"",null,"",null,null,null,null,"\\",{"$f":"IF(AND(A16=\"\",B16=\"\",C16=\"\",D16=\"\"),1,IF(OR(O16=\"\",N16=\"\"),2,IF(ISERROR(MATCH(Q16,Input!M$5:M$24,0)),2,1)))","v":1},"",0]
[null,null,null,null,null,null,0,"",null,"",null,"",null,null,null,null,"\\",{"$f":"IF(AND(A17=\"\",B17=\"\",C17=\"\",D17=\"\"),1,IF(OR(O17=\"\",N17=\"\"),2,IF(ISERROR(MATCH(Q17,Input!M$5:M$24,0)),2,1)))","v":1},"",0]
[]
["TANK SHEET"]
["Bid Item (In Order of Placement)",null,"Today's Placement",null,null,"Bid Item Plan Quantity","Plan Thickness (in)","Contract Mix Price","Contract Binder Price","Project Number",null,null,null,"Mix Pay Units","Mix Delivered to Road\n(Ton or SY)","Waste On Road (Ton)\nNO waste for SY Items","Tons Placed - Waste",null,null,"This adds up column S as it depends if the Est SY is filled out or the SY",null,"Use this Column for SY for the Q column","Uses this Value for Mix on Road"]
[null,null,null,null,null,{"$f":"IF($J21=\"\",\"\",INDEX(Input!$A$5:$H$24,MATCH($A21&$J21,Input!$A$5:$A$24&Input!$G$5:$G$24,0),2))","v":""},{"$f":"IF($J21=\"\",\"\",INDEX(Input!$A$5:$H$24,MATCH($A21&$J21,Input!$A$5:$A$24&Input!$G$5:$G$24,0),3))","v":""},{"$f":"IF($J21=\"\",\"\",INDEX(Input!$A$5:$H$24,MATCH($A21&$J21,Input!$A$5:$A$24&Input!$G$5:$G$24,0),4))","v":""},{"$f":"IF($J21=\"\",\"\",INDEX(Input!$A$5:$H$24,MATCH($A21&$J21,Input!$A$5:$A$24&Input!$G$5:$G$24,0),5))","v":""},null,null,null,null,{"$f":"IF($A21=\"\",\"\",OFFSET(Input!F$4,MATCH($A21,Input!$A$5:$A$24,0),0))","v":""},{"$f":"IF(N21=\"SY\", T21, IF(N21=\"Tons\", W21, \"\"))","v":""},null,{"$f":"IF(N21=\"SY\", V21, IF(N21=\"Tons\", O21-P21, \"\"))","v":""},{"$f":"SUBSTITUTE(A21 & \"\\\" & J21,\"\"\"\",\"\")","v":"\\"},{"$f":"IF(A21=\"\",1,IF(ISERROR(MATCH(R21,Input!L$5:L$24,0)),2,1))","v":1},{"$f":"IF(A21=\"\", \"\", SUMIF($Q$8:$Q$17, \"*\" & LEFT(A21, 11) & \"*\", $S$8:$S$17))","v":""},null,{"$f":"IF(A21=\"\", \"\", SUMIF($Q$8:$Q$17, \"*\" & LEFT(A21, 11) & \"*\", $T$8:$T$17))","v":""},{"$f":"IF(N21=\"SY\", T21, IF(N21=\"Tons\", V21+P21, \"\"))","v":""}]
[null,null,null,null,null,{"$f":"IF($J22=\"\",\"\",INDEX(Input!$A$5:$H$24,MATCH($A22&$J22,Input!$A$5:$A$24&Input!$G$5:$G$24,0),2))","v":""},{"$f":"IF($J22=\"\",\"\",INDEX(Input!$A$5:$H$24,MATCH($A22&$J22,Input!$A$5:$A$24&Input!$G$5:$G$24,0),3))","v":""},{"$f":"IF($J22=\"\",\"\",INDEX(Input!$A$5:$H$24,MATCH($A22&$J22,Input!$A$5:$A$24&Input!$G$5:$G$24,0),4))","v":""},{"$f":"IF($J22=\"\",\"\",INDEX(Input!$A$5:$H$24,MATCH($A22&$J22,Input!$A$5:$A$24&Input!$G$5:$G$24,0),5))","v":""},null,null,null,null,{"$f":"IF($A22=\"\",\"\",OFFSET(Input!F$4,MATCH($A22,Input!$A$5:$A$24,0),0))","v":""},{"$f":"IF(N22=\"SY\", T22, IF(N22=\"Tons\", W22, \"\"))","v":""},null,{"$f":"IF(N22=\"SY\", V22, IF(N22=\"Tons\", O22-P22, \"\"))","v":""},{"$f":"SUBSTITUTE(A22 & \"\\\" & J22,\"\"\"\",\"\")","v":"\\"},{"$f":"IF(A22=\"\",1,IF(ISERROR(MATCH(R22,Input!L$5:L$24,0)),2,1))","v":1},{"$f":"IF(A22=\"\", \"\", SUMIF($Q$8:$Q$17, \"*\" & LEFT(A22, 11) & \"*\", $S$8:$S$17))","v":""},null,{"$f":"IF(A22=\"\", \"\", SUMIF($Q$8:$Q$17, \"*\" & LEFT(A22, 11) & \"*\", $T$8:$T$17))","v":""},{"$f":"IF(N22=\"SY\", T22, IF(N22=\"Tons\", V22+P22, \"\"))","v":""}]
[null,null,null,null,null,{"$f":"IF($J23=\"\",\"\",INDEX(Input!$A$5:$H$24,MATCH($A23&$J23,Input!$A$5:$A$24&Input!$G$5:$G$24,0),2))","v":""},{"$f":"IF($J23=\"\",\"\",INDEX(Input!$A$5:$H$24,MATCH($A23&$J23,Input!$A$5:$A$24&Input!$G$5:$G$24,0),3))","v":""},{"$f":"IF($J23=\"\",\"\",INDEX(Input!$A$5:$H$24,MATCH($A23&$J23,Input!$A$5:$A$24&Input!$G$5:$G$24,0),4))","v":""},{"$f":"IF($J23=\"\",\"\",INDEX(Input!$A$5:$H$24,MATCH($A23&$J23,Input!$A$5:$A$24&Input!$G$5:$G$24,0),5))","v":""},null,null,null,null,{"$f":"IF($A23=\"\",\"\",OFFSET(Input!F$4,MATCH($A23,Input!$A$5:$A$24,0),0))","v":""},{"$f":"IF(N23=\"SY\", T23, IF(N23=\"Tons\", W23, \"\"))","v":""},null,{"$f":"IF(N23=\"SY\", V23, IF(N23=\"Tons\", O23-P23, \"\"))","v":""},"\\",{"$f":"IF(A23=\"\",1,IF(ISERROR(MATCH(R23,Input!L$5:L$24,0)),2,1))","v":1},{"$f":"IF(A23=\"\", \"\", SUMIF($Q$8:$Q$17, \"*\" & LEFT(A23, 11) & \"*\", $S$8:$S$17))","v":""},null,{"$f":"IF(A23=\"\", \"\", SUMIF($Q$8:$Q$17, \"*\" & LEFT(A23, 11) & \"*\", $T$8:$T$17))","v":""},{"$f":"IF(N23=\"SY\", T23, IF(N23=\"Tons\", V23+P23, \"\"))","v":""}]
[null,null,null,null,null,{"$f":"IF($J24=\"\",\"\",INDEX(Input!$A$5:$H$24,MATCH($A24&$J24,Input!$A$5:$A$24&Input!$G$5:$G$24,0),2))","v":""},{"$f":"IF($J24=\"\",\"\",INDEX(Input!$A$5:$H$24,MATCH($A24&$J24,Input!$A$5:$A$24&Input!$G$5:$G$24,0),3))","v":""},{"$f":"IF($J24=\"\",\"\",INDEX(Input!$A$5:$H$24,MATCH($A24&$J24,Input!$A$5:$A$24&Input!$G$5:$G$24,0),4))","v":""},{"$f":"IF($J24=\"\",\"\",INDEX(Input!$A$5:$H$24,MATCH($A24&$J24,Input!$A$5:$A$24&Input!$G$5:$G$24,0),5))","v":""},null,null,null,null,{"$f":"IF($A24=\"\",\"\",OFFSET(Input!F$4,MATCH($A24,Input!$A$5:$A$24,0),0))","v":""},"",null,{"$f":"IF(N24=\"SY\", V24, IF(N24=\"Tons\", O24-P24, \"\"))","v":""},"\\",{"$f":"IF(A24=\"\",1,IF(ISERROR(MATCH(R24,Input!L$5:L$24,0)),2,1))","v":1},"",null,{"$f":"IF(A24=\"\", \"\", SUMIF($Q$8:$Q$17, \"*\" & LEFT(A24, 11) & \"*\", $T$8:$T$17))","v":""},{"$f":"IF(N24=\"SY\", T24, IF(N24=\"Tons\", V24+P24, \"\"))","v":""}]
[null,null,null,null,null,{"$f":"IF($J25=\"\",\"\",INDEX(Input!$A$5:$H$24,MATCH($A25&$J25,Input!$A$5:$A$24&Input!$G$5:$G$24,0),2))","v":""},{"$f":"IF($J25=\"\",\"\",INDEX(Input!$A$5:$H$24,MATCH($A25&$J25,Input!$A$5:$A$24&Input!$G$5:$G$24,0),3))","v":""},{"$f":"IF($J25=\"\",\"\",INDEX(Input!$A$5:$H$24,MATCH($A25&$J25,Input!$A$5:$A$24&Input!$G$5:$G$24,0),4))","v":""},{"$f":"IF($J25=\"\",\"\",INDEX(Input!$A$5:$H$24,MATCH($A25&$J25,Input!$A$5:$A$24&Input!$G$5:$G$24,0),5))","v":""},null,null,null,null,{"$f":"IF($A25=\"\",\"\",OFFSET(Input!F$4,MATCH($A25,Input!$A$5:$A$24,0),0))","v":""},"",null,"","\\",{"$f":"IF(A25=\"\",1,IF(ISERROR(MATCH(R25,Input!L$5:L$24,0)),2,1))","v":1},"",null,"",""]
[null,null,null,null,null,null,null,null,null,null,null,null,null,null,null,null,null,null,null,null,null,"",{"$f":"IF(N26=\"SY\", T26, IF(N26=\"Tons\", V26+P26, \"\"))","v":""},{"$f":"IF(A26=\"\", \"\", SUMIF($Q$8:$Q$17, \"*\" & LEFT(A26, 11) & \"*\", $S$8:$S$17))","v":""},{"$f":"IF(N26=\"SY\",X26,\"\")","v":""},{"$f":"IF(A26=\"\", \"\", SUMIF($Q$8:$Q$17, \"*\" & LEFT(A26, 11) & \"*\", $T$8:$T$17))","v":""}]
["Hot Box Sample",null,null,null,null,null,null,null,null,null,"Mat Temperatures °F"]
[null,"Test A","Test B","Test C","Test D","Test E",null,null,null,null,"Time","Temp"]
[" Hot Box ID Number  ",null,null,null,null,null,null,null,null,null,"7:00"]
["Hot Box Sample Tons: ",null,null,null,null,null,null,null,null,null,"9:00",null,null,null,"Intended Thickness:"]
[" Time: ",null,null,null,null,null,null,null,null,null,"11:00",null,null,null,"Cores Waived?"]
[" Station/MP: ",null,null,null,null,null,null,null,null,null,"1:00",null,null,null,"Small Quantity Statement?"]
["Bar Code ID.:",null,null,null,null,null,null,null,null,null,"3:00",null,null,null,"Scale Check Done?"]
["Compaction Temp. °F: ",null,null,null,null,null,null,null,null,null,"5:00",null,null,null,"Tack Tickets Today?"]
[null,null,null,null,null,null,null,null,null,null,"7:00"]
["The Below Comments should show up on the plant report"]
["Comments:"]
[]
[]
["The Below Notes are for the CPI from the field or Plant Monitor"]
["Notes:"]
[]
[]
["RANDOM CORE LOCATIONS"]
[null,null,null,null,null,null,null,"Core #","Station","Offset,ft","Joint Station","Lane"]
[null,null,null,null,null,null,null,1]
[null,null,null,null,null,null,null,2]
[null,null,null,null,null,null,null,3]
[null,null,null,null,null,null,null,4]
[null,null,null,null,null,null,null,5]
[null,null,null,null,null,null,null,6]
[null,null,null,null,null,null,null,7]
[null,null,null,null,null,null,null,8]
[]
[null,null,null,null,null,null,null,null,null,null,"Joint Sublot Size, ft"]
[null,null,null,null,null,null,null,null,null,null,0]
[]
[]
[]
[]
[]
[]
[]
[]
[]
[]
[]
[]
[]
[]
[]
[]
[]
[]
[]
[]
[]
[]
[]
[]
[]
[]
[]
[]
[]
[]
[]
[]
[]
[]
[]
[]
[]
[]
[]
[]
[false]

{"sheet":"23","index":38,"n_rows":97,"n_cols":26,"rows_kept":97,"cut":false,"hidden":false,"merged":[[50,11,50,13],[51,11,51,13],[52,11,52,13],[44,11,44,13],[45,11,45,13],[46,11,46,13],[47,11,47,13],[48,11,48,13],[49,11,49,13],[43,0,43,16],[25,0,25,1],[26,0,26,5],[26,20,26,23],[26,25,26,27],[34,2,34,4],[35,0,35,5],[36,1,36,14],[37,0,37,14],[39,0,39,5],[40,1,40,14],[41,0,41,14],[23,0,23,1],[23,2,23,4],[23,9,23,12],[24,0,24,1],[24,2,24,4],[24,9,24,12],[21,0,21,1],[21,2,21,4],[21,9,21,12],[22,0,22,1],[22,2,22,4],[22,9,22,12],[19,0,19,1],[19,2,19,4],[19,9,19,12],[20,0,20,1],[20,2,20,4],[20,9,20,12],[18,0,18,16],[6,14,6,15],[7,14,7,15],[8,14,8,15],[9,14,9,15],[10,14,10,15],[11,14,11,15],[12,14,12,15],[13,14,13,15],[14,14,14,15],[15,14,15,15],[16,14,16,15],[1,0,1,16],[4,0,4,15],[5,4,5,5],[5,8,5,9],[5,11,5,12],[5,13,5,15]]}
[]
["Iowa DOT HMA Field Report"]
["Date :"]
["Item No.('s)"]
["PLACEMENT RECORD",null,null,null,null,null,null,null,null,null,null,null,null,null,null,null,null,null,null,null,null,{"$f":"SUBSTITUTE(A21 & \"\\\" & J21,\"\"\"\",\"\")","v":"\\"}]
[null,null,null,null,"Additional width to DEDUCT from Field Voids",null,null,null,"Placed Density (Pounds/CF)=",null,150,"Overwritten on the \"Summary\" Tab",null,"ONLY ONE (1) MIX DESIGN PER DFR OTHERWISE IT WILL NOT IMPORT INTO THE PLANT REPORT PROPERLY",null,null,null,null,null,null,null,{"$f":"SUBSTITUTE(A22 & \"\\\" & J22,\"\"\"\",\"\")","v":"\\"}]
["From Station"," To Station","Lane","ML or Widening Placement Width","Additional Width (ft) ","Thickness (in)","Total Length Placed (FT)","\"Pay\"  Est \"SY\"","Thickness (inches)","Calculated Field Voids Tons","Placed Tons            (Not including Waste)","% Yield","SY to be PAID (If Diff. than Est SY)","Mix Design No.","Bid Item/ Project No.",null,null,null,"This uses the correct SY #, if Green is blank uses Est. SY","Adds up the Tons",null,"\\"]
[null,null,null,null,null,null,{"$f":"IF(OR(A8=\"\",B8=\"\"),0,IF($A$97=TRUE,ABS(B8-A8)*5280,ABS(VALUE(SUBSTITUTE(A8,\"+\",\"\"))-VALUE(SUBSTITUTE(B8,\"+\",\"\")))))","v":0},{"$f":"IF(D8=\"\",\"\",G8*(D8+E8)/9)","v":""},null,{"$f":"IF(I8=\"\",\"\",(G8)*(D8+E8)*I8/12*$K$6/2000)","v":""},null,{"$f":"IF(K8=\"\",\"\",K8/J8*100)","v":""},null,null,null,null,{"$f":"O8 & \"\\\" & N8","v":"\\"},{"$f":"IF(AND(A8=\"\",B8=\"\",C8=\"\",D8=\"\"),1,IF(OR(O8=\"\",N8=\"\"),2,IF(ISERROR(MATCH(Q8,Input!M$5:M$24,0)),2,1)))","v":1},{"$f":"IF(M8<>\"\", M8, H8)","v":""},{"$f":"K8","v":0},null,"\\"]
[null,null,null,null,null,null,{"$f":"IF(OR(A9=\"\",B9=\"\"),0,IF($A$97=TRUE,ABS(B9-A9)*5280,ABS(VALUE(SUBSTITUTE(A9,\"+\",\"\"))-VALUE(SUBSTITUTE(B9,\"+\",\"\")))))","v":0},{"$f":"IF(D9=\"\",\"\",G9*(D9+E9)/9)","v":""},null,"",null,{"$f":"IF(K9=\"\",\"\",K9/J9*100)","v":""},null,null,null,null,{"$f":"O9 & \"\\\" & N9","v":"\\"},{"$f":"IF(AND(A9=\"\",B9=\"\",C9=\"\",D9=\"\"),1,IF(OR(O9=\"\",N9=\"\"),2,IF(ISERROR(MATCH(Q9,Input!M$5:M$24,0)),2,1)))","v":1},{"$f":"IF(M9<>\"\", M9, H9)","v":""},{"$f":"K9","v":0},null,"\\"]
[null,null,null,null,null,null,0,"",null,"",null,"",null,null,null,null,"\\",{"$f":"IF(AND(A10=\"\",B10=\"\",C10=\"\",D10=\"\"),1,IF(OR(O10=\"\",N10=\"\"),2,IF(ISERROR(MATCH(Q10,Input!M$5:M$24,0)),2,1)))","v":1},{"$f":"IF(M10<>\"\", M10, H10)","v":""},0]
[null,null,null,null,null,null,0,"",null,"",null,"",null,null,null,null,"\\",{"$f":"IF(AND(A11=\"\",B11=\"\",C11=\"\",D11=\"\"),1,IF(OR(O11=\"\",N11=\"\"),2,IF(ISERROR(MATCH(Q11,Input!M$5:M$24,0)),2,1)))","v":1},"",0]
[null,null,null,null,null,null,0,"",null,"",null,"",null,null,null,null,"\\",{"$f":"IF(AND(A12=\"\",B12=\"\",C12=\"\",D12=\"\"),1,IF(OR(O12=\"\",N12=\"\"),2,IF(ISERROR(MATCH(Q12,Input!M$5:M$24,0)),2,1)))","v":1},"",0]
[null,null,null,null,null,null,0,"",null,"",null,"",null,null,null,null,"\\",{"$f":"IF(AND(A13=\"\",B13=\"\",C13=\"\",D13=\"\"),1,IF(OR(O13=\"\",N13=\"\"),2,IF(ISERROR(MATCH(Q13,Input!M$5:M$24,0)),2,1)))","v":1},"",0]
[null,null,null,null,null,null,0,"",null,"",null,"",null,null,null,null,"\\",{"$f":"IF(AND(A14=\"\",B14=\"\",C14=\"\",D14=\"\"),1,IF(OR(O14=\"\",N14=\"\"),2,IF(ISERROR(MATCH(Q14,Input!M$5:M$24,0)),2,1)))","v":1},"",0]
[null,null,null,null,null,null,0,"",null,"",null,"",null,null,null,null,"\\",{"$f":"IF(AND(A15=\"\",B15=\"\",C15=\"\",D15=\"\"),1,IF(OR(O15=\"\",N15=\"\"),2,IF(ISERROR(MATCH(Q15,Input!M$5:M$24,0)),2,1)))","v":1},"",0]
[null,null,null,null,null,null,0,"",null,"",null,"",null,null,null,null,"\\",{"$f":"IF(AND(A16=\"\",B16=\"\",C16=\"\",D16=\"\"),1,IF(OR(O16=\"\",N16=\"\"),2,IF(ISERROR(MATCH(Q16,Input!M$5:M$24,0)),2,1)))","v":1},"",0]
[null,null,null,null,null,null,0,"",null,"",null,"",null,null,null,null,"\\",{"$f":"IF(AND(A17=\"\",B17=\"\",C17=\"\",D17=\"\"),1,IF(OR(O17=\"\",N17=\"\"),2,IF(ISERROR(MATCH(Q17,Input!M$5:M$24,0)),2,1)))","v":1},"",0]
[]
["TANK SHEET"]
["Bid Item (In Order of Placement)",null,"Today's Placement",null,null,"Bid Item Plan Quantity","Plan Thickness (in)","Contract Mix Price","Contract Binder Price","Project Number",null,null,null,"Mix Pay Units","Mix Delivered to Road\n(Ton or SY)","Waste On Road (Ton)\nNO waste for SY Items","Tons Placed - Waste",null,null,"This adds up column S as it depends if the Est SY is filled out or the SY",null,"Use this Column for SY for the Q column","Uses this Value for Mix on Road"]
[null,null,null,null,null,{"$f":"IF($J21=\"\",\"\",INDEX(Input!$A$5:$H$24,MATCH($A21&$J21,Input!$A$5:$A$24&Input!$G$5:$G$24,0),2))","v":""},{"$f":"IF($J21=\"\",\"\",INDEX(Input!$A$5:$H$24,MATCH($A21&$J21,Input!$A$5:$A$24&Input!$G$5:$G$24,0),3))","v":""},{"$f":"IF($J21=\"\",\"\",INDEX(Input!$A$5:$H$24,MATCH($A21&$J21,Input!$A$5:$A$24&Input!$G$5:$G$24,0),4))","v":""},{"$f":"IF($J21=\"\",\"\",INDEX(Input!$A$5:$H$24,MATCH($A21&$J21,Input!$A$5:$A$24&Input!$G$5:$G$24,0),5))","v":""},null,null,null,null,{"$f":"IF($A21=\"\",\"\",OFFSET(Input!F$4,MATCH($A21,Input!$A$5:$A$24,0),0))","v":""},{"$f":"IF(N21=\"SY\", T21, IF(N21=\"Tons\", W21, \"\"))","v":""},null,{"$f":"IF(N21=\"SY\", V21, IF(N21=\"Tons\", O21-P21, \"\"))","v":""},{"$f":"SUBSTITUTE(A21 & \"\\\" & J21,\"\"\"\",\"\")","v":"\\"},{"$f":"IF(A21=\"\",1,IF(ISERROR(MATCH(R21,Input!L$5:L$24,0)),2,1))","v":1},{"$f":"IF(A21=\"\", \"\", SUMIF($Q$8:$Q$17, \"*\" & LEFT(A21, 11) & \"*\", $S$8:$S$17))","v":""},null,{"$f":"IF(A21=\"\", \"\", SUMIF($Q$8:$Q$17, \"*\" & LEFT(A21, 11) & \"*\", $T$8:$T$17))","v":""},{"$f":"IF(N21=\"SY\", T21, IF(N21=\"Tons\", V21+P21, \"\"))","v":""}]
[null,null,null,null,null,{"$f":"IF($J22=\"\",\"\",INDEX(Input!$A$5:$H$24,MATCH($A22&$J22,Input!$A$5:$A$24&Input!$G$5:$G$24,0),2))","v":""},{"$f":"IF($J22=\"\",\"\",INDEX(Input!$A$5:$H$24,MATCH($A22&$J22,Input!$A$5:$A$24&Input!$G$5:$G$24,0),3))","v":""},{"$f":"IF($J22=\"\",\"\",INDEX(Input!$A$5:$H$24,MATCH($A22&$J22,Input!$A$5:$A$24&Input!$G$5:$G$24,0),4))","v":""},{"$f":"IF($J22=\"\",\"\",INDEX(Input!$A$5:$H$24,MATCH($A22&$J22,Input!$A$5:$A$24&Input!$G$5:$G$24,0),5))","v":""},null,null,null,null,{"$f":"IF($A22=\"\",\"\",OFFSET(Input!F$4,MATCH($A22,Input!$A$5:$A$24,0),0))","v":""},{"$f":"IF(N22=\"SY\", T22, IF(N22=\"Tons\", W22, \"\"))","v":""},null,{"$f":"IF(N22=\"SY\", V22, IF(N22=\"Tons\", O22-P22, \"\"))","v":""},{"$f":"SUBSTITUTE(A22 & \"\\\" & J22,\"\"\"\",\"\")","v":"\\"},{"$f":"IF(A22=\"\",1,IF(ISERROR(MATCH(R22,Input!L$5:L$24,0)),2,1))","v":1},{"$f":"IF(A22=\"\", \"\", SUMIF($Q$8:$Q$17, \"*\" & LEFT(A22, 11) & \"*\", $S$8:$S$17))","v":""},null,{"$f":"IF(A22=\"\", \"\", SUMIF($Q$8:$Q$17, \"*\" & LEFT(A22, 11) & \"*\", $T$8:$T$17))","v":""},{"$f":"IF(N22=\"SY\", T22, IF(N22=\"Tons\", V22+P22, \"\"))","v":""}]
[null,null,null,null,null,{"$f":"IF($J23=\"\",\"\",INDEX(Input!$A$5:$H$24,MATCH($A23&$J23,Input!$A$5:$A$24&Input!$G$5:$G$24,0),2))","v":""},{"$f":"IF($J23=\"\",\"\",INDEX(Input!$A$5:$H$24,MATCH($A23&$J23,Input!$A$5:$A$24&Input!$G$5:$G$24,0),3))","v":""},{"$f":"IF($J23=\"\",\"\",INDEX(Input!$A$5:$H$24,MATCH($A23&$J23,Input!$A$5:$A$24&Input!$G$5:$G$24,0),4))","v":""},{"$f":"IF($J23=\"\",\"\",INDEX(Input!$A$5:$H$24,MATCH($A23&$J23,Input!$A$5:$A$24&Input!$G$5:$G$24,0),5))","v":""},null,null,null,null,{"$f":"IF($A23=\"\",\"\",OFFSET(Input!F$4,MATCH($A23,Input!$A$5:$A$24,0),0))","v":""},{"$f":"IF(N23=\"SY\", T23, IF(N23=\"Tons\", W23, \"\"))","v":""},null,{"$f":"IF(N23=\"SY\", V23, IF(N23=\"Tons\", O23-P23, \"\"))","v":""},"\\",{"$f":"IF(A23=\"\",1,IF(ISERROR(MATCH(R23,Input!L$5:L$24,0)),2,1))","v":1},{"$f":"IF(A23=\"\", \"\", SUMIF($Q$8:$Q$17, \"*\" & LEFT(A23, 11) & \"*\", $S$8:$S$17))","v":""},null,{"$f":"IF(A23=\"\", \"\", SUMIF($Q$8:$Q$17, \"*\" & LEFT(A23, 11) & \"*\", $T$8:$T$17))","v":""},{"$f":"IF(N23=\"SY\", T23, IF(N23=\"Tons\", V23+P23, \"\"))","v":""}]
[null,null,null,null,null,{"$f":"IF($J24=\"\",\"\",INDEX(Input!$A$5:$H$24,MATCH($A24&$J24,Input!$A$5:$A$24&Input!$G$5:$G$24,0),2))","v":""},{"$f":"IF($J24=\"\",\"\",INDEX(Input!$A$5:$H$24,MATCH($A24&$J24,Input!$A$5:$A$24&Input!$G$5:$G$24,0),3))","v":""},{"$f":"IF($J24=\"\",\"\",INDEX(Input!$A$5:$H$24,MATCH($A24&$J24,Input!$A$5:$A$24&Input!$G$5:$G$24,0),4))","v":""},{"$f":"IF($J24=\"\",\"\",INDEX(Input!$A$5:$H$24,MATCH($A24&$J24,Input!$A$5:$A$24&Input!$G$5:$G$24,0),5))","v":""},null,null,null,null,{"$f":"IF($A24=\"\",\"\",OFFSET(Input!F$4,MATCH($A24,Input!$A$5:$A$24,0),0))","v":""},"",null,{"$f":"IF(N24=\"SY\", V24, IF(N24=\"Tons\", O24-P24, \"\"))","v":""},"\\",{"$f":"IF(A24=\"\",1,IF(ISERROR(MATCH(R24,Input!L$5:L$24,0)),2,1))","v":1},"",null,{"$f":"IF(A24=\"\", \"\", SUMIF($Q$8:$Q$17, \"*\" & LEFT(A24, 11) & \"*\", $T$8:$T$17))","v":""},{"$f":"IF(N24=\"SY\", T24, IF(N24=\"Tons\", V24+P24, \"\"))","v":""}]
[null,null,null,null,null,{"$f":"IF($J25=\"\",\"\",INDEX(Input!$A$5:$H$24,MATCH($A25&$J25,Input!$A$5:$A$24&Input!$G$5:$G$24,0),2))","v":""},{"$f":"IF($J25=\"\",\"\",INDEX(Input!$A$5:$H$24,MATCH($A25&$J25,Input!$A$5:$A$24&Input!$G$5:$G$24,0),3))","v":""},{"$f":"IF($J25=\"\",\"\",INDEX(Input!$A$5:$H$24,MATCH($A25&$J25,Input!$A$5:$A$24&Input!$G$5:$G$24,0),4))","v":""},{"$f":"IF($J25=\"\",\"\",INDEX(Input!$A$5:$H$24,MATCH($A25&$J25,Input!$A$5:$A$24&Input!$G$5:$G$24,0),5))","v":""},null,null,null,null,{"$f":"IF($A25=\"\",\"\",OFFSET(Input!F$4,MATCH($A25,Input!$A$5:$A$24,0),0))","v":""},"",null,"","\\",{"$f":"IF(A25=\"\",1,IF(ISERROR(MATCH(R25,Input!L$5:L$24,0)),2,1))","v":1},"",null,"",""]
[null,null,null,null,null,null,null,null,null,null,null,null,null,null,null,null,null,null,null,null,null,"",{"$f":"IF(N26=\"SY\", T26, IF(N26=\"Tons\", V26+P26, \"\"))","v":""},{"$f":"IF(A26=\"\", \"\", SUMIF($Q$8:$Q$17, \"*\" & LEFT(A26, 11) & \"*\", $S$8:$S$17))","v":""},{"$f":"IF(N26=\"SY\",X26,\"\")","v":""},{"$f":"IF(A26=\"\", \"\", SUMIF($Q$8:$Q$17, \"*\" & LEFT(A26, 11) & \"*\", $T$8:$T$17))","v":""}]
["Hot Box Sample",null,null,null,null,null,null,null,null,null,"Mat Temperatures °F"]
[null,"Test A","Test B","Test C","Test D","Test E",null,null,null,null,"Time","Temp"]
[" Hot Box ID Number  ",null,null,null,null,null,null,null,null,null,"7:00"]
["Hot Box Sample Tons: ",null,null,null,null,null,null,null,null,null,"9:00",null,null,null,"Intended Thickness:"]
[" Time: ",null,null,null,null,null,null,null,null,null,"11:00",null,null,null,"Cores Waived?"]
[" Station/MP: ",null,null,null,null,null,null,null,null,null,"1:00",null,null,null,"Small Quantity Statement?"]
["Bar Code ID.:",null,null,null,null,null,null,null,null,null,"3:00",null,null,null,"Scale Check Done?"]
["Compaction Temp. °F: ",null,null,null,null,null,null,null,null,null,"5:00",null,null,null,"Tack Tickets Today?"]
[null,null,null,null,null,null,null,null,null,null,"7:00"]
["The Below Comments should show up on the plant report"]
["Comments:"]
[]
[]
["The Below Notes are for the CPI from the field or Plant Monitor"]
["Notes:"]
[]
[]
["RANDOM CORE LOCATIONS"]
[null,null,null,null,null,null,null,"Core #","Station","Offset,ft","Joint Station","Lane"]
[null,null,null,null,null,null,null,1]
[null,null,null,null,null,null,null,2]
[null,null,null,null,null,null,null,3]
[null,null,null,null,null,null,null,4]
[null,null,null,null,null,null,null,5]
[null,null,null,null,null,null,null,6]
[null,null,null,null,null,null,null,7]
[null,null,null,null,null,null,null,8]
[]
[null,null,null,null,null,null,null,null,null,null,"Joint Sublot Size, ft"]
[null,null,null,null,null,null,null,null,null,null,0]
[]
[]
[]
[]
[]
[]
[]
[]
[]
[]
[]
[]
[]
[]
[]
[]
[]
[]
[]
[]
[]
[]
[]
[]
[]
[]
[]
[]
[]
[]
[]
[]
[]
[]
[]
[]
[]
[]
[]
[]
[false]

{"sheet":"24","index":39,"n_rows":97,"n_cols":26,"rows_kept":97,"cut":false,"hidden":false,"merged":[[50,11,50,13],[51,11,51,13],[52,11,52,13],[44,11,44,13],[45,11,45,13],[46,11,46,13],[47,11,47,13],[48,11,48,13],[49,11,49,13],[43,0,43,16],[25,0,25,1],[26,0,26,5],[26,20,26,23],[26,25,26,27],[34,2,34,4],[35,0,35,5],[36,1,36,14],[37,0,37,14],[39,0,39,5],[40,1,40,14],[41,0,41,14],[23,0,23,1],[23,2,23,4],[23,9,23,12],[24,0,24,1],[24,2,24,4],[24,9,24,12],[21,0,21,1],[21,2,21,4],[21,9,21,12],[22,0,22,1],[22,2,22,4],[22,9,22,12],[19,0,19,1],[19,2,19,4],[19,9,19,12],[20,0,20,1],[20,2,20,4],[20,9,20,12],[18,0,18,16],[6,14,6,15],[7,14,7,15],[8,14,8,15],[9,14,9,15],[10,14,10,15],[11,14,11,15],[12,14,12,15],[13,14,13,15],[14,14,14,15],[15,14,15,15],[16,14,16,15],[1,0,1,16],[4,0,4,15],[5,4,5,5],[5,8,5,9],[5,11,5,12],[5,13,5,15]]}
[]
["Iowa DOT HMA Field Report"]
["Date :"]
["Item No.('s)"]
["PLACEMENT RECORD",null,null,null,null,null,null,null,null,null,null,null,null,null,null,null,null,null,null,null,null,{"$f":"SUBSTITUTE(A21 & \"\\\" & J21,\"\"\"\",\"\")","v":"\\"}]
[null,null,null,null,"Additional width to DEDUCT from Field Voids",null,null,null,"Placed Density (Pounds/CF)=",null,150,"Overwritten on the \"Summary\" Tab",null,"ONLY ONE (1) MIX DESIGN PER DFR OTHERWISE IT WILL NOT IMPORT INTO THE PLANT REPORT PROPERLY",null,null,null,null,null,null,null,{"$f":"SUBSTITUTE(A22 & \"\\\" & J22,\"\"\"\",\"\")","v":"\\"}]
["From Station"," To Station","Lane","ML or Widening Placement Width","Additional Width (ft) ","Thickness (in)","Total Length Placed (FT)","\"Pay\"  Est \"SY\"","Thickness (inches)","Calculated Field Voids Tons","Placed Tons            (Not including Waste)","% Yield","SY to be PAID (If Diff. than Est SY)","Mix Design No.","Bid Item/ Project No.",null,null,null,"This uses the correct SY #, if Green is blank uses Est. SY","Adds up the Tons",null,"\\"]
[null,null,null,null,null,null,{"$f":"IF(OR(A8=\"\",B8=\"\"),0,IF($A$97=TRUE,ABS(B8-A8)*5280,ABS(VALUE(SUBSTITUTE(A8,\"+\",\"\"))-VALUE(SUBSTITUTE(B8,\"+\",\"\")))))","v":0},{"$f":"IF(D8=\"\",\"\",G8*(D8+E8)/9)","v":""},null,{"$f":"IF(I8=\"\",\"\",(G8)*(D8+E8)*I8/12*$K$6/2000)","v":""},null,{"$f":"IF(K8=\"\",\"\",K8/J8*100)","v":""},null,null,null,null,{"$f":"O8 & \"\\\" & N8","v":"\\"},{"$f":"IF(AND(A8=\"\",B8=\"\",C8=\"\",D8=\"\"),1,IF(OR(O8=\"\",N8=\"\"),2,IF(ISERROR(MATCH(Q8,Input!M$5:M$24,0)),2,1)))","v":1},{"$f":"IF(M8<>\"\", M8, H8)","v":""},{"$f":"K8","v":0},null,"\\"]
[null,null,null,null,null,null,{"$f":"IF(OR(A9=\"\",B9=\"\"),0,IF($A$97=TRUE,ABS(B9-A9)*5280,ABS(VALUE(SUBSTITUTE(A9,\"+\",\"\"))-VALUE(SUBSTITUTE(B9,\"+\",\"\")))))","v":0},{"$f":"IF(D9=\"\",\"\",G9*(D9+E9)/9)","v":""},null,"",null,{"$f":"IF(K9=\"\",\"\",K9/J9*100)","v":""},null,null,null,null,{"$f":"O9 & \"\\\" & N9","v":"\\"},{"$f":"IF(AND(A9=\"\",B9=\"\",C9=\"\",D9=\"\"),1,IF(OR(O9=\"\",N9=\"\"),2,IF(ISERROR(MATCH(Q9,Input!M$5:M$24,0)),2,1)))","v":1},{"$f":"IF(M9<>\"\", M9, H9)","v":""},{"$f":"K9","v":0},null,"\\"]
[null,null,null,null,null,null,0,"",null,"",null,"",null,null,null,null,"\\",{"$f":"IF(AND(A10=\"\",B10=\"\",C10=\"\",D10=\"\"),1,IF(OR(O10=\"\",N10=\"\"),2,IF(ISERROR(MATCH(Q10,Input!M$5:M$24,0)),2,1)))","v":1},{"$f":"IF(M10<>\"\", M10, H10)","v":""},0]
[null,null,null,null,null,null,0,"",null,"",null,"",null,null,null,null,"\\",{"$f":"IF(AND(A11=\"\",B11=\"\",C11=\"\",D11=\"\"),1,IF(OR(O11=\"\",N11=\"\"),2,IF(ISERROR(MATCH(Q11,Input!M$5:M$24,0)),2,1)))","v":1},"",0]
[null,null,null,null,null,null,0,"",null,"",null,"",null,null,null,null,"\\",{"$f":"IF(AND(A12=\"\",B12=\"\",C12=\"\",D12=\"\"),1,IF(OR(O12=\"\",N12=\"\"),2,IF(ISERROR(MATCH(Q12,Input!M$5:M$24,0)),2,1)))","v":1},"",0]
[null,null,null,null,null,null,0,"",null,"",null,"",null,null,null,null,"\\",{"$f":"IF(AND(A13=\"\",B13=\"\",C13=\"\",D13=\"\"),1,IF(OR(O13=\"\",N13=\"\"),2,IF(ISERROR(MATCH(Q13,Input!M$5:M$24,0)),2,1)))","v":1},"",0]
[null,null,null,null,null,null,0,"",null,"",null,"",null,null,null,null,"\\",{"$f":"IF(AND(A14=\"\",B14=\"\",C14=\"\",D14=\"\"),1,IF(OR(O14=\"\",N14=\"\"),2,IF(ISERROR(MATCH(Q14,Input!M$5:M$24,0)),2,1)))","v":1},"",0]
[null,null,null,null,null,null,0,"",null,"",null,"",null,null,null,null,"\\",{"$f":"IF(AND(A15=\"\",B15=\"\",C15=\"\",D15=\"\"),1,IF(OR(O15=\"\",N15=\"\"),2,IF(ISERROR(MATCH(Q15,Input!M$5:M$24,0)),2,1)))","v":1},"",0]
[null,null,null,null,null,null,0,"",null,"",null,"",null,null,null,null,"\\",{"$f":"IF(AND(A16=\"\",B16=\"\",C16=\"\",D16=\"\"),1,IF(OR(O16=\"\",N16=\"\"),2,IF(ISERROR(MATCH(Q16,Input!M$5:M$24,0)),2,1)))","v":1},"",0]
[null,null,null,null,null,null,0,"",null,"",null,"",null,null,null,null,"\\",{"$f":"IF(AND(A17=\"\",B17=\"\",C17=\"\",D17=\"\"),1,IF(OR(O17=\"\",N17=\"\"),2,IF(ISERROR(MATCH(Q17,Input!M$5:M$24,0)),2,1)))","v":1},"",0]
[]
["TANK SHEET"]
["Bid Item (In Order of Placement)",null,"Today's Placement",null,null,"Bid Item Plan Quantity","Plan Thickness (in)","Contract Mix Price","Contract Binder Price","Project Number",null,null,null,"Mix Pay Units","Mix Delivered to Road\n(Ton or SY)","Waste On Road (Ton)\nNO waste for SY Items","Tons Placed - Waste",null,null,"This adds up column S as it depends if the Est SY is filled out or the SY",null,"Use this Column for SY for the Q column","Uses this Value for Mix on Road"]
[null,null,null,null,null,{"$f":"IF($J21=\"\",\"\",INDEX(Input!$A$5:$H$24,MATCH($A21&$J21,Input!$A$5:$A$24&Input!$G$5:$G$24,0),2))","v":""},{"$f":"IF($J21=\"\",\"\",INDEX(Input!$A$5:$H$24,MATCH($A21&$J21,Input!$A$5:$A$24&Input!$G$5:$G$24,0),3))","v":""},{"$f":"IF($J21=\"\",\"\",INDEX(Input!$A$5:$H$24,MATCH($A21&$J21,Input!$A$5:$A$24&Input!$G$5:$G$24,0),4))","v":""},{"$f":"IF($J21=\"\",\"\",INDEX(Input!$A$5:$H$24,MATCH($A21&$J21,Input!$A$5:$A$24&Input!$G$5:$G$24,0),5))","v":""},null,null,null,null,{"$f":"IF($A21=\"\",\"\",OFFSET(Input!F$4,MATCH($A21,Input!$A$5:$A$24,0),0))","v":""},{"$f":"IF(N21=\"SY\", T21, IF(N21=\"Tons\", W21, \"\"))","v":""},null,{"$f":"IF(N21=\"SY\", V21, IF(N21=\"Tons\", O21-P21, \"\"))","v":""},{"$f":"SUBSTITUTE(A21 & \"\\\" & J21,\"\"\"\",\"\")","v":"\\"},{"$f":"IF(A21=\"\",1,IF(ISERROR(MATCH(R21,Input!L$5:L$24,0)),2,1))","v":1},{"$f":"IF(A21=\"\", \"\", SUMIF($Q$8:$Q$17, \"*\" & LEFT(A21, 11) & \"*\", $S$8:$S$17))","v":""},null,{"$f":"IF(A21=\"\", \"\", SUMIF($Q$8:$Q$17, \"*\" & LEFT(A21, 11) & \"*\", $T$8:$T$17))","v":""},{"$f":"IF(N21=\"SY\", T21, IF(N21=\"Tons\", V21+P21, \"\"))","v":""}]
[null,null,null,null,null,{"$f":"IF($J22=\"\",\"\",INDEX(Input!$A$5:$H$24,MATCH($A22&$J22,Input!$A$5:$A$24&Input!$G$5:$G$24,0),2))","v":""},{"$f":"IF($J22=\"\",\"\",INDEX(Input!$A$5:$H$24,MATCH($A22&$J22,Input!$A$5:$A$24&Input!$G$5:$G$24,0),3))","v":""},{"$f":"IF($J22=\"\",\"\",INDEX(Input!$A$5:$H$24,MATCH($A22&$J22,Input!$A$5:$A$24&Input!$G$5:$G$24,0),4))","v":""},{"$f":"IF($J22=\"\",\"\",INDEX(Input!$A$5:$H$24,MATCH($A22&$J22,Input!$A$5:$A$24&Input!$G$5:$G$24,0),5))","v":""},null,null,null,null,{"$f":"IF($A22=\"\",\"\",OFFSET(Input!F$4,MATCH($A22,Input!$A$5:$A$24,0),0))","v":""},{"$f":"IF(N22=\"SY\", T22, IF(N22=\"Tons\", W22, \"\"))","v":""},null,{"$f":"IF(N22=\"SY\", V22, IF(N22=\"Tons\", O22-P22, \"\"))","v":""},{"$f":"SUBSTITUTE(A22 & \"\\\" & J22,\"\"\"\",\"\")","v":"\\"},{"$f":"IF(A22=\"\",1,IF(ISERROR(MATCH(R22,Input!L$5:L$24,0)),2,1))","v":1},{"$f":"IF(A22=\"\", \"\", SUMIF($Q$8:$Q$17, \"*\" & LEFT(A22, 11) & \"*\", $S$8:$S$17))","v":""},null,{"$f":"IF(A22=\"\", \"\", SUMIF($Q$8:$Q$17, \"*\" & LEFT(A22, 11) & \"*\", $T$8:$T$17))","v":""},{"$f":"IF(N22=\"SY\", T22, IF(N22=\"Tons\", V22+P22, \"\"))","v":""}]
[null,null,null,null,null,{"$f":"IF($J23=\"\",\"\",INDEX(Input!$A$5:$H$24,MATCH($A23&$J23,Input!$A$5:$A$24&Input!$G$5:$G$24,0),2))","v":""},{"$f":"IF($J23=\"\",\"\",INDEX(Input!$A$5:$H$24,MATCH($A23&$J23,Input!$A$5:$A$24&Input!$G$5:$G$24,0),3))","v":""},{"$f":"IF($J23=\"\",\"\",INDEX(Input!$A$5:$H$24,MATCH($A23&$J23,Input!$A$5:$A$24&Input!$G$5:$G$24,0),4))","v":""},{"$f":"IF($J23=\"\",\"\",INDEX(Input!$A$5:$H$24,MATCH($A23&$J23,Input!$A$5:$A$24&Input!$G$5:$G$24,0),5))","v":""},null,null,null,null,{"$f":"IF($A23=\"\",\"\",OFFSET(Input!F$4,MATCH($A23,Input!$A$5:$A$24,0),0))","v":""},{"$f":"IF(N23=\"SY\", T23, IF(N23=\"Tons\", W23, \"\"))","v":""},null,{"$f":"IF(N23=\"SY\", V23, IF(N23=\"Tons\", O23-P23, \"\"))","v":""},"\\",{"$f":"IF(A23=\"\",1,IF(ISERROR(MATCH(R23,Input!L$5:L$24,0)),2,1))","v":1},{"$f":"IF(A23=\"\", \"\", SUMIF($Q$8:$Q$17, \"*\" & LEFT(A23, 11) & \"*\", $S$8:$S$17))","v":""},null,{"$f":"IF(A23=\"\", \"\", SUMIF($Q$8:$Q$17, \"*\" & LEFT(A23, 11) & \"*\", $T$8:$T$17))","v":""},{"$f":"IF(N23=\"SY\", T23, IF(N23=\"Tons\", V23+P23, \"\"))","v":""}]
[null,null,null,null,null,{"$f":"IF($J24=\"\",\"\",INDEX(Input!$A$5:$H$24,MATCH($A24&$J24,Input!$A$5:$A$24&Input!$G$5:$G$24,0),2))","v":""},{"$f":"IF($J24=\"\",\"\",INDEX(Input!$A$5:$H$24,MATCH($A24&$J24,Input!$A$5:$A$24&Input!$G$5:$G$24,0),3))","v":""},{"$f":"IF($J24=\"\",\"\",INDEX(Input!$A$5:$H$24,MATCH($A24&$J24,Input!$A$5:$A$24&Input!$G$5:$G$24,0),4))","v":""},{"$f":"IF($J24=\"\",\"\",INDEX(Input!$A$5:$H$24,MATCH($A24&$J24,Input!$A$5:$A$24&Input!$G$5:$G$24,0),5))","v":""},null,null,null,null,{"$f":"IF($A24=\"\",\"\",OFFSET(Input!F$4,MATCH($A24,Input!$A$5:$A$24,0),0))","v":""},"",null,{"$f":"IF(N24=\"SY\", V24, IF(N24=\"Tons\", O24-P24, \"\"))","v":""},"\\",{"$f":"IF(A24=\"\",1,IF(ISERROR(MATCH(R24,Input!L$5:L$24,0)),2,1))","v":1},"",null,{"$f":"IF(A24=\"\", \"\", SUMIF($Q$8:$Q$17, \"*\" & LEFT(A24, 11) & \"*\", $T$8:$T$17))","v":""},{"$f":"IF(N24=\"SY\", T24, IF(N24=\"Tons\", V24+P24, \"\"))","v":""}]
[null,null,null,null,null,{"$f":"IF($J25=\"\",\"\",INDEX(Input!$A$5:$H$24,MATCH($A25&$J25,Input!$A$5:$A$24&Input!$G$5:$G$24,0),2))","v":""},{"$f":"IF($J25=\"\",\"\",INDEX(Input!$A$5:$H$24,MATCH($A25&$J25,Input!$A$5:$A$24&Input!$G$5:$G$24,0),3))","v":""},{"$f":"IF($J25=\"\",\"\",INDEX(Input!$A$5:$H$24,MATCH($A25&$J25,Input!$A$5:$A$24&Input!$G$5:$G$24,0),4))","v":""},{"$f":"IF($J25=\"\",\"\",INDEX(Input!$A$5:$H$24,MATCH($A25&$J25,Input!$A$5:$A$24&Input!$G$5:$G$24,0),5))","v":""},null,null,null,null,{"$f":"IF($A25=\"\",\"\",OFFSET(Input!F$4,MATCH($A25,Input!$A$5:$A$24,0),0))","v":""},"",null,"","\\",{"$f":"IF(A25=\"\",1,IF(ISERROR(MATCH(R25,Input!L$5:L$24,0)),2,1))","v":1},"",null,"",""]
[null,null,null,null,null,null,null,null,null,null,null,null,null,null,null,null,null,null,null,null,null,"",{"$f":"IF(N26=\"SY\", T26, IF(N26=\"Tons\", V26+P26, \"\"))","v":""},{"$f":"IF(A26=\"\", \"\", SUMIF($Q$8:$Q$17, \"*\" & LEFT(A26, 11) & \"*\", $S$8:$S$17))","v":""},{"$f":"IF(N26=\"SY\",X26,\"\")","v":""},{"$f":"IF(A26=\"\", \"\", SUMIF($Q$8:$Q$17, \"*\" & LEFT(A26, 11) & \"*\", $T$8:$T$17))","v":""}]
["Hot Box Sample",null,null,null,null,null,null,null,null,null,"Mat Temperatures °F"]
[null,"Test A","Test B","Test C","Test D","Test E",null,null,null,null,"Time","Temp"]
[" Hot Box ID Number  ",null,null,null,null,null,null,null,null,null,"7:00"]
["Hot Box Sample Tons: ",null,null,null,null,null,null,null,null,null,"9:00",null,null,null,"Intended Thickness:"]
[" Time: ",null,null,null,null,null,null,null,null,null,"11:00",null,null,null,"Cores Waived?"]
[" Station/MP: ",null,null,null,null,null,null,null,null,null,"1:00",null,null,null,"Small Quantity Statement?"]
["Bar Code ID.:",null,null,null,null,null,null,null,null,null,"3:00",null,null,null,"Scale Check Done?"]
["Compaction Temp. °F: ",null,null,null,null,null,null,null,null,null,"5:00",null,null,null,"Tack Tickets Today?"]
[null,null,null,null,null,null,null,null,null,null,"7:00"]
["The Below Comments should show up on the plant report"]
["Comments:"]
[]
[]
["The Below Notes are for the CPI from the field or Plant Monitor"]
["Notes:"]
[]
[]
["RANDOM CORE LOCATIONS"]
[null,null,null,null,null,null,null,"Core #","Station","Offset,ft","Joint Station","Lane"]
[null,null,null,null,null,null,null,1]
[null,null,null,null,null,null,null,2]
[null,null,null,null,null,null,null,3]
[null,null,null,null,null,null,null,4]
[null,null,null,null,null,null,null,5]
[null,null,null,null,null,null,null,6]
[null,null,null,null,null,null,null,7]
[null,null,null,null,null,null,null,8]
[]
[null,null,null,null,null,null,null,null,null,null,"Joint Sublot Size, ft"]
[null,null,null,null,null,null,null,null,null,null,0]
[]
[]
[]
[]
[]
[]
[]
[]
[]
[]
[]
[]
[]
[]
[]
[]
[]
[]
[]
[]
[]
[]
[]
[]
[]
[]
[]
[]
[]
[]
[]
[]
[]
[]
[]
[]
[]
[]
[]
[]
[false]

{"sheet":"25","index":40,"n_rows":97,"n_cols":26,"rows_kept":97,"cut":false,"hidden":false,"merged":[[50,11,50,13],[51,11,51,13],[52,11,52,13],[44,11,44,13],[45,11,45,13],[46,11,46,13],[47,11,47,13],[48,11,48,13],[49,11,49,13],[43,0,43,16],[25,0,25,1],[26,0,26,5],[26,20,26,23],[26,25,26,27],[34,2,34,4],[35,0,35,5],[36,1,36,14],[37,0,37,14],[39,0,39,5],[40,1,40,14],[41,0,41,14],[23,0,23,1],[23,2,23,4],[23,9,23,12],[24,0,24,1],[24,2,24,4],[24,9,24,12],[21,0,21,1],[21,2,21,4],[21,9,21,12],[22,0,22,1],[22,2,22,4],[22,9,22,12],[19,0,19,1],[19,2,19,4],[19,9,19,12],[20,0,20,1],[20,2,20,4],[20,9,20,12],[18,0,18,16],[6,14,6,15],[7,14,7,15],[8,14,8,15],[9,14,9,15],[10,14,10,15],[11,14,11,15],[12,14,12,15],[13,14,13,15],[14,14,14,15],[15,14,15,15],[16,14,16,15],[1,0,1,16],[4,0,4,15],[5,4,5,5],[5,8,5,9],[5,11,5,12],[5,13,5,15]]}
[]
["Iowa DOT HMA Field Report"]
["Date :"]
["Item No.('s)"]
["PLACEMENT RECORD",null,null,null,null,null,null,null,null,null,null,null,null,null,null,null,null,null,null,null,null,{"$f":"SUBSTITUTE(A21 & \"\\\" & J21,\"\"\"\",\"\")","v":"\\"}]
[null,null,null,null,"Additional width to DEDUCT from Field Voids",null,null,null,"Placed Density (Pounds/CF)=",null,150,"Overwritten on the \"Summary\" Tab",null,"ONLY ONE (1) MIX DESIGN PER DFR OTHERWISE IT WILL NOT IMPORT INTO THE PLANT REPORT PROPERLY",null,null,null,null,null,null,null,{"$f":"SUBSTITUTE(A22 & \"\\\" & J22,\"\"\"\",\"\")","v":"\\"}]
["From Station"," To Station","Lane","ML or Widening Placement Width","Additional Width (ft) ","Thickness (in)","Total Length Placed (FT)","\"Pay\"  Est \"SY\"","Thickness (inches)","Calculated Field Voids Tons","Placed Tons            (Not including Waste)","% Yield","SY to be PAID (If Diff. than Est SY)","Mix Design No.","Bid Item/ Project No.",null,null,null,"This uses the correct SY #, if Green is blank uses Est. SY","Adds up the Tons",null,"\\"]
[null,null,null,null,null,null,{"$f":"IF(OR(A8=\"\",B8=\"\"),0,IF($A$97=TRUE,ABS(B8-A8)*5280,ABS(VALUE(SUBSTITUTE(A8,\"+\",\"\"))-VALUE(SUBSTITUTE(B8,\"+\",\"\")))))","v":0},{"$f":"IF(D8=\"\",\"\",G8*(D8+E8)/9)","v":""},null,{"$f":"IF(I8=\"\",\"\",(G8)*(D8+E8)*I8/12*$K$6/2000)","v":""},null,{"$f":"IF(K8=\"\",\"\",K8/J8*100)","v":""},null,null,null,null,{"$f":"O8 & \"\\\" & N8","v":"\\"},{"$f":"IF(AND(A8=\"\",B8=\"\",C8=\"\",D8=\"\"),1,IF(OR(O8=\"\",N8=\"\"),2,IF(ISERROR(MATCH(Q8,Input!M$5:M$24,0)),2,1)))","v":1},{"$f":"IF(M8<>\"\", M8, H8)","v":""},{"$f":"K8","v":0},null,"\\"]
[null,null,null,null,null,null,{"$f":"IF(OR(A9=\"\",B9=\"\"),0,IF($A$97=TRUE,ABS(B9-A9)*5280,ABS(VALUE(SUBSTITUTE(A9,\"+\",\"\"))-VALUE(SUBSTITUTE(B9,\"+\",\"\")))))","v":0},{"$f":"IF(D9=\"\",\"\",G9*(D9+E9)/9)","v":""},null,"",null,{"$f":"IF(K9=\"\",\"\",K9/J9*100)","v":""},null,null,null,null,{"$f":"O9 & \"\\\" & N9","v":"\\"},{"$f":"IF(AND(A9=\"\",B9=\"\",C9=\"\",D9=\"\"),1,IF(OR(O9=\"\",N9=\"\"),2,IF(ISERROR(MATCH(Q9,Input!M$5:M$24,0)),2,1)))","v":1},{"$f":"IF(M9<>\"\", M9, H9)","v":""},{"$f":"K9","v":0},null,"\\"]
[null,null,null,null,null,null,0,"",null,"",null,"",null,null,null,null,"\\",{"$f":"IF(AND(A10=\"\",B10=\"\",C10=\"\",D10=\"\"),1,IF(OR(O10=\"\",N10=\"\"),2,IF(ISERROR(MATCH(Q10,Input!M$5:M$24,0)),2,1)))","v":1},{"$f":"IF(M10<>\"\", M10, H10)","v":""},0]
[null,null,null,null,null,null,0,"",null,"",null,"",null,null,null,null,"\\",{"$f":"IF(AND(A11=\"\",B11=\"\",C11=\"\",D11=\"\"),1,IF(OR(O11=\"\",N11=\"\"),2,IF(ISERROR(MATCH(Q11,Input!M$5:M$24,0)),2,1)))","v":1},"",0]
[null,null,null,null,null,null,0,"",null,"",null,"",null,null,null,null,"\\",{"$f":"IF(AND(A12=\"\",B12=\"\",C12=\"\",D12=\"\"),1,IF(OR(O12=\"\",N12=\"\"),2,IF(ISERROR(MATCH(Q12,Input!M$5:M$24,0)),2,1)))","v":1},"",0]
[null,null,null,null,null,null,0,"",null,"",null,"",null,null,null,null,"\\",{"$f":"IF(AND(A13=\"\",B13=\"\",C13=\"\",D13=\"\"),1,IF(OR(O13=\"\",N13=\"\"),2,IF(ISERROR(MATCH(Q13,Input!M$5:M$24,0)),2,1)))","v":1},"",0]
[null,null,null,null,null,null,0,"",null,"",null,"",null,null,null,null,"\\",{"$f":"IF(AND(A14=\"\",B14=\"\",C14=\"\",D14=\"\"),1,IF(OR(O14=\"\",N14=\"\"),2,IF(ISERROR(MATCH(Q14,Input!M$5:M$24,0)),2,1)))","v":1},"",0]
[null,null,null,null,null,null,0,"",null,"",null,"",null,null,null,null,"\\",{"$f":"IF(AND(A15=\"\",B15=\"\",C15=\"\",D15=\"\"),1,IF(OR(O15=\"\",N15=\"\"),2,IF(ISERROR(MATCH(Q15,Input!M$5:M$24,0)),2,1)))","v":1},"",0]
[null,null,null,null,null,null,0,"",null,"",null,"",null,null,null,null,"\\",{"$f":"IF(AND(A16=\"\",B16=\"\",C16=\"\",D16=\"\"),1,IF(OR(O16=\"\",N16=\"\"),2,IF(ISERROR(MATCH(Q16,Input!M$5:M$24,0)),2,1)))","v":1},"",0]
[null,null,null,null,null,null,0,"",null,"",null,"",null,null,null,null,"\\",{"$f":"IF(AND(A17=\"\",B17=\"\",C17=\"\",D17=\"\"),1,IF(OR(O17=\"\",N17=\"\"),2,IF(ISERROR(MATCH(Q17,Input!M$5:M$24,0)),2,1)))","v":1},"",0]
[]
["TANK SHEET"]
["Bid Item (In Order of Placement)",null,"Today's Placement",null,null,"Bid Item Plan Quantity","Plan Thickness (in)","Contract Mix Price","Contract Binder Price","Project Number",null,null,null,"Mix Pay Units","Mix Delivered to Road\n(Ton or SY)","Waste On Road (Ton)\nNO waste for SY Items","Tons Placed - Waste",null,null,"This adds up column S as it depends if the Est SY is filled out or the SY",null,"Use this Column for SY for the Q column","Uses this Value for Mix on Road"]
[null,null,null,null,null,{"$f":"IF($J21=\"\",\"\",INDEX(Input!$A$5:$H$24,MATCH($A21&$J21,Input!$A$5:$A$24&Input!$G$5:$G$24,0),2))","v":""},{"$f":"IF($J21=\"\",\"\",INDEX(Input!$A$5:$H$24,MATCH($A21&$J21,Input!$A$5:$A$24&Input!$G$5:$G$24,0),3))","v":""},{"$f":"IF($J21=\"\",\"\",INDEX(Input!$A$5:$H$24,MATCH($A21&$J21,Input!$A$5:$A$24&Input!$G$5:$G$24,0),4))","v":""},{"$f":"IF($J21=\"\",\"\",INDEX(Input!$A$5:$H$24,MATCH($A21&$J21,Input!$A$5:$A$24&Input!$G$5:$G$24,0),5))","v":""},null,null,null,null,{"$f":"IF($A21=\"\",\"\",OFFSET(Input!F$4,MATCH($A21,Input!$A$5:$A$24,0),0))","v":""},{"$f":"IF(N21=\"SY\", T21, IF(N21=\"Tons\", W21, \"\"))","v":""},null,{"$f":"IF(N21=\"SY\", V21, IF(N21=\"Tons\", O21-P21, \"\"))","v":""},{"$f":"SUBSTITUTE(A21 & \"\\\" & J21,\"\"\"\",\"\")","v":"\\"},{"$f":"IF(A21=\"\",1,IF(ISERROR(MATCH(R21,Input!L$5:L$24,0)),2,1))","v":1},{"$f":"IF(A21=\"\", \"\", SUMIF($Q$8:$Q$17, \"*\" & LEFT(A21, 11) & \"*\", $S$8:$S$17))","v":""},null,{"$f":"IF(A21=\"\", \"\", SUMIF($Q$8:$Q$17, \"*\" & LEFT(A21, 11) & \"*\", $T$8:$T$17))","v":""},{"$f":"IF(N21=\"SY\", T21, IF(N21=\"Tons\", V21+P21, \"\"))","v":""}]
[null,null,null,null,null,{"$f":"IF($J22=\"\",\"\",INDEX(Input!$A$5:$H$24,MATCH($A22&$J22,Input!$A$5:$A$24&Input!$G$5:$G$24,0),2))","v":""},{"$f":"IF($J22=\"\",\"\",INDEX(Input!$A$5:$H$24,MATCH($A22&$J22,Input!$A$5:$A$24&Input!$G$5:$G$24,0),3))","v":""},{"$f":"IF($J22=\"\",\"\",INDEX(Input!$A$5:$H$24,MATCH($A22&$J22,Input!$A$5:$A$24&Input!$G$5:$G$24,0),4))","v":""},{"$f":"IF($J22=\"\",\"\",INDEX(Input!$A$5:$H$24,MATCH($A22&$J22,Input!$A$5:$A$24&Input!$G$5:$G$24,0),5))","v":""},null,null,null,null,{"$f":"IF($A22=\"\",\"\",OFFSET(Input!F$4,MATCH($A22,Input!$A$5:$A$24,0),0))","v":""},{"$f":"IF(N22=\"SY\", T22, IF(N22=\"Tons\", W22, \"\"))","v":""},null,{"$f":"IF(N22=\"SY\", V22, IF(N22=\"Tons\", O22-P22, \"\"))","v":""},{"$f":"SUBSTITUTE(A22 & \"\\\" & J22,\"\"\"\",\"\")","v":"\\"},{"$f":"IF(A22=\"\",1,IF(ISERROR(MATCH(R22,Input!L$5:L$24,0)),2,1))","v":1},{"$f":"IF(A22=\"\", \"\", SUMIF($Q$8:$Q$17, \"*\" & LEFT(A22, 11) & \"*\", $S$8:$S$17))","v":""},null,{"$f":"IF(A22=\"\", \"\", SUMIF($Q$8:$Q$17, \"*\" & LEFT(A22, 11) & \"*\", $T$8:$T$17))","v":""},{"$f":"IF(N22=\"SY\", T22, IF(N22=\"Tons\", V22+P22, \"\"))","v":""}]
[null,null,null,null,null,{"$f":"IF($J23=\"\",\"\",INDEX(Input!$A$5:$H$24,MATCH($A23&$J23,Input!$A$5:$A$24&Input!$G$5:$G$24,0),2))","v":""},{"$f":"IF($J23=\"\",\"\",INDEX(Input!$A$5:$H$24,MATCH($A23&$J23,Input!$A$5:$A$24&Input!$G$5:$G$24,0),3))","v":""},{"$f":"IF($J23=\"\",\"\",INDEX(Input!$A$5:$H$24,MATCH($A23&$J23,Input!$A$5:$A$24&Input!$G$5:$G$24,0),4))","v":""},{"$f":"IF($J23=\"\",\"\",INDEX(Input!$A$5:$H$24,MATCH($A23&$J23,Input!$A$5:$A$24&Input!$G$5:$G$24,0),5))","v":""},null,null,null,null,{"$f":"IF($A23=\"\",\"\",OFFSET(Input!F$4,MATCH($A23,Input!$A$5:$A$24,0),0))","v":""},{"$f":"IF(N23=\"SY\", T23, IF(N23=\"Tons\", W23, \"\"))","v":""},null,{"$f":"IF(N23=\"SY\", V23, IF(N23=\"Tons\", O23-P23, \"\"))","v":""},"\\",{"$f":"IF(A23=\"\",1,IF(ISERROR(MATCH(R23,Input!L$5:L$24,0)),2,1))","v":1},{"$f":"IF(A23=\"\", \"\", SUMIF($Q$8:$Q$17, \"*\" & LEFT(A23, 11) & \"*\", $S$8:$S$17))","v":""},null,{"$f":"IF(A23=\"\", \"\", SUMIF($Q$8:$Q$17, \"*\" & LEFT(A23, 11) & \"*\", $T$8:$T$17))","v":""},{"$f":"IF(N23=\"SY\", T23, IF(N23=\"Tons\", V23+P23, \"\"))","v":""}]
[null,null,null,null,null,{"$f":"IF($J24=\"\",\"\",INDEX(Input!$A$5:$H$24,MATCH($A24&$J24,Input!$A$5:$A$24&Input!$G$5:$G$24,0),2))","v":""},{"$f":"IF($J24=\"\",\"\",INDEX(Input!$A$5:$H$24,MATCH($A24&$J24,Input!$A$5:$A$24&Input!$G$5:$G$24,0),3))","v":""},{"$f":"IF($J24=\"\",\"\",INDEX(Input!$A$5:$H$24,MATCH($A24&$J24,Input!$A$5:$A$24&Input!$G$5:$G$24,0),4))","v":""},{"$f":"IF($J24=\"\",\"\",INDEX(Input!$A$5:$H$24,MATCH($A24&$J24,Input!$A$5:$A$24&Input!$G$5:$G$24,0),5))","v":""},null,null,null,null,{"$f":"IF($A24=\"\",\"\",OFFSET(Input!F$4,MATCH($A24,Input!$A$5:$A$24,0),0))","v":""},"",null,{"$f":"IF(N24=\"SY\", V24, IF(N24=\"Tons\", O24-P24, \"\"))","v":""},"\\",{"$f":"IF(A24=\"\",1,IF(ISERROR(MATCH(R24,Input!L$5:L$24,0)),2,1))","v":1},"",null,{"$f":"IF(A24=\"\", \"\", SUMIF($Q$8:$Q$17, \"*\" & LEFT(A24, 11) & \"*\", $T$8:$T$17))","v":""},{"$f":"IF(N24=\"SY\", T24, IF(N24=\"Tons\", V24+P24, \"\"))","v":""}]
[null,null,null,null,null,{"$f":"IF($J25=\"\",\"\",INDEX(Input!$A$5:$H$24,MATCH($A25&$J25,Input!$A$5:$A$24&Input!$G$5:$G$24,0),2))","v":""},{"$f":"IF($J25=\"\",\"\",INDEX(Input!$A$5:$H$24,MATCH($A25&$J25,Input!$A$5:$A$24&Input!$G$5:$G$24,0),3))","v":""},{"$f":"IF($J25=\"\",\"\",INDEX(Input!$A$5:$H$24,MATCH($A25&$J25,Input!$A$5:$A$24&Input!$G$5:$G$24,0),4))","v":""},{"$f":"IF($J25=\"\",\"\",INDEX(Input!$A$5:$H$24,MATCH($A25&$J25,Input!$A$5:$A$24&Input!$G$5:$G$24,0),5))","v":""},null,null,null,null,{"$f":"IF($A25=\"\",\"\",OFFSET(Input!F$4,MATCH($A25,Input!$A$5:$A$24,0),0))","v":""},"",null,"","\\",{"$f":"IF(A25=\"\",1,IF(ISERROR(MATCH(R25,Input!L$5:L$24,0)),2,1))","v":1},"",null,"",""]
[null,null,null,null,null,null,null,null,null,null,null,null,null,null,null,null,null,null,null,null,null,"",{"$f":"IF(N26=\"SY\", T26, IF(N26=\"Tons\", V26+P26, \"\"))","v":""},{"$f":"IF(A26=\"\", \"\", SUMIF($Q$8:$Q$17, \"*\" & LEFT(A26, 11) & \"*\", $S$8:$S$17))","v":""},{"$f":"IF(N26=\"SY\",X26,\"\")","v":""},{"$f":"IF(A26=\"\", \"\", SUMIF($Q$8:$Q$17, \"*\" & LEFT(A26, 11) & \"*\", $T$8:$T$17))","v":""}]
["Hot Box Sample",null,null,null,null,null,null,null,null,null,"Mat Temperatures °F"]
[null,"Test A","Test B","Test C","Test D","Test E",null,null,null,null,"Time","Temp"]
[" Hot Box ID Number  ",null,null,null,null,null,null,null,null,null,"7:00"]
["Hot Box Sample Tons: ",null,null,null,null,null,null,null,null,null,"9:00",null,null,null,"Intended Thickness:"]
[" Time: ",null,null,null,null,null,null,null,null,null,"11:00",null,null,null,"Cores Waived?"]
[" Station/MP: ",null,null,null,null,null,null,null,null,null,"1:00",null,null,null,"Small Quantity Statement?"]
["Bar Code ID.:",null,null,null,null,null,null,null,null,null,"3:00",null,null,null,"Scale Check Done?"]
["Compaction Temp. °F: ",null,null,null,null,null,null,null,null,null,"5:00",null,null,null,"Tack Tickets Today?"]
[null,null,null,null,null,null,null,null,null,null,"7:00"]
["The Below Comments should show up on the plant report"]
["Comments:"]
[]
[]
["The Below Notes are for the CPI from the field or Plant Monitor"]
["Notes:"]
[]
[]
["RANDOM CORE LOCATIONS"]
[null,null,null,null,null,null,null,"Core #","Station","Offset,ft","Joint Station","Lane"]
[null,null,null,null,null,null,null,1]
[null,null,null,null,null,null,null,2]
[null,null,null,null,null,null,null,3]
[null,null,null,null,null,null,null,4]
[null,null,null,null,null,null,null,5]
[null,null,null,null,null,null,null,6]
[null,null,null,null,null,null,null,7]
[null,null,null,null,null,null,null,8]
[]
[null,null,null,null,null,null,null,null,null,null,"Joint Sublot Size, ft"]
[null,null,null,null,null,null,null,null,null,null,0]
[]
[]
[]
[]
[]
[]
[]
[]
[]
[]
[]
[]
[]
[]
[]
[]
[]
[]
[]
[]
[]
[]
[]
[]
[]
[]
[]
[]
[]
[]
[]
[]
[]
[]
[]
[]
[]
[]
[]
[]
[false]

{"sheet":"26","index":41,"n_rows":97,"n_cols":26,"rows_kept":97,"cut":false,"hidden":false,"merged":[[50,11,50,13],[51,11,51,13],[52,11,52,13],[44,11,44,13],[45,11,45,13],[46,11,46,13],[47,11,47,13],[48,11,48,13],[49,11,49,13],[43,0,43,16],[25,0,25,1],[26,0,26,5],[26,20,26,23],[26,25,26,27],[34,2,34,4],[35,0,35,5],[36,1,36,14],[37,0,37,14],[39,0,39,5],[40,1,40,14],[41,0,41,14],[23,0,23,1],[23,2,23,4],[23,9,23,12],[24,0,24,1],[24,2,24,4],[24,9,24,12],[21,0,21,1],[21,2,21,4],[21,9,21,12],[22,0,22,1],[22,2,22,4],[22,9,22,12],[19,0,19,1],[19,2,19,4],[19,9,19,12],[20,0,20,1],[20,2,20,4],[20,9,20,12],[18,0,18,16],[6,14,6,15],[7,14,7,15],[8,14,8,15],[9,14,9,15],[10,14,10,15],[11,14,11,15],[12,14,12,15],[13,14,13,15],[14,14,14,15],[15,14,15,15],[16,14,16,15],[1,0,1,16],[4,0,4,15],[5,4,5,5],[5,8,5,9],[5,11,5,12],[5,13,5,15]]}
[]
["Iowa DOT HMA Field Report"]
["Date :"]
["Item No.('s)"]
["PLACEMENT RECORD",null,null,null,null,null,null,null,null,null,null,null,null,null,null,null,null,null,null,null,null,{"$f":"SUBSTITUTE(A21 & \"\\\" & J21,\"\"\"\",\"\")","v":"\\"}]
[null,null,null,null,"Additional width to DEDUCT from Field Voids",null,null,null,"Placed Density (Pounds/CF)=",null,150,"Overwritten on the \"Summary\" Tab",null,"ONLY ONE (1) MIX DESIGN PER DFR OTHERWISE IT WILL NOT IMPORT INTO THE PLANT REPORT PROPERLY",null,null,null,null,null,null,null,{"$f":"SUBSTITUTE(A22 & \"\\\" & J22,\"\"\"\",\"\")","v":"\\"}]
["From Station"," To Station","Lane","ML or Widening Placement Width","Additional Width (ft) ","Thickness (in)","Total Length Placed (FT)","\"Pay\"  Est \"SY\"","Thickness (inches)","Calculated Field Voids Tons","Placed Tons            (Not including Waste)","% Yield","SY to be PAID (If Diff. than Est SY)","Mix Design No.","Bid Item/ Project No.",null,null,null,"This uses the correct SY #, if Green is blank uses Est. SY","Adds up the Tons",null,"\\"]
[null,null,null,null,null,null,{"$f":"IF(OR(A8=\"\",B8=\"\"),0,IF($A$97=TRUE,ABS(B8-A8)*5280,ABS(VALUE(SUBSTITUTE(A8,\"+\",\"\"))-VALUE(SUBSTITUTE(B8,\"+\",\"\")))))","v":0},{"$f":"IF(D8=\"\",\"\",G8*(D8+E8)/9)","v":""},null,{"$f":"IF(I8=\"\",\"\",(G8)*(D8+E8)*I8/12*$K$6/2000)","v":""},null,{"$f":"IF(K8=\"\",\"\",K8/J8*100)","v":""},null,null,null,null,{"$f":"O8 & \"\\\" & N8","v":"\\"},{"$f":"IF(AND(A8=\"\",B8=\"\",C8=\"\",D8=\"\"),1,IF(OR(O8=\"\",N8=\"\"),2,IF(ISERROR(MATCH(Q8,Input!M$5:M$24,0)),2,1)))","v":1},{"$f":"IF(M8<>\"\", M8, H8)","v":""},{"$f":"K8","v":0},null,"\\"]
[null,null,null,null,null,null,{"$f":"IF(OR(A9=\"\",B9=\"\"),0,IF($A$97=TRUE,ABS(B9-A9)*5280,ABS(VALUE(SUBSTITUTE(A9,\"+\",\"\"))-VALUE(SUBSTITUTE(B9,\"+\",\"\")))))","v":0},{"$f":"IF(D9=\"\",\"\",G9*(D9+E9)/9)","v":""},null,"",null,{"$f":"IF(K9=\"\",\"\",K9/J9*100)","v":""},null,null,null,null,{"$f":"O9 & \"\\\" & N9","v":"\\"},{"$f":"IF(AND(A9=\"\",B9=\"\",C9=\"\",D9=\"\"),1,IF(OR(O9=\"\",N9=\"\"),2,IF(ISERROR(MATCH(Q9,Input!M$5:M$24,0)),2,1)))","v":1},{"$f":"IF(M9<>\"\", M9, H9)","v":""},{"$f":"K9","v":0},null,"\\"]
[null,null,null,null,null,null,0,"",null,"",null,"",null,null,null,null,"\\",{"$f":"IF(AND(A10=\"\",B10=\"\",C10=\"\",D10=\"\"),1,IF(OR(O10=\"\",N10=\"\"),2,IF(ISERROR(MATCH(Q10,Input!M$5:M$24,0)),2,1)))","v":1},{"$f":"IF(M10<>\"\", M10, H10)","v":""},0]
[null,null,null,null,null,null,0,"",null,"",null,"",null,null,null,null,"\\",{"$f":"IF(AND(A11=\"\",B11=\"\",C11=\"\",D11=\"\"),1,IF(OR(O11=\"\",N11=\"\"),2,IF(ISERROR(MATCH(Q11,Input!M$5:M$24,0)),2,1)))","v":1},"",0]
[null,null,null,null,null,null,0,"",null,"",null,"",null,null,null,null,"\\",{"$f":"IF(AND(A12=\"\",B12=\"\",C12=\"\",D12=\"\"),1,IF(OR(O12=\"\",N12=\"\"),2,IF(ISERROR(MATCH(Q12,Input!M$5:M$24,0)),2,1)))","v":1},"",0]
[null,null,null,null,null,null,0,"",null,"",null,"",null,null,null,null,"\\",{"$f":"IF(AND(A13=\"\",B13=\"\",C13=\"\",D13=\"\"),1,IF(OR(O13=\"\",N13=\"\"),2,IF(ISERROR(MATCH(Q13,Input!M$5:M$24,0)),2,1)))","v":1},"",0]
[null,null,null,null,null,null,0,"",null,"",null,"",null,null,null,null,"\\",{"$f":"IF(AND(A14=\"\",B14=\"\",C14=\"\",D14=\"\"),1,IF(OR(O14=\"\",N14=\"\"),2,IF(ISERROR(MATCH(Q14,Input!M$5:M$24,0)),2,1)))","v":1},"",0]
[null,null,null,null,null,null,0,"",null,"",null,"",null,null,null,null,"\\",{"$f":"IF(AND(A15=\"\",B15=\"\",C15=\"\",D15=\"\"),1,IF(OR(O15=\"\",N15=\"\"),2,IF(ISERROR(MATCH(Q15,Input!M$5:M$24,0)),2,1)))","v":1},"",0]
[null,null,null,null,null,null,0,"",null,"",null,"",null,null,null,null,"\\",{"$f":"IF(AND(A16=\"\",B16=\"\",C16=\"\",D16=\"\"),1,IF(OR(O16=\"\",N16=\"\"),2,IF(ISERROR(MATCH(Q16,Input!M$5:M$24,0)),2,1)))","v":1},"",0]
[null,null,null,null,null,null,0,"",null,"",null,"",null,null,null,null,"\\",{"$f":"IF(AND(A17=\"\",B17=\"\",C17=\"\",D17=\"\"),1,IF(OR(O17=\"\",N17=\"\"),2,IF(ISERROR(MATCH(Q17,Input!M$5:M$24,0)),2,1)))","v":1},"",0]
[]
["TANK SHEET"]
["Bid Item (In Order of Placement)",null,"Today's Placement",null,null,"Bid Item Plan Quantity","Plan Thickness (in)","Contract Mix Price","Contract Binder Price","Project Number",null,null,null,"Mix Pay Units","Mix Delivered to Road\n(Ton or SY)","Waste On Road (Ton)\nNO waste for SY Items","Tons Placed - Waste",null,null,"This adds up column S as it depends if the Est SY is filled out or the SY",null,"Use this Column for SY for the Q column","Uses this Value for Mix on Road"]
[null,null,null,null,null,{"$f":"IF($J21=\"\",\"\",INDEX(Input!$A$5:$H$24,MATCH($A21&$J21,Input!$A$5:$A$24&Input!$G$5:$G$24,0),2))","v":""},{"$f":"IF($J21=\"\",\"\",INDEX(Input!$A$5:$H$24,MATCH($A21&$J21,Input!$A$5:$A$24&Input!$G$5:$G$24,0),3))","v":""},{"$f":"IF($J21=\"\",\"\",INDEX(Input!$A$5:$H$24,MATCH($A21&$J21,Input!$A$5:$A$24&Input!$G$5:$G$24,0),4))","v":""},{"$f":"IF($J21=\"\",\"\",INDEX(Input!$A$5:$H$24,MATCH($A21&$J21,Input!$A$5:$A$24&Input!$G$5:$G$24,0),5))","v":""},null,null,null,null,{"$f":"IF($A21=\"\",\"\",OFFSET(Input!F$4,MATCH($A21,Input!$A$5:$A$24,0),0))","v":""},{"$f":"IF(N21=\"SY\", T21, IF(N21=\"Tons\", W21, \"\"))","v":""},null,{"$f":"IF(N21=\"SY\", V21, IF(N21=\"Tons\", O21-P21, \"\"))","v":""},{"$f":"SUBSTITUTE(A21 & \"\\\" & J21,\"\"\"\",\"\")","v":"\\"},{"$f":"IF(A21=\"\",1,IF(ISERROR(MATCH(R21,Input!L$5:L$24,0)),2,1))","v":1},{"$f":"IF(A21=\"\", \"\", SUMIF($Q$8:$Q$17, \"*\" & LEFT(A21, 11) & \"*\", $S$8:$S$17))","v":""},null,{"$f":"IF(A21=\"\", \"\", SUMIF($Q$8:$Q$17, \"*\" & LEFT(A21, 11) & \"*\", $T$8:$T$17))","v":""},{"$f":"IF(N21=\"SY\", T21, IF(N21=\"Tons\", V21+P21, \"\"))","v":""}]
[null,null,null,null,null,{"$f":"IF($J22=\"\",\"\",INDEX(Input!$A$5:$H$24,MATCH($A22&$J22,Input!$A$5:$A$24&Input!$G$5:$G$24,0),2))","v":""},{"$f":"IF($J22=\"\",\"\",INDEX(Input!$A$5:$H$24,MATCH($A22&$J22,Input!$A$5:$A$24&Input!$G$5:$G$24,0),3))","v":""},{"$f":"IF($J22=\"\",\"\",INDEX(Input!$A$5:$H$24,MATCH($A22&$J22,Input!$A$5:$A$24&Input!$G$5:$G$24,0),4))","v":""},{"$f":"IF($J22=\"\",\"\",INDEX(Input!$A$5:$H$24,MATCH($A22&$J22,Input!$A$5:$A$24&Input!$G$5:$G$24,0),5))","v":""},null,null,null,null,{"$f":"IF($A22=\"\",\"\",OFFSET(Input!F$4,MATCH($A22,Input!$A$5:$A$24,0),0))","v":""},{"$f":"IF(N22=\"SY\", T22, IF(N22=\"Tons\", W22, \"\"))","v":""},null,{"$f":"IF(N22=\"SY\", V22, IF(N22=\"Tons\", O22-P22, \"\"))","v":""},{"$f":"SUBSTITUTE(A22 & \"\\\" & J22,\"\"\"\",\"\")","v":"\\"},{"$f":"IF(A22=\"\",1,IF(ISERROR(MATCH(R22,Input!L$5:L$24,0)),2,1))","v":1},{"$f":"IF(A22=\"\", \"\", SUMIF($Q$8:$Q$17, \"*\" & LEFT(A22, 11) & \"*\", $S$8:$S$17))","v":""},null,{"$f":"IF(A22=\"\", \"\", SUMIF($Q$8:$Q$17, \"*\" & LEFT(A22, 11) & \"*\", $T$8:$T$17))","v":""},{"$f":"IF(N22=\"SY\", T22, IF(N22=\"Tons\", V22+P22, \"\"))","v":""}]
[null,null,null,null,null,{"$f":"IF($J23=\"\",\"\",INDEX(Input!$A$5:$H$24,MATCH($A23&$J23,Input!$A$5:$A$24&Input!$G$5:$G$24,0),2))","v":""},{"$f":"IF($J23=\"\",\"\",INDEX(Input!$A$5:$H$24,MATCH($A23&$J23,Input!$A$5:$A$24&Input!$G$5:$G$24,0),3))","v":""},{"$f":"IF($J23=\"\",\"\",INDEX(Input!$A$5:$H$24,MATCH($A23&$J23,Input!$A$5:$A$24&Input!$G$5:$G$24,0),4))","v":""},{"$f":"IF($J23=\"\",\"\",INDEX(Input!$A$5:$H$24,MATCH($A23&$J23,Input!$A$5:$A$24&Input!$G$5:$G$24,0),5))","v":""},null,null,null,null,{"$f":"IF($A23=\"\",\"\",OFFSET(Input!F$4,MATCH($A23,Input!$A$5:$A$24,0),0))","v":""},{"$f":"IF(N23=\"SY\", T23, IF(N23=\"Tons\", W23, \"\"))","v":""},null,{"$f":"IF(N23=\"SY\", V23, IF(N23=\"Tons\", O23-P23, \"\"))","v":""},"\\",{"$f":"IF(A23=\"\",1,IF(ISERROR(MATCH(R23,Input!L$5:L$24,0)),2,1))","v":1},{"$f":"IF(A23=\"\", \"\", SUMIF($Q$8:$Q$17, \"*\" & LEFT(A23, 11) & \"*\", $S$8:$S$17))","v":""},null,{"$f":"IF(A23=\"\", \"\", SUMIF($Q$8:$Q$17, \"*\" & LEFT(A23, 11) & \"*\", $T$8:$T$17))","v":""},{"$f":"IF(N23=\"SY\", T23, IF(N23=\"Tons\", V23+P23, \"\"))","v":""}]
[null,null,null,null,null,{"$f":"IF($J24=\"\",\"\",INDEX(Input!$A$5:$H$24,MATCH($A24&$J24,Input!$A$5:$A$24&Input!$G$5:$G$24,0),2))","v":""},{"$f":"IF($J24=\"\",\"\",INDEX(Input!$A$5:$H$24,MATCH($A24&$J24,Input!$A$5:$A$24&Input!$G$5:$G$24,0),3))","v":""},{"$f":"IF($J24=\"\",\"\",INDEX(Input!$A$5:$H$24,MATCH($A24&$J24,Input!$A$5:$A$24&Input!$G$5:$G$24,0),4))","v":""},{"$f":"IF($J24=\"\",\"\",INDEX(Input!$A$5:$H$24,MATCH($A24&$J24,Input!$A$5:$A$24&Input!$G$5:$G$24,0),5))","v":""},null,null,null,null,{"$f":"IF($A24=\"\",\"\",OFFSET(Input!F$4,MATCH($A24,Input!$A$5:$A$24,0),0))","v":""},"",null,{"$f":"IF(N24=\"SY\", V24, IF(N24=\"Tons\", O24-P24, \"\"))","v":""},"\\",{"$f":"IF(A24=\"\",1,IF(ISERROR(MATCH(R24,Input!L$5:L$24,0)),2,1))","v":1},"",null,{"$f":"IF(A24=\"\", \"\", SUMIF($Q$8:$Q$17, \"*\" & LEFT(A24, 11) & \"*\", $T$8:$T$17))","v":""},{"$f":"IF(N24=\"SY\", T24, IF(N24=\"Tons\", V24+P24, \"\"))","v":""}]
[null,null,null,null,null,{"$f":"IF($J25=\"\",\"\",INDEX(Input!$A$5:$H$24,MATCH($A25&$J25,Input!$A$5:$A$24&Input!$G$5:$G$24,0),2))","v":""},{"$f":"IF($J25=\"\",\"\",INDEX(Input!$A$5:$H$24,MATCH($A25&$J25,Input!$A$5:$A$24&Input!$G$5:$G$24,0),3))","v":""},{"$f":"IF($J25=\"\",\"\",INDEX(Input!$A$5:$H$24,MATCH($A25&$J25,Input!$A$5:$A$24&Input!$G$5:$G$24,0),4))","v":""},{"$f":"IF($J25=\"\",\"\",INDEX(Input!$A$5:$H$24,MATCH($A25&$J25,Input!$A$5:$A$24&Input!$G$5:$G$24,0),5))","v":""},null,null,null,null,{"$f":"IF($A25=\"\",\"\",OFFSET(Input!F$4,MATCH($A25,Input!$A$5:$A$24,0),0))","v":""},"",null,"","\\",{"$f":"IF(A25=\"\",1,IF(ISERROR(MATCH(R25,Input!L$5:L$24,0)),2,1))","v":1},"",null,"",""]
[null,null,null,null,null,null,null,null,null,null,null,null,null,null,null,null,null,null,null,null,null,"",{"$f":"IF(N26=\"SY\", T26, IF(N26=\"Tons\", V26+P26, \"\"))","v":""},{"$f":"IF(A26=\"\", \"\", SUMIF($Q$8:$Q$17, \"*\" & LEFT(A26, 11) & \"*\", $S$8:$S$17))","v":""},{"$f":"IF(N26=\"SY\",X26,\"\")","v":""},{"$f":"IF(A26=\"\", \"\", SUMIF($Q$8:$Q$17, \"*\" & LEFT(A26, 11) & \"*\", $T$8:$T$17))","v":""}]
["Hot Box Sample",null,null,null,null,null,null,null,null,null,"Mat Temperatures °F"]
[null,"Test A","Test B","Test C","Test D","Test E",null,null,null,null,"Time","Temp"]
[" Hot Box ID Number  ",null,null,null,null,null,null,null,null,null,"7:00"]
["Hot Box Sample Tons: ",null,null,null,null,null,null,null,null,null,"9:00",null,null,null,"Intended Thickness:"]
[" Time: ",null,null,null,null,null,null,null,null,null,"11:00",null,null,null,"Cores Waived?"]
[" Station/MP: ",null,null,null,null,null,null,null,null,null,"1:00",null,null,null,"Small Quantity Statement?"]
["Bar Code ID.:",null,null,null,null,null,null,null,null,null,"3:00",null,null,null,"Scale Check Done?"]
["Compaction Temp. °F: ",null,null,null,null,null,null,null,null,null,"5:00",null,null,null,"Tack Tickets Today?"]
[null,null,null,null,null,null,null,null,null,null,"7:00"]
["The Below Comments should show up on the plant report"]
["Comments:"]
[]
[]
["The Below Notes are for the CPI from the field or Plant Monitor"]
["Notes:"]
[]
[]
["RANDOM CORE LOCATIONS"]
[null,null,null,null,null,null,null,"Core #","Station","Offset,ft","Joint Station","Lane"]
[null,null,null,null,null,null,null,1]
[null,null,null,null,null,null,null,2]
[null,null,null,null,null,null,null,3]
[null,null,null,null,null,null,null,4]
[null,null,null,null,null,null,null,5]
[null,null,null,null,null,null,null,6]
[null,null,null,null,null,null,null,7]
[null,null,null,null,null,null,null,8]
[]
[null,null,null,null,null,null,null,null,null,null,"Joint Sublot Size, ft"]
[null,null,null,null,null,null,null,null,null,null,0]
[]
[]
[]
[]
[]
[]
[]
[]
[]
[]
[]
[]
[]
[]
[]
[]
[]
[]
[]
[]
[]
[]
[]
[]
[]
[]
[]
[]
[]
[]
[]
[]
[]
[]
[]
[]
[]
[]
[]
[]
[false]

{"sheet":"27","index":42,"n_rows":97,"n_cols":26,"rows_kept":97,"cut":false,"hidden":false,"merged":[[50,11,50,13],[51,11,51,13],[52,11,52,13],[44,11,44,13],[45,11,45,13],[46,11,46,13],[47,11,47,13],[48,11,48,13],[49,11,49,13],[43,0,43,16],[25,0,25,1],[26,0,26,5],[26,20,26,23],[26,25,26,27],[34,2,34,4],[35,0,35,5],[36,1,36,14],[37,0,37,14],[39,0,39,5],[40,1,40,14],[41,0,41,14],[23,0,23,1],[23,2,23,4],[23,9,23,12],[24,0,24,1],[24,2,24,4],[24,9,24,12],[21,0,21,1],[21,2,21,4],[21,9,21,12],[22,0,22,1],[22,2,22,4],[22,9,22,12],[19,0,19,1],[19,2,19,4],[19,9,19,12],[20,0,20,1],[20,2,20,4],[20,9,20,12],[18,0,18,16],[6,14,6,15],[7,14,7,15],[8,14,8,15],[9,14,9,15],[10,14,10,15],[11,14,11,15],[12,14,12,15],[13,14,13,15],[14,14,14,15],[15,14,15,15],[16,14,16,15],[1,0,1,16],[4,0,4,15],[5,4,5,5],[5,8,5,9],[5,11,5,12],[5,13,5,15]]}
[]
["Iowa DOT HMA Field Report"]
["Date :"]
["Item No.('s)"]
["PLACEMENT RECORD",null,null,null,null,null,null,null,null,null,null,null,null,null,null,null,null,null,null,null,null,{"$f":"SUBSTITUTE(A21 & \"\\\" & J21,\"\"\"\",\"\")","v":"\\"}]
[null,null,null,null,"Additional width to DEDUCT from Field Voids",null,null,null,"Placed Density (Pounds/CF)=",null,150,"Overwritten on the \"Summary\" Tab",null,"ONLY ONE (1) MIX DESIGN PER DFR OTHERWISE IT WILL NOT IMPORT INTO THE PLANT REPORT PROPERLY",null,null,null,null,null,null,null,{"$f":"SUBSTITUTE(A22 & \"\\\" & J22,\"\"\"\",\"\")","v":"\\"}]
["From Station"," To Station","Lane","ML or Widening Placement Width","Additional Width (ft) ","Thickness (in)","Total Length Placed (FT)","\"Pay\"  Est \"SY\"","Thickness (inches)","Calculated Field Voids Tons","Placed Tons            (Not including Waste)","% Yield","SY to be PAID (If Diff. than Est SY)","Mix Design No.","Bid Item/ Project No.",null,null,null,"This uses the correct SY #, if Green is blank uses Est. SY","Adds up the Tons",null,"\\"]
[null,null,null,null,null,null,{"$f":"IF(OR(A8=\"\",B8=\"\"),0,IF($A$97=TRUE,ABS(B8-A8)*5280,ABS(VALUE(SUBSTITUTE(A8,\"+\",\"\"))-VALUE(SUBSTITUTE(B8,\"+\",\"\")))))","v":0},{"$f":"IF(D8=\"\",\"\",G8*(D8+E8)/9)","v":""},null,{"$f":"IF(I8=\"\",\"\",(G8)*(D8+E8)*I8/12*$K$6/2000)","v":""},null,{"$f":"IF(K8=\"\",\"\",K8/J8*100)","v":""},null,null,null,null,{"$f":"O8 & \"\\\" & N8","v":"\\"},{"$f":"IF(AND(A8=\"\",B8=\"\",C8=\"\",D8=\"\"),1,IF(OR(O8=\"\",N8=\"\"),2,IF(ISERROR(MATCH(Q8,Input!M$5:M$24,0)),2,1)))","v":1},{"$f":"IF(M8<>\"\", M8, H8)","v":""},{"$f":"K8","v":0},null,"\\"]
[null,null,null,null,null,null,{"$f":"IF(OR(A9=\"\",B9=\"\"),0,IF($A$97=TRUE,ABS(B9-A9)*5280,ABS(VALUE(SUBSTITUTE(A9,\"+\",\"\"))-VALUE(SUBSTITUTE(B9,\"+\",\"\")))))","v":0},{"$f":"IF(D9=\"\",\"\",G9*(D9+E9)/9)","v":""},null,"",null,{"$f":"IF(K9=\"\",\"\",K9/J9*100)","v":""},null,null,null,null,{"$f":"O9 & \"\\\" & N9","v":"\\"},{"$f":"IF(AND(A9=\"\",B9=\"\",C9=\"\",D9=\"\"),1,IF(OR(O9=\"\",N9=\"\"),2,IF(ISERROR(MATCH(Q9,Input!M$5:M$24,0)),2,1)))","v":1},{"$f":"IF(M9<>\"\", M9, H9)","v":""},{"$f":"K9","v":0},null,"\\"]
[null,null,null,null,null,null,0,"",null,"",null,"",null,null,null,null,"\\",{"$f":"IF(AND(A10=\"\",B10=\"\",C10=\"\",D10=\"\"),1,IF(OR(O10=\"\",N10=\"\"),2,IF(ISERROR(MATCH(Q10,Input!M$5:M$24,0)),2,1)))","v":1},{"$f":"IF(M10<>\"\", M10, H10)","v":""},0]
[null,null,null,null,null,null,0,"",null,"",null,"",null,null,null,null,"\\",{"$f":"IF(AND(A11=\"\",B11=\"\",C11=\"\",D11=\"\"),1,IF(OR(O11=\"\",N11=\"\"),2,IF(ISERROR(MATCH(Q11,Input!M$5:M$24,0)),2,1)))","v":1},"",0]
[null,null,null,null,null,null,0,"",null,"",null,"",null,null,null,null,"\\",{"$f":"IF(AND(A12=\"\",B12=\"\",C12=\"\",D12=\"\"),1,IF(OR(O12=\"\",N12=\"\"),2,IF(ISERROR(MATCH(Q12,Input!M$5:M$24,0)),2,1)))","v":1},"",0]
[null,null,null,null,null,null,0,"",null,"",null,"",null,null,null,null,"\\",{"$f":"IF(AND(A13=\"\",B13=\"\",C13=\"\",D13=\"\"),1,IF(OR(O13=\"\",N13=\"\"),2,IF(ISERROR(MATCH(Q13,Input!M$5:M$24,0)),2,1)))","v":1},"",0]
[null,null,null,null,null,null,0,"",null,"",null,"",null,null,null,null,"\\",{"$f":"IF(AND(A14=\"\",B14=\"\",C14=\"\",D14=\"\"),1,IF(OR(O14=\"\",N14=\"\"),2,IF(ISERROR(MATCH(Q14,Input!M$5:M$24,0)),2,1)))","v":1},"",0]
[null,null,null,null,null,null,0,"",null,"",null,"",null,null,null,null,"\\",{"$f":"IF(AND(A15=\"\",B15=\"\",C15=\"\",D15=\"\"),1,IF(OR(O15=\"\",N15=\"\"),2,IF(ISERROR(MATCH(Q15,Input!M$5:M$24,0)),2,1)))","v":1},"",0]
[null,null,null,null,null,null,0,"",null,"",null,"",null,null,null,null,"\\",{"$f":"IF(AND(A16=\"\",B16=\"\",C16=\"\",D16=\"\"),1,IF(OR(O16=\"\",N16=\"\"),2,IF(ISERROR(MATCH(Q16,Input!M$5:M$24,0)),2,1)))","v":1},"",0]
[null,null,null,null,null,null,0,"",null,"",null,"",null,null,null,null,"\\",{"$f":"IF(AND(A17=\"\",B17=\"\",C17=\"\",D17=\"\"),1,IF(OR(O17=\"\",N17=\"\"),2,IF(ISERROR(MATCH(Q17,Input!M$5:M$24,0)),2,1)))","v":1},"",0]
[]
["TANK SHEET"]
["Bid Item (In Order of Placement)",null,"Today's Placement",null,null,"Bid Item Plan Quantity","Plan Thickness (in)","Contract Mix Price","Contract Binder Price","Project Number",null,null,null,"Mix Pay Units","Mix Delivered to Road\n(Ton or SY)","Waste On Road (Ton)\nNO waste for SY Items","Tons Placed - Waste",null,null,"This adds up column S as it depends if the Est SY is filled out or the SY",null,"Use this Column for SY for the Q column","Uses this Value for Mix on Road"]
[null,null,null,null,null,{"$f":"IF($J21=\"\",\"\",INDEX(Input!$A$5:$H$24,MATCH($A21&$J21,Input!$A$5:$A$24&Input!$G$5:$G$24,0),2))","v":""},{"$f":"IF($J21=\"\",\"\",INDEX(Input!$A$5:$H$24,MATCH($A21&$J21,Input!$A$5:$A$24&Input!$G$5:$G$24,0),3))","v":""},{"$f":"IF($J21=\"\",\"\",INDEX(Input!$A$5:$H$24,MATCH($A21&$J21,Input!$A$5:$A$24&Input!$G$5:$G$24,0),4))","v":""},{"$f":"IF($J21=\"\",\"\",INDEX(Input!$A$5:$H$24,MATCH($A21&$J21,Input!$A$5:$A$24&Input!$G$5:$G$24,0),5))","v":""},null,null,null,null,{"$f":"IF($A21=\"\",\"\",OFFSET(Input!F$4,MATCH($A21,Input!$A$5:$A$24,0),0))","v":""},{"$f":"IF(N21=\"SY\", T21, IF(N21=\"Tons\", W21, \"\"))","v":""},null,{"$f":"IF(N21=\"SY\", V21, IF(N21=\"Tons\", O21-P21, \"\"))","v":""},{"$f":"SUBSTITUTE(A21 & \"\\\" & J21,\"\"\"\",\"\")","v":"\\"},{"$f":"IF(A21=\"\",1,IF(ISERROR(MATCH(R21,Input!L$5:L$24,0)),2,1))","v":1},{"$f":"IF(A21=\"\", \"\", SUMIF($Q$8:$Q$17, \"*\" & LEFT(A21, 11) & \"*\", $S$8:$S$17))","v":""},null,{"$f":"IF(A21=\"\", \"\", SUMIF($Q$8:$Q$17, \"*\" & LEFT(A21, 11) & \"*\", $T$8:$T$17))","v":""},{"$f":"IF(N21=\"SY\", T21, IF(N21=\"Tons\", V21+P21, \"\"))","v":""}]
[null,null,null,null,null,{"$f":"IF($J22=\"\",\"\",INDEX(Input!$A$5:$H$24,MATCH($A22&$J22,Input!$A$5:$A$24&Input!$G$5:$G$24,0),2))","v":""},{"$f":"IF($J22=\"\",\"\",INDEX(Input!$A$5:$H$24,MATCH($A22&$J22,Input!$A$5:$A$24&Input!$G$5:$G$24,0),3))","v":""},{"$f":"IF($J22=\"\",\"\",INDEX(Input!$A$5:$H$24,MATCH($A22&$J22,Input!$A$5:$A$24&Input!$G$5:$G$24,0),4))","v":""},{"$f":"IF($J22=\"\",\"\",INDEX(Input!$A$5:$H$24,MATCH($A22&$J22,Input!$A$5:$A$24&Input!$G$5:$G$24,0),5))","v":""},null,null,null,null,{"$f":"IF($A22=\"\",\"\",OFFSET(Input!F$4,MATCH($A22,Input!$A$5:$A$24,0),0))","v":""},{"$f":"IF(N22=\"SY\", T22, IF(N22=\"Tons\", W22, \"\"))","v":""},null,{"$f":"IF(N22=\"SY\", V22, IF(N22=\"Tons\", O22-P22, \"\"))","v":""},{"$f":"SUBSTITUTE(A22 & \"\\\" & J22,\"\"\"\",\"\")","v":"\\"},{"$f":"IF(A22=\"\",1,IF(ISERROR(MATCH(R22,Input!L$5:L$24,0)),2,1))","v":1},{"$f":"IF(A22=\"\", \"\", SUMIF($Q$8:$Q$17, \"*\" & LEFT(A22, 11) & \"*\", $S$8:$S$17))","v":""},null,{"$f":"IF(A22=\"\", \"\", SUMIF($Q$8:$Q$17, \"*\" & LEFT(A22, 11) & \"*\", $T$8:$T$17))","v":""},{"$f":"IF(N22=\"SY\", T22, IF(N22=\"Tons\", V22+P22, \"\"))","v":""}]
[null,null,null,null,null,{"$f":"IF($J23=\"\",\"\",INDEX(Input!$A$5:$H$24,MATCH($A23&$J23,Input!$A$5:$A$24&Input!$G$5:$G$24,0),2))","v":""},{"$f":"IF($J23=\"\",\"\",INDEX(Input!$A$5:$H$24,MATCH($A23&$J23,Input!$A$5:$A$24&Input!$G$5:$G$24,0),3))","v":""},{"$f":"IF($J23=\"\",\"\",INDEX(Input!$A$5:$H$24,MATCH($A23&$J23,Input!$A$5:$A$24&Input!$G$5:$G$24,0),4))","v":""},{"$f":"IF($J23=\"\",\"\",INDEX(Input!$A$5:$H$24,MATCH($A23&$J23,Input!$A$5:$A$24&Input!$G$5:$G$24,0),5))","v":""},null,null,null,null,{"$f":"IF($A23=\"\",\"\",OFFSET(Input!F$4,MATCH($A23,Input!$A$5:$A$24,0),0))","v":""},{"$f":"IF(N23=\"SY\", T23, IF(N23=\"Tons\", W23, \"\"))","v":""},null,{"$f":"IF(N23=\"SY\", V23, IF(N23=\"Tons\", O23-P23, \"\"))","v":""},"\\",{"$f":"IF(A23=\"\",1,IF(ISERROR(MATCH(R23,Input!L$5:L$24,0)),2,1))","v":1},{"$f":"IF(A23=\"\", \"\", SUMIF($Q$8:$Q$17, \"*\" & LEFT(A23, 11) & \"*\", $S$8:$S$17))","v":""},null,{"$f":"IF(A23=\"\", \"\", SUMIF($Q$8:$Q$17, \"*\" & LEFT(A23, 11) & \"*\", $T$8:$T$17))","v":""},{"$f":"IF(N23=\"SY\", T23, IF(N23=\"Tons\", V23+P23, \"\"))","v":""}]
[null,null,null,null,null,{"$f":"IF($J24=\"\",\"\",INDEX(Input!$A$5:$H$24,MATCH($A24&$J24,Input!$A$5:$A$24&Input!$G$5:$G$24,0),2))","v":""},{"$f":"IF($J24=\"\",\"\",INDEX(Input!$A$5:$H$24,MATCH($A24&$J24,Input!$A$5:$A$24&Input!$G$5:$G$24,0),3))","v":""},{"$f":"IF($J24=\"\",\"\",INDEX(Input!$A$5:$H$24,MATCH($A24&$J24,Input!$A$5:$A$24&Input!$G$5:$G$24,0),4))","v":""},{"$f":"IF($J24=\"\",\"\",INDEX(Input!$A$5:$H$24,MATCH($A24&$J24,Input!$A$5:$A$24&Input!$G$5:$G$24,0),5))","v":""},null,null,null,null,{"$f":"IF($A24=\"\",\"\",OFFSET(Input!F$4,MATCH($A24,Input!$A$5:$A$24,0),0))","v":""},"",null,{"$f":"IF(N24=\"SY\", V24, IF(N24=\"Tons\", O24-P24, \"\"))","v":""},"\\",{"$f":"IF(A24=\"\",1,IF(ISERROR(MATCH(R24,Input!L$5:L$24,0)),2,1))","v":1},"",null,{"$f":"IF(A24=\"\", \"\", SUMIF($Q$8:$Q$17, \"*\" & LEFT(A24, 11) & \"*\", $T$8:$T$17))","v":""},{"$f":"IF(N24=\"SY\", T24, IF(N24=\"Tons\", V24+P24, \"\"))","v":""}]
[null,null,null,null,null,{"$f":"IF($J25=\"\",\"\",INDEX(Input!$A$5:$H$24,MATCH($A25&$J25,Input!$A$5:$A$24&Input!$G$5:$G$24,0),2))","v":""},{"$f":"IF($J25=\"\",\"\",INDEX(Input!$A$5:$H$24,MATCH($A25&$J25,Input!$A$5:$A$24&Input!$G$5:$G$24,0),3))","v":""},{"$f":"IF($J25=\"\",\"\",INDEX(Input!$A$5:$H$24,MATCH($A25&$J25,Input!$A$5:$A$24&Input!$G$5:$G$24,0),4))","v":""},{"$f":"IF($J25=\"\",\"\",INDEX(Input!$A$5:$H$24,MATCH($A25&$J25,Input!$A$5:$A$24&Input!$G$5:$G$24,0),5))","v":""},null,null,null,null,{"$f":"IF($A25=\"\",\"\",OFFSET(Input!F$4,MATCH($A25,Input!$A$5:$A$24,0),0))","v":""},"",null,"","\\",{"$f":"IF(A25=\"\",1,IF(ISERROR(MATCH(R25,Input!L$5:L$24,0)),2,1))","v":1},"",null,"",""]
[null,null,null,null,null,null,null,null,null,null,null,null,null,null,null,null,null,null,null,null,null,"",{"$f":"IF(N26=\"SY\", T26, IF(N26=\"Tons\", V26+P26, \"\"))","v":""},{"$f":"IF(A26=\"\", \"\", SUMIF($Q$8:$Q$17, \"*\" & LEFT(A26, 11) & \"*\", $S$8:$S$17))","v":""},{"$f":"IF(N26=\"SY\",X26,\"\")","v":""},{"$f":"IF(A26=\"\", \"\", SUMIF($Q$8:$Q$17, \"*\" & LEFT(A26, 11) & \"*\", $T$8:$T$17))","v":""}]
["Hot Box Sample",null,null,null,null,null,null,null,null,null,"Mat Temperatures °F"]
[null,"Test A","Test B","Test C","Test D","Test E",null,null,null,null,"Time","Temp"]
[" Hot Box ID Number  ",null,null,null,null,null,null,null,null,null,"7:00"]
["Hot Box Sample Tons: ",null,null,null,null,null,null,null,null,null,"9:00",null,null,null,"Intended Thickness:"]
[" Time: ",null,null,null,null,null,null,null,null,null,"11:00",null,null,null,"Cores Waived?"]
[" Station/MP: ",null,null,null,null,null,null,null,null,null,"1:00",null,null,null,"Small Quantity Statement?"]
["Bar Code ID.:",null,null,null,null,null,null,null,null,null,"3:00",null,null,null,"Scale Check Done?"]
["Compaction Temp. °F: ",null,null,null,null,null,null,null,null,null,"5:00",null,null,null,"Tack Tickets Today?"]
[null,null,null,null,null,null,null,null,null,null,"7:00"]
["The Below Comments should show up on the plant report"]
["Comments:"]
[]
[]
["The Below Notes are for the CPI from the field or Plant Monitor"]
["Notes:"]
[]
[]
["RANDOM CORE LOCATIONS"]
[null,null,null,null,null,null,null,"Core #","Station","Offset,ft","Joint Station","Lane"]
[null,null,null,null,null,null,null,1]
[null,null,null,null,null,null,null,2]
[null,null,null,null,null,null,null,3]
[null,null,null,null,null,null,null,4]
[null,null,null,null,null,null,null,5]
[null,null,null,null,null,null,null,6]
[null,null,null,null,null,null,null,7]
[null,null,null,null,null,null,null,8]
[]
[null,null,null,null,null,null,null,null,null,null,"Joint Sublot Size, ft"]
[null,null,null,null,null,null,null,null,null,null,0]
[]
[]
[]
[]
[]
[]
[]
[]
[]
[]
[]
[]
[]
[]
[]
[]
[]
[]
[]
[]
[]
[]
[]
[]
[]
[]
[]
[]
[]
[]
[]
[]
[]
[]
[]
[]
[]
[]
[]
[]
[false]

{"sheet":"28","index":43,"n_rows":97,"n_cols":26,"rows_kept":97,"cut":false,"hidden":false,"merged":[[50,11,50,13],[51,11,51,13],[52,11,52,13],[44,11,44,13],[45,11,45,13],[46,11,46,13],[47,11,47,13],[48,11,48,13],[49,11,49,13],[43,0,43,16],[25,0,25,1],[26,0,26,5],[26,20,26,23],[26,25,26,27],[34,2,34,4],[35,0,35,5],[36,1,36,14],[37,0,37,14],[39,0,39,5],[40,1,40,14],[41,0,41,14],[23,0,23,1],[23,2,23,4],[23,9,23,12],[24,0,24,1],[24,2,24,4],[24,9,24,12],[21,0,21,1],[21,2,21,4],[21,9,21,12],[22,0,22,1],[22,2,22,4],[22,9,22,12],[19,0,19,1],[19,2,19,4],[19,9,19,12],[20,0,20,1],[20,2,20,4],[20,9,20,12],[18,0,18,16],[6,14,6,15],[7,14,7,15],[8,14,8,15],[9,14,9,15],[10,14,10,15],[11,14,11,15],[12,14,12,15],[13,14,13,15],[14,14,14,15],[15,14,15,15],[16,14,16,15],[1,0,1,16],[4,0,4,15],[5,4,5,5],[5,8,5,9],[5,11,5,12],[5,13,5,15]]}
[]
["Iowa DOT HMA Field Report"]
["Date :"]
["Item No.('s)"]
["PLACEMENT RECORD",null,null,null,null,null,null,null,null,null,null,null,null,null,null,null,null,null,null,null,null,{"$f":"SUBSTITUTE(A21 & \"\\\" & J21,\"\"\"\",\"\")","v":"\\"}]
[null,null,null,null,"Additional width to DEDUCT from Field Voids",null,null,null,"Placed Density (Pounds/CF)=",null,150,"Overwritten on the \"Summary\" Tab",null,"ONLY ONE (1) MIX DESIGN PER DFR OTHERWISE IT WILL NOT IMPORT INTO THE PLANT REPORT PROPERLY",null,null,null,null,null,null,null,{"$f":"SUBSTITUTE(A22 & \"\\\" & J22,\"\"\"\",\"\")","v":"\\"}]
["From Station"," To Station","Lane","ML or Widening Placement Width","Additional Width (ft) ","Thickness (in)","Total Length Placed (FT)","\"Pay\"  Est \"SY\"","Thickness (inches)","Calculated Field Voids Tons","Placed Tons            (Not including Waste)","% Yield","SY to be PAID (If Diff. than Est SY)","Mix Design No.","Bid Item/ Project No.",null,null,null,"This uses the correct SY #, if Green is blank uses Est. SY","Adds up the Tons",null,"\\"]
[null,null,null,null,null,null,{"$f":"IF(OR(A8=\"\",B8=\"\"),0,IF($A$97=TRUE,ABS(B8-A8)*5280,ABS(VALUE(SUBSTITUTE(A8,\"+\",\"\"))-VALUE(SUBSTITUTE(B8,\"+\",\"\")))))","v":0},{"$f":"IF(D8=\"\",\"\",G8*(D8+E8)/9)","v":""},null,{"$f":"IF(I8=\"\",\"\",(G8)*(D8+E8)*I8/12*$K$6/2000)","v":""},null,{"$f":"IF(K8=\"\",\"\",K8/J8*100)","v":""},null,null,null,null,{"$f":"O8 & \"\\\" & N8","v":"\\"},{"$f":"IF(AND(A8=\"\",B8=\"\",C8=\"\",D8=\"\"),1,IF(OR(O8=\"\",N8=\"\"),2,IF(ISERROR(MATCH(Q8,Input!M$5:M$24,0)),2,1)))","v":1},{"$f":"IF(M8<>\"\", M8, H8)","v":""},{"$f":"K8","v":0},null,"\\"]
[null,null,null,null,null,null,{"$f":"IF(OR(A9=\"\",B9=\"\"),0,IF($A$97=TRUE,ABS(B9-A9)*5280,ABS(VALUE(SUBSTITUTE(A9,\"+\",\"\"))-VALUE(SUBSTITUTE(B9,\"+\",\"\")))))","v":0},{"$f":"IF(D9=\"\",\"\",G9*(D9+E9)/9)","v":""},null,"",null,{"$f":"IF(K9=\"\",\"\",K9/J9*100)","v":""},null,null,null,null,{"$f":"O9 & \"\\\" & N9","v":"\\"},{"$f":"IF(AND(A9=\"\",B9=\"\",C9=\"\",D9=\"\"),1,IF(OR(O9=\"\",N9=\"\"),2,IF(ISERROR(MATCH(Q9,Input!M$5:M$24,0)),2,1)))","v":1},{"$f":"IF(M9<>\"\", M9, H9)","v":""},{"$f":"K9","v":0},null,"\\"]
[null,null,null,null,null,null,0,"",null,"",null,"",null,null,null,null,"\\",{"$f":"IF(AND(A10=\"\",B10=\"\",C10=\"\",D10=\"\"),1,IF(OR(O10=\"\",N10=\"\"),2,IF(ISERROR(MATCH(Q10,Input!M$5:M$24,0)),2,1)))","v":1},{"$f":"IF(M10<>\"\", M10, H10)","v":""},0]
[null,null,null,null,null,null,0,"",null,"",null,"",null,null,null,null,"\\",{"$f":"IF(AND(A11=\"\",B11=\"\",C11=\"\",D11=\"\"),1,IF(OR(O11=\"\",N11=\"\"),2,IF(ISERROR(MATCH(Q11,Input!M$5:M$24,0)),2,1)))","v":1},"",0]
[null,null,null,null,null,null,0,"",null,"",null,"",null,null,null,null,"\\",{"$f":"IF(AND(A12=\"\",B12=\"\",C12=\"\",D12=\"\"),1,IF(OR(O12=\"\",N12=\"\"),2,IF(ISERROR(MATCH(Q12,Input!M$5:M$24,0)),2,1)))","v":1},"",0]
[null,null,null,null,null,null,0,"",null,"",null,"",null,null,null,null,"\\",{"$f":"IF(AND(A13=\"\",B13=\"\",C13=\"\",D13=\"\"),1,IF(OR(O13=\"\",N13=\"\"),2,IF(ISERROR(MATCH(Q13,Input!M$5:M$24,0)),2,1)))","v":1},"",0]
[null,null,null,null,null,null,0,"",null,"",null,"",null,null,null,null,"\\",{"$f":"IF(AND(A14=\"\",B14=\"\",C14=\"\",D14=\"\"),1,IF(OR(O14=\"\",N14=\"\"),2,IF(ISERROR(MATCH(Q14,Input!M$5:M$24,0)),2,1)))","v":1},"",0]
[null,null,null,null,null,null,0,"",null,"",null,"",null,null,null,null,"\\",{"$f":"IF(AND(A15=\"\",B15=\"\",C15=\"\",D15=\"\"),1,IF(OR(O15=\"\",N15=\"\"),2,IF(ISERROR(MATCH(Q15,Input!M$5:M$24,0)),2,1)))","v":1},"",0]
[null,null,null,null,null,null,0,"",null,"",null,"",null,null,null,null,"\\",{"$f":"IF(AND(A16=\"\",B16=\"\",C16=\"\",D16=\"\"),1,IF(OR(O16=\"\",N16=\"\"),2,IF(ISERROR(MATCH(Q16,Input!M$5:M$24,0)),2,1)))","v":1},"",0]
[null,null,null,null,null,null,0,"",null,"",null,"",null,null,null,null,"\\",{"$f":"IF(AND(A17=\"\",B17=\"\",C17=\"\",D17=\"\"),1,IF(OR(O17=\"\",N17=\"\"),2,IF(ISERROR(MATCH(Q17,Input!M$5:M$24,0)),2,1)))","v":1},"",0]
[]
["TANK SHEET"]
["Bid Item (In Order of Placement)",null,"Today's Placement",null,null,"Bid Item Plan Quantity","Plan Thickness (in)","Contract Mix Price","Contract Binder Price","Project Number",null,null,null,"Mix Pay Units","Mix Delivered to Road\n(Ton or SY)","Waste On Road (Ton)\nNO waste for SY Items","Tons Placed - Waste",null,null,"This adds up column S as it depends if the Est SY is filled out or the SY",null,"Use this Column for SY for the Q column","Uses this Value for Mix on Road"]
[null,null,null,null,null,{"$f":"IF($J21=\"\",\"\",INDEX(Input!$A$5:$H$24,MATCH($A21&$J21,Input!$A$5:$A$24&Input!$G$5:$G$24,0),2))","v":""},{"$f":"IF($J21=\"\",\"\",INDEX(Input!$A$5:$H$24,MATCH($A21&$J21,Input!$A$5:$A$24&Input!$G$5:$G$24,0),3))","v":""},{"$f":"IF($J21=\"\",\"\",INDEX(Input!$A$5:$H$24,MATCH($A21&$J21,Input!$A$5:$A$24&Input!$G$5:$G$24,0),4))","v":""},{"$f":"IF($J21=\"\",\"\",INDEX(Input!$A$5:$H$24,MATCH($A21&$J21,Input!$A$5:$A$24&Input!$G$5:$G$24,0),5))","v":""},null,null,null,null,{"$f":"IF($A21=\"\",\"\",OFFSET(Input!F$4,MATCH($A21,Input!$A$5:$A$24,0),0))","v":""},{"$f":"IF(N21=\"SY\", T21, IF(N21=\"Tons\", W21, \"\"))","v":""},null,{"$f":"IF(N21=\"SY\", V21, IF(N21=\"Tons\", O21-P21, \"\"))","v":""},{"$f":"SUBSTITUTE(A21 & \"\\\" & J21,\"\"\"\",\"\")","v":"\\"},{"$f":"IF(A21=\"\",1,IF(ISERROR(MATCH(R21,Input!L$5:L$24,0)),2,1))","v":1},{"$f":"IF(A21=\"\", \"\", SUMIF($Q$8:$Q$17, \"*\" & LEFT(A21, 11) & \"*\", $S$8:$S$17))","v":""},null,{"$f":"IF(A21=\"\", \"\", SUMIF($Q$8:$Q$17, \"*\" & LEFT(A21, 11) & \"*\", $T$8:$T$17))","v":""},{"$f":"IF(N21=\"SY\", T21, IF(N21=\"Tons\", V21+P21, \"\"))","v":""}]
[null,null,null,null,null,{"$f":"IF($J22=\"\",\"\",INDEX(Input!$A$5:$H$24,MATCH($A22&$J22,Input!$A$5:$A$24&Input!$G$5:$G$24,0),2))","v":""},{"$f":"IF($J22=\"\",\"\",INDEX(Input!$A$5:$H$24,MATCH($A22&$J22,Input!$A$5:$A$24&Input!$G$5:$G$24,0),3))","v":""},{"$f":"IF($J22=\"\",\"\",INDEX(Input!$A$5:$H$24,MATCH($A22&$J22,Input!$A$5:$A$24&Input!$G$5:$G$24,0),4))","v":""},{"$f":"IF($J22=\"\",\"\",INDEX(Input!$A$5:$H$24,MATCH($A22&$J22,Input!$A$5:$A$24&Input!$G$5:$G$24,0),5))","v":""},null,null,null,null,{"$f":"IF($A22=\"\",\"\",OFFSET(Input!F$4,MATCH($A22,Input!$A$5:$A$24,0),0))","v":""},{"$f":"IF(N22=\"SY\", T22, IF(N22=\"Tons\", W22, \"\"))","v":""},null,{"$f":"IF(N22=\"SY\", V22, IF(N22=\"Tons\", O22-P22, \"\"))","v":""},{"$f":"SUBSTITUTE(A22 & \"\\\" & J22,\"\"\"\",\"\")","v":"\\"},{"$f":"IF(A22=\"\",1,IF(ISERROR(MATCH(R22,Input!L$5:L$24,0)),2,1))","v":1},{"$f":"IF(A22=\"\", \"\", SUMIF($Q$8:$Q$17, \"*\" & LEFT(A22, 11) & \"*\", $S$8:$S$17))","v":""},null,{"$f":"IF(A22=\"\", \"\", SUMIF($Q$8:$Q$17, \"*\" & LEFT(A22, 11) & \"*\", $T$8:$T$17))","v":""},{"$f":"IF(N22=\"SY\", T22, IF(N22=\"Tons\", V22+P22, \"\"))","v":""}]
[null,null,null,null,null,{"$f":"IF($J23=\"\",\"\",INDEX(Input!$A$5:$H$24,MATCH($A23&$J23,Input!$A$5:$A$24&Input!$G$5:$G$24,0),2))","v":""},{"$f":"IF($J23=\"\",\"\",INDEX(Input!$A$5:$H$24,MATCH($A23&$J23,Input!$A$5:$A$24&Input!$G$5:$G$24,0),3))","v":""},{"$f":"IF($J23=\"\",\"\",INDEX(Input!$A$5:$H$24,MATCH($A23&$J23,Input!$A$5:$A$24&Input!$G$5:$G$24,0),4))","v":""},{"$f":"IF($J23=\"\",\"\",INDEX(Input!$A$5:$H$24,MATCH($A23&$J23,Input!$A$5:$A$24&Input!$G$5:$G$24,0),5))","v":""},null,null,null,null,{"$f":"IF($A23=\"\",\"\",OFFSET(Input!F$4,MATCH($A23,Input!$A$5:$A$24,0),0))","v":""},{"$f":"IF(N23=\"SY\", T23, IF(N23=\"Tons\", W23, \"\"))","v":""},null,{"$f":"IF(N23=\"SY\", V23, IF(N23=\"Tons\", O23-P23, \"\"))","v":""},"\\",{"$f":"IF(A23=\"\",1,IF(ISERROR(MATCH(R23,Input!L$5:L$24,0)),2,1))","v":1},{"$f":"IF(A23=\"\", \"\", SUMIF($Q$8:$Q$17, \"*\" & LEFT(A23, 11) & \"*\", $S$8:$S$17))","v":""},null,{"$f":"IF(A23=\"\", \"\", SUMIF($Q$8:$Q$17, \"*\" & LEFT(A23, 11) & \"*\", $T$8:$T$17))","v":""},{"$f":"IF(N23=\"SY\", T23, IF(N23=\"Tons\", V23+P23, \"\"))","v":""}]
[null,null,null,null,null,{"$f":"IF($J24=\"\",\"\",INDEX(Input!$A$5:$H$24,MATCH($A24&$J24,Input!$A$5:$A$24&Input!$G$5:$G$24,0),2))","v":""},{"$f":"IF($J24=\"\",\"\",INDEX(Input!$A$5:$H$24,MATCH($A24&$J24,Input!$A$5:$A$24&Input!$G$5:$G$24,0),3))","v":""},{"$f":"IF($J24=\"\",\"\",INDEX(Input!$A$5:$H$24,MATCH($A24&$J24,Input!$A$5:$A$24&Input!$G$5:$G$24,0),4))","v":""},{"$f":"IF($J24=\"\",\"\",INDEX(Input!$A$5:$H$24,MATCH($A24&$J24,Input!$A$5:$A$24&Input!$G$5:$G$24,0),5))","v":""},null,null,null,null,{"$f":"IF($A24=\"\",\"\",OFFSET(Input!F$4,MATCH($A24,Input!$A$5:$A$24,0),0))","v":""},"",null,{"$f":"IF(N24=\"SY\", V24, IF(N24=\"Tons\", O24-P24, \"\"))","v":""},"\\",{"$f":"IF(A24=\"\",1,IF(ISERROR(MATCH(R24,Input!L$5:L$24,0)),2,1))","v":1},"",null,{"$f":"IF(A24=\"\", \"\", SUMIF($Q$8:$Q$17, \"*\" & LEFT(A24, 11) & \"*\", $T$8:$T$17))","v":""},{"$f":"IF(N24=\"SY\", T24, IF(N24=\"Tons\", V24+P24, \"\"))","v":""}]
[null,null,null,null,null,{"$f":"IF($J25=\"\",\"\",INDEX(Input!$A$5:$H$24,MATCH($A25&$J25,Input!$A$5:$A$24&Input!$G$5:$G$24,0),2))","v":""},{"$f":"IF($J25=\"\",\"\",INDEX(Input!$A$5:$H$24,MATCH($A25&$J25,Input!$A$5:$A$24&Input!$G$5:$G$24,0),3))","v":""},{"$f":"IF($J25=\"\",\"\",INDEX(Input!$A$5:$H$24,MATCH($A25&$J25,Input!$A$5:$A$24&Input!$G$5:$G$24,0),4))","v":""},{"$f":"IF($J25=\"\",\"\",INDEX(Input!$A$5:$H$24,MATCH($A25&$J25,Input!$A$5:$A$24&Input!$G$5:$G$24,0),5))","v":""},null,null,null,null,{"$f":"IF($A25=\"\",\"\",OFFSET(Input!F$4,MATCH($A25,Input!$A$5:$A$24,0),0))","v":""},"",null,"","\\",{"$f":"IF(A25=\"\",1,IF(ISERROR(MATCH(R25,Input!L$5:L$24,0)),2,1))","v":1},"",null,"",""]
[null,null,null,null,null,null,null,null,null,null,null,null,null,null,null,null,null,null,null,null,null,"",{"$f":"IF(N26=\"SY\", T26, IF(N26=\"Tons\", V26+P26, \"\"))","v":""},{"$f":"IF(A26=\"\", \"\", SUMIF($Q$8:$Q$17, \"*\" & LEFT(A26, 11) & \"*\", $S$8:$S$17))","v":""},{"$f":"IF(N26=\"SY\",X26,\"\")","v":""},{"$f":"IF(A26=\"\", \"\", SUMIF($Q$8:$Q$17, \"*\" & LEFT(A26, 11) & \"*\", $T$8:$T$17))","v":""}]
["Hot Box Sample",null,null,null,null,null,null,null,null,null,"Mat Temperatures °F"]
[null,"Test A","Test B","Test C","Test D","Test E",null,null,null,null,"Time","Temp"]
[" Hot Box ID Number  ",null,null,null,null,null,null,null,null,null,"7:00"]
["Hot Box Sample Tons: ",null,null,null,null,null,null,null,null,null,"9:00",null,null,null,"Intended Thickness:"]
[" Time: ",null,null,null,null,null,null,null,null,null,"11:00",null,null,null,"Cores Waived?"]
[" Station/MP: ",null,null,null,null,null,null,null,null,null,"1:00",null,null,null,"Small Quantity Statement?"]
["Bar Code ID.:",null,null,null,null,null,null,null,null,null,"3:00",null,null,null,"Scale Check Done?"]
["Compaction Temp. °F: ",null,null,null,null,null,null,null,null,null,"5:00",null,null,null,"Tack Tickets Today?"]
[null,null,null,null,null,null,null,null,null,null,"7:00"]
["The Below Comments should show up on the plant report"]
["Comments:"]
[]
[]
["The Below Notes are for the CPI from the field or Plant Monitor"]
["Notes:"]
[]
[]
["RANDOM CORE LOCATIONS"]
[null,null,null,null,null,null,null,"Core #","Station","Offset,ft","Joint Station","Lane"]
[null,null,null,null,null,null,null,1]
[null,null,null,null,null,null,null,2]
[null,null,null,null,null,null,null,3]
[null,null,null,null,null,null,null,4]
[null,null,null,null,null,null,null,5]
[null,null,null,null,null,null,null,6]
[null,null,null,null,null,null,null,7]
[null,null,null,null,null,null,null,8]
[]
[null,null,null,null,null,null,null,null,null,null,"Joint Sublot Size, ft"]
[null,null,null,null,null,null,null,null,null,null,0]
[]
[]
[]
[]
[]
[]
[]
[]
[]
[]
[]
[]
[]
[]
[]
[]
[]
[]
[]
[]
[]
[]
[]
[]
[]
[]
[]
[]
[]
[]
[]
[]
[]
[]
[]
[]
[]
[]
[]
[]
[false]

{"sheet":"29","index":44,"n_rows":97,"n_cols":26,"rows_kept":97,"cut":false,"hidden":false,"merged":[[50,11,50,13],[51,11,51,13],[52,11,52,13],[44,11,44,13],[45,11,45,13],[46,11,46,13],[47,11,47,13],[48,11,48,13],[49,11,49,13],[43,0,43,16],[25,0,25,1],[26,0,26,5],[26,20,26,23],[26,25,26,27],[34,2,34,4],[35,0,35,5],[36,1,36,14],[37,0,37,14],[39,0,39,5],[40,1,40,14],[41,0,41,14],[23,0,23,1],[23,2,23,4],[23,9,23,12],[24,0,24,1],[24,2,24,4],[24,9,24,12],[21,0,21,1],[21,2,21,4],[21,9,21,12],[22,0,22,1],[22,2,22,4],[22,9,22,12],[19,0,19,1],[19,2,19,4],[19,9,19,12],[20,0,20,1],[20,2,20,4],[20,9,20,12],[18,0,18,16],[6,14,6,15],[7,14,7,15],[8,14,8,15],[9,14,9,15],[10,14,10,15],[11,14,11,15],[12,14,12,15],[13,14,13,15],[14,14,14,15],[15,14,15,15],[16,14,16,15],[1,0,1,16],[4,0,4,15],[5,4,5,5],[5,8,5,9],[5,11,5,12],[5,13,5,15]]}
[]
["Iowa DOT HMA Field Report"]
["Date :"]
["Item No.('s)"]
["PLACEMENT RECORD",null,null,null,null,null,null,null,null,null,null,null,null,null,null,null,null,null,null,null,null,{"$f":"SUBSTITUTE(A21 & \"\\\" & J21,\"\"\"\",\"\")","v":"\\"}]
[null,null,null,null,"Additional width to DEDUCT from Field Voids",null,null,null,"Placed Density (Pounds/CF)=",null,150,"Overwritten on the \"Summary\" Tab",null,"ONLY ONE (1) MIX DESIGN PER DFR OTHERWISE IT WILL NOT IMPORT INTO THE PLANT REPORT PROPERLY",null,null,null,null,null,null,null,{"$f":"SUBSTITUTE(A22 & \"\\\" & J22,\"\"\"\",\"\")","v":"\\"}]
["From Station"," To Station","Lane","ML or Widening Placement Width","Additional Width (ft) ","Thickness (in)","Total Length Placed (FT)","\"Pay\"  Est \"SY\"","Thickness (inches)","Calculated Field Voids Tons","Placed Tons            (Not including Waste)","% Yield","SY to be PAID (If Diff. than Est SY)","Mix Design No.","Bid Item/ Project No.",null,null,null,"This uses the correct SY #, if Green is blank uses Est. SY","Adds up the Tons",null,"\\"]
[null,null,null,null,null,null,{"$f":"IF(OR(A8=\"\",B8=\"\"),0,IF($A$97=TRUE,ABS(B8-A8)*5280,ABS(VALUE(SUBSTITUTE(A8,\"+\",\"\"))-VALUE(SUBSTITUTE(B8,\"+\",\"\")))))","v":0},{"$f":"IF(D8=\"\",\"\",G8*(D8+E8)/9)","v":""},null,{"$f":"IF(I8=\"\",\"\",(G8)*(D8+E8)*I8/12*$K$6/2000)","v":""},null,{"$f":"IF(K8=\"\",\"\",K8/J8*100)","v":""},null,null,null,null,{"$f":"O8 & \"\\\" & N8","v":"\\"},{"$f":"IF(AND(A8=\"\",B8=\"\",C8=\"\",D8=\"\"),1,IF(OR(O8=\"\",N8=\"\"),2,IF(ISERROR(MATCH(Q8,Input!M$5:M$24,0)),2,1)))","v":1},{"$f":"IF(M8<>\"\", M8, H8)","v":""},{"$f":"K8","v":0},null,"\\"]
[null,null,null,null,null,null,{"$f":"IF(OR(A9=\"\",B9=\"\"),0,IF($A$97=TRUE,ABS(B9-A9)*5280,ABS(VALUE(SUBSTITUTE(A9,\"+\",\"\"))-VALUE(SUBSTITUTE(B9,\"+\",\"\")))))","v":0},{"$f":"IF(D9=\"\",\"\",G9*(D9+E9)/9)","v":""},null,"",null,{"$f":"IF(K9=\"\",\"\",K9/J9*100)","v":""},null,null,null,null,{"$f":"O9 & \"\\\" & N9","v":"\\"},{"$f":"IF(AND(A9=\"\",B9=\"\",C9=\"\",D9=\"\"),1,IF(OR(O9=\"\",N9=\"\"),2,IF(ISERROR(MATCH(Q9,Input!M$5:M$24,0)),2,1)))","v":1},{"$f":"IF(M9<>\"\", M9, H9)","v":""},{"$f":"K9","v":0},null,"\\"]
[null,null,null,null,null,null,0,"",null,"",null,"",null,null,null,null,"\\",{"$f":"IF(AND(A10=\"\",B10=\"\",C10=\"\",D10=\"\"),1,IF(OR(O10=\"\",N10=\"\"),2,IF(ISERROR(MATCH(Q10,Input!M$5:M$24,0)),2,1)))","v":1},{"$f":"IF(M10<>\"\", M10, H10)","v":""},0]
[null,null,null,null,null,null,0,"",null,"",null,"",null,null,null,null,"\\",{"$f":"IF(AND(A11=\"\",B11=\"\",C11=\"\",D11=\"\"),1,IF(OR(O11=\"\",N11=\"\"),2,IF(ISERROR(MATCH(Q11,Input!M$5:M$24,0)),2,1)))","v":1},"",0]
[null,null,null,null,null,null,0,"",null,"",null,"",null,null,null,null,"\\",{"$f":"IF(AND(A12=\"\",B12=\"\",C12=\"\",D12=\"\"),1,IF(OR(O12=\"\",N12=\"\"),2,IF(ISERROR(MATCH(Q12,Input!M$5:M$24,0)),2,1)))","v":1},"",0]
[null,null,null,null,null,null,0,"",null,"",null,"",null,null,null,null,"\\",{"$f":"IF(AND(A13=\"\",B13=\"\",C13=\"\",D13=\"\"),1,IF(OR(O13=\"\",N13=\"\"),2,IF(ISERROR(MATCH(Q13,Input!M$5:M$24,0)),2,1)))","v":1},"",0]
[null,null,null,null,null,null,0,"",null,"",null,"",null,null,null,null,"\\",{"$f":"IF(AND(A14=\"\",B14=\"\",C14=\"\",D14=\"\"),1,IF(OR(O14=\"\",N14=\"\"),2,IF(ISERROR(MATCH(Q14,Input!M$5:M$24,0)),2,1)))","v":1},"",0]
[null,null,null,null,null,null,0,"",null,"",null,"",null,null,null,null,"\\",{"$f":"IF(AND(A15=\"\",B15=\"\",C15=\"\",D15=\"\"),1,IF(OR(O15=\"\",N15=\"\"),2,IF(ISERROR(MATCH(Q15,Input!M$5:M$24,0)),2,1)))","v":1},"",0]
[null,null,null,null,null,null,0,"",null,"",null,"",null,null,null,null,"\\",{"$f":"IF(AND(A16=\"\",B16=\"\",C16=\"\",D16=\"\"),1,IF(OR(O16=\"\",N16=\"\"),2,IF(ISERROR(MATCH(Q16,Input!M$5:M$24,0)),2,1)))","v":1},"",0]
[null,null,null,null,null,null,0,"",null,"",null,"",null,null,null,null,"\\",{"$f":"IF(AND(A17=\"\",B17=\"\",C17=\"\",D17=\"\"),1,IF(OR(O17=\"\",N17=\"\"),2,IF(ISERROR(MATCH(Q17,Input!M$5:M$24,0)),2,1)))","v":1},"",0]
[]
["TANK SHEET"]
["Bid Item (In Order of Placement)",null,"Today's Placement",null,null,"Bid Item Plan Quantity","Plan Thickness (in)","Contract Mix Price","Contract Binder Price","Project Number",null,null,null,"Mix Pay Units","Mix Delivered to Road\n(Ton or SY)","Waste On Road (Ton)\nNO waste for SY Items","Tons Placed - Waste",null,null,"This adds up column S as it depends if the Est SY is filled out or the SY",null,"Use this Column for SY for the Q column","Uses this Value for Mix on Road"]
[null,null,null,null,null,{"$f":"IF($J21=\"\",\"\",INDEX(Input!$A$5:$H$24,MATCH($A21&$J21,Input!$A$5:$A$24&Input!$G$5:$G$24,0),2))","v":""},{"$f":"IF($J21=\"\",\"\",INDEX(Input!$A$5:$H$24,MATCH($A21&$J21,Input!$A$5:$A$24&Input!$G$5:$G$24,0),3))","v":""},{"$f":"IF($J21=\"\",\"\",INDEX(Input!$A$5:$H$24,MATCH($A21&$J21,Input!$A$5:$A$24&Input!$G$5:$G$24,0),4))","v":""},{"$f":"IF($J21=\"\",\"\",INDEX(Input!$A$5:$H$24,MATCH($A21&$J21,Input!$A$5:$A$24&Input!$G$5:$G$24,0),5))","v":""},null,null,null,null,{"$f":"IF($A21=\"\",\"\",OFFSET(Input!F$4,MATCH($A21,Input!$A$5:$A$24,0),0))","v":""},{"$f":"IF(N21=\"SY\", T21, IF(N21=\"Tons\", W21, \"\"))","v":""},null,{"$f":"IF(N21=\"SY\", V21, IF(N21=\"Tons\", O21-P21, \"\"))","v":""},{"$f":"SUBSTITUTE(A21 & \"\\\" & J21,\"\"\"\",\"\")","v":"\\"},{"$f":"IF(A21=\"\",1,IF(ISERROR(MATCH(R21,Input!L$5:L$24,0)),2,1))","v":1},{"$f":"IF(A21=\"\", \"\", SUMIF($Q$8:$Q$17, \"*\" & LEFT(A21, 11) & \"*\", $S$8:$S$17))","v":""},null,{"$f":"IF(A21=\"\", \"\", SUMIF($Q$8:$Q$17, \"*\" & LEFT(A21, 11) & \"*\", $T$8:$T$17))","v":""},{"$f":"IF(N21=\"SY\", T21, IF(N21=\"Tons\", V21+P21, \"\"))","v":""}]
[null,null,null,null,null,{"$f":"IF($J22=\"\",\"\",INDEX(Input!$A$5:$H$24,MATCH($A22&$J22,Input!$A$5:$A$24&Input!$G$5:$G$24,0),2))","v":""},{"$f":"IF($J22=\"\",\"\",INDEX(Input!$A$5:$H$24,MATCH($A22&$J22,Input!$A$5:$A$24&Input!$G$5:$G$24,0),3))","v":""},{"$f":"IF($J22=\"\",\"\",INDEX(Input!$A$5:$H$24,MATCH($A22&$J22,Input!$A$5:$A$24&Input!$G$5:$G$24,0),4))","v":""},{"$f":"IF($J22=\"\",\"\",INDEX(Input!$A$5:$H$24,MATCH($A22&$J22,Input!$A$5:$A$24&Input!$G$5:$G$24,0),5))","v":""},null,null,null,null,{"$f":"IF($A22=\"\",\"\",OFFSET(Input!F$4,MATCH($A22,Input!$A$5:$A$24,0),0))","v":""},{"$f":"IF(N22=\"SY\", T22, IF(N22=\"Tons\", W22, \"\"))","v":""},null,{"$f":"IF(N22=\"SY\", V22, IF(N22=\"Tons\", O22-P22, \"\"))","v":""},{"$f":"SUBSTITUTE(A22 & \"\\\" & J22,\"\"\"\",\"\")","v":"\\"},{"$f":"IF(A22=\"\",1,IF(ISERROR(MATCH(R22,Input!L$5:L$24,0)),2,1))","v":1},{"$f":"IF(A22=\"\", \"\", SUMIF($Q$8:$Q$17, \"*\" & LEFT(A22, 11) & \"*\", $S$8:$S$17))","v":""},null,{"$f":"IF(A22=\"\", \"\", SUMIF($Q$8:$Q$17, \"*\" & LEFT(A22, 11) & \"*\", $T$8:$T$17))","v":""},{"$f":"IF(N22=\"SY\", T22, IF(N22=\"Tons\", V22+P22, \"\"))","v":""}]
[null,null,null,null,null,{"$f":"IF($J23=\"\",\"\",INDEX(Input!$A$5:$H$24,MATCH($A23&$J23,Input!$A$5:$A$24&Input!$G$5:$G$24,0),2))","v":""},{"$f":"IF($J23=\"\",\"\",INDEX(Input!$A$5:$H$24,MATCH($A23&$J23,Input!$A$5:$A$24&Input!$G$5:$G$24,0),3))","v":""},{"$f":"IF($J23=\"\",\"\",INDEX(Input!$A$5:$H$24,MATCH($A23&$J23,Input!$A$5:$A$24&Input!$G$5:$G$24,0),4))","v":""},{"$f":"IF($J23=\"\",\"\",INDEX(Input!$A$5:$H$24,MATCH($A23&$J23,Input!$A$5:$A$24&Input!$G$5:$G$24,0),5))","v":""},null,null,null,null,{"$f":"IF($A23=\"\",\"\",OFFSET(Input!F$4,MATCH($A23,Input!$A$5:$A$24,0),0))","v":""},{"$f":"IF(N23=\"SY\", T23, IF(N23=\"Tons\", W23, \"\"))","v":""},null,{"$f":"IF(N23=\"SY\", V23, IF(N23=\"Tons\", O23-P23, \"\"))","v":""},"\\",{"$f":"IF(A23=\"\",1,IF(ISERROR(MATCH(R23,Input!L$5:L$24,0)),2,1))","v":1},{"$f":"IF(A23=\"\", \"\", SUMIF($Q$8:$Q$17, \"*\" & LEFT(A23, 11) & \"*\", $S$8:$S$17))","v":""},null,{"$f":"IF(A23=\"\", \"\", SUMIF($Q$8:$Q$17, \"*\" & LEFT(A23, 11) & \"*\", $T$8:$T$17))","v":""},{"$f":"IF(N23=\"SY\", T23, IF(N23=\"Tons\", V23+P23, \"\"))","v":""}]
[null,null,null,null,null,{"$f":"IF($J24=\"\",\"\",INDEX(Input!$A$5:$H$24,MATCH($A24&$J24,Input!$A$5:$A$24&Input!$G$5:$G$24,0),2))","v":""},{"$f":"IF($J24=\"\",\"\",INDEX(Input!$A$5:$H$24,MATCH($A24&$J24,Input!$A$5:$A$24&Input!$G$5:$G$24,0),3))","v":""},{"$f":"IF($J24=\"\",\"\",INDEX(Input!$A$5:$H$24,MATCH($A24&$J24,Input!$A$5:$A$24&Input!$G$5:$G$24,0),4))","v":""},{"$f":"IF($J24=\"\",\"\",INDEX(Input!$A$5:$H$24,MATCH($A24&$J24,Input!$A$5:$A$24&Input!$G$5:$G$24,0),5))","v":""},null,null,null,null,{"$f":"IF($A24=\"\",\"\",OFFSET(Input!F$4,MATCH($A24,Input!$A$5:$A$24,0),0))","v":""},"",null,{"$f":"IF(N24=\"SY\", V24, IF(N24=\"Tons\", O24-P24, \"\"))","v":""},"\\",{"$f":"IF(A24=\"\",1,IF(ISERROR(MATCH(R24,Input!L$5:L$24,0)),2,1))","v":1},"",null,{"$f":"IF(A24=\"\", \"\", SUMIF($Q$8:$Q$17, \"*\" & LEFT(A24, 11) & \"*\", $T$8:$T$17))","v":""},{"$f":"IF(N24=\"SY\", T24, IF(N24=\"Tons\", V24+P24, \"\"))","v":""}]
[null,null,null,null,null,{"$f":"IF($J25=\"\",\"\",INDEX(Input!$A$5:$H$24,MATCH($A25&$J25,Input!$A$5:$A$24&Input!$G$5:$G$24,0),2))","v":""},{"$f":"IF($J25=\"\",\"\",INDEX(Input!$A$5:$H$24,MATCH($A25&$J25,Input!$A$5:$A$24&Input!$G$5:$G$24,0),3))","v":""},{"$f":"IF($J25=\"\",\"\",INDEX(Input!$A$5:$H$24,MATCH($A25&$J25,Input!$A$5:$A$24&Input!$G$5:$G$24,0),4))","v":""},{"$f":"IF($J25=\"\",\"\",INDEX(Input!$A$5:$H$24,MATCH($A25&$J25,Input!$A$5:$A$24&Input!$G$5:$G$24,0),5))","v":""},null,null,null,null,{"$f":"IF($A25=\"\",\"\",OFFSET(Input!F$4,MATCH($A25,Input!$A$5:$A$24,0),0))","v":""},"",null,"","\\",{"$f":"IF(A25=\"\",1,IF(ISERROR(MATCH(R25,Input!L$5:L$24,0)),2,1))","v":1},"",null,"",""]
[null,null,null,null,null,null,null,null,null,null,null,null,null,null,null,null,null,null,null,null,null,"",{"$f":"IF(N26=\"SY\", T26, IF(N26=\"Tons\", V26+P26, \"\"))","v":""},{"$f":"IF(A26=\"\", \"\", SUMIF($Q$8:$Q$17, \"*\" & LEFT(A26, 11) & \"*\", $S$8:$S$17))","v":""},{"$f":"IF(N26=\"SY\",X26,\"\")","v":""},{"$f":"IF(A26=\"\", \"\", SUMIF($Q$8:$Q$17, \"*\" & LEFT(A26, 11) & \"*\", $T$8:$T$17))","v":""}]
["Hot Box Sample",null,null,null,null,null,null,null,null,null,"Mat Temperatures °F"]
[null,"Test A","Test B","Test C","Test D","Test E",null,null,null,null,"Time","Temp"]
[" Hot Box ID Number  ",null,null,null,null,null,null,null,null,null,"7:00"]
["Hot Box Sample Tons: ",null,null,null,null,null,null,null,null,null,"9:00",null,null,null,"Intended Thickness:"]
[" Time: ",null,null,null,null,null,null,null,null,null,"11:00",null,null,null,"Cores Waived?"]
[" Station/MP: ",null,null,null,null,null,null,null,null,null,"1:00",null,null,null,"Small Quantity Statement?"]
["Bar Code ID.:",null,null,null,null,null,null,null,null,null,"3:00",null,null,null,"Scale Check Done?"]
["Compaction Temp. °F: ",null,null,null,null,null,null,null,null,null,"5:00",null,null,null,"Tack Tickets Today?"]
[null,null,null,null,null,null,null,null,null,null,"7:00"]
["The Below Comments should show up on the plant report"]
["Comments:"]
[]
[]
["The Below Notes are for the CPI from the field or Plant Monitor"]
["Notes:"]
[]
[]
["RANDOM CORE LOCATIONS"]
[null,null,null,null,null,null,null,"Core #","Station","Offset,ft","Joint Station","Lane"]
[null,null,null,null,null,null,null,1]
[null,null,null,null,null,null,null,2]
[null,null,null,null,null,null,null,3]
[null,null,null,null,null,null,null,4]
[null,null,null,null,null,null,null,5]
[null,null,null,null,null,null,null,6]
[null,null,null,null,null,null,null,7]
[null,null,null,null,null,null,null,8]
[]
[null,null,null,null,null,null,null,null,null,null,"Joint Sublot Size, ft"]
[null,null,null,null,null,null,null,null,null,null,0]
[]
[]
[]
[]
[]
[]
[]
[]
[]
[]
[]
[]
[]
[]
[]
[]
[]
[]
[]
[]
[]
[]
[]
[]
[]
[]
[]
[]
[]
[]
[]
[]
[]
[]
[]
[]
[]
[]
[]
[]
[false]

{"sheet":"30","index":45,"n_rows":97,"n_cols":26,"rows_kept":97,"cut":false,"hidden":false,"merged":[[50,11,50,13],[51,11,51,13],[52,11,52,13],[44,11,44,13],[45,11,45,13],[46,11,46,13],[47,11,47,13],[48,11,48,13],[49,11,49,13],[43,0,43,16],[25,0,25,1],[26,0,26,5],[26,20,26,23],[26,25,26,27],[34,2,34,4],[35,0,35,5],[36,1,36,14],[37,0,37,14],[39,0,39,5],[40,1,40,14],[41,0,41,14],[23,0,23,1],[23,2,23,4],[23,9,23,12],[24,0,24,1],[24,2,24,4],[24,9,24,12],[21,0,21,1],[21,2,21,4],[21,9,21,12],[22,0,22,1],[22,2,22,4],[22,9,22,12],[19,0,19,1],[19,2,19,4],[19,9,19,12],[20,0,20,1],[20,2,20,4],[20,9,20,12],[18,0,18,16],[6,14,6,15],[7,14,7,15],[8,14,8,15],[9,14,9,15],[10,14,10,15],[11,14,11,15],[12,14,12,15],[13,14,13,15],[14,14,14,15],[15,14,15,15],[16,14,16,15],[1,0,1,16],[4,0,4,15],[5,4,5,5],[5,8,5,9],[5,11,5,12],[5,13,5,15]]}
[]
["Iowa DOT HMA Field Report"]
["Date :"]
["Item No.('s)"]
["PLACEMENT RECORD",null,null,null,null,null,null,null,null,null,null,null,null,null,null,null,null,null,null,null,null,{"$f":"SUBSTITUTE(A21 & \"\\\" & J21,\"\"\"\",\"\")","v":"\\"}]
[null,null,null,null,"Additional width to DEDUCT from Field Voids",null,null,null,"Placed Density (Pounds/CF)=",null,150,"Overwritten on the \"Summary\" Tab",null,"ONLY ONE (1) MIX DESIGN PER DFR OTHERWISE IT WILL NOT IMPORT INTO THE PLANT REPORT PROPERLY",null,null,null,null,null,null,null,{"$f":"SUBSTITUTE(A22 & \"\\\" & J22,\"\"\"\",\"\")","v":"\\"}]
["From Station"," To Station","Lane","ML or Widening Placement Width","Additional Width (ft) ","Thickness (in)","Total Length Placed (FT)","\"Pay\"  Est \"SY\"","Thickness (inches)","Calculated Field Voids Tons","Placed Tons            (Not including Waste)","% Yield","SY to be PAID (If Diff. than Est SY)","Mix Design No.","Bid Item/ Project No.",null,null,null,"This uses the correct SY #, if Green is blank uses Est. SY","Adds up the Tons",null,"\\"]
[null,null,null,null,null,null,{"$f":"IF(OR(A8=\"\",B8=\"\"),0,IF($A$97=TRUE,ABS(B8-A8)*5280,ABS(VALUE(SUBSTITUTE(A8,\"+\",\"\"))-VALUE(SUBSTITUTE(B8,\"+\",\"\")))))","v":0},{"$f":"IF(D8=\"\",\"\",G8*(D8+E8)/9)","v":""},null,{"$f":"IF(I8=\"\",\"\",(G8)*(D8+E8)*I8/12*$K$6/2000)","v":""},null,{"$f":"IF(K8=\"\",\"\",K8/J8*100)","v":""},null,null,null,null,{"$f":"O8 & \"\\\" & N8","v":"\\"},{"$f":"IF(AND(A8=\"\",B8=\"\",C8=\"\",D8=\"\"),1,IF(OR(O8=\"\",N8=\"\"),2,IF(ISERROR(MATCH(Q8,Input!M$5:M$24,0)),2,1)))","v":1},{"$f":"IF(M8<>\"\", M8, H8)","v":""},{"$f":"K8","v":0},null,"\\"]
[null,null,null,null,null,null,{"$f":"IF(OR(A9=\"\",B9=\"\"),0,IF($A$97=TRUE,ABS(B9-A9)*5280,ABS(VALUE(SUBSTITUTE(A9,\"+\",\"\"))-VALUE(SUBSTITUTE(B9,\"+\",\"\")))))","v":0},{"$f":"IF(D9=\"\",\"\",G9*(D9+E9)/9)","v":""},null,"",null,{"$f":"IF(K9=\"\",\"\",K9/J9*100)","v":""},null,null,null,null,{"$f":"O9 & \"\\\" & N9","v":"\\"},{"$f":"IF(AND(A9=\"\",B9=\"\",C9=\"\",D9=\"\"),1,IF(OR(O9=\"\",N9=\"\"),2,IF(ISERROR(MATCH(Q9,Input!M$5:M$24,0)),2,1)))","v":1},{"$f":"IF(M9<>\"\", M9, H9)","v":""},{"$f":"K9","v":0},null,"\\"]
[null,null,null,null,null,null,0,"",null,"",null,"",null,null,null,null,"\\",{"$f":"IF(AND(A10=\"\",B10=\"\",C10=\"\",D10=\"\"),1,IF(OR(O10=\"\",N10=\"\"),2,IF(ISERROR(MATCH(Q10,Input!M$5:M$24,0)),2,1)))","v":1},{"$f":"IF(M10<>\"\", M10, H10)","v":""},0]
[null,null,null,null,null,null,0,"",null,"",null,"",null,null,null,null,"\\",{"$f":"IF(AND(A11=\"\",B11=\"\",C11=\"\",D11=\"\"),1,IF(OR(O11=\"\",N11=\"\"),2,IF(ISERROR(MATCH(Q11,Input!M$5:M$24,0)),2,1)))","v":1},"",0]
[null,null,null,null,null,null,0,"",null,"",null,"",null,null,null,null,"\\",{"$f":"IF(AND(A12=\"\",B12=\"\",C12=\"\",D12=\"\"),1,IF(OR(O12=\"\",N12=\"\"),2,IF(ISERROR(MATCH(Q12,Input!M$5:M$24,0)),2,1)))","v":1},"",0]
[null,null,null,null,null,null,0,"",null,"",null,"",null,null,null,null,"\\",{"$f":"IF(AND(A13=\"\",B13=\"\",C13=\"\",D13=\"\"),1,IF(OR(O13=\"\",N13=\"\"),2,IF(ISERROR(MATCH(Q13,Input!M$5:M$24,0)),2,1)))","v":1},"",0]
[null,null,null,null,null,null,0,"",null,"",null,"",null,null,null,null,"\\",{"$f":"IF(AND(A14=\"\",B14=\"\",C14=\"\",D14=\"\"),1,IF(OR(O14=\"\",N14=\"\"),2,IF(ISERROR(MATCH(Q14,Input!M$5:M$24,0)),2,1)))","v":1},"",0]
[null,null,null,null,null,null,0,"",null,"",null,"",null,null,null,null,"\\",{"$f":"IF(AND(A15=\"\",B15=\"\",C15=\"\",D15=\"\"),1,IF(OR(O15=\"\",N15=\"\"),2,IF(ISERROR(MATCH(Q15,Input!M$5:M$24,0)),2,1)))","v":1},"",0]
[null,null,null,null,null,null,0,"",null,"",null,"",null,null,null,null,"\\",{"$f":"IF(AND(A16=\"\",B16=\"\",C16=\"\",D16=\"\"),1,IF(OR(O16=\"\",N16=\"\"),2,IF(ISERROR(MATCH(Q16,Input!M$5:M$24,0)),2,1)))","v":1},"",0]
[null,null,null,null,null,null,0,"",null,"",null,"",null,null,null,null,"\\",{"$f":"IF(AND(A17=\"\",B17=\"\",C17=\"\",D17=\"\"),1,IF(OR(O17=\"\",N17=\"\"),2,IF(ISERROR(MATCH(Q17,Input!M$5:M$24,0)),2,1)))","v":1},"",0]
[]
["TANK SHEET"]
["Bid Item (In Order of Placement)",null,"Today's Placement",null,null,"Bid Item Plan Quantity","Plan Thickness (in)","Contract Mix Price","Contract Binder Price","Project Number",null,null,null,"Mix Pay Units","Mix Delivered to Road\n(Ton or SY)","Waste On Road (Ton)\nNO waste for SY Items","Tons Placed - Waste",null,null,"This adds up column S as it depends if the Est SY is filled out or the SY",null,"Use this Column for SY for the Q column","Uses this Value for Mix on Road"]
[null,null,null,null,null,{"$f":"IF($J21=\"\",\"\",INDEX(Input!$A$5:$H$24,MATCH($A21&$J21,Input!$A$5:$A$24&Input!$G$5:$G$24,0),2))","v":""},{"$f":"IF($J21=\"\",\"\",INDEX(Input!$A$5:$H$24,MATCH($A21&$J21,Input!$A$5:$A$24&Input!$G$5:$G$24,0),3))","v":""},{"$f":"IF($J21=\"\",\"\",INDEX(Input!$A$5:$H$24,MATCH($A21&$J21,Input!$A$5:$A$24&Input!$G$5:$G$24,0),4))","v":""},{"$f":"IF($J21=\"\",\"\",INDEX(Input!$A$5:$H$24,MATCH($A21&$J21,Input!$A$5:$A$24&Input!$G$5:$G$24,0),5))","v":""},null,null,null,null,{"$f":"IF($A21=\"\",\"\",OFFSET(Input!F$4,MATCH($A21,Input!$A$5:$A$24,0),0))","v":""},{"$f":"IF(N21=\"SY\", T21, IF(N21=\"Tons\", W21, \"\"))","v":""},null,{"$f":"IF(N21=\"SY\", V21, IF(N21=\"Tons\", O21-P21, \"\"))","v":""},{"$f":"SUBSTITUTE(A21 & \"\\\" & J21,\"\"\"\",\"\")","v":"\\"},{"$f":"IF(A21=\"\",1,IF(ISERROR(MATCH(R21,Input!L$5:L$24,0)),2,1))","v":1},{"$f":"IF(A21=\"\", \"\", SUMIF($Q$8:$Q$17, \"*\" & LEFT(A21, 11) & \"*\", $S$8:$S$17))","v":""},null,{"$f":"IF(A21=\"\", \"\", SUMIF($Q$8:$Q$17, \"*\" & LEFT(A21, 11) & \"*\", $T$8:$T$17))","v":""},{"$f":"IF(N21=\"SY\", T21, IF(N21=\"Tons\", V21+P21, \"\"))","v":""}]
[null,null,null,null,null,{"$f":"IF($J22=\"\",\"\",INDEX(Input!$A$5:$H$24,MATCH($A22&$J22,Input!$A$5:$A$24&Input!$G$5:$G$24,0),2))","v":""},{"$f":"IF($J22=\"\",\"\",INDEX(Input!$A$5:$H$24,MATCH($A22&$J22,Input!$A$5:$A$24&Input!$G$5:$G$24,0),3))","v":""},{"$f":"IF($J22=\"\",\"\",INDEX(Input!$A$5:$H$24,MATCH($A22&$J22,Input!$A$5:$A$24&Input!$G$5:$G$24,0),4))","v":""},{"$f":"IF($J22=\"\",\"\",INDEX(Input!$A$5:$H$24,MATCH($A22&$J22,Input!$A$5:$A$24&Input!$G$5:$G$24,0),5))","v":""},null,null,null,null,{"$f":"IF($A22=\"\",\"\",OFFSET(Input!F$4,MATCH($A22,Input!$A$5:$A$24,0),0))","v":""},{"$f":"IF(N22=\"SY\", T22, IF(N22=\"Tons\", W22, \"\"))","v":""},null,{"$f":"IF(N22=\"SY\", V22, IF(N22=\"Tons\", O22-P22, \"\"))","v":""},{"$f":"SUBSTITUTE(A22 & \"\\\" & J22,\"\"\"\",\"\")","v":"\\"},{"$f":"IF(A22=\"\",1,IF(ISERROR(MATCH(R22,Input!L$5:L$24,0)),2,1))","v":1},{"$f":"IF(A22=\"\", \"\", SUMIF($Q$8:$Q$17, \"*\" & LEFT(A22, 11) & \"*\", $S$8:$S$17))","v":""},null,{"$f":"IF(A22=\"\", \"\", SUMIF($Q$8:$Q$17, \"*\" & LEFT(A22, 11) & \"*\", $T$8:$T$17))","v":""},{"$f":"IF(N22=\"SY\", T22, IF(N22=\"Tons\", V22+P22, \"\"))","v":""}]
[null,null,null,null,null,{"$f":"IF($J23=\"\",\"\",INDEX(Input!$A$5:$H$24,MATCH($A23&$J23,Input!$A$5:$A$24&Input!$G$5:$G$24,0),2))","v":""},{"$f":"IF($J23=\"\",\"\",INDEX(Input!$A$5:$H$24,MATCH($A23&$J23,Input!$A$5:$A$24&Input!$G$5:$G$24,0),3))","v":""},{"$f":"IF($J23=\"\",\"\",INDEX(Input!$A$5:$H$24,MATCH($A23&$J23,Input!$A$5:$A$24&Input!$G$5:$G$24,0),4))","v":""},{"$f":"IF($J23=\"\",\"\",INDEX(Input!$A$5:$H$24,MATCH($A23&$J23,Input!$A$5:$A$24&Input!$G$5:$G$24,0),5))","v":""},null,null,null,null,{"$f":"IF($A23=\"\",\"\",OFFSET(Input!F$4,MATCH($A23,Input!$A$5:$A$24,0),0))","v":""},{"$f":"IF(N23=\"SY\", T23, IF(N23=\"Tons\", W23, \"\"))","v":""},null,{"$f":"IF(N23=\"SY\", V23, IF(N23=\"Tons\", O23-P23, \"\"))","v":""},"\\",{"$f":"IF(A23=\"\",1,IF(ISERROR(MATCH(R23,Input!L$5:L$24,0)),2,1))","v":1},{"$f":"IF(A23=\"\", \"\", SUMIF($Q$8:$Q$17, \"*\" & LEFT(A23, 11) & \"*\", $S$8:$S$17))","v":""},null,{"$f":"IF(A23=\"\", \"\", SUMIF($Q$8:$Q$17, \"*\" & LEFT(A23, 11) & \"*\", $T$8:$T$17))","v":""},{"$f":"IF(N23=\"SY\", T23, IF(N23=\"Tons\", V23+P23, \"\"))","v":""}]
[null,null,null,null,null,{"$f":"IF($J24=\"\",\"\",INDEX(Input!$A$5:$H$24,MATCH($A24&$J24,Input!$A$5:$A$24&Input!$G$5:$G$24,0),2))","v":""},{"$f":"IF($J24=\"\",\"\",INDEX(Input!$A$5:$H$24,MATCH($A24&$J24,Input!$A$5:$A$24&Input!$G$5:$G$24,0),3))","v":""},{"$f":"IF($J24=\"\",\"\",INDEX(Input!$A$5:$H$24,MATCH($A24&$J24,Input!$A$5:$A$24&Input!$G$5:$G$24,0),4))","v":""},{"$f":"IF($J24=\"\",\"\",INDEX(Input!$A$5:$H$24,MATCH($A24&$J24,Input!$A$5:$A$24&Input!$G$5:$G$24,0),5))","v":""},null,null,null,null,{"$f":"IF($A24=\"\",\"\",OFFSET(Input!F$4,MATCH($A24,Input!$A$5:$A$24,0),0))","v":""},"",null,{"$f":"IF(N24=\"SY\", V24, IF(N24=\"Tons\", O24-P24, \"\"))","v":""},"\\",{"$f":"IF(A24=\"\",1,IF(ISERROR(MATCH(R24,Input!L$5:L$24,0)),2,1))","v":1},"",null,{"$f":"IF(A24=\"\", \"\", SUMIF($Q$8:$Q$17, \"*\" & LEFT(A24, 11) & \"*\", $T$8:$T$17))","v":""},{"$f":"IF(N24=\"SY\", T24, IF(N24=\"Tons\", V24+P24, \"\"))","v":""}]
[null,null,null,null,null,{"$f":"IF($J25=\"\",\"\",INDEX(Input!$A$5:$H$24,MATCH($A25&$J25,Input!$A$5:$A$24&Input!$G$5:$G$24,0),2))","v":""},{"$f":"IF($J25=\"\",\"\",INDEX(Input!$A$5:$H$24,MATCH($A25&$J25,Input!$A$5:$A$24&Input!$G$5:$G$24,0),3))","v":""},{"$f":"IF($J25=\"\",\"\",INDEX(Input!$A$5:$H$24,MATCH($A25&$J25,Input!$A$5:$A$24&Input!$G$5:$G$24,0),4))","v":""},{"$f":"IF($J25=\"\",\"\",INDEX(Input!$A$5:$H$24,MATCH($A25&$J25,Input!$A$5:$A$24&Input!$G$5:$G$24,0),5))","v":""},null,null,null,null,{"$f":"IF($A25=\"\",\"\",OFFSET(Input!F$4,MATCH($A25,Input!$A$5:$A$24,0),0))","v":""},"",null,"","\\",{"$f":"IF(A25=\"\",1,IF(ISERROR(MATCH(R25,Input!L$5:L$24,0)),2,1))","v":1},"",null,"",""]
[null,null,null,null,null,null,null,null,null,null,null,null,null,null,null,null,null,null,null,null,null,"",{"$f":"IF(N26=\"SY\", T26, IF(N26=\"Tons\", V26+P26, \"\"))","v":""},{"$f":"IF(A26=\"\", \"\", SUMIF($Q$8:$Q$17, \"*\" & LEFT(A26, 11) & \"*\", $S$8:$S$17))","v":""},{"$f":"IF(N26=\"SY\",X26,\"\")","v":""},{"$f":"IF(A26=\"\", \"\", SUMIF($Q$8:$Q$17, \"*\" & LEFT(A26, 11) & \"*\", $T$8:$T$17))","v":""}]
["Hot Box Sample",null,null,null,null,null,null,null,null,null,"Mat Temperatures °F"]
[null,"Test A","Test B","Test C","Test D","Test E",null,null,null,null,"Time","Temp"]
[" Hot Box ID Number  ",null,null,null,null,null,null,null,null,null,"7:00"]
["Hot Box Sample Tons: ",null,null,null,null,null,null,null,null,null,"9:00",null,null,null,"Intended Thickness:"]
[" Time: ",null,null,null,null,null,null,null,null,null,"11:00",null,null,null,"Cores Waived?"]
[" Station/MP: ",null,null,null,null,null,null,null,null,null,"1:00",null,null,null,"Small Quantity Statement?"]
["Bar Code ID.:",null,null,null,null,null,null,null,null,null,"3:00",null,null,null,"Scale Check Done?"]
["Compaction Temp. °F: ",null,null,null,null,null,null,null,null,null,"5:00",null,null,null,"Tack Tickets Today?"]
[null,null,null,null,null,null,null,null,null,null,"7:00"]
["The Below Comments should show up on the plant report"]
["Comments:"]
[]
[]
["The Below Notes are for the CPI from the field or Plant Monitor"]
["Notes:"]
[]
[]
["RANDOM CORE LOCATIONS"]
[null,null,null,null,null,null,null,"Core #","Station","Offset,ft","Joint Station","Lane"]
[null,null,null,null,null,null,null,1]
[null,null,null,null,null,null,null,2]
[null,null,null,null,null,null,null,3]
[null,null,null,null,null,null,null,4]
[null,null,null,null,null,null,null,5]
[null,null,null,null,null,null,null,6]
[null,null,null,null,null,null,null,7]
[null,null,null,null,null,null,null,8]
[]
[null,null,null,null,null,null,null,null,null,null,"Joint Sublot Size, ft"]
[null,null,null,null,null,null,null,null,null,null,0]
[]
[]
[]
[]
[]
[]
[]
[]
[]
[]
[]
[]
[]
[]
[]
[]
[]
[]
[]
[]
[]
[]
[]
[]
[]
[]
[]
[]
[]
[]
[]
[]
[]
[]
[]
[]
[]
[]
[]
[]
[false]

{"sheet":"31","index":46,"n_rows":97,"n_cols":26,"rows_kept":97,"cut":false,"hidden":false,"merged":[[50,11,50,13],[51,11,51,13],[52,11,52,13],[44,11,44,13],[45,11,45,13],[46,11,46,13],[47,11,47,13],[48,11,48,13],[49,11,49,13],[43,0,43,16],[25,0,25,1],[26,0,26,5],[26,20,26,23],[26,25,26,27],[34,2,34,4],[35,0,35,5],[36,1,36,14],[37,0,37,14],[39,0,39,5],[40,1,40,14],[41,0,41,14],[23,0,23,1],[23,2,23,4],[23,9,23,12],[24,0,24,1],[24,2,24,4],[24,9,24,12],[21,0,21,1],[21,2,21,4],[21,9,21,12],[22,0,22,1],[22,2,22,4],[22,9,22,12],[19,0,19,1],[19,2,19,4],[19,9,19,12],[20,0,20,1],[20,2,20,4],[20,9,20,12],[18,0,18,16],[6,14,6,15],[7,14,7,15],[8,14,8,15],[9,14,9,15],[10,14,10,15],[11,14,11,15],[12,14,12,15],[13,14,13,15],[14,14,14,15],[15,14,15,15],[16,14,16,15],[1,0,1,16],[4,0,4,15],[5,4,5,5],[5,8,5,9],[5,11,5,12],[5,13,5,15]]}
[]
["Iowa DOT HMA Field Report"]
["Date :"]
["Item No.('s)"]
["PLACEMENT RECORD",null,null,null,null,null,null,null,null,null,null,null,null,null,null,null,null,null,null,null,null,{"$f":"SUBSTITUTE(A21 & \"\\\" & J21,\"\"\"\",\"\")","v":"\\"}]
[null,null,null,null,"Additional width to DEDUCT from Field Voids",null,null,null,"Placed Density (Pounds/CF)=",null,150,"Overwritten on the \"Summary\" Tab",null,"ONLY ONE (1) MIX DESIGN PER DFR OTHERWISE IT WILL NOT IMPORT INTO THE PLANT REPORT PROPERLY",null,null,null,null,null,null,null,{"$f":"SUBSTITUTE(A22 & \"\\\" & J22,\"\"\"\",\"\")","v":"\\"}]
["From Station"," To Station","Lane","ML or Widening Placement Width","Additional Width (ft) ","Thickness (in)","Total Length Placed (FT)","\"Pay\"  Est \"SY\"","Thickness (inches)","Calculated Field Voids Tons","Placed Tons            (Not including Waste)","% Yield","SY to be PAID (If Diff. than Est SY)","Mix Design No.","Bid Item/ Project No.",null,null,null,"This uses the correct SY #, if Green is blank uses Est. SY","Adds up the Tons",null,"\\"]
[null,null,null,null,null,null,{"$f":"IF(OR(A8=\"\",B8=\"\"),0,IF($A$97=TRUE,ABS(B8-A8)*5280,ABS(VALUE(SUBSTITUTE(A8,\"+\",\"\"))-VALUE(SUBSTITUTE(B8,\"+\",\"\")))))","v":0},{"$f":"IF(D8=\"\",\"\",G8*(D8+E8)/9)","v":""},null,{"$f":"IF(I8=\"\",\"\",(G8)*(D8+E8)*I8/12*$K$6/2000)","v":""},null,{"$f":"IF(K8=\"\",\"\",K8/J8*100)","v":""},null,null,null,null,{"$f":"O8 & \"\\\" & N8","v":"\\"},{"$f":"IF(AND(A8=\"\",B8=\"\",C8=\"\",D8=\"\"),1,IF(OR(O8=\"\",N8=\"\"),2,IF(ISERROR(MATCH(Q8,Input!M$5:M$24,0)),2,1)))","v":1},{"$f":"IF(M8<>\"\", M8, H8)","v":""},{"$f":"K8","v":0},null,"\\"]
[null,null,null,null,null,null,{"$f":"IF(OR(A9=\"\",B9=\"\"),0,IF($A$97=TRUE,ABS(B9-A9)*5280,ABS(VALUE(SUBSTITUTE(A9,\"+\",\"\"))-VALUE(SUBSTITUTE(B9,\"+\",\"\")))))","v":0},{"$f":"IF(D9=\"\",\"\",G9*(D9+E9)/9)","v":""},null,"",null,{"$f":"IF(K9=\"\",\"\",K9/J9*100)","v":""},null,null,null,null,{"$f":"O9 & \"\\\" & N9","v":"\\"},{"$f":"IF(AND(A9=\"\",B9=\"\",C9=\"\",D9=\"\"),1,IF(OR(O9=\"\",N9=\"\"),2,IF(ISERROR(MATCH(Q9,Input!M$5:M$24,0)),2,1)))","v":1},{"$f":"IF(M9<>\"\", M9, H9)","v":""},{"$f":"K9","v":0},null,"\\"]
[null,null,null,null,null,null,0,"",null,"",null,"",null,null,null,null,"\\",{"$f":"IF(AND(A10=\"\",B10=\"\",C10=\"\",D10=\"\"),1,IF(OR(O10=\"\",N10=\"\"),2,IF(ISERROR(MATCH(Q10,Input!M$5:M$24,0)),2,1)))","v":1},{"$f":"IF(M10<>\"\", M10, H10)","v":""},0]
[null,null,null,null,null,null,0,"",null,"",null,"",null,null,null,null,"\\",{"$f":"IF(AND(A11=\"\",B11=\"\",C11=\"\",D11=\"\"),1,IF(OR(O11=\"\",N11=\"\"),2,IF(ISERROR(MATCH(Q11,Input!M$5:M$24,0)),2,1)))","v":1},"",0]
[null,null,null,null,null,null,0,"",null,"",null,"",null,null,null,null,"\\",{"$f":"IF(AND(A12=\"\",B12=\"\",C12=\"\",D12=\"\"),1,IF(OR(O12=\"\",N12=\"\"),2,IF(ISERROR(MATCH(Q12,Input!M$5:M$24,0)),2,1)))","v":1},"",0]
[null,null,null,null,null,null,0,"",null,"",null,"",null,null,null,null,"\\",{"$f":"IF(AND(A13=\"\",B13=\"\",C13=\"\",D13=\"\"),1,IF(OR(O13=\"\",N13=\"\"),2,IF(ISERROR(MATCH(Q13,Input!M$5:M$24,0)),2,1)))","v":1},"",0]
[null,null,null,null,null,null,0,"",null,"",null,"",null,null,null,null,"\\",{"$f":"IF(AND(A14=\"\",B14=\"\",C14=\"\",D14=\"\"),1,IF(OR(O14=\"\",N14=\"\"),2,IF(ISERROR(MATCH(Q14,Input!M$5:M$24,0)),2,1)))","v":1},"",0]
[null,null,null,null,null,null,0,"",null,"",null,"",null,null,null,null,"\\",{"$f":"IF(AND(A15=\"\",B15=\"\",C15=\"\",D15=\"\"),1,IF(OR(O15=\"\",N15=\"\"),2,IF(ISERROR(MATCH(Q15,Input!M$5:M$24,0)),2,1)))","v":1},"",0]
[null,null,null,null,null,null,0,"",null,"",null,"",null,null,null,null,"\\",{"$f":"IF(AND(A16=\"\",B16=\"\",C16=\"\",D16=\"\"),1,IF(OR(O16=\"\",N16=\"\"),2,IF(ISERROR(MATCH(Q16,Input!M$5:M$24,0)),2,1)))","v":1},"",0]
[null,null,null,null,null,null,0,"",null,"",null,"",null,null,null,null,"\\",{"$f":"IF(AND(A17=\"\",B17=\"\",C17=\"\",D17=\"\"),1,IF(OR(O17=\"\",N17=\"\"),2,IF(ISERROR(MATCH(Q17,Input!M$5:M$24,0)),2,1)))","v":1},"",0]
[]
["TANK SHEET"]
["Bid Item (In Order of Placement)",null,"Today's Placement",null,null,"Bid Item Plan Quantity","Plan Thickness (in)","Contract Mix Price","Contract Binder Price","Project Number",null,null,null,"Mix Pay Units","Mix Delivered to Road\n(Ton or SY)","Waste On Road (Ton)\nNO waste for SY Items","Tons Placed - Waste",null,null,"This adds up column S as it depends if the Est SY is filled out or the SY",null,"Use this Column for SY for the Q column","Uses this Value for Mix on Road"]
[null,null,null,null,null,{"$f":"IF($J21=\"\",\"\",INDEX(Input!$A$5:$H$24,MATCH($A21&$J21,Input!$A$5:$A$24&Input!$G$5:$G$24,0),2))","v":""},{"$f":"IF($J21=\"\",\"\",INDEX(Input!$A$5:$H$24,MATCH($A21&$J21,Input!$A$5:$A$24&Input!$G$5:$G$24,0),3))","v":""},{"$f":"IF($J21=\"\",\"\",INDEX(Input!$A$5:$H$24,MATCH($A21&$J21,Input!$A$5:$A$24&Input!$G$5:$G$24,0),4))","v":""},{"$f":"IF($J21=\"\",\"\",INDEX(Input!$A$5:$H$24,MATCH($A21&$J21,Input!$A$5:$A$24&Input!$G$5:$G$24,0),5))","v":""},null,null,null,null,{"$f":"IF($A21=\"\",\"\",OFFSET(Input!F$4,MATCH($A21,Input!$A$5:$A$24,0),0))","v":""},{"$f":"IF(N21=\"SY\", T21, IF(N21=\"Tons\", W21, \"\"))","v":""},null,{"$f":"IF(N21=\"SY\", V21, IF(N21=\"Tons\", O21-P21, \"\"))","v":""},{"$f":"SUBSTITUTE(A21 & \"\\\" & J21,\"\"\"\",\"\")","v":"\\"},{"$f":"IF(A21=\"\",1,IF(ISERROR(MATCH(R21,Input!L$5:L$24,0)),2,1))","v":1},{"$f":"IF(A21=\"\", \"\", SUMIF($Q$8:$Q$17, \"*\" & LEFT(A21, 11) & \"*\", $S$8:$S$17))","v":""},null,{"$f":"IF(A21=\"\", \"\", SUMIF($Q$8:$Q$17, \"*\" & LEFT(A21, 11) & \"*\", $T$8:$T$17))","v":""},{"$f":"IF(N21=\"SY\", T21, IF(N21=\"Tons\", V21+P21, \"\"))","v":""}]
[null,null,null,null,null,{"$f":"IF($J22=\"\",\"\",INDEX(Input!$A$5:$H$24,MATCH($A22&$J22,Input!$A$5:$A$24&Input!$G$5:$G$24,0),2))","v":""},{"$f":"IF($J22=\"\",\"\",INDEX(Input!$A$5:$H$24,MATCH($A22&$J22,Input!$A$5:$A$24&Input!$G$5:$G$24,0),3))","v":""},{"$f":"IF($J22=\"\",\"\",INDEX(Input!$A$5:$H$24,MATCH($A22&$J22,Input!$A$5:$A$24&Input!$G$5:$G$24,0),4))","v":""},{"$f":"IF($J22=\"\",\"\",INDEX(Input!$A$5:$H$24,MATCH($A22&$J22,Input!$A$5:$A$24&Input!$G$5:$G$24,0),5))","v":""},null,null,null,null,{"$f":"IF($A22=\"\",\"\",OFFSET(Input!F$4,MATCH($A22,Input!$A$5:$A$24,0),0))","v":""},{"$f":"IF(N22=\"SY\", T22, IF(N22=\"Tons\", W22, \"\"))","v":""},null,{"$f":"IF(N22=\"SY\", V22, IF(N22=\"Tons\", O22-P22, \"\"))","v":""},{"$f":"SUBSTITUTE(A22 & \"\\\" & J22,\"\"\"\",\"\")","v":"\\"},{"$f":"IF(A22=\"\",1,IF(ISERROR(MATCH(R22,Input!L$5:L$24,0)),2,1))","v":1},{"$f":"IF(A22=\"\", \"\", SUMIF($Q$8:$Q$17, \"*\" & LEFT(A22, 11) & \"*\", $S$8:$S$17))","v":""},null,{"$f":"IF(A22=\"\", \"\", SUMIF($Q$8:$Q$17, \"*\" & LEFT(A22, 11) & \"*\", $T$8:$T$17))","v":""},{"$f":"IF(N22=\"SY\", T22, IF(N22=\"Tons\", V22+P22, \"\"))","v":""}]
[null,null,null,null,null,{"$f":"IF($J23=\"\",\"\",INDEX(Input!$A$5:$H$24,MATCH($A23&$J23,Input!$A$5:$A$24&Input!$G$5:$G$24,0),2))","v":""},{"$f":"IF($J23=\"\",\"\",INDEX(Input!$A$5:$H$24,MATCH($A23&$J23,Input!$A$5:$A$24&Input!$G$5:$G$24,0),3))","v":""},{"$f":"IF($J23=\"\",\"\",INDEX(Input!$A$5:$H$24,MATCH($A23&$J23,Input!$A$5:$A$24&Input!$G$5:$G$24,0),4))","v":""},{"$f":"IF($J23=\"\",\"\",INDEX(Input!$A$5:$H$24,MATCH($A23&$J23,Input!$A$5:$A$24&Input!$G$5:$G$24,0),5))","v":""},null,null,null,null,{"$f":"IF($A23=\"\",\"\",OFFSET(Input!F$4,MATCH($A23,Input!$A$5:$A$24,0),0))","v":""},{"$f":"IF(N23=\"SY\", T23, IF(N23=\"Tons\", W23, \"\"))","v":""},null,{"$f":"IF(N23=\"SY\", V23, IF(N23=\"Tons\", O23-P23, \"\"))","v":""},"\\",{"$f":"IF(A23=\"\",1,IF(ISERROR(MATCH(R23,Input!L$5:L$24,0)),2,1))","v":1},{"$f":"IF(A23=\"\", \"\", SUMIF($Q$8:$Q$17, \"*\" & LEFT(A23, 11) & \"*\", $S$8:$S$17))","v":""},null,{"$f":"IF(A23=\"\", \"\", SUMIF($Q$8:$Q$17, \"*\" & LEFT(A23, 11) & \"*\", $T$8:$T$17))","v":""},{"$f":"IF(N23=\"SY\", T23, IF(N23=\"Tons\", V23+P23, \"\"))","v":""}]
[null,null,null,null,null,{"$f":"IF($J24=\"\",\"\",INDEX(Input!$A$5:$H$24,MATCH($A24&$J24,Input!$A$5:$A$24&Input!$G$5:$G$24,0),2))","v":""},{"$f":"IF($J24=\"\",\"\",INDEX(Input!$A$5:$H$24,MATCH($A24&$J24,Input!$A$5:$A$24&Input!$G$5:$G$24,0),3))","v":""},{"$f":"IF($J24=\"\",\"\",INDEX(Input!$A$5:$H$24,MATCH($A24&$J24,Input!$A$5:$A$24&Input!$G$5:$G$24,0),4))","v":""},{"$f":"IF($J24=\"\",\"\",INDEX(Input!$A$5:$H$24,MATCH($A24&$J24,Input!$A$5:$A$24&Input!$G$5:$G$24,0),5))","v":""},null,null,null,null,{"$f":"IF($A24=\"\",\"\",OFFSET(Input!F$4,MATCH($A24,Input!$A$5:$A$24,0),0))","v":""},"",null,{"$f":"IF(N24=\"SY\", V24, IF(N24=\"Tons\", O24-P24, \"\"))","v":""},"\\",{"$f":"IF(A24=\"\",1,IF(ISERROR(MATCH(R24,Input!L$5:L$24,0)),2,1))","v":1},"",null,{"$f":"IF(A24=\"\", \"\", SUMIF($Q$8:$Q$17, \"*\" & LEFT(A24, 11) & \"*\", $T$8:$T$17))","v":""},{"$f":"IF(N24=\"SY\", T24, IF(N24=\"Tons\", V24+P24, \"\"))","v":""}]
[null,null,null,null,null,{"$f":"IF($J25=\"\",\"\",INDEX(Input!$A$5:$H$24,MATCH($A25&$J25,Input!$A$5:$A$24&Input!$G$5:$G$24,0),2))","v":""},{"$f":"IF($J25=\"\",\"\",INDEX(Input!$A$5:$H$24,MATCH($A25&$J25,Input!$A$5:$A$24&Input!$G$5:$G$24,0),3))","v":""},{"$f":"IF($J25=\"\",\"\",INDEX(Input!$A$5:$H$24,MATCH($A25&$J25,Input!$A$5:$A$24&Input!$G$5:$G$24,0),4))","v":""},{"$f":"IF($J25=\"\",\"\",INDEX(Input!$A$5:$H$24,MATCH($A25&$J25,Input!$A$5:$A$24&Input!$G$5:$G$24,0),5))","v":""},null,null,null,null,{"$f":"IF($A25=\"\",\"\",OFFSET(Input!F$4,MATCH($A25,Input!$A$5:$A$24,0),0))","v":""},"",null,"","\\",{"$f":"IF(A25=\"\",1,IF(ISERROR(MATCH(R25,Input!L$5:L$24,0)),2,1))","v":1},"",null,"",""]
[null,null,null,null,null,null,null,null,null,null,null,null,null,null,null,null,null,null,null,null,null,"",{"$f":"IF(N26=\"SY\", T26, IF(N26=\"Tons\", V26+P26, \"\"))","v":""},{"$f":"IF(A26=\"\", \"\", SUMIF($Q$8:$Q$17, \"*\" & LEFT(A26, 11) & \"*\", $S$8:$S$17))","v":""},{"$f":"IF(N26=\"SY\",X26,\"\")","v":""},{"$f":"IF(A26=\"\", \"\", SUMIF($Q$8:$Q$17, \"*\" & LEFT(A26, 11) & \"*\", $T$8:$T$17))","v":""}]
["Hot Box Sample",null,null,null,null,null,null,null,null,null,"Mat Temperatures °F"]
[null,"Test A","Test B","Test C","Test D","Test E",null,null,null,null,"Time","Temp"]
[" Hot Box ID Number  ",null,null,null,null,null,null,null,null,null,"7:00"]
["Hot Box Sample Tons: ",null,null,null,null,null,null,null,null,null,"9:00",null,null,null,"Intended Thickness:"]
[" Time: ",null,null,null,null,null,null,null,null,null,"11:00",null,null,null,"Cores Waived?"]
[" Station/MP: ",null,null,null,null,null,null,null,null,null,"1:00",null,null,null,"Small Quantity Statement?"]
["Bar Code ID.:",null,null,null,null,null,null,null,null,null,"3:00",null,null,null,"Scale Check Done?"]
["Compaction Temp. °F: ",null,null,null,null,null,null,null,null,null,"5:00",null,null,null,"Tack Tickets Today?"]
[null,null,null,null,null,null,null,null,null,null,"7:00"]
["The Below Comments should show up on the plant report"]
["Comments:"]
[]
[]
["The Below Notes are for the CPI from the field or Plant Monitor"]
["Notes:"]
[]
[]
["RANDOM CORE LOCATIONS"]
[null,null,null,null,null,null,null,"Core #","Station","Offset,ft","Joint Station","Lane"]
[null,null,null,null,null,null,null,1]
[null,null,null,null,null,null,null,2]
[null,null,null,null,null,null,null,3]
[null,null,null,null,null,null,null,4]
[null,null,null,null,null,null,null,5]
[null,null,null,null,null,null,null,6]
[null,null,null,null,null,null,null,7]
[null,null,null,null,null,null,null,8]
[]
[null,null,null,null,null,null,null,null,null,null,"Joint Sublot Size, ft"]
[null,null,null,null,null,null,null,null,null,null,0]
[]
[]
[]
[]
[]
[]
[]
[]
[]
[]
[]
[]
[]
[]
[]
[]
[]
[]
[]
[]
[]
[]
[]
[]
[]
[]
[]
[]
[]
[]
[]
[]
[]
[]
[]
[]
[]
[]
[]
[]
[false]

{"sheet":"32","index":47,"n_rows":97,"n_cols":26,"rows_kept":97,"cut":false,"hidden":false,"merged":[[50,11,50,13],[51,11,51,13],[52,11,52,13],[44,11,44,13],[45,11,45,13],[46,11,46,13],[47,11,47,13],[48,11,48,13],[49,11,49,13],[43,0,43,16],[25,0,25,1],[26,0,26,5],[26,20,26,23],[26,25,26,27],[34,2,34,4],[35,0,35,5],[36,1,36,14],[37,0,37,14],[39,0,39,5],[40,1,40,14],[41,0,41,14],[23,0,23,1],[23,2,23,4],[23,9,23,12],[24,0,24,1],[24,2,24,4],[24,9,24,12],[21,0,21,1],[21,2,21,4],[21,9,21,12],[22,0,22,1],[22,2,22,4],[22,9,22,12],[19,0,19,1],[19,2,19,4],[19,9,19,12],[20,0,20,1],[20,2,20,4],[20,9,20,12],[18,0,18,16],[6,14,6,15],[7,14,7,15],[8,14,8,15],[9,14,9,15],[10,14,10,15],[11,14,11,15],[12,14,12,15],[13,14,13,15],[14,14,14,15],[15,14,15,15],[16,14,16,15],[1,0,1,16],[4,0,4,15],[5,4,5,5],[5,8,5,9],[5,11,5,12],[5,13,5,15]]}
[]
["Iowa DOT HMA Field Report"]
["Date :"]
["Item No.('s)"]
["PLACEMENT RECORD",null,null,null,null,null,null,null,null,null,null,null,null,null,null,null,null,null,null,null,null,{"$f":"SUBSTITUTE(A21 & \"\\\" & J21,\"\"\"\",\"\")","v":"\\"}]
[null,null,null,null,"Additional width to DEDUCT from Field Voids",null,null,null,"Placed Density (Pounds/CF)=",null,150,"Overwritten on the \"Summary\" Tab",null,"ONLY ONE (1) MIX DESIGN PER DFR OTHERWISE IT WILL NOT IMPORT INTO THE PLANT REPORT PROPERLY",null,null,null,null,null,null,null,{"$f":"SUBSTITUTE(A22 & \"\\\" & J22,\"\"\"\",\"\")","v":"\\"}]
["From Station"," To Station","Lane","ML or Widening Placement Width","Additional Width (ft) ","Thickness (in)","Total Length Placed (FT)","\"Pay\"  Est \"SY\"","Thickness (inches)","Calculated Field Voids Tons","Placed Tons            (Not including Waste)","% Yield","SY to be PAID (If Diff. than Est SY)","Mix Design No.","Bid Item/ Project No.",null,null,null,"This uses the correct SY #, if Green is blank uses Est. SY","Adds up the Tons",null,"\\"]
[null,null,null,null,null,null,{"$f":"IF(OR(A8=\"\",B8=\"\"),0,IF($A$97=TRUE,ABS(B8-A8)*5280,ABS(VALUE(SUBSTITUTE(A8,\"+\",\"\"))-VALUE(SUBSTITUTE(B8,\"+\",\"\")))))","v":0},{"$f":"IF(D8=\"\",\"\",G8*(D8+E8)/9)","v":""},null,{"$f":"IF(I8=\"\",\"\",(G8)*(D8+E8)*I8/12*$K$6/2000)","v":""},null,{"$f":"IF(K8=\"\",\"\",K8/J8*100)","v":""},null,null,null,null,{"$f":"O8 & \"\\\" & N8","v":"\\"},{"$f":"IF(AND(A8=\"\",B8=\"\",C8=\"\",D8=\"\"),1,IF(OR(O8=\"\",N8=\"\"),2,IF(ISERROR(MATCH(Q8,Input!M$5:M$24,0)),2,1)))","v":1},{"$f":"IF(M8<>\"\", M8, H8)","v":""},{"$f":"K8","v":0},null,"\\"]
[null,null,null,null,null,null,{"$f":"IF(OR(A9=\"\",B9=\"\"),0,IF($A$97=TRUE,ABS(B9-A9)*5280,ABS(VALUE(SUBSTITUTE(A9,\"+\",\"\"))-VALUE(SUBSTITUTE(B9,\"+\",\"\")))))","v":0},{"$f":"IF(D9=\"\",\"\",G9*(D9+E9)/9)","v":""},null,"",null,{"$f":"IF(K9=\"\",\"\",K9/J9*100)","v":""},null,null,null,null,{"$f":"O9 & \"\\\" & N9","v":"\\"},{"$f":"IF(AND(A9=\"\",B9=\"\",C9=\"\",D9=\"\"),1,IF(OR(O9=\"\",N9=\"\"),2,IF(ISERROR(MATCH(Q9,Input!M$5:M$24,0)),2,1)))","v":1},{"$f":"IF(M9<>\"\", M9, H9)","v":""},{"$f":"K9","v":0},null,"\\"]
[null,null,null,null,null,null,0,"",null,"",null,"",null,null,null,null,"\\",{"$f":"IF(AND(A10=\"\",B10=\"\",C10=\"\",D10=\"\"),1,IF(OR(O10=\"\",N10=\"\"),2,IF(ISERROR(MATCH(Q10,Input!M$5:M$24,0)),2,1)))","v":1},{"$f":"IF(M10<>\"\", M10, H10)","v":""},0]
[null,null,null,null,null,null,0,"",null,"",null,"",null,null,null,null,"\\",{"$f":"IF(AND(A11=\"\",B11=\"\",C11=\"\",D11=\"\"),1,IF(OR(O11=\"\",N11=\"\"),2,IF(ISERROR(MATCH(Q11,Input!M$5:M$24,0)),2,1)))","v":1},"",0]
[null,null,null,null,null,null,0,"",null,"",null,"",null,null,null,null,"\\",{"$f":"IF(AND(A12=\"\",B12=\"\",C12=\"\",D12=\"\"),1,IF(OR(O12=\"\",N12=\"\"),2,IF(ISERROR(MATCH(Q12,Input!M$5:M$24,0)),2,1)))","v":1},"",0]
[null,null,null,null,null,null,0,"",null,"",null,"",null,null,null,null,"\\",{"$f":"IF(AND(A13=\"\",B13=\"\",C13=\"\",D13=\"\"),1,IF(OR(O13=\"\",N13=\"\"),2,IF(ISERROR(MATCH(Q13,Input!M$5:M$24,0)),2,1)))","v":1},"",0]
[null,null,null,null,null,null,0,"",null,"",null,"",null,null,null,null,"\\",{"$f":"IF(AND(A14=\"\",B14=\"\",C14=\"\",D14=\"\"),1,IF(OR(O14=\"\",N14=\"\"),2,IF(ISERROR(MATCH(Q14,Input!M$5:M$24,0)),2,1)))","v":1},"",0]
[null,null,null,null,null,null,0,"",null,"",null,"",null,null,null,null,"\\",{"$f":"IF(AND(A15=\"\",B15=\"\",C15=\"\",D15=\"\"),1,IF(OR(O15=\"\",N15=\"\"),2,IF(ISERROR(MATCH(Q15,Input!M$5:M$24,0)),2,1)))","v":1},"",0]
[null,null,null,null,null,null,0,"",null,"",null,"",null,null,null,null,"\\",{"$f":"IF(AND(A16=\"\",B16=\"\",C16=\"\",D16=\"\"),1,IF(OR(O16=\"\",N16=\"\"),2,IF(ISERROR(MATCH(Q16,Input!M$5:M$24,0)),2,1)))","v":1},"",0]
[null,null,null,null,null,null,0,"",null,"",null,"",null,null,null,null,"\\",{"$f":"IF(AND(A17=\"\",B17=\"\",C17=\"\",D17=\"\"),1,IF(OR(O17=\"\",N17=\"\"),2,IF(ISERROR(MATCH(Q17,Input!M$5:M$24,0)),2,1)))","v":1},"",0]
[]
["TANK SHEET"]
["Bid Item (In Order of Placement)",null,"Today's Placement",null,null,"Bid Item Plan Quantity","Plan Thickness (in)","Contract Mix Price","Contract Binder Price","Project Number",null,null,null,"Mix Pay Units","Mix Delivered to Road\n(Ton or SY)","Waste On Road (Ton)\nNO waste for SY Items","Tons Placed - Waste",null,null,"This adds up column S as it depends if the Est SY is filled out or the SY",null,"Use this Column for SY for the Q column","Uses this Value for Mix on Road"]
[null,null,null,null,null,{"$f":"IF($J21=\"\",\"\",INDEX(Input!$A$5:$H$24,MATCH($A21&$J21,Input!$A$5:$A$24&Input!$G$5:$G$24,0),2))","v":""},{"$f":"IF($J21=\"\",\"\",INDEX(Input!$A$5:$H$24,MATCH($A21&$J21,Input!$A$5:$A$24&Input!$G$5:$G$24,0),3))","v":""},{"$f":"IF($J21=\"\",\"\",INDEX(Input!$A$5:$H$24,MATCH($A21&$J21,Input!$A$5:$A$24&Input!$G$5:$G$24,0),4))","v":""},{"$f":"IF($J21=\"\",\"\",INDEX(Input!$A$5:$H$24,MATCH($A21&$J21,Input!$A$5:$A$24&Input!$G$5:$G$24,0),5))","v":""},null,null,null,null,{"$f":"IF($A21=\"\",\"\",OFFSET(Input!F$4,MATCH($A21,Input!$A$5:$A$24,0),0))","v":""},{"$f":"IF(N21=\"SY\", T21, IF(N21=\"Tons\", W21, \"\"))","v":""},null,{"$f":"IF(N21=\"SY\", V21, IF(N21=\"Tons\", O21-P21, \"\"))","v":""},{"$f":"SUBSTITUTE(A21 & \"\\\" & J21,\"\"\"\",\"\")","v":"\\"},{"$f":"IF(A21=\"\",1,IF(ISERROR(MATCH(R21,Input!L$5:L$24,0)),2,1))","v":1},{"$f":"IF(A21=\"\", \"\", SUMIF($Q$8:$Q$17, \"*\" & LEFT(A21, 11) & \"*\", $S$8:$S$17))","v":""},null,{"$f":"IF(A21=\"\", \"\", SUMIF($Q$8:$Q$17, \"*\" & LEFT(A21, 11) & \"*\", $T$8:$T$17))","v":""},{"$f":"IF(N21=\"SY\", T21, IF(N21=\"Tons\", V21+P21, \"\"))","v":""}]
[null,null,null,null,null,{"$f":"IF($J22=\"\",\"\",INDEX(Input!$A$5:$H$24,MATCH($A22&$J22,Input!$A$5:$A$24&Input!$G$5:$G$24,0),2))","v":""},{"$f":"IF($J22=\"\",\"\",INDEX(Input!$A$5:$H$24,MATCH($A22&$J22,Input!$A$5:$A$24&Input!$G$5:$G$24,0),3))","v":""},{"$f":"IF($J22=\"\",\"\",INDEX(Input!$A$5:$H$24,MATCH($A22&$J22,Input!$A$5:$A$24&Input!$G$5:$G$24,0),4))","v":""},{"$f":"IF($J22=\"\",\"\",INDEX(Input!$A$5:$H$24,MATCH($A22&$J22,Input!$A$5:$A$24&Input!$G$5:$G$24,0),5))","v":""},null,null,null,null,{"$f":"IF($A22=\"\",\"\",OFFSET(Input!F$4,MATCH($A22,Input!$A$5:$A$24,0),0))","v":""},{"$f":"IF(N22=\"SY\", T22, IF(N22=\"Tons\", W22, \"\"))","v":""},null,{"$f":"IF(N22=\"SY\", V22, IF(N22=\"Tons\", O22-P22, \"\"))","v":""},{"$f":"SUBSTITUTE(A22 & \"\\\" & J22,\"\"\"\",\"\")","v":"\\"},{"$f":"IF(A22=\"\",1,IF(ISERROR(MATCH(R22,Input!L$5:L$24,0)),2,1))","v":1},{"$f":"IF(A22=\"\", \"\", SUMIF($Q$8:$Q$17, \"*\" & LEFT(A22, 11) & \"*\", $S$8:$S$17))","v":""},null,{"$f":"IF(A22=\"\", \"\", SUMIF($Q$8:$Q$17, \"*\" & LEFT(A22, 11) & \"*\", $T$8:$T$17))","v":""},{"$f":"IF(N22=\"SY\", T22, IF(N22=\"Tons\", V22+P22, \"\"))","v":""}]
[null,null,null,null,null,{"$f":"IF($J23=\"\",\"\",INDEX(Input!$A$5:$H$24,MATCH($A23&$J23,Input!$A$5:$A$24&Input!$G$5:$G$24,0),2))","v":""},{"$f":"IF($J23=\"\",\"\",INDEX(Input!$A$5:$H$24,MATCH($A23&$J23,Input!$A$5:$A$24&Input!$G$5:$G$24,0),3))","v":""},{"$f":"IF($J23=\"\",\"\",INDEX(Input!$A$5:$H$24,MATCH($A23&$J23,Input!$A$5:$A$24&Input!$G$5:$G$24,0),4))","v":""},{"$f":"IF($J23=\"\",\"\",INDEX(Input!$A$5:$H$24,MATCH($A23&$J23,Input!$A$5:$A$24&Input!$G$5:$G$24,0),5))","v":""},null,null,null,null,{"$f":"IF($A23=\"\",\"\",OFFSET(Input!F$4,MATCH($A23,Input!$A$5:$A$24,0),0))","v":""},{"$f":"IF(N23=\"SY\", T23, IF(N23=\"Tons\", W23, \"\"))","v":""},null,{"$f":"IF(N23=\"SY\", V23, IF(N23=\"Tons\", O23-P23, \"\"))","v":""},"\\",{"$f":"IF(A23=\"\",1,IF(ISERROR(MATCH(R23,Input!L$5:L$24,0)),2,1))","v":1},{"$f":"IF(A23=\"\", \"\", SUMIF($Q$8:$Q$17, \"*\" & LEFT(A23, 11) & \"*\", $S$8:$S$17))","v":""},null,{"$f":"IF(A23=\"\", \"\", SUMIF($Q$8:$Q$17, \"*\" & LEFT(A23, 11) & \"*\", $T$8:$T$17))","v":""},{"$f":"IF(N23=\"SY\", T23, IF(N23=\"Tons\", V23+P23, \"\"))","v":""}]
[null,null,null,null,null,{"$f":"IF($J24=\"\",\"\",INDEX(Input!$A$5:$H$24,MATCH($A24&$J24,Input!$A$5:$A$24&Input!$G$5:$G$24,0),2))","v":""},{"$f":"IF($J24=\"\",\"\",INDEX(Input!$A$5:$H$24,MATCH($A24&$J24,Input!$A$5:$A$24&Input!$G$5:$G$24,0),3))","v":""},{"$f":"IF($J24=\"\",\"\",INDEX(Input!$A$5:$H$24,MATCH($A24&$J24,Input!$A$5:$A$24&Input!$G$5:$G$24,0),4))","v":""},{"$f":"IF($J24=\"\",\"\",INDEX(Input!$A$5:$H$24,MATCH($A24&$J24,Input!$A$5:$A$24&Input!$G$5:$G$24,0),5))","v":""},null,null,null,null,{"$f":"IF($A24=\"\",\"\",OFFSET(Input!F$4,MATCH($A24,Input!$A$5:$A$24,0),0))","v":""},"",null,{"$f":"IF(N24=\"SY\", V24, IF(N24=\"Tons\", O24-P24, \"\"))","v":""},"\\",{"$f":"IF(A24=\"\",1,IF(ISERROR(MATCH(R24,Input!L$5:L$24,0)),2,1))","v":1},"",null,{"$f":"IF(A24=\"\", \"\", SUMIF($Q$8:$Q$17, \"*\" & LEFT(A24, 11) & \"*\", $T$8:$T$17))","v":""},{"$f":"IF(N24=\"SY\", T24, IF(N24=\"Tons\", V24+P24, \"\"))","v":""}]
[null,null,null,null,null,{"$f":"IF($J25=\"\",\"\",INDEX(Input!$A$5:$H$24,MATCH($A25&$J25,Input!$A$5:$A$24&Input!$G$5:$G$24,0),2))","v":""},{"$f":"IF($J25=\"\",\"\",INDEX(Input!$A$5:$H$24,MATCH($A25&$J25,Input!$A$5:$A$24&Input!$G$5:$G$24,0),3))","v":""},{"$f":"IF($J25=\"\",\"\",INDEX(Input!$A$5:$H$24,MATCH($A25&$J25,Input!$A$5:$A$24&Input!$G$5:$G$24,0),4))","v":""},{"$f":"IF($J25=\"\",\"\",INDEX(Input!$A$5:$H$24,MATCH($A25&$J25,Input!$A$5:$A$24&Input!$G$5:$G$24,0),5))","v":""},null,null,null,null,{"$f":"IF($A25=\"\",\"\",OFFSET(Input!F$4,MATCH($A25,Input!$A$5:$A$24,0),0))","v":""},"",null,"","\\",{"$f":"IF(A25=\"\",1,IF(ISERROR(MATCH(R25,Input!L$5:L$24,0)),2,1))","v":1},"",null,"",""]
[null,null,null,null,null,null,null,null,null,null,null,null,null,null,null,null,null,null,null,null,null,"",{"$f":"IF(N26=\"SY\", T26, IF(N26=\"Tons\", V26+P26, \"\"))","v":""},{"$f":"IF(A26=\"\", \"\", SUMIF($Q$8:$Q$17, \"*\" & LEFT(A26, 11) & \"*\", $S$8:$S$17))","v":""},{"$f":"IF(N26=\"SY\",X26,\"\")","v":""},{"$f":"IF(A26=\"\", \"\", SUMIF($Q$8:$Q$17, \"*\" & LEFT(A26, 11) & \"*\", $T$8:$T$17))","v":""}]
["Hot Box Sample",null,null,null,null,null,null,null,null,null,"Mat Temperatures °F"]
[null,"Test A","Test B","Test C","Test D","Test E",null,null,null,null,"Time","Temp"]
[" Hot Box ID Number  ",null,null,null,null,null,null,null,null,null,"7:00"]
["Hot Box Sample Tons: ",null,null,null,null,null,null,null,null,null,"9:00",null,null,null,"Intended Thickness:"]
[" Time: ",null,null,null,null,null,null,null,null,null,"11:00",null,null,null,"Cores Waived?"]
[" Station/MP: ",null,null,null,null,null,null,null,null,null,"1:00",null,null,null,"Small Quantity Statement?"]
["Bar Code ID.:",null,null,null,null,null,null,null,null,null,"3:00",null,null,null,"Scale Check Done?"]
["Compaction Temp. °F: ",null,null,null,null,null,null,null,null,null,"5:00",null,null,null,"Tack Tickets Today?"]
[null,null,null,null,null,null,null,null,null,null,"7:00"]
["The Below Comments should show up on the plant report"]
["Comments:"]
[]
[]
["The Below Notes are for the CPI from the field or Plant Monitor"]
["Notes:"]
[]
[]
["RANDOM CORE LOCATIONS"]
[null,null,null,null,null,null,null,"Core #","Station","Offset,ft","Joint Station","Lane"]
[null,null,null,null,null,null,null,1]
[null,null,null,null,null,null,null,2]
[null,null,null,null,null,null,null,3]
[null,null,null,null,null,null,null,4]
[null,null,null,null,null,null,null,5]
[null,null,null,null,null,null,null,6]
[null,null,null,null,null,null,null,7]
[null,null,null,null,null,null,null,8]
[]
[null,null,null,null,null,null,null,null,null,null,"Joint Sublot Size, ft"]
[null,null,null,null,null,null,null,null,null,null,0]
[]
[]
[]
[]
[]
[]
[]
[]
[]
[]
[]
[]
[]
[]
[]
[]
[]
[]
[]
[]
[]
[]
[]
[]
[]
[]
[]
[]
[]
[]
[]
[]
[]
[]
[]
[]
[]
[]
[]
[]
[false]

{"sheet":"33","index":48,"n_rows":97,"n_cols":26,"rows_kept":97,"cut":false,"hidden":false,"merged":[[50,11,50,13],[51,11,51,13],[52,11,52,13],[44,11,44,13],[45,11,45,13],[46,11,46,13],[47,11,47,13],[48,11,48,13],[49,11,49,13],[43,0,43,16],[25,0,25,1],[26,0,26,5],[26,20,26,23],[26,25,26,27],[34,2,34,4],[35,0,35,5],[36,1,36,14],[37,0,37,14],[39,0,39,5],[40,1,40,14],[41,0,41,14],[23,0,23,1],[23,2,23,4],[23,9,23,12],[24,0,24,1],[24,2,24,4],[24,9,24,12],[21,0,21,1],[21,2,21,4],[21,9,21,12],[22,0,22,1],[22,2,22,4],[22,9,22,12],[19,0,19,1],[19,2,19,4],[19,9,19,12],[20,0,20,1],[20,2,20,4],[20,9,20,12],[18,0,18,16],[6,14,6,15],[7,14,7,15],[8,14,8,15],[9,14,9,15],[10,14,10,15],[11,14,11,15],[12,14,12,15],[13,14,13,15],[14,14,14,15],[15,14,15,15],[16,14,16,15],[1,0,1,16],[4,0,4,15],[5,4,5,5],[5,8,5,9],[5,11,5,12],[5,13,5,15]]}
[]
["Iowa DOT HMA Field Report"]
["Date :"]
["Item No.('s)"]
["PLACEMENT RECORD",null,null,null,null,null,null,null,null,null,null,null,null,null,null,null,null,null,null,null,null,{"$f":"SUBSTITUTE(A21 & \"\\\" & J21,\"\"\"\",\"\")","v":"\\"}]
[null,null,null,null,"Additional width to DEDUCT from Field Voids",null,null,null,"Placed Density (Pounds/CF)=",null,150,"Overwritten on the \"Summary\" Tab",null,"ONLY ONE (1) MIX DESIGN PER DFR OTHERWISE IT WILL NOT IMPORT INTO THE PLANT REPORT PROPERLY",null,null,null,null,null,null,null,{"$f":"SUBSTITUTE(A22 & \"\\\" & J22,\"\"\"\",\"\")","v":"\\"}]
["From Station"," To Station","Lane","ML or Widening Placement Width","Additional Width (ft) ","Thickness (in)","Total Length Placed (FT)","\"Pay\"  Est \"SY\"","Thickness (inches)","Calculated Field Voids Tons","Placed Tons            (Not including Waste)","% Yield","SY to be PAID (If Diff. than Est SY)","Mix Design No.","Bid Item/ Project No.",null,null,null,"This uses the correct SY #, if Green is blank uses Est. SY","Adds up the Tons",null,"\\"]
[null,null,null,null,null,null,{"$f":"IF(OR(A8=\"\",B8=\"\"),0,IF($A$97=TRUE,ABS(B8-A8)*5280,ABS(VALUE(SUBSTITUTE(A8,\"+\",\"\"))-VALUE(SUBSTITUTE(B8,\"+\",\"\")))))","v":0},{"$f":"IF(D8=\"\",\"\",G8*(D8+E8)/9)","v":""},null,{"$f":"IF(I8=\"\",\"\",(G8)*(D8+E8)*I8/12*$K$6/2000)","v":""},null,{"$f":"IF(K8=\"\",\"\",K8/J8*100)","v":""},null,null,null,null,{"$f":"O8 & \"\\\" & N8","v":"\\"},{"$f":"IF(AND(A8=\"\",B8=\"\",C8=\"\",D8=\"\"),1,IF(OR(O8=\"\",N8=\"\"),2,IF(ISERROR(MATCH(Q8,Input!M$5:M$24,0)),2,1)))","v":1},{"$f":"IF(M8<>\"\", M8, H8)","v":""},{"$f":"K8","v":0},null,"\\"]
[null,null,null,null,null,null,{"$f":"IF(OR(A9=\"\",B9=\"\"),0,IF($A$97=TRUE,ABS(B9-A9)*5280,ABS(VALUE(SUBSTITUTE(A9,\"+\",\"\"))-VALUE(SUBSTITUTE(B9,\"+\",\"\")))))","v":0},{"$f":"IF(D9=\"\",\"\",G9*(D9+E9)/9)","v":""},null,"",null,{"$f":"IF(K9=\"\",\"\",K9/J9*100)","v":""},null,null,null,null,{"$f":"O9 & \"\\\" & N9","v":"\\"},{"$f":"IF(AND(A9=\"\",B9=\"\",C9=\"\",D9=\"\"),1,IF(OR(O9=\"\",N9=\"\"),2,IF(ISERROR(MATCH(Q9,Input!M$5:M$24,0)),2,1)))","v":1},{"$f":"IF(M9<>\"\", M9, H9)","v":""},{"$f":"K9","v":0},null,"\\"]
[null,null,null,null,null,null,0,"",null,"",null,"",null,null,null,null,"\\",{"$f":"IF(AND(A10=\"\",B10=\"\",C10=\"\",D10=\"\"),1,IF(OR(O10=\"\",N10=\"\"),2,IF(ISERROR(MATCH(Q10,Input!M$5:M$24,0)),2,1)))","v":1},{"$f":"IF(M10<>\"\", M10, H10)","v":""},0]
[null,null,null,null,null,null,0,"",null,"",null,"",null,null,null,null,"\\",{"$f":"IF(AND(A11=\"\",B11=\"\",C11=\"\",D11=\"\"),1,IF(OR(O11=\"\",N11=\"\"),2,IF(ISERROR(MATCH(Q11,Input!M$5:M$24,0)),2,1)))","v":1},"",0]
[null,null,null,null,null,null,0,"",null,"",null,"",null,null,null,null,"\\",{"$f":"IF(AND(A12=\"\",B12=\"\",C12=\"\",D12=\"\"),1,IF(OR(O12=\"\",N12=\"\"),2,IF(ISERROR(MATCH(Q12,Input!M$5:M$24,0)),2,1)))","v":1},"",0]
[null,null,null,null,null,null,0,"",null,"",null,"",null,null,null,null,"\\",{"$f":"IF(AND(A13=\"\",B13=\"\",C13=\"\",D13=\"\"),1,IF(OR(O13=\"\",N13=\"\"),2,IF(ISERROR(MATCH(Q13,Input!M$5:M$24,0)),2,1)))","v":1},"",0]
[null,null,null,null,null,null,0,"",null,"",null,"",null,null,null,null,"\\",{"$f":"IF(AND(A14=\"\",B14=\"\",C14=\"\",D14=\"\"),1,IF(OR(O14=\"\",N14=\"\"),2,IF(ISERROR(MATCH(Q14,Input!M$5:M$24,0)),2,1)))","v":1},"",0]
[null,null,null,null,null,null,0,"",null,"",null,"",null,null,null,null,"\\",{"$f":"IF(AND(A15=\"\",B15=\"\",C15=\"\",D15=\"\"),1,IF(OR(O15=\"\",N15=\"\"),2,IF(ISERROR(MATCH(Q15,Input!M$5:M$24,0)),2,1)))","v":1},"",0]
[null,null,null,null,null,null,0,"",null,"",null,"",null,null,null,null,"\\",{"$f":"IF(AND(A16=\"\",B16=\"\",C16=\"\",D16=\"\"),1,IF(OR(O16=\"\",N16=\"\"),2,IF(ISERROR(MATCH(Q16,Input!M$5:M$24,0)),2,1)))","v":1},"",0]
[null,null,null,null,null,null,0,"",null,"",null,"",null,null,null,null,"\\",{"$f":"IF(AND(A17=\"\",B17=\"\",C17=\"\",D17=\"\"),1,IF(OR(O17=\"\",N17=\"\"),2,IF(ISERROR(MATCH(Q17,Input!M$5:M$24,0)),2,1)))","v":1},"",0]
[]
["TANK SHEET"]
["Bid Item (In Order of Placement)",null,"Today's Placement",null,null,"Bid Item Plan Quantity","Plan Thickness (in)","Contract Mix Price","Contract Binder Price","Project Number",null,null,null,"Mix Pay Units","Mix Delivered to Road\n(Ton or SY)","Waste On Road (Ton)\nNO waste for SY Items","Tons Placed - Waste",null,null,"This adds up column S as it depends if the Est SY is filled out or the SY",null,"Use this Column for SY for the Q column","Uses this Value for Mix on Road"]
[null,null,null,null,null,{"$f":"IF($J21=\"\",\"\",INDEX(Input!$A$5:$H$24,MATCH($A21&$J21,Input!$A$5:$A$24&Input!$G$5:$G$24,0),2))","v":""},{"$f":"IF($J21=\"\",\"\",INDEX(Input!$A$5:$H$24,MATCH($A21&$J21,Input!$A$5:$A$24&Input!$G$5:$G$24,0),3))","v":""},{"$f":"IF($J21=\"\",\"\",INDEX(Input!$A$5:$H$24,MATCH($A21&$J21,Input!$A$5:$A$24&Input!$G$5:$G$24,0),4))","v":""},{"$f":"IF($J21=\"\",\"\",INDEX(Input!$A$5:$H$24,MATCH($A21&$J21,Input!$A$5:$A$24&Input!$G$5:$G$24,0),5))","v":""},null,null,null,null,{"$f":"IF($A21=\"\",\"\",OFFSET(Input!F$4,MATCH($A21,Input!$A$5:$A$24,0),0))","v":""},{"$f":"IF(N21=\"SY\", T21, IF(N21=\"Tons\", W21, \"\"))","v":""},null,{"$f":"IF(N21=\"SY\", V21, IF(N21=\"Tons\", O21-P21, \"\"))","v":""},{"$f":"SUBSTITUTE(A21 & \"\\\" & J21,\"\"\"\",\"\")","v":"\\"},{"$f":"IF(A21=\"\",1,IF(ISERROR(MATCH(R21,Input!L$5:L$24,0)),2,1))","v":1},{"$f":"IF(A21=\"\", \"\", SUMIF($Q$8:$Q$17, \"*\" & LEFT(A21, 11) & \"*\", $S$8:$S$17))","v":""},null,{"$f":"IF(A21=\"\", \"\", SUMIF($Q$8:$Q$17, \"*\" & LEFT(A21, 11) & \"*\", $T$8:$T$17))","v":""},{"$f":"IF(N21=\"SY\", T21, IF(N21=\"Tons\", V21+P21, \"\"))","v":""}]
[null,null,null,null,null,{"$f":"IF($J22=\"\",\"\",INDEX(Input!$A$5:$H$24,MATCH($A22&$J22,Input!$A$5:$A$24&Input!$G$5:$G$24,0),2))","v":""},{"$f":"IF($J22=\"\",\"\",INDEX(Input!$A$5:$H$24,MATCH($A22&$J22,Input!$A$5:$A$24&Input!$G$5:$G$24,0),3))","v":""},{"$f":"IF($J22=\"\",\"\",INDEX(Input!$A$5:$H$24,MATCH($A22&$J22,Input!$A$5:$A$24&Input!$G$5:$G$24,0),4))","v":""},{"$f":"IF($J22=\"\",\"\",INDEX(Input!$A$5:$H$24,MATCH($A22&$J22,Input!$A$5:$A$24&Input!$G$5:$G$24,0),5))","v":""},null,null,null,null,{"$f":"IF($A22=\"\",\"\",OFFSET(Input!F$4,MATCH($A22,Input!$A$5:$A$24,0),0))","v":""},{"$f":"IF(N22=\"SY\", T22, IF(N22=\"Tons\", W22, \"\"))","v":""},null,{"$f":"IF(N22=\"SY\", V22, IF(N22=\"Tons\", O22-P22, \"\"))","v":""},{"$f":"SUBSTITUTE(A22 & \"\\\" & J22,\"\"\"\",\"\")","v":"\\"},{"$f":"IF(A22=\"\",1,IF(ISERROR(MATCH(R22,Input!L$5:L$24,0)),2,1))","v":1},{"$f":"IF(A22=\"\", \"\", SUMIF($Q$8:$Q$17, \"*\" & LEFT(A22, 11) & \"*\", $S$8:$S$17))","v":""},null,{"$f":"IF(A22=\"\", \"\", SUMIF($Q$8:$Q$17, \"*\" & LEFT(A22, 11) & \"*\", $T$8:$T$17))","v":""},{"$f":"IF(N22=\"SY\", T22, IF(N22=\"Tons\", V22+P22, \"\"))","v":""}]
[null,null,null,null,null,{"$f":"IF($J23=\"\",\"\",INDEX(Input!$A$5:$H$24,MATCH($A23&$J23,Input!$A$5:$A$24&Input!$G$5:$G$24,0),2))","v":""},{"$f":"IF($J23=\"\",\"\",INDEX(Input!$A$5:$H$24,MATCH($A23&$J23,Input!$A$5:$A$24&Input!$G$5:$G$24,0),3))","v":""},{"$f":"IF($J23=\"\",\"\",INDEX(Input!$A$5:$H$24,MATCH($A23&$J23,Input!$A$5:$A$24&Input!$G$5:$G$24,0),4))","v":""},{"$f":"IF($J23=\"\",\"\",INDEX(Input!$A$5:$H$24,MATCH($A23&$J23,Input!$A$5:$A$24&Input!$G$5:$G$24,0),5))","v":""},null,null,null,null,{"$f":"IF($A23=\"\",\"\",OFFSET(Input!F$4,MATCH($A23,Input!$A$5:$A$24,0),0))","v":""},{"$f":"IF(N23=\"SY\", T23, IF(N23=\"Tons\", W23, \"\"))","v":""},null,{"$f":"IF(N23=\"SY\", V23, IF(N23=\"Tons\", O23-P23, \"\"))","v":""},"\\",{"$f":"IF(A23=\"\",1,IF(ISERROR(MATCH(R23,Input!L$5:L$24,0)),2,1))","v":1},{"$f":"IF(A23=\"\", \"\", SUMIF($Q$8:$Q$17, \"*\" & LEFT(A23, 11) & \"*\", $S$8:$S$17))","v":""},null,{"$f":"IF(A23=\"\", \"\", SUMIF($Q$8:$Q$17, \"*\" & LEFT(A23, 11) & \"*\", $T$8:$T$17))","v":""},{"$f":"IF(N23=\"SY\", T23, IF(N23=\"Tons\", V23+P23, \"\"))","v":""}]
[null,null,null,null,null,{"$f":"IF($J24=\"\",\"\",INDEX(Input!$A$5:$H$24,MATCH($A24&$J24,Input!$A$5:$A$24&Input!$G$5:$G$24,0),2))","v":""},{"$f":"IF($J24=\"\",\"\",INDEX(Input!$A$5:$H$24,MATCH($A24&$J24,Input!$A$5:$A$24&Input!$G$5:$G$24,0),3))","v":""},{"$f":"IF($J24=\"\",\"\",INDEX(Input!$A$5:$H$24,MATCH($A24&$J24,Input!$A$5:$A$24&Input!$G$5:$G$24,0),4))","v":""},{"$f":"IF($J24=\"\",\"\",INDEX(Input!$A$5:$H$24,MATCH($A24&$J24,Input!$A$5:$A$24&Input!$G$5:$G$24,0),5))","v":""},null,null,null,null,{"$f":"IF($A24=\"\",\"\",OFFSET(Input!F$4,MATCH($A24,Input!$A$5:$A$24,0),0))","v":""},"",null,{"$f":"IF(N24=\"SY\", V24, IF(N24=\"Tons\", O24-P24, \"\"))","v":""},"\\",{"$f":"IF(A24=\"\",1,IF(ISERROR(MATCH(R24,Input!L$5:L$24,0)),2,1))","v":1},"",null,{"$f":"IF(A24=\"\", \"\", SUMIF($Q$8:$Q$17, \"*\" & LEFT(A24, 11) & \"*\", $T$8:$T$17))","v":""},{"$f":"IF(N24=\"SY\", T24, IF(N24=\"Tons\", V24+P24, \"\"))","v":""}]
[null,null,null,null,null,{"$f":"IF($J25=\"\",\"\",INDEX(Input!$A$5:$H$24,MATCH($A25&$J25,Input!$A$5:$A$24&Input!$G$5:$G$24,0),2))","v":""},{"$f":"IF($J25=\"\",\"\",INDEX(Input!$A$5:$H$24,MATCH($A25&$J25,Input!$A$5:$A$24&Input!$G$5:$G$24,0),3))","v":""},{"$f":"IF($J25=\"\",\"\",INDEX(Input!$A$5:$H$24,MATCH($A25&$J25,Input!$A$5:$A$24&Input!$G$5:$G$24,0),4))","v":""},{"$f":"IF($J25=\"\",\"\",INDEX(Input!$A$5:$H$24,MATCH($A25&$J25,Input!$A$5:$A$24&Input!$G$5:$G$24,0),5))","v":""},null,null,null,null,{"$f":"IF($A25=\"\",\"\",OFFSET(Input!F$4,MATCH($A25,Input!$A$5:$A$24,0),0))","v":""},"",null,"","\\",{"$f":"IF(A25=\"\",1,IF(ISERROR(MATCH(R25,Input!L$5:L$24,0)),2,1))","v":1},"",null,"",""]
[null,null,null,null,null,null,null,null,null,null,null,null,null,null,null,null,null,null,null,null,null,"",{"$f":"IF(N26=\"SY\", T26, IF(N26=\"Tons\", V26+P26, \"\"))","v":""},{"$f":"IF(A26=\"\", \"\", SUMIF($Q$8:$Q$17, \"*\" & LEFT(A26, 11) & \"*\", $S$8:$S$17))","v":""},{"$f":"IF(N26=\"SY\",X26,\"\")","v":""},{"$f":"IF(A26=\"\", \"\", SUMIF($Q$8:$Q$17, \"*\" & LEFT(A26, 11) & \"*\", $T$8:$T$17))","v":""}]
["Hot Box Sample",null,null,null,null,null,null,null,null,null,"Mat Temperatures °F"]
[null,"Test A","Test B","Test C","Test D","Test E",null,null,null,null,"Time","Temp"]
[" Hot Box ID Number  ",null,null,null,null,null,null,null,null,null,"7:00"]
["Hot Box Sample Tons: ",null,null,null,null,null,null,null,null,null,"9:00",null,null,null,"Intended Thickness:"]
[" Time: ",null,null,null,null,null,null,null,null,null,"11:00",null,null,null,"Cores Waived?"]
[" Station/MP: ",null,null,null,null,null,null,null,null,null,"1:00",null,null,null,"Small Quantity Statement?"]
["Bar Code ID.:",null,null,null,null,null,null,null,null,null,"3:00",null,null,null,"Scale Check Done?"]
["Compaction Temp. °F: ",null,null,null,null,null,null,null,null,null,"5:00",null,null,null,"Tack Tickets Today?"]
[null,null,null,null,null,null,null,null,null,null,"7:00"]
["The Below Comments should show up on the plant report"]
["Comments:"]
[]
[]
["The Below Notes are for the CPI from the field or Plant Monitor"]
["Notes:"]
[]
[]
["RANDOM CORE LOCATIONS"]
[null,null,null,null,null,null,null,"Core #","Station","Offset,ft","Joint Station","Lane"]
[null,null,null,null,null,null,null,1]
[null,null,null,null,null,null,null,2]
[null,null,null,null,null,null,null,3]
[null,null,null,null,null,null,null,4]
[null,null,null,null,null,null,null,5]
[null,null,null,null,null,null,null,6]
[null,null,null,null,null,null,null,7]
[null,null,null,null,null,null,null,8]
[]
[null,null,null,null,null,null,null,null,null,null,"Joint Sublot Size, ft"]
[null,null,null,null,null,null,null,null,null,null,0]
[]
[]
[]
[]
[]
[]
[]
[]
[]
[]
[]
[]
[]
[]
[]
[]
[]
[]
[]
[]
[]
[]
[]
[]
[]
[]
[]
[]
[]
[]
[]
[]
[]
[]
[]
[]
[]
[]
[]
[]
[false]

{"sheet":"34","index":49,"n_rows":97,"n_cols":26,"rows_kept":97,"cut":false,"hidden":false,"merged":[[50,11,50,13],[51,11,51,13],[52,11,52,13],[44,11,44,13],[45,11,45,13],[46,11,46,13],[47,11,47,13],[48,11,48,13],[49,11,49,13],[43,0,43,16],[25,0,25,1],[26,0,26,5],[26,20,26,23],[26,25,26,27],[34,2,34,4],[35,0,35,5],[36,1,36,14],[37,0,37,14],[39,0,39,5],[40,1,40,14],[41,0,41,14],[23,0,23,1],[23,2,23,4],[23,9,23,12],[24,0,24,1],[24,2,24,4],[24,9,24,12],[21,0,21,1],[21,2,21,4],[21,9,21,12],[22,0,22,1],[22,2,22,4],[22,9,22,12],[19,0,19,1],[19,2,19,4],[19,9,19,12],[20,0,20,1],[20,2,20,4],[20,9,20,12],[18,0,18,16],[6,14,6,15],[7,14,7,15],[8,14,8,15],[9,14,9,15],[10,14,10,15],[11,14,11,15],[12,14,12,15],[13,14,13,15],[14,14,14,15],[15,14,15,15],[16,14,16,15],[1,0,1,16],[4,0,4,15],[5,4,5,5],[5,8,5,9],[5,11,5,12],[5,13,5,15]]}
[]
["Iowa DOT HMA Field Report"]
["Date :"]
["Item No.('s)"]
["PLACEMENT RECORD",null,null,null,null,null,null,null,null,null,null,null,null,null,null,null,null,null,null,null,null,{"$f":"SUBSTITUTE(A21 & \"\\\" & J21,\"\"\"\",\"\")","v":"\\"}]
[null,null,null,null,"Additional width to DEDUCT from Field Voids",null,null,null,"Placed Density (Pounds/CF)=",null,150,"Overwritten on the \"Summary\" Tab",null,"ONLY ONE (1) MIX DESIGN PER DFR OTHERWISE IT WILL NOT IMPORT INTO THE PLANT REPORT PROPERLY",null,null,null,null,null,null,null,{"$f":"SUBSTITUTE(A22 & \"\\\" & J22,\"\"\"\",\"\")","v":"\\"}]
["From Station"," To Station","Lane","ML or Widening Placement Width","Additional Width (ft) ","Thickness (in)","Total Length Placed (FT)","\"Pay\"  Est \"SY\"","Thickness (inches)","Calculated Field Voids Tons","Placed Tons            (Not including Waste)","% Yield","SY to be PAID (If Diff. than Est SY)","Mix Design No.","Bid Item/ Project No.",null,null,null,"This uses the correct SY #, if Green is blank uses Est. SY","Adds up the Tons",null,"\\"]
[null,null,null,null,null,null,{"$f":"IF(OR(A8=\"\",B8=\"\"),0,IF($A$97=TRUE,ABS(B8-A8)*5280,ABS(VALUE(SUBSTITUTE(A8,\"+\",\"\"))-VALUE(SUBSTITUTE(B8,\"+\",\"\")))))","v":0},{"$f":"IF(D8=\"\",\"\",G8*(D8+E8)/9)","v":""},null,{"$f":"IF(I8=\"\",\"\",(G8)*(D8+E8)*I8/12*$K$6/2000)","v":""},null,{"$f":"IF(K8=\"\",\"\",K8/J8*100)","v":""},null,null,null,null,{"$f":"O8 & \"\\\" & N8","v":"\\"},{"$f":"IF(AND(A8=\"\",B8=\"\",C8=\"\",D8=\"\"),1,IF(OR(O8=\"\",N8=\"\"),2,IF(ISERROR(MATCH(Q8,Input!M$5:M$24,0)),2,1)))","v":1},{"$f":"IF(M8<>\"\", M8, H8)","v":""},{"$f":"K8","v":0},null,"\\"]
[null,null,null,null,null,null,{"$f":"IF(OR(A9=\"\",B9=\"\"),0,IF($A$97=TRUE,ABS(B9-A9)*5280,ABS(VALUE(SUBSTITUTE(A9,\"+\",\"\"))-VALUE(SUBSTITUTE(B9,\"+\",\"\")))))","v":0},{"$f":"IF(D9=\"\",\"\",G9*(D9+E9)/9)","v":""},null,"",null,{"$f":"IF(K9=\"\",\"\",K9/J9*100)","v":""},null,null,null,null,{"$f":"O9 & \"\\\" & N9","v":"\\"},{"$f":"IF(AND(A9=\"\",B9=\"\",C9=\"\",D9=\"\"),1,IF(OR(O9=\"\",N9=\"\"),2,IF(ISERROR(MATCH(Q9,Input!M$5:M$24,0)),2,1)))","v":1},{"$f":"IF(M9<>\"\", M9, H9)","v":""},{"$f":"K9","v":0},null,"\\"]
[null,null,null,null,null,null,0,"",null,"",null,"",null,null,null,null,"\\",{"$f":"IF(AND(A10=\"\",B10=\"\",C10=\"\",D10=\"\"),1,IF(OR(O10=\"\",N10=\"\"),2,IF(ISERROR(MATCH(Q10,Input!M$5:M$24,0)),2,1)))","v":1},{"$f":"IF(M10<>\"\", M10, H10)","v":""},0]
[null,null,null,null,null,null,0,"",null,"",null,"",null,null,null,null,"\\",{"$f":"IF(AND(A11=\"\",B11=\"\",C11=\"\",D11=\"\"),1,IF(OR(O11=\"\",N11=\"\"),2,IF(ISERROR(MATCH(Q11,Input!M$5:M$24,0)),2,1)))","v":1},"",0]
[null,null,null,null,null,null,0,"",null,"",null,"",null,null,null,null,"\\",{"$f":"IF(AND(A12=\"\",B12=\"\",C12=\"\",D12=\"\"),1,IF(OR(O12=\"\",N12=\"\"),2,IF(ISERROR(MATCH(Q12,Input!M$5:M$24,0)),2,1)))","v":1},"",0]
[null,null,null,null,null,null,0,"",null,"",null,"",null,null,null,null,"\\",{"$f":"IF(AND(A13=\"\",B13=\"\",C13=\"\",D13=\"\"),1,IF(OR(O13=\"\",N13=\"\"),2,IF(ISERROR(MATCH(Q13,Input!M$5:M$24,0)),2,1)))","v":1},"",0]
[null,null,null,null,null,null,0,"",null,"",null,"",null,null,null,null,"\\",{"$f":"IF(AND(A14=\"\",B14=\"\",C14=\"\",D14=\"\"),1,IF(OR(O14=\"\",N14=\"\"),2,IF(ISERROR(MATCH(Q14,Input!M$5:M$24,0)),2,1)))","v":1},"",0]
[null,null,null,null,null,null,0,"",null,"",null,"",null,null,null,null,"\\",{"$f":"IF(AND(A15=\"\",B15=\"\",C15=\"\",D15=\"\"),1,IF(OR(O15=\"\",N15=\"\"),2,IF(ISERROR(MATCH(Q15,Input!M$5:M$24,0)),2,1)))","v":1},"",0]
[null,null,null,null,null,null,0,"",null,"",null,"",null,null,null,null,"\\",{"$f":"IF(AND(A16=\"\",B16=\"\",C16=\"\",D16=\"\"),1,IF(OR(O16=\"\",N16=\"\"),2,IF(ISERROR(MATCH(Q16,Input!M$5:M$24,0)),2,1)))","v":1},"",0]
[null,null,null,null,null,null,0,"",null,"",null,"",null,null,null,null,"\\",{"$f":"IF(AND(A17=\"\",B17=\"\",C17=\"\",D17=\"\"),1,IF(OR(O17=\"\",N17=\"\"),2,IF(ISERROR(MATCH(Q17,Input!M$5:M$24,0)),2,1)))","v":1},"",0]
[]
["TANK SHEET"]
["Bid Item (In Order of Placement)",null,"Today's Placement",null,null,"Bid Item Plan Quantity","Plan Thickness (in)","Contract Mix Price","Contract Binder Price","Project Number",null,null,null,"Mix Pay Units","Mix Delivered to Road\n(Ton or SY)","Waste On Road (Ton)\nNO waste for SY Items","Tons Placed - Waste",null,null,"This adds up column S as it depends if the Est SY is filled out or the SY",null,"Use this Column for SY for the Q column","Uses this Value for Mix on Road"]
[null,null,null,null,null,{"$f":"IF($J21=\"\",\"\",INDEX(Input!$A$5:$H$24,MATCH($A21&$J21,Input!$A$5:$A$24&Input!$G$5:$G$24,0),2))","v":""},{"$f":"IF($J21=\"\",\"\",INDEX(Input!$A$5:$H$24,MATCH($A21&$J21,Input!$A$5:$A$24&Input!$G$5:$G$24,0),3))","v":""},{"$f":"IF($J21=\"\",\"\",INDEX(Input!$A$5:$H$24,MATCH($A21&$J21,Input!$A$5:$A$24&Input!$G$5:$G$24,0),4))","v":""},{"$f":"IF($J21=\"\",\"\",INDEX(Input!$A$5:$H$24,MATCH($A21&$J21,Input!$A$5:$A$24&Input!$G$5:$G$24,0),5))","v":""},null,null,null,null,{"$f":"IF($A21=\"\",\"\",OFFSET(Input!F$4,MATCH($A21,Input!$A$5:$A$24,0),0))","v":""},{"$f":"IF(N21=\"SY\", T21, IF(N21=\"Tons\", W21, \"\"))","v":""},null,{"$f":"IF(N21=\"SY\", V21, IF(N21=\"Tons\", O21-P21, \"\"))","v":""},{"$f":"SUBSTITUTE(A21 & \"\\\" & J21,\"\"\"\",\"\")","v":"\\"},{"$f":"IF(A21=\"\",1,IF(ISERROR(MATCH(R21,Input!L$5:L$24,0)),2,1))","v":1},{"$f":"IF(A21=\"\", \"\", SUMIF($Q$8:$Q$17, \"*\" & LEFT(A21, 11) & \"*\", $S$8:$S$17))","v":""},null,{"$f":"IF(A21=\"\", \"\", SUMIF($Q$8:$Q$17, \"*\" & LEFT(A21, 11) & \"*\", $T$8:$T$17))","v":""},{"$f":"IF(N21=\"SY\", T21, IF(N21=\"Tons\", V21+P21, \"\"))","v":""}]
[null,null,null,null,null,{"$f":"IF($J22=\"\",\"\",INDEX(Input!$A$5:$H$24,MATCH($A22&$J22,Input!$A$5:$A$24&Input!$G$5:$G$24,0),2))","v":""},{"$f":"IF($J22=\"\",\"\",INDEX(Input!$A$5:$H$24,MATCH($A22&$J22,Input!$A$5:$A$24&Input!$G$5:$G$24,0),3))","v":""},{"$f":"IF($J22=\"\",\"\",INDEX(Input!$A$5:$H$24,MATCH($A22&$J22,Input!$A$5:$A$24&Input!$G$5:$G$24,0),4))","v":""},{"$f":"IF($J22=\"\",\"\",INDEX(Input!$A$5:$H$24,MATCH($A22&$J22,Input!$A$5:$A$24&Input!$G$5:$G$24,0),5))","v":""},null,null,null,null,{"$f":"IF($A22=\"\",\"\",OFFSET(Input!F$4,MATCH($A22,Input!$A$5:$A$24,0),0))","v":""},{"$f":"IF(N22=\"SY\", T22, IF(N22=\"Tons\", W22, \"\"))","v":""},null,{"$f":"IF(N22=\"SY\", V22, IF(N22=\"Tons\", O22-P22, \"\"))","v":""},{"$f":"SUBSTITUTE(A22 & \"\\\" & J22,\"\"\"\",\"\")","v":"\\"},{"$f":"IF(A22=\"\",1,IF(ISERROR(MATCH(R22,Input!L$5:L$24,0)),2,1))","v":1},{"$f":"IF(A22=\"\", \"\", SUMIF($Q$8:$Q$17, \"*\" & LEFT(A22, 11) & \"*\", $S$8:$S$17))","v":""},null,{"$f":"IF(A22=\"\", \"\", SUMIF($Q$8:$Q$17, \"*\" & LEFT(A22, 11) & \"*\", $T$8:$T$17))","v":""},{"$f":"IF(N22=\"SY\", T22, IF(N22=\"Tons\", V22+P22, \"\"))","v":""}]
[null,null,null,null,null,{"$f":"IF($J23=\"\",\"\",INDEX(Input!$A$5:$H$24,MATCH($A23&$J23,Input!$A$5:$A$24&Input!$G$5:$G$24,0),2))","v":""},{"$f":"IF($J23=\"\",\"\",INDEX(Input!$A$5:$H$24,MATCH($A23&$J23,Input!$A$5:$A$24&Input!$G$5:$G$24,0),3))","v":""},{"$f":"IF($J23=\"\",\"\",INDEX(Input!$A$5:$H$24,MATCH($A23&$J23,Input!$A$5:$A$24&Input!$G$5:$G$24,0),4))","v":""},{"$f":"IF($J23=\"\",\"\",INDEX(Input!$A$5:$H$24,MATCH($A23&$J23,Input!$A$5:$A$24&Input!$G$5:$G$24,0),5))","v":""},null,null,null,null,{"$f":"IF($A23=\"\",\"\",OFFSET(Input!F$4,MATCH($A23,Input!$A$5:$A$24,0),0))","v":""},{"$f":"IF(N23=\"SY\", T23, IF(N23=\"Tons\", W23, \"\"))","v":""},null,{"$f":"IF(N23=\"SY\", V23, IF(N23=\"Tons\", O23-P23, \"\"))","v":""},"\\",{"$f":"IF(A23=\"\",1,IF(ISERROR(MATCH(R23,Input!L$5:L$24,0)),2,1))","v":1},{"$f":"IF(A23=\"\", \"\", SUMIF($Q$8:$Q$17, \"*\" & LEFT(A23, 11) & \"*\", $S$8:$S$17))","v":""},null,{"$f":"IF(A23=\"\", \"\", SUMIF($Q$8:$Q$17, \"*\" & LEFT(A23, 11) & \"*\", $T$8:$T$17))","v":""},{"$f":"IF(N23=\"SY\", T23, IF(N23=\"Tons\", V23+P23, \"\"))","v":""}]
[null,null,null,null,null,{"$f":"IF($J24=\"\",\"\",INDEX(Input!$A$5:$H$24,MATCH($A24&$J24,Input!$A$5:$A$24&Input!$G$5:$G$24,0),2))","v":""},{"$f":"IF($J24=\"\",\"\",INDEX(Input!$A$5:$H$24,MATCH($A24&$J24,Input!$A$5:$A$24&Input!$G$5:$G$24,0),3))","v":""},{"$f":"IF($J24=\"\",\"\",INDEX(Input!$A$5:$H$24,MATCH($A24&$J24,Input!$A$5:$A$24&Input!$G$5:$G$24,0),4))","v":""},{"$f":"IF($J24=\"\",\"\",INDEX(Input!$A$5:$H$24,MATCH($A24&$J24,Input!$A$5:$A$24&Input!$G$5:$G$24,0),5))","v":""},null,null,null,null,{"$f":"IF($A24=\"\",\"\",OFFSET(Input!F$4,MATCH($A24,Input!$A$5:$A$24,0),0))","v":""},"",null,{"$f":"IF(N24=\"SY\", V24, IF(N24=\"Tons\", O24-P24, \"\"))","v":""},"\\",{"$f":"IF(A24=\"\",1,IF(ISERROR(MATCH(R24,Input!L$5:L$24,0)),2,1))","v":1},"",null,{"$f":"IF(A24=\"\", \"\", SUMIF($Q$8:$Q$17, \"*\" & LEFT(A24, 11) & \"*\", $T$8:$T$17))","v":""},{"$f":"IF(N24=\"SY\", T24, IF(N24=\"Tons\", V24+P24, \"\"))","v":""}]
[null,null,null,null,null,{"$f":"IF($J25=\"\",\"\",INDEX(Input!$A$5:$H$24,MATCH($A25&$J25,Input!$A$5:$A$24&Input!$G$5:$G$24,0),2))","v":""},{"$f":"IF($J25=\"\",\"\",INDEX(Input!$A$5:$H$24,MATCH($A25&$J25,Input!$A$5:$A$24&Input!$G$5:$G$24,0),3))","v":""},{"$f":"IF($J25=\"\",\"\",INDEX(Input!$A$5:$H$24,MATCH($A25&$J25,Input!$A$5:$A$24&Input!$G$5:$G$24,0),4))","v":""},{"$f":"IF($J25=\"\",\"\",INDEX(Input!$A$5:$H$24,MATCH($A25&$J25,Input!$A$5:$A$24&Input!$G$5:$G$24,0),5))","v":""},null,null,null,null,{"$f":"IF($A25=\"\",\"\",OFFSET(Input!F$4,MATCH($A25,Input!$A$5:$A$24,0),0))","v":""},"",null,"","\\",{"$f":"IF(A25=\"\",1,IF(ISERROR(MATCH(R25,Input!L$5:L$24,0)),2,1))","v":1},"",null,"",""]
[null,null,null,null,null,null,null,null,null,null,null,null,null,null,null,null,null,null,null,null,null,"",{"$f":"IF(N26=\"SY\", T26, IF(N26=\"Tons\", V26+P26, \"\"))","v":""},{"$f":"IF(A26=\"\", \"\", SUMIF($Q$8:$Q$17, \"*\" & LEFT(A26, 11) & \"*\", $S$8:$S$17))","v":""},{"$f":"IF(N26=\"SY\",X26,\"\")","v":""},{"$f":"IF(A26=\"\", \"\", SUMIF($Q$8:$Q$17, \"*\" & LEFT(A26, 11) & \"*\", $T$8:$T$17))","v":""}]
["Hot Box Sample",null,null,null,null,null,null,null,null,null,"Mat Temperatures °F"]
[null,"Test A","Test B","Test C","Test D","Test E",null,null,null,null,"Time","Temp"]
[" Hot Box ID Number  ",null,null,null,null,null,null,null,null,null,"7:00"]
["Hot Box Sample Tons: ",null,null,null,null,null,null,null,null,null,"9:00",null,null,null,"Intended Thickness:"]
[" Time: ",null,null,null,null,null,null,null,null,null,"11:00",null,null,null,"Cores Waived?"]
[" Station/MP: ",null,null,null,null,null,null,null,null,null,"1:00",null,null,null,"Small Quantity Statement?"]
["Bar Code ID.:",null,null,null,null,null,null,null,null,null,"3:00",null,null,null,"Scale Check Done?"]
["Compaction Temp. °F: ",null,null,null,null,null,null,null,null,null,"5:00",null,null,null,"Tack Tickets Today?"]
[null,null,null,null,null,null,null,null,null,null,"7:00"]
["The Below Comments should show up on the plant report"]
["Comments:"]
[]
[]
["The Below Notes are for the CPI from the field or Plant Monitor"]
["Notes:"]
[]
[]
["RANDOM CORE LOCATIONS"]
[null,null,null,null,null,null,null,"Core #","Station","Offset,ft","Joint Station","Lane"]
[null,null,null,null,null,null,null,1]
[null,null,null,null,null,null,null,2]
[null,null,null,null,null,null,null,3]
[null,null,null,null,null,null,null,4]
[null,null,null,null,null,null,null,5]
[null,null,null,null,null,null,null,6]
[null,null,null,null,null,null,null,7]
[null,null,null,null,null,null,null,8]
[]
[null,null,null,null,null,null,null,null,null,null,"Joint Sublot Size, ft"]
[null,null,null,null,null,null,null,null,null,null,0]
[]
[]
[]
[]
[]
[]
[]
[]
[]
[]
[]
[]
[]
[]
[]
[]
[]
[]
[]
[]
[]
[]
[]
[]
[]
[]
[]
[]
[]
[]
[]
[]
[]
[]
[]
[]
[]
[]
[]
[]
[false]

{"sheet":"35","index":50,"n_rows":97,"n_cols":26,"rows_kept":97,"cut":false,"hidden":false,"merged":[[50,11,50,13],[51,11,51,13],[52,11,52,13],[44,11,44,13],[45,11,45,13],[46,11,46,13],[47,11,47,13],[48,11,48,13],[49,11,49,13],[43,0,43,16],[25,0,25,1],[26,0,26,5],[26,20,26,23],[26,25,26,27],[34,2,34,4],[35,0,35,5],[36,1,36,14],[37,0,37,14],[39,0,39,5],[40,1,40,14],[41,0,41,14],[23,0,23,1],[23,2,23,4],[23,9,23,12],[24,0,24,1],[24,2,24,4],[24,9,24,12],[21,0,21,1],[21,2,21,4],[21,9,21,12],[22,0,22,1],[22,2,22,4],[22,9,22,12],[19,0,19,1],[19,2,19,4],[19,9,19,12],[20,0,20,1],[20,2,20,4],[20,9,20,12],[18,0,18,16],[6,14,6,15],[7,14,7,15],[8,14,8,15],[9,14,9,15],[10,14,10,15],[11,14,11,15],[12,14,12,15],[13,14,13,15],[14,14,14,15],[15,14,15,15],[16,14,16,15],[1,0,1,16],[4,0,4,15],[5,4,5,5],[5,8,5,9],[5,11,5,12],[5,13,5,15]]}
[]
["Iowa DOT HMA Field Report"]
["Date :"]
["Item No.('s)"]
["PLACEMENT RECORD",null,null,null,null,null,null,null,null,null,null,null,null,null,null,null,null,null,null,null,null,{"$f":"SUBSTITUTE(A21 & \"\\\" & J21,\"\"\"\",\"\")","v":"\\"}]
[null,null,null,null,"Additional width to DEDUCT from Field Voids",null,null,null,"Placed Density (Pounds/CF)=",null,150,"Overwritten on the \"Summary\" Tab",null,"ONLY ONE (1) MIX DESIGN PER DFR OTHERWISE IT WILL NOT IMPORT INTO THE PLANT REPORT PROPERLY",null,null,null,null,null,null,null,{"$f":"SUBSTITUTE(A22 & \"\\\" & J22,\"\"\"\",\"\")","v":"\\"}]
["From Station"," To Station","Lane","ML or Widening Placement Width","Additional Width (ft) ","Thickness (in)","Total Length Placed (FT)","\"Pay\"  Est \"SY\"","Thickness (inches)","Calculated Field Voids Tons","Placed Tons            (Not including Waste)","% Yield","SY to be PAID (If Diff. than Est SY)","Mix Design No.","Bid Item/ Project No.",null,null,null,"This uses the correct SY #, if Green is blank uses Est. SY","Adds up the Tons",null,"\\"]
[null,null,null,null,null,null,{"$f":"IF(OR(A8=\"\",B8=\"\"),0,IF($A$97=TRUE,ABS(B8-A8)*5280,ABS(VALUE(SUBSTITUTE(A8,\"+\",\"\"))-VALUE(SUBSTITUTE(B8,\"+\",\"\")))))","v":0},{"$f":"IF(D8=\"\",\"\",G8*(D8+E8)/9)","v":""},null,{"$f":"IF(I8=\"\",\"\",(G8)*(D8+E8)*I8/12*$K$6/2000)","v":""},null,{"$f":"IF(K8=\"\",\"\",K8/J8*100)","v":""},null,null,null,null,{"$f":"O8 & \"\\\" & N8","v":"\\"},{"$f":"IF(AND(A8=\"\",B8=\"\",C8=\"\",D8=\"\"),1,IF(OR(O8=\"\",N8=\"\"),2,IF(ISERROR(MATCH(Q8,Input!M$5:M$24,0)),2,1)))","v":1},{"$f":"IF(M8<>\"\", M8, H8)","v":""},{"$f":"K8","v":0},null,"\\"]
[null,null,null,null,null,null,{"$f":"IF(OR(A9=\"\",B9=\"\"),0,IF($A$97=TRUE,ABS(B9-A9)*5280,ABS(VALUE(SUBSTITUTE(A9,\"+\",\"\"))-VALUE(SUBSTITUTE(B9,\"+\",\"\")))))","v":0},{"$f":"IF(D9=\"\",\"\",G9*(D9+E9)/9)","v":""},null,"",null,{"$f":"IF(K9=\"\",\"\",K9/J9*100)","v":""},null,null,null,null,{"$f":"O9 & \"\\\" & N9","v":"\\"},{"$f":"IF(AND(A9=\"\",B9=\"\",C9=\"\",D9=\"\"),1,IF(OR(O9=\"\",N9=\"\"),2,IF(ISERROR(MATCH(Q9,Input!M$5:M$24,0)),2,1)))","v":1},{"$f":"IF(M9<>\"\", M9, H9)","v":""},{"$f":"K9","v":0},null,"\\"]
[null,null,null,null,null,null,0,"",null,"",null,"",null,null,null,null,"\\",{"$f":"IF(AND(A10=\"\",B10=\"\",C10=\"\",D10=\"\"),1,IF(OR(O10=\"\",N10=\"\"),2,IF(ISERROR(MATCH(Q10,Input!M$5:M$24,0)),2,1)))","v":1},{"$f":"IF(M10<>\"\", M10, H10)","v":""},0]
[null,null,null,null,null,null,0,"",null,"",null,"",null,null,null,null,"\\",{"$f":"IF(AND(A11=\"\",B11=\"\",C11=\"\",D11=\"\"),1,IF(OR(O11=\"\",N11=\"\"),2,IF(ISERROR(MATCH(Q11,Input!M$5:M$24,0)),2,1)))","v":1},"",0]
[null,null,null,null,null,null,0,"",null,"",null,"",null,null,null,null,"\\",{"$f":"IF(AND(A12=\"\",B12=\"\",C12=\"\",D12=\"\"),1,IF(OR(O12=\"\",N12=\"\"),2,IF(ISERROR(MATCH(Q12,Input!M$5:M$24,0)),2,1)))","v":1},"",0]
[null,null,null,null,null,null,0,"",null,"",null,"",null,null,null,null,"\\",{"$f":"IF(AND(A13=\"\",B13=\"\",C13=\"\",D13=\"\"),1,IF(OR(O13=\"\",N13=\"\"),2,IF(ISERROR(MATCH(Q13,Input!M$5:M$24,0)),2,1)))","v":1},"",0]
[null,null,null,null,null,null,0,"",null,"",null,"",null,null,null,null,"\\",{"$f":"IF(AND(A14=\"\",B14=\"\",C14=\"\",D14=\"\"),1,IF(OR(O14=\"\",N14=\"\"),2,IF(ISERROR(MATCH(Q14,Input!M$5:M$24,0)),2,1)))","v":1},"",0]
[null,null,null,null,null,null,0,"",null,"",null,"",null,null,null,null,"\\",{"$f":"IF(AND(A15=\"\",B15=\"\",C15=\"\",D15=\"\"),1,IF(OR(O15=\"\",N15=\"\"),2,IF(ISERROR(MATCH(Q15,Input!M$5:M$24,0)),2,1)))","v":1},"",0]
[null,null,null,null,null,null,0,"",null,"",null,"",null,null,null,null,"\\",{"$f":"IF(AND(A16=\"\",B16=\"\",C16=\"\",D16=\"\"),1,IF(OR(O16=\"\",N16=\"\"),2,IF(ISERROR(MATCH(Q16,Input!M$5:M$24,0)),2,1)))","v":1},"",0]
[null,null,null,null,null,null,0,"",null,"",null,"",null,null,null,null,"\\",{"$f":"IF(AND(A17=\"\",B17=\"\",C17=\"\",D17=\"\"),1,IF(OR(O17=\"\",N17=\"\"),2,IF(ISERROR(MATCH(Q17,Input!M$5:M$24,0)),2,1)))","v":1},"",0]
[]
["TANK SHEET"]
["Bid Item (In Order of Placement)",null,"Today's Placement",null,null,"Bid Item Plan Quantity","Plan Thickness (in)","Contract Mix Price","Contract Binder Price","Project Number",null,null,null,"Mix Pay Units","Mix Delivered to Road\n(Ton or SY)","Waste On Road (Ton)\nNO waste for SY Items","Tons Placed - Waste",null,null,"This adds up column S as it depends if the Est SY is filled out or the SY",null,"Use this Column for SY for the Q column","Uses this Value for Mix on Road"]
[null,null,null,null,null,{"$f":"IF($J21=\"\",\"\",INDEX(Input!$A$5:$H$24,MATCH($A21&$J21,Input!$A$5:$A$24&Input!$G$5:$G$24,0),2))","v":""},{"$f":"IF($J21=\"\",\"\",INDEX(Input!$A$5:$H$24,MATCH($A21&$J21,Input!$A$5:$A$24&Input!$G$5:$G$24,0),3))","v":""},{"$f":"IF($J21=\"\",\"\",INDEX(Input!$A$5:$H$24,MATCH($A21&$J21,Input!$A$5:$A$24&Input!$G$5:$G$24,0),4))","v":""},{"$f":"IF($J21=\"\",\"\",INDEX(Input!$A$5:$H$24,MATCH($A21&$J21,Input!$A$5:$A$24&Input!$G$5:$G$24,0),5))","v":""},null,null,null,null,{"$f":"IF($A21=\"\",\"\",OFFSET(Input!F$4,MATCH($A21,Input!$A$5:$A$24,0),0))","v":""},{"$f":"IF(N21=\"SY\", T21, IF(N21=\"Tons\", W21, \"\"))","v":""},null,{"$f":"IF(N21=\"SY\", V21, IF(N21=\"Tons\", O21-P21, \"\"))","v":""},{"$f":"SUBSTITUTE(A21 & \"\\\" & J21,\"\"\"\",\"\")","v":"\\"},{"$f":"IF(A21=\"\",1,IF(ISERROR(MATCH(R21,Input!L$5:L$24,0)),2,1))","v":1},{"$f":"IF(A21=\"\", \"\", SUMIF($Q$8:$Q$17, \"*\" & LEFT(A21, 11) & \"*\", $S$8:$S$17))","v":""},null,{"$f":"IF(A21=\"\", \"\", SUMIF($Q$8:$Q$17, \"*\" & LEFT(A21, 11) & \"*\", $T$8:$T$17))","v":""},{"$f":"IF(N21=\"SY\", T21, IF(N21=\"Tons\", V21+P21, \"\"))","v":""}]
[null,null,null,null,null,{"$f":"IF($J22=\"\",\"\",INDEX(Input!$A$5:$H$24,MATCH($A22&$J22,Input!$A$5:$A$24&Input!$G$5:$G$24,0),2))","v":""},{"$f":"IF($J22=\"\",\"\",INDEX(Input!$A$5:$H$24,MATCH($A22&$J22,Input!$A$5:$A$24&Input!$G$5:$G$24,0),3))","v":""},{"$f":"IF($J22=\"\",\"\",INDEX(Input!$A$5:$H$24,MATCH($A22&$J22,Input!$A$5:$A$24&Input!$G$5:$G$24,0),4))","v":""},{"$f":"IF($J22=\"\",\"\",INDEX(Input!$A$5:$H$24,MATCH($A22&$J22,Input!$A$5:$A$24&Input!$G$5:$G$24,0),5))","v":""},null,null,null,null,{"$f":"IF($A22=\"\",\"\",OFFSET(Input!F$4,MATCH($A22,Input!$A$5:$A$24,0),0))","v":""},{"$f":"IF(N22=\"SY\", T22, IF(N22=\"Tons\", W22, \"\"))","v":""},null,{"$f":"IF(N22=\"SY\", V22, IF(N22=\"Tons\", O22-P22, \"\"))","v":""},{"$f":"SUBSTITUTE(A22 & \"\\\" & J22,\"\"\"\",\"\")","v":"\\"},{"$f":"IF(A22=\"\",1,IF(ISERROR(MATCH(R22,Input!L$5:L$24,0)),2,1))","v":1},{"$f":"IF(A22=\"\", \"\", SUMIF($Q$8:$Q$17, \"*\" & LEFT(A22, 11) & \"*\", $S$8:$S$17))","v":""},null,{"$f":"IF(A22=\"\", \"\", SUMIF($Q$8:$Q$17, \"*\" & LEFT(A22, 11) & \"*\", $T$8:$T$17))","v":""},{"$f":"IF(N22=\"SY\", T22, IF(N22=\"Tons\", V22+P22, \"\"))","v":""}]
[null,null,null,null,null,{"$f":"IF($J23=\"\",\"\",INDEX(Input!$A$5:$H$24,MATCH($A23&$J23,Input!$A$5:$A$24&Input!$G$5:$G$24,0),2))","v":""},{"$f":"IF($J23=\"\",\"\",INDEX(Input!$A$5:$H$24,MATCH($A23&$J23,Input!$A$5:$A$24&Input!$G$5:$G$24,0),3))","v":""},{"$f":"IF($J23=\"\",\"\",INDEX(Input!$A$5:$H$24,MATCH($A23&$J23,Input!$A$5:$A$24&Input!$G$5:$G$24,0),4))","v":""},{"$f":"IF($J23=\"\",\"\",INDEX(Input!$A$5:$H$24,MATCH($A23&$J23,Input!$A$5:$A$24&Input!$G$5:$G$24,0),5))","v":""},null,null,null,null,{"$f":"IF($A23=\"\",\"\",OFFSET(Input!F$4,MATCH($A23,Input!$A$5:$A$24,0),0))","v":""},{"$f":"IF(N23=\"SY\", T23, IF(N23=\"Tons\", W23, \"\"))","v":""},null,{"$f":"IF(N23=\"SY\", V23, IF(N23=\"Tons\", O23-P23, \"\"))","v":""},"\\",{"$f":"IF(A23=\"\",1,IF(ISERROR(MATCH(R23,Input!L$5:L$24,0)),2,1))","v":1},{"$f":"IF(A23=\"\", \"\", SUMIF($Q$8:$Q$17, \"*\" & LEFT(A23, 11) & \"*\", $S$8:$S$17))","v":""},null,{"$f":"IF(A23=\"\", \"\", SUMIF($Q$8:$Q$17, \"*\" & LEFT(A23, 11) & \"*\", $T$8:$T$17))","v":""},{"$f":"IF(N23=\"SY\", T23, IF(N23=\"Tons\", V23+P23, \"\"))","v":""}]
[null,null,null,null,null,{"$f":"IF($J24=\"\",\"\",INDEX(Input!$A$5:$H$24,MATCH($A24&$J24,Input!$A$5:$A$24&Input!$G$5:$G$24,0),2))","v":""},{"$f":"IF($J24=\"\",\"\",INDEX(Input!$A$5:$H$24,MATCH($A24&$J24,Input!$A$5:$A$24&Input!$G$5:$G$24,0),3))","v":""},{"$f":"IF($J24=\"\",\"\",INDEX(Input!$A$5:$H$24,MATCH($A24&$J24,Input!$A$5:$A$24&Input!$G$5:$G$24,0),4))","v":""},{"$f":"IF($J24=\"\",\"\",INDEX(Input!$A$5:$H$24,MATCH($A24&$J24,Input!$A$5:$A$24&Input!$G$5:$G$24,0),5))","v":""},null,null,null,null,{"$f":"IF($A24=\"\",\"\",OFFSET(Input!F$4,MATCH($A24,Input!$A$5:$A$24,0),0))","v":""},"",null,{"$f":"IF(N24=\"SY\", V24, IF(N24=\"Tons\", O24-P24, \"\"))","v":""},"\\",{"$f":"IF(A24=\"\",1,IF(ISERROR(MATCH(R24,Input!L$5:L$24,0)),2,1))","v":1},"",null,{"$f":"IF(A24=\"\", \"\", SUMIF($Q$8:$Q$17, \"*\" & LEFT(A24, 11) & \"*\", $T$8:$T$17))","v":""},{"$f":"IF(N24=\"SY\", T24, IF(N24=\"Tons\", V24+P24, \"\"))","v":""}]
[null,null,null,null,null,{"$f":"IF($J25=\"\",\"\",INDEX(Input!$A$5:$H$24,MATCH($A25&$J25,Input!$A$5:$A$24&Input!$G$5:$G$24,0),2))","v":""},{"$f":"IF($J25=\"\",\"\",INDEX(Input!$A$5:$H$24,MATCH($A25&$J25,Input!$A$5:$A$24&Input!$G$5:$G$24,0),3))","v":""},{"$f":"IF($J25=\"\",\"\",INDEX(Input!$A$5:$H$24,MATCH($A25&$J25,Input!$A$5:$A$24&Input!$G$5:$G$24,0),4))","v":""},{"$f":"IF($J25=\"\",\"\",INDEX(Input!$A$5:$H$24,MATCH($A25&$J25,Input!$A$5:$A$24&Input!$G$5:$G$24,0),5))","v":""},null,null,null,null,{"$f":"IF($A25=\"\",\"\",OFFSET(Input!F$4,MATCH($A25,Input!$A$5:$A$24,0),0))","v":""},"",null,"","\\",{"$f":"IF(A25=\"\",1,IF(ISERROR(MATCH(R25,Input!L$5:L$24,0)),2,1))","v":1},"",null,"",""]
[null,null,null,null,null,null,null,null,null,null,null,null,null,null,null,null,null,null,null,null,null,"",{"$f":"IF(N26=\"SY\", T26, IF(N26=\"Tons\", V26+P26, \"\"))","v":""},{"$f":"IF(A26=\"\", \"\", SUMIF($Q$8:$Q$17, \"*\" & LEFT(A26, 11) & \"*\", $S$8:$S$17))","v":""},{"$f":"IF(N26=\"SY\",X26,\"\")","v":""},{"$f":"IF(A26=\"\", \"\", SUMIF($Q$8:$Q$17, \"*\" & LEFT(A26, 11) & \"*\", $T$8:$T$17))","v":""}]
["Hot Box Sample",null,null,null,null,null,null,null,null,null,"Mat Temperatures °F"]
[null,"Test A","Test B","Test C","Test D","Test E",null,null,null,null,"Time","Temp"]
[" Hot Box ID Number  ",null,null,null,null,null,null,null,null,null,"7:00"]
["Hot Box Sample Tons: ",null,null,null,null,null,null,null,null,null,"9:00",null,null,null,"Intended Thickness:"]
[" Time: ",null,null,null,null,null,null,null,null,null,"11:00",null,null,null,"Cores Waived?"]
[" Station/MP: ",null,null,null,null,null,null,null,null,null,"1:00",null,null,null,"Small Quantity Statement?"]
["Bar Code ID.:",null,null,null,null,null,null,null,null,null,"3:00",null,null,null,"Scale Check Done?"]
["Compaction Temp. °F: ",null,null,null,null,null,null,null,null,null,"5:00",null,null,null,"Tack Tickets Today?"]
[null,null,null,null,null,null,null,null,null,null,"7:00"]
["The Below Comments should show up on the plant report"]
["Comments:"]
[]
[]
["The Below Notes are for the CPI from the field or Plant Monitor"]
["Notes:"]
[]
[]
["RANDOM CORE LOCATIONS"]
[null,null,null,null,null,null,null,"Core #","Station","Offset,ft","Joint Station","Lane"]
[null,null,null,null,null,null,null,1]
[null,null,null,null,null,null,null,2]
[null,null,null,null,null,null,null,3]
[null,null,null,null,null,null,null,4]
[null,null,null,null,null,null,null,5]
[null,null,null,null,null,null,null,6]
[null,null,null,null,null,null,null,7]
[null,null,null,null,null,null,null,8]
[]
[null,null,null,null,null,null,null,null,null,null,"Joint Sublot Size, ft"]
[null,null,null,null,null,null,null,null,null,null,0]
[]
[]
[]
[]
[]
[]
[]
[]
[]
[]
[]
[]
[]
[]
[]
[]
[]
[]
[]
[]
[]
[]
[]
[]
[]
[]
[]
[]
[]
[]
[]
[]
[]
[]
[]
[]
[]
[]
[]
[]
[false]

{"sheet":"36","index":51,"n_rows":97,"n_cols":26,"rows_kept":97,"cut":false,"hidden":false,"merged":[[50,11,50,13],[51,11,51,13],[52,11,52,13],[44,11,44,13],[45,11,45,13],[46,11,46,13],[47,11,47,13],[48,11,48,13],[49,11,49,13],[43,0,43,16],[25,0,25,1],[26,0,26,5],[26,20,26,23],[26,25,26,27],[34,2,34,4],[35,0,35,5],[36,1,36,14],[37,0,37,14],[39,0,39,5],[40,1,40,14],[41,0,41,14],[23,0,23,1],[23,2,23,4],[23,9,23,12],[24,0,24,1],[24,2,24,4],[24,9,24,12],[21,0,21,1],[21,2,21,4],[21,9,21,12],[22,0,22,1],[22,2,22,4],[22,9,22,12],[19,0,19,1],[19,2,19,4],[19,9,19,12],[20,0,20,1],[20,2,20,4],[20,9,20,12],[18,0,18,16],[6,14,6,15],[7,14,7,15],[8,14,8,15],[9,14,9,15],[10,14,10,15],[11,14,11,15],[12,14,12,15],[13,14,13,15],[14,14,14,15],[15,14,15,15],[16,14,16,15],[1,0,1,16],[4,0,4,15],[5,4,5,5],[5,8,5,9],[5,11,5,12],[5,13,5,15]]}
[]
["Iowa DOT HMA Field Report"]
["Date :"]
["Item No.('s)"]
["PLACEMENT RECORD",null,null,null,null,null,null,null,null,null,null,null,null,null,null,null,null,null,null,null,null,{"$f":"SUBSTITUTE(A21 & \"\\\" & J21,\"\"\"\",\"\")","v":"\\"}]
[null,null,null,null,"Additional width to DEDUCT from Field Voids",null,null,null,"Placed Density (Pounds/CF)=",null,150,"Overwritten on the \"Summary\" Tab",null,"ONLY ONE (1) MIX DESIGN PER DFR OTHERWISE IT WILL NOT IMPORT INTO THE PLANT REPORT PROPERLY",null,null,null,null,null,null,null,{"$f":"SUBSTITUTE(A22 & \"\\\" & J22,\"\"\"\",\"\")","v":"\\"}]
["From Station"," To Station","Lane","ML or Widening Placement Width","Additional Width (ft) ","Thickness (in)","Total Length Placed (FT)","\"Pay\"  Est \"SY\"","Thickness (inches)","Calculated Field Voids Tons","Placed Tons            (Not including Waste)","% Yield","SY to be PAID (If Diff. than Est SY)","Mix Design No.","Bid Item/ Project No.",null,null,null,"This uses the correct SY #, if Green is blank uses Est. SY","Adds up the Tons",null,"\\"]
[null,null,null,null,null,null,{"$f":"IF(OR(A8=\"\",B8=\"\"),0,IF($A$97=TRUE,ABS(B8-A8)*5280,ABS(VALUE(SUBSTITUTE(A8,\"+\",\"\"))-VALUE(SUBSTITUTE(B8,\"+\",\"\")))))","v":0},{"$f":"IF(D8=\"\",\"\",G8*(D8+E8)/9)","v":""},null,{"$f":"IF(I8=\"\",\"\",(G8)*(D8+E8)*I8/12*$K$6/2000)","v":""},null,{"$f":"IF(K8=\"\",\"\",K8/J8*100)","v":""},null,null,null,null,{"$f":"O8 & \"\\\" & N8","v":"\\"},{"$f":"IF(AND(A8=\"\",B8=\"\",C8=\"\",D8=\"\"),1,IF(OR(O8=\"\",N8=\"\"),2,IF(ISERROR(MATCH(Q8,Input!M$5:M$24,0)),2,1)))","v":1},{"$f":"IF(M8<>\"\", M8, H8)","v":""},{"$f":"K8","v":0},null,"\\"]
[null,null,null,null,null,null,{"$f":"IF(OR(A9=\"\",B9=\"\"),0,IF($A$97=TRUE,ABS(B9-A9)*5280,ABS(VALUE(SUBSTITUTE(A9,\"+\",\"\"))-VALUE(SUBSTITUTE(B9,\"+\",\"\")))))","v":0},{"$f":"IF(D9=\"\",\"\",G9*(D9+E9)/9)","v":""},null,"",null,{"$f":"IF(K9=\"\",\"\",K9/J9*100)","v":""},null,null,null,null,{"$f":"O9 & \"\\\" & N9","v":"\\"},{"$f":"IF(AND(A9=\"\",B9=\"\",C9=\"\",D9=\"\"),1,IF(OR(O9=\"\",N9=\"\"),2,IF(ISERROR(MATCH(Q9,Input!M$5:M$24,0)),2,1)))","v":1},{"$f":"IF(M9<>\"\", M9, H9)","v":""},{"$f":"K9","v":0},null,"\\"]
[null,null,null,null,null,null,0,"",null,"",null,"",null,null,null,null,"\\",{"$f":"IF(AND(A10=\"\",B10=\"\",C10=\"\",D10=\"\"),1,IF(OR(O10=\"\",N10=\"\"),2,IF(ISERROR(MATCH(Q10,Input!M$5:M$24,0)),2,1)))","v":1},{"$f":"IF(M10<>\"\", M10, H10)","v":""},0]
[null,null,null,null,null,null,0,"",null,"",null,"",null,null,null,null,"\\",{"$f":"IF(AND(A11=\"\",B11=\"\",C11=\"\",D11=\"\"),1,IF(OR(O11=\"\",N11=\"\"),2,IF(ISERROR(MATCH(Q11,Input!M$5:M$24,0)),2,1)))","v":1},"",0]
[null,null,null,null,null,null,0,"",null,"",null,"",null,null,null,null,"\\",{"$f":"IF(AND(A12=\"\",B12=\"\",C12=\"\",D12=\"\"),1,IF(OR(O12=\"\",N12=\"\"),2,IF(ISERROR(MATCH(Q12,Input!M$5:M$24,0)),2,1)))","v":1},"",0]
[null,null,null,null,null,null,0,"",null,"",null,"",null,null,null,null,"\\",{"$f":"IF(AND(A13=\"\",B13=\"\",C13=\"\",D13=\"\"),1,IF(OR(O13=\"\",N13=\"\"),2,IF(ISERROR(MATCH(Q13,Input!M$5:M$24,0)),2,1)))","v":1},"",0]
[null,null,null,null,null,null,0,"",null,"",null,"",null,null,null,null,"\\",{"$f":"IF(AND(A14=\"\",B14=\"\",C14=\"\",D14=\"\"),1,IF(OR(O14=\"\",N14=\"\"),2,IF(ISERROR(MATCH(Q14,Input!M$5:M$24,0)),2,1)))","v":1},"",0]
[null,null,null,null,null,null,0,"",null,"",null,"",null,null,null,null,"\\",{"$f":"IF(AND(A15=\"\",B15=\"\",C15=\"\",D15=\"\"),1,IF(OR(O15=\"\",N15=\"\"),2,IF(ISERROR(MATCH(Q15,Input!M$5:M$24,0)),2,1)))","v":1},"",0]
[null,null,null,null,null,null,0,"",null,"",null,"",null,null,null,null,"\\",{"$f":"IF(AND(A16=\"\",B16=\"\",C16=\"\",D16=\"\"),1,IF(OR(O16=\"\",N16=\"\"),2,IF(ISERROR(MATCH(Q16,Input!M$5:M$24,0)),2,1)))","v":1},"",0]
[null,null,null,null,null,null,0,"",null,"",null,"",null,null,null,null,"\\",{"$f":"IF(AND(A17=\"\",B17=\"\",C17=\"\",D17=\"\"),1,IF(OR(O17=\"\",N17=\"\"),2,IF(ISERROR(MATCH(Q17,Input!M$5:M$24,0)),2,1)))","v":1},"",0]
[]
["TANK SHEET"]
["Bid Item (In Order of Placement)",null,"Today's Placement",null,null,"Bid Item Plan Quantity","Plan Thickness (in)","Contract Mix Price","Contract Binder Price","Project Number",null,null,null,"Mix Pay Units","Mix Delivered to Road\n(Ton or SY)","Waste On Road (Ton)\nNO waste for SY Items","Tons Placed - Waste",null,null,"This adds up column S as it depends if the Est SY is filled out or the SY",null,"Use this Column for SY for the Q column","Uses this Value for Mix on Road"]
[null,null,null,null,null,{"$f":"IF($J21=\"\",\"\",INDEX(Input!$A$5:$H$24,MATCH($A21&$J21,Input!$A$5:$A$24&Input!$G$5:$G$24,0),2))","v":""},{"$f":"IF($J21=\"\",\"\",INDEX(Input!$A$5:$H$24,MATCH($A21&$J21,Input!$A$5:$A$24&Input!$G$5:$G$24,0),3))","v":""},{"$f":"IF($J21=\"\",\"\",INDEX(Input!$A$5:$H$24,MATCH($A21&$J21,Input!$A$5:$A$24&Input!$G$5:$G$24,0),4))","v":""},{"$f":"IF($J21=\"\",\"\",INDEX(Input!$A$5:$H$24,MATCH($A21&$J21,Input!$A$5:$A$24&Input!$G$5:$G$24,0),5))","v":""},null,null,null,null,{"$f":"IF($A21=\"\",\"\",OFFSET(Input!F$4,MATCH($A21,Input!$A$5:$A$24,0),0))","v":""},{"$f":"IF(N21=\"SY\", T21, IF(N21=\"Tons\", W21, \"\"))","v":""},null,{"$f":"IF(N21=\"SY\", V21, IF(N21=\"Tons\", O21-P21, \"\"))","v":""},{"$f":"SUBSTITUTE(A21 & \"\\\" & J21,\"\"\"\",\"\")","v":"\\"},{"$f":"IF(A21=\"\",1,IF(ISERROR(MATCH(R21,Input!L$5:L$24,0)),2,1))","v":1},{"$f":"IF(A21=\"\", \"\", SUMIF($Q$8:$Q$17, \"*\" & LEFT(A21, 11) & \"*\", $S$8:$S$17))","v":""},null,{"$f":"IF(A21=\"\", \"\", SUMIF($Q$8:$Q$17, \"*\" & LEFT(A21, 11) & \"*\", $T$8:$T$17))","v":""},{"$f":"IF(N21=\"SY\", T21, IF(N21=\"Tons\", V21+P21, \"\"))","v":""}]
[null,null,null,null,null,{"$f":"IF($J22=\"\",\"\",INDEX(Input!$A$5:$H$24,MATCH($A22&$J22,Input!$A$5:$A$24&Input!$G$5:$G$24,0),2))","v":""},{"$f":"IF($J22=\"\",\"\",INDEX(Input!$A$5:$H$24,MATCH($A22&$J22,Input!$A$5:$A$24&Input!$G$5:$G$24,0),3))","v":""},{"$f":"IF($J22=\"\",\"\",INDEX(Input!$A$5:$H$24,MATCH($A22&$J22,Input!$A$5:$A$24&Input!$G$5:$G$24,0),4))","v":""},{"$f":"IF($J22=\"\",\"\",INDEX(Input!$A$5:$H$24,MATCH($A22&$J22,Input!$A$5:$A$24&Input!$G$5:$G$24,0),5))","v":""},null,null,null,null,{"$f":"IF($A22=\"\",\"\",OFFSET(Input!F$4,MATCH($A22,Input!$A$5:$A$24,0),0))","v":""},{"$f":"IF(N22=\"SY\", T22, IF(N22=\"Tons\", W22, \"\"))","v":""},null,{"$f":"IF(N22=\"SY\", V22, IF(N22=\"Tons\", O22-P22, \"\"))","v":""},{"$f":"SUBSTITUTE(A22 & \"\\\" & J22,\"\"\"\",\"\")","v":"\\"},{"$f":"IF(A22=\"\",1,IF(ISERROR(MATCH(R22,Input!L$5:L$24,0)),2,1))","v":1},{"$f":"IF(A22=\"\", \"\", SUMIF($Q$8:$Q$17, \"*\" & LEFT(A22, 11) & \"*\", $S$8:$S$17))","v":""},null,{"$f":"IF(A22=\"\", \"\", SUMIF($Q$8:$Q$17, \"*\" & LEFT(A22, 11) & \"*\", $T$8:$T$17))","v":""},{"$f":"IF(N22=\"SY\", T22, IF(N22=\"Tons\", V22+P22, \"\"))","v":""}]
[null,null,null,null,null,{"$f":"IF($J23=\"\",\"\",INDEX(Input!$A$5:$H$24,MATCH($A23&$J23,Input!$A$5:$A$24&Input!$G$5:$G$24,0),2))","v":""},{"$f":"IF($J23=\"\",\"\",INDEX(Input!$A$5:$H$24,MATCH($A23&$J23,Input!$A$5:$A$24&Input!$G$5:$G$24,0),3))","v":""},{"$f":"IF($J23=\"\",\"\",INDEX(Input!$A$5:$H$24,MATCH($A23&$J23,Input!$A$5:$A$24&Input!$G$5:$G$24,0),4))","v":""},{"$f":"IF($J23=\"\",\"\",INDEX(Input!$A$5:$H$24,MATCH($A23&$J23,Input!$A$5:$A$24&Input!$G$5:$G$24,0),5))","v":""},null,null,null,null,{"$f":"IF($A23=\"\",\"\",OFFSET(Input!F$4,MATCH($A23,Input!$A$5:$A$24,0),0))","v":""},{"$f":"IF(N23=\"SY\", T23, IF(N23=\"Tons\", W23, \"\"))","v":""},null,{"$f":"IF(N23=\"SY\", V23, IF(N23=\"Tons\", O23-P23, \"\"))","v":""},"\\",{"$f":"IF(A23=\"\",1,IF(ISERROR(MATCH(R23,Input!L$5:L$24,0)),2,1))","v":1},{"$f":"IF(A23=\"\", \"\", SUMIF($Q$8:$Q$17, \"*\" & LEFT(A23, 11) & \"*\", $S$8:$S$17))","v":""},null,{"$f":"IF(A23=\"\", \"\", SUMIF($Q$8:$Q$17, \"*\" & LEFT(A23, 11) & \"*\", $T$8:$T$17))","v":""},{"$f":"IF(N23=\"SY\", T23, IF(N23=\"Tons\", V23+P23, \"\"))","v":""}]
[null,null,null,null,null,{"$f":"IF($J24=\"\",\"\",INDEX(Input!$A$5:$H$24,MATCH($A24&$J24,Input!$A$5:$A$24&Input!$G$5:$G$24,0),2))","v":""},{"$f":"IF($J24=\"\",\"\",INDEX(Input!$A$5:$H$24,MATCH($A24&$J24,Input!$A$5:$A$24&Input!$G$5:$G$24,0),3))","v":""},{"$f":"IF($J24=\"\",\"\",INDEX(Input!$A$5:$H$24,MATCH($A24&$J24,Input!$A$5:$A$24&Input!$G$5:$G$24,0),4))","v":""},{"$f":"IF($J24=\"\",\"\",INDEX(Input!$A$5:$H$24,MATCH($A24&$J24,Input!$A$5:$A$24&Input!$G$5:$G$24,0),5))","v":""},null,null,null,null,{"$f":"IF($A24=\"\",\"\",OFFSET(Input!F$4,MATCH($A24,Input!$A$5:$A$24,0),0))","v":""},"",null,{"$f":"IF(N24=\"SY\", V24, IF(N24=\"Tons\", O24-P24, \"\"))","v":""},"\\",{"$f":"IF(A24=\"\",1,IF(ISERROR(MATCH(R24,Input!L$5:L$24,0)),2,1))","v":1},"",null,{"$f":"IF(A24=\"\", \"\", SUMIF($Q$8:$Q$17, \"*\" & LEFT(A24, 11) & \"*\", $T$8:$T$17))","v":""},{"$f":"IF(N24=\"SY\", T24, IF(N24=\"Tons\", V24+P24, \"\"))","v":""}]
[null,null,null,null,null,{"$f":"IF($J25=\"\",\"\",INDEX(Input!$A$5:$H$24,MATCH($A25&$J25,Input!$A$5:$A$24&Input!$G$5:$G$24,0),2))","v":""},{"$f":"IF($J25=\"\",\"\",INDEX(Input!$A$5:$H$24,MATCH($A25&$J25,Input!$A$5:$A$24&Input!$G$5:$G$24,0),3))","v":""},{"$f":"IF($J25=\"\",\"\",INDEX(Input!$A$5:$H$24,MATCH($A25&$J25,Input!$A$5:$A$24&Input!$G$5:$G$24,0),4))","v":""},{"$f":"IF($J25=\"\",\"\",INDEX(Input!$A$5:$H$24,MATCH($A25&$J25,Input!$A$5:$A$24&Input!$G$5:$G$24,0),5))","v":""},null,null,null,null,{"$f":"IF($A25=\"\",\"\",OFFSET(Input!F$4,MATCH($A25,Input!$A$5:$A$24,0),0))","v":""},"",null,"","\\",{"$f":"IF(A25=\"\",1,IF(ISERROR(MATCH(R25,Input!L$5:L$24,0)),2,1))","v":1},"",null,"",""]
[null,null,null,null,null,null,null,null,null,null,null,null,null,null,null,null,null,null,null,null,null,"",{"$f":"IF(N26=\"SY\", T26, IF(N26=\"Tons\", V26+P26, \"\"))","v":""},{"$f":"IF(A26=\"\", \"\", SUMIF($Q$8:$Q$17, \"*\" & LEFT(A26, 11) & \"*\", $S$8:$S$17))","v":""},{"$f":"IF(N26=\"SY\",X26,\"\")","v":""},{"$f":"IF(A26=\"\", \"\", SUMIF($Q$8:$Q$17, \"*\" & LEFT(A26, 11) & \"*\", $T$8:$T$17))","v":""}]
["Hot Box Sample",null,null,null,null,null,null,null,null,null,"Mat Temperatures °F"]
[null,"Test A","Test B","Test C","Test D","Test E",null,null,null,null,"Time","Temp"]
[" Hot Box ID Number  ",null,null,null,null,null,null,null,null,null,"7:00"]
["Hot Box Sample Tons: ",null,null,null,null,null,null,null,null,null,"9:00",null,null,null,"Intended Thickness:"]
[" Time: ",null,null,null,null,null,null,null,null,null,"11:00",null,null,null,"Cores Waived?"]
[" Station/MP: ",null,null,null,null,null,null,null,null,null,"1:00",null,null,null,"Small Quantity Statement?"]
["Bar Code ID.:",null,null,null,null,null,null,null,null,null,"3:00",null,null,null,"Scale Check Done?"]
["Compaction Temp. °F: ",null,null,null,null,null,null,null,null,null,"5:00",null,null,null,"Tack Tickets Today?"]
[null,null,null,null,null,null,null,null,null,null,"7:00"]
["The Below Comments should show up on the plant report"]
["Comments:"]
[]
[]
["The Below Notes are for the CPI from the field or Plant Monitor"]
["Notes:"]
[]
[]
["RANDOM CORE LOCATIONS"]
[null,null,null,null,null,null,null,"Core #","Station","Offset,ft","Joint Station","Lane"]
[null,null,null,null,null,null,null,1]
[null,null,null,null,null,null,null,2]
[null,null,null,null,null,null,null,3]
[null,null,null,null,null,null,null,4]
[null,null,null,null,null,null,null,5]
[null,null,null,null,null,null,null,6]
[null,null,null,null,null,null,null,7]
[null,null,null,null,null,null,null,8]
[]
[null,null,null,null,null,null,null,null,null,null,"Joint Sublot Size, ft"]
[null,null,null,null,null,null,null,null,null,null,0]
[]
[]
[]
[]
[]
[]
[]
[]
[]
[]
[]
[]
[]
[]
[]
[]
[]
[]
[]
[]
[]
[]
[]
[]
[]
[]
[]
[]
[]
[]
[]
[]
[]
[]
[]
[]
[]
[]
[]
[]
[false]

{"sheet":"37","index":52,"n_rows":97,"n_cols":26,"rows_kept":97,"cut":false,"hidden":false,"merged":[[50,11,50,13],[51,11,51,13],[52,11,52,13],[44,11,44,13],[45,11,45,13],[46,11,46,13],[47,11,47,13],[48,11,48,13],[49,11,49,13],[43,0,43,16],[25,0,25,1],[26,0,26,5],[26,20,26,23],[26,25,26,27],[34,2,34,4],[35,0,35,5],[36,1,36,14],[37,0,37,14],[39,0,39,5],[40,1,40,14],[41,0,41,14],[23,0,23,1],[23,2,23,4],[23,9,23,12],[24,0,24,1],[24,2,24,4],[24,9,24,12],[21,0,21,1],[21,2,21,4],[21,9,21,12],[22,0,22,1],[22,2,22,4],[22,9,22,12],[19,0,19,1],[19,2,19,4],[19,9,19,12],[20,0,20,1],[20,2,20,4],[20,9,20,12],[18,0,18,16],[6,14,6,15],[7,14,7,15],[8,14,8,15],[9,14,9,15],[10,14,10,15],[11,14,11,15],[12,14,12,15],[13,14,13,15],[14,14,14,15],[15,14,15,15],[16,14,16,15],[1,0,1,16],[4,0,4,15],[5,4,5,5],[5,8,5,9],[5,11,5,12],[5,13,5,15]]}
[]
["Iowa DOT HMA Field Report"]
["Date :"]
["Item No.('s)"]
["PLACEMENT RECORD",null,null,null,null,null,null,null,null,null,null,null,null,null,null,null,null,null,null,null,null,{"$f":"SUBSTITUTE(A21 & \"\\\" & J21,\"\"\"\",\"\")","v":"\\"}]
[null,null,null,null,"Additional width to DEDUCT from Field Voids",null,null,null,"Placed Density (Pounds/CF)=",null,150,"Overwritten on the \"Summary\" Tab",null,"ONLY ONE (1) MIX DESIGN PER DFR OTHERWISE IT WILL NOT IMPORT INTO THE PLANT REPORT PROPERLY",null,null,null,null,null,null,null,{"$f":"SUBSTITUTE(A22 & \"\\\" & J22,\"\"\"\",\"\")","v":"\\"}]
["From Station"," To Station","Lane","ML or Widening Placement Width","Additional Width (ft) ","Thickness (in)","Total Length Placed (FT)","\"Pay\"  Est \"SY\"","Thickness (inches)","Calculated Field Voids Tons","Placed Tons            (Not including Waste)","% Yield","SY to be PAID (If Diff. than Est SY)","Mix Design No.","Bid Item/ Project No.",null,null,null,"This uses the correct SY #, if Green is blank uses Est. SY","Adds up the Tons",null,"\\"]
[null,null,null,null,null,null,{"$f":"IF(OR(A8=\"\",B8=\"\"),0,IF($A$97=TRUE,ABS(B8-A8)*5280,ABS(VALUE(SUBSTITUTE(A8,\"+\",\"\"))-VALUE(SUBSTITUTE(B8,\"+\",\"\")))))","v":0},{"$f":"IF(D8=\"\",\"\",G8*(D8+E8)/9)","v":""},null,{"$f":"IF(I8=\"\",\"\",(G8)*(D8+E8)*I8/12*$K$6/2000)","v":""},null,{"$f":"IF(K8=\"\",\"\",K8/J8*100)","v":""},null,null,null,null,{"$f":"O8 & \"\\\" & N8","v":"\\"},{"$f":"IF(AND(A8=\"\",B8=\"\",C8=\"\",D8=\"\"),1,IF(OR(O8=\"\",N8=\"\"),2,IF(ISERROR(MATCH(Q8,Input!M$5:M$24,0)),2,1)))","v":1},{"$f":"IF(M8<>\"\", M8, H8)","v":""},{"$f":"K8","v":0},null,"\\"]
[null,null,null,null,null,null,{"$f":"IF(OR(A9=\"\",B9=\"\"),0,IF($A$97=TRUE,ABS(B9-A9)*5280,ABS(VALUE(SUBSTITUTE(A9,\"+\",\"\"))-VALUE(SUBSTITUTE(B9,\"+\",\"\")))))","v":0},{"$f":"IF(D9=\"\",\"\",G9*(D9+E9)/9)","v":""},null,"",null,{"$f":"IF(K9=\"\",\"\",K9/J9*100)","v":""},null,null,null,null,{"$f":"O9 & \"\\\" & N9","v":"\\"},{"$f":"IF(AND(A9=\"\",B9=\"\",C9=\"\",D9=\"\"),1,IF(OR(O9=\"\",N9=\"\"),2,IF(ISERROR(MATCH(Q9,Input!M$5:M$24,0)),2,1)))","v":1},{"$f":"IF(M9<>\"\", M9, H9)","v":""},{"$f":"K9","v":0},null,"\\"]
[null,null,null,null,null,null,0,"",null,"",null,"",null,null,null,null,"\\",{"$f":"IF(AND(A10=\"\",B10=\"\",C10=\"\",D10=\"\"),1,IF(OR(O10=\"\",N10=\"\"),2,IF(ISERROR(MATCH(Q10,Input!M$5:M$24,0)),2,1)))","v":1},{"$f":"IF(M10<>\"\", M10, H10)","v":""},0]
[null,null,null,null,null,null,0,"",null,"",null,"",null,null,null,null,"\\",{"$f":"IF(AND(A11=\"\",B11=\"\",C11=\"\",D11=\"\"),1,IF(OR(O11=\"\",N11=\"\"),2,IF(ISERROR(MATCH(Q11,Input!M$5:M$24,0)),2,1)))","v":1},"",0]
[null,null,null,null,null,null,0,"",null,"",null,"",null,null,null,null,"\\",{"$f":"IF(AND(A12=\"\",B12=\"\",C12=\"\",D12=\"\"),1,IF(OR(O12=\"\",N12=\"\"),2,IF(ISERROR(MATCH(Q12,Input!M$5:M$24,0)),2,1)))","v":1},"",0]
[null,null,null,null,null,null,0,"",null,"",null,"",null,null,null,null,"\\",{"$f":"IF(AND(A13=\"\",B13=\"\",C13=\"\",D13=\"\"),1,IF(OR(O13=\"\",N13=\"\"),2,IF(ISERROR(MATCH(Q13,Input!M$5:M$24,0)),2,1)))","v":1},"",0]
[null,null,null,null,null,null,0,"",null,"",null,"",null,null,null,null,"\\",{"$f":"IF(AND(A14=\"\",B14=\"\",C14=\"\",D14=\"\"),1,IF(OR(O14=\"\",N14=\"\"),2,IF(ISERROR(MATCH(Q14,Input!M$5:M$24,0)),2,1)))","v":1},"",0]
[null,null,null,null,null,null,0,"",null,"",null,"",null,null,null,null,"\\",{"$f":"IF(AND(A15=\"\",B15=\"\",C15=\"\",D15=\"\"),1,IF(OR(O15=\"\",N15=\"\"),2,IF(ISERROR(MATCH(Q15,Input!M$5:M$24,0)),2,1)))","v":1},"",0]
[null,null,null,null,null,null,0,"",null,"",null,"",null,null,null,null,"\\",{"$f":"IF(AND(A16=\"\",B16=\"\",C16=\"\",D16=\"\"),1,IF(OR(O16=\"\",N16=\"\"),2,IF(ISERROR(MATCH(Q16,Input!M$5:M$24,0)),2,1)))","v":1},"",0]
[null,null,null,null,null,null,0,"",null,"",null,"",null,null,null,null,"\\",{"$f":"IF(AND(A17=\"\",B17=\"\",C17=\"\",D17=\"\"),1,IF(OR(O17=\"\",N17=\"\"),2,IF(ISERROR(MATCH(Q17,Input!M$5:M$24,0)),2,1)))","v":1},"",0]
[]
["TANK SHEET"]
["Bid Item (In Order of Placement)",null,"Today's Placement",null,null,"Bid Item Plan Quantity","Plan Thickness (in)","Contract Mix Price","Contract Binder Price","Project Number",null,null,null,"Mix Pay Units","Mix Delivered to Road\n(Ton or SY)","Waste On Road (Ton)\nNO waste for SY Items","Tons Placed - Waste",null,null,"This adds up column S as it depends if the Est SY is filled out or the SY",null,"Use this Column for SY for the Q column","Uses this Value for Mix on Road"]
[null,null,null,null,null,{"$f":"IF($J21=\"\",\"\",INDEX(Input!$A$5:$H$24,MATCH($A21&$J21,Input!$A$5:$A$24&Input!$G$5:$G$24,0),2))","v":""},{"$f":"IF($J21=\"\",\"\",INDEX(Input!$A$5:$H$24,MATCH($A21&$J21,Input!$A$5:$A$24&Input!$G$5:$G$24,0),3))","v":""},{"$f":"IF($J21=\"\",\"\",INDEX(Input!$A$5:$H$24,MATCH($A21&$J21,Input!$A$5:$A$24&Input!$G$5:$G$24,0),4))","v":""},{"$f":"IF($J21=\"\",\"\",INDEX(Input!$A$5:$H$24,MATCH($A21&$J21,Input!$A$5:$A$24&Input!$G$5:$G$24,0),5))","v":""},null,null,null,null,{"$f":"IF($A21=\"\",\"\",OFFSET(Input!F$4,MATCH($A21,Input!$A$5:$A$24,0),0))","v":""},{"$f":"IF(N21=\"SY\", T21, IF(N21=\"Tons\", W21, \"\"))","v":""},null,{"$f":"IF(N21=\"SY\", V21, IF(N21=\"Tons\", O21-P21, \"\"))","v":""},{"$f":"SUBSTITUTE(A21 & \"\\\" & J21,\"\"\"\",\"\")","v":"\\"},{"$f":"IF(A21=\"\",1,IF(ISERROR(MATCH(R21,Input!L$5:L$24,0)),2,1))","v":1},{"$f":"IF(A21=\"\", \"\", SUMIF($Q$8:$Q$17, \"*\" & LEFT(A21, 11) & \"*\", $S$8:$S$17))","v":""},null,{"$f":"IF(A21=\"\", \"\", SUMIF($Q$8:$Q$17, \"*\" & LEFT(A21, 11) & \"*\", $T$8:$T$17))","v":""},{"$f":"IF(N21=\"SY\", T21, IF(N21=\"Tons\", V21+P21, \"\"))","v":""}]
[null,null,null,null,null,{"$f":"IF($J22=\"\",\"\",INDEX(Input!$A$5:$H$24,MATCH($A22&$J22,Input!$A$5:$A$24&Input!$G$5:$G$24,0),2))","v":""},{"$f":"IF($J22=\"\",\"\",INDEX(Input!$A$5:$H$24,MATCH($A22&$J22,Input!$A$5:$A$24&Input!$G$5:$G$24,0),3))","v":""},{"$f":"IF($J22=\"\",\"\",INDEX(Input!$A$5:$H$24,MATCH($A22&$J22,Input!$A$5:$A$24&Input!$G$5:$G$24,0),4))","v":""},{"$f":"IF($J22=\"\",\"\",INDEX(Input!$A$5:$H$24,MATCH($A22&$J22,Input!$A$5:$A$24&Input!$G$5:$G$24,0),5))","v":""},null,null,null,null,{"$f":"IF($A22=\"\",\"\",OFFSET(Input!F$4,MATCH($A22,Input!$A$5:$A$24,0),0))","v":""},{"$f":"IF(N22=\"SY\", T22, IF(N22=\"Tons\", W22, \"\"))","v":""},null,{"$f":"IF(N22=\"SY\", V22, IF(N22=\"Tons\", O22-P22, \"\"))","v":""},{"$f":"SUBSTITUTE(A22 & \"\\\" & J22,\"\"\"\",\"\")","v":"\\"},{"$f":"IF(A22=\"\",1,IF(ISERROR(MATCH(R22,Input!L$5:L$24,0)),2,1))","v":1},{"$f":"IF(A22=\"\", \"\", SUMIF($Q$8:$Q$17, \"*\" & LEFT(A22, 11) & \"*\", $S$8:$S$17))","v":""},null,{"$f":"IF(A22=\"\", \"\", SUMIF($Q$8:$Q$17, \"*\" & LEFT(A22, 11) & \"*\", $T$8:$T$17))","v":""},{"$f":"IF(N22=\"SY\", T22, IF(N22=\"Tons\", V22+P22, \"\"))","v":""}]
[null,null,null,null,null,{"$f":"IF($J23=\"\",\"\",INDEX(Input!$A$5:$H$24,MATCH($A23&$J23,Input!$A$5:$A$24&Input!$G$5:$G$24,0),2))","v":""},{"$f":"IF($J23=\"\",\"\",INDEX(Input!$A$5:$H$24,MATCH($A23&$J23,Input!$A$5:$A$24&Input!$G$5:$G$24,0),3))","v":""},{"$f":"IF($J23=\"\",\"\",INDEX(Input!$A$5:$H$24,MATCH($A23&$J23,Input!$A$5:$A$24&Input!$G$5:$G$24,0),4))","v":""},{"$f":"IF($J23=\"\",\"\",INDEX(Input!$A$5:$H$24,MATCH($A23&$J23,Input!$A$5:$A$24&Input!$G$5:$G$24,0),5))","v":""},null,null,null,null,{"$f":"IF($A23=\"\",\"\",OFFSET(Input!F$4,MATCH($A23,Input!$A$5:$A$24,0),0))","v":""},{"$f":"IF(N23=\"SY\", T23, IF(N23=\"Tons\", W23, \"\"))","v":""},null,{"$f":"IF(N23=\"SY\", V23, IF(N23=\"Tons\", O23-P23, \"\"))","v":""},"\\",{"$f":"IF(A23=\"\",1,IF(ISERROR(MATCH(R23,Input!L$5:L$24,0)),2,1))","v":1},{"$f":"IF(A23=\"\", \"\", SUMIF($Q$8:$Q$17, \"*\" & LEFT(A23, 11) & \"*\", $S$8:$S$17))","v":""},null,{"$f":"IF(A23=\"\", \"\", SUMIF($Q$8:$Q$17, \"*\" & LEFT(A23, 11) & \"*\", $T$8:$T$17))","v":""},{"$f":"IF(N23=\"SY\", T23, IF(N23=\"Tons\", V23+P23, \"\"))","v":""}]
[null,null,null,null,null,{"$f":"IF($J24=\"\",\"\",INDEX(Input!$A$5:$H$24,MATCH($A24&$J24,Input!$A$5:$A$24&Input!$G$5:$G$24,0),2))","v":""},{"$f":"IF($J24=\"\",\"\",INDEX(Input!$A$5:$H$24,MATCH($A24&$J24,Input!$A$5:$A$24&Input!$G$5:$G$24,0),3))","v":""},{"$f":"IF($J24=\"\",\"\",INDEX(Input!$A$5:$H$24,MATCH($A24&$J24,Input!$A$5:$A$24&Input!$G$5:$G$24,0),4))","v":""},{"$f":"IF($J24=\"\",\"\",INDEX(Input!$A$5:$H$24,MATCH($A24&$J24,Input!$A$5:$A$24&Input!$G$5:$G$24,0),5))","v":""},null,null,null,null,{"$f":"IF($A24=\"\",\"\",OFFSET(Input!F$4,MATCH($A24,Input!$A$5:$A$24,0),0))","v":""},"",null,{"$f":"IF(N24=\"SY\", V24, IF(N24=\"Tons\", O24-P24, \"\"))","v":""},"\\",{"$f":"IF(A24=\"\",1,IF(ISERROR(MATCH(R24,Input!L$5:L$24,0)),2,1))","v":1},"",null,{"$f":"IF(A24=\"\", \"\", SUMIF($Q$8:$Q$17, \"*\" & LEFT(A24, 11) & \"*\", $T$8:$T$17))","v":""},{"$f":"IF(N24=\"SY\", T24, IF(N24=\"Tons\", V24+P24, \"\"))","v":""}]
[null,null,null,null,null,{"$f":"IF($J25=\"\",\"\",INDEX(Input!$A$5:$H$24,MATCH($A25&$J25,Input!$A$5:$A$24&Input!$G$5:$G$24,0),2))","v":""},{"$f":"IF($J25=\"\",\"\",INDEX(Input!$A$5:$H$24,MATCH($A25&$J25,Input!$A$5:$A$24&Input!$G$5:$G$24,0),3))","v":""},{"$f":"IF($J25=\"\",\"\",INDEX(Input!$A$5:$H$24,MATCH($A25&$J25,Input!$A$5:$A$24&Input!$G$5:$G$24,0),4))","v":""},{"$f":"IF($J25=\"\",\"\",INDEX(Input!$A$5:$H$24,MATCH($A25&$J25,Input!$A$5:$A$24&Input!$G$5:$G$24,0),5))","v":""},null,null,null,null,{"$f":"IF($A25=\"\",\"\",OFFSET(Input!F$4,MATCH($A25,Input!$A$5:$A$24,0),0))","v":""},"",null,"","\\",{"$f":"IF(A25=\"\",1,IF(ISERROR(MATCH(R25,Input!L$5:L$24,0)),2,1))","v":1},"",null,"",""]
[null,null,null,null,null,null,null,null,null,null,null,null,null,null,null,null,null,null,null,null,null,"",{"$f":"IF(N26=\"SY\", T26, IF(N26=\"Tons\", V26+P26, \"\"))","v":""},{"$f":"IF(A26=\"\", \"\", SUMIF($Q$8:$Q$17, \"*\" & LEFT(A26, 11) & \"*\", $S$8:$S$17))","v":""},{"$f":"IF(N26=\"SY\",X26,\"\")","v":""},{"$f":"IF(A26=\"\", \"\", SUMIF($Q$8:$Q$17, \"*\" & LEFT(A26, 11) & \"*\", $T$8:$T$17))","v":""}]
["Hot Box Sample",null,null,null,null,null,null,null,null,null,"Mat Temperatures °F"]
[null,"Test A","Test B","Test C","Test D","Test E",null,null,null,null,"Time","Temp"]
[" Hot Box ID Number  ",null,null,null,null,null,null,null,null,null,"7:00"]
["Hot Box Sample Tons: ",null,null,null,null,null,null,null,null,null,"9:00",null,null,null,"Intended Thickness:"]
[" Time: ",null,null,null,null,null,null,null,null,null,"11:00",null,null,null,"Cores Waived?"]
[" Station/MP: ",null,null,null,null,null,null,null,null,null,"1:00",null,null,null,"Small Quantity Statement?"]
["Bar Code ID.:",null,null,null,null,null,null,null,null,null,"3:00",null,null,null,"Scale Check Done?"]
["Compaction Temp. °F: ",null,null,null,null,null,null,null,null,null,"5:00",null,null,null,"Tack Tickets Today?"]
[null,null,null,null,null,null,null,null,null,null,"7:00"]
["The Below Comments should show up on the plant report"]
["Comments:"]
[]
[]
["The Below Notes are for the CPI from the field or Plant Monitor"]
["Notes:"]
[]
[]
["RANDOM CORE LOCATIONS"]
[null,null,null,null,null,null,null,"Core #","Station","Offset,ft","Joint Station","Lane"]
[null,null,null,null,null,null,null,1]
[null,null,null,null,null,null,null,2]
[null,null,null,null,null,null,null,3]
[null,null,null,null,null,null,null,4]
[null,null,null,null,null,null,null,5]
[null,null,null,null,null,null,null,6]
[null,null,null,null,null,null,null,7]
[null,null,null,null,null,null,null,8]
[]
[null,null,null,null,null,null,null,null,null,null,"Joint Sublot Size, ft"]
[null,null,null,null,null,null,null,null,null,null,0]
[]
[]
[]
[]
[]
[]
[]
[]
[]
[]
[]
[]
[]
[]
[]
[]
[]
[]
[]
[]
[]
[]
[]
[]
[]
[]
[]
[]
[]
[]
[]
[]
[]
[]
[]
[]
[]
[]
[]
[]
[false]

{"sheet":"38","index":53,"n_rows":97,"n_cols":26,"rows_kept":97,"cut":false,"hidden":false,"merged":[[50,11,50,13],[51,11,51,13],[52,11,52,13],[44,11,44,13],[45,11,45,13],[46,11,46,13],[47,11,47,13],[48,11,48,13],[49,11,49,13],[43,0,43,16],[25,0,25,1],[26,0,26,5],[26,20,26,23],[26,25,26,27],[34,2,34,4],[35,0,35,5],[36,1,36,14],[37,0,37,14],[39,0,39,5],[40,1,40,14],[41,0,41,14],[23,0,23,1],[23,2,23,4],[23,9,23,12],[24,0,24,1],[24,2,24,4],[24,9,24,12],[21,0,21,1],[21,2,21,4],[21,9,21,12],[22,0,22,1],[22,2,22,4],[22,9,22,12],[19,0,19,1],[19,2,19,4],[19,9,19,12],[20,0,20,1],[20,2,20,4],[20,9,20,12],[18,0,18,16],[6,14,6,15],[7,14,7,15],[8,14,8,15],[9,14,9,15],[10,14,10,15],[11,14,11,15],[12,14,12,15],[13,14,13,15],[14,14,14,15],[15,14,15,15],[16,14,16,15],[1,0,1,16],[4,0,4,15],[5,4,5,5],[5,8,5,9],[5,11,5,12],[5,13,5,15]]}
[]
["Iowa DOT HMA Field Report"]
["Date :"]
["Item No.('s)"]
["PLACEMENT RECORD",null,null,null,null,null,null,null,null,null,null,null,null,null,null,null,null,null,null,null,null,{"$f":"SUBSTITUTE(A21 & \"\\\" & J21,\"\"\"\",\"\")","v":"\\"}]
[null,null,null,null,"Additional width to DEDUCT from Field Voids",null,null,null,"Placed Density (Pounds/CF)=",null,150,"Overwritten on the \"Summary\" Tab",null,"ONLY ONE (1) MIX DESIGN PER DFR OTHERWISE IT WILL NOT IMPORT INTO THE PLANT REPORT PROPERLY",null,null,null,null,null,null,null,{"$f":"SUBSTITUTE(A22 & \"\\\" & J22,\"\"\"\",\"\")","v":"\\"}]
["From Station"," To Station","Lane","ML or Widening Placement Width","Additional Width (ft) ","Thickness (in)","Total Length Placed (FT)","\"Pay\"  Est \"SY\"","Thickness (inches)","Calculated Field Voids Tons","Placed Tons            (Not including Waste)","% Yield","SY to be PAID (If Diff. than Est SY)","Mix Design No.","Bid Item/ Project No.",null,null,null,"This uses the correct SY #, if Green is blank uses Est. SY","Adds up the Tons",null,"\\"]
[null,null,null,null,null,null,{"$f":"IF(OR(A8=\"\",B8=\"\"),0,IF($A$97=TRUE,ABS(B8-A8)*5280,ABS(VALUE(SUBSTITUTE(A8,\"+\",\"\"))-VALUE(SUBSTITUTE(B8,\"+\",\"\")))))","v":0},{"$f":"IF(D8=\"\",\"\",G8*(D8+E8)/9)","v":""},null,{"$f":"IF(I8=\"\",\"\",(G8)*(D8+E8)*I8/12*$K$6/2000)","v":""},null,{"$f":"IF(K8=\"\",\"\",K8/J8*100)","v":""},null,null,null,null,{"$f":"O8 & \"\\\" & N8","v":"\\"},{"$f":"IF(AND(A8=\"\",B8=\"\",C8=\"\",D8=\"\"),1,IF(OR(O8=\"\",N8=\"\"),2,IF(ISERROR(MATCH(Q8,Input!M$5:M$24,0)),2,1)))","v":1},{"$f":"IF(M8<>\"\", M8, H8)","v":""},{"$f":"K8","v":0},null,"\\"]
[null,null,null,null,null,null,{"$f":"IF(OR(A9=\"\",B9=\"\"),0,IF($A$97=TRUE,ABS(B9-A9)*5280,ABS(VALUE(SUBSTITUTE(A9,\"+\",\"\"))-VALUE(SUBSTITUTE(B9,\"+\",\"\")))))","v":0},{"$f":"IF(D9=\"\",\"\",G9*(D9+E9)/9)","v":""},null,"",null,{"$f":"IF(K9=\"\",\"\",K9/J9*100)","v":""},null,null,null,null,{"$f":"O9 & \"\\\" & N9","v":"\\"},{"$f":"IF(AND(A9=\"\",B9=\"\",C9=\"\",D9=\"\"),1,IF(OR(O9=\"\",N9=\"\"),2,IF(ISERROR(MATCH(Q9,Input!M$5:M$24,0)),2,1)))","v":1},{"$f":"IF(M9<>\"\", M9, H9)","v":""},{"$f":"K9","v":0},null,"\\"]
[null,null,null,null,null,null,0,"",null,"",null,"",null,null,null,null,"\\",{"$f":"IF(AND(A10=\"\",B10=\"\",C10=\"\",D10=\"\"),1,IF(OR(O10=\"\",N10=\"\"),2,IF(ISERROR(MATCH(Q10,Input!M$5:M$24,0)),2,1)))","v":1},{"$f":"IF(M10<>\"\", M10, H10)","v":""},0]
[null,null,null,null,null,null,0,"",null,"",null,"",null,null,null,null,"\\",{"$f":"IF(AND(A11=\"\",B11=\"\",C11=\"\",D11=\"\"),1,IF(OR(O11=\"\",N11=\"\"),2,IF(ISERROR(MATCH(Q11,Input!M$5:M$24,0)),2,1)))","v":1},"",0]
[null,null,null,null,null,null,0,"",null,"",null,"",null,null,null,null,"\\",{"$f":"IF(AND(A12=\"\",B12=\"\",C12=\"\",D12=\"\"),1,IF(OR(O12=\"\",N12=\"\"),2,IF(ISERROR(MATCH(Q12,Input!M$5:M$24,0)),2,1)))","v":1},"",0]
[null,null,null,null,null,null,0,"",null,"",null,"",null,null,null,null,"\\",{"$f":"IF(AND(A13=\"\",B13=\"\",C13=\"\",D13=\"\"),1,IF(OR(O13=\"\",N13=\"\"),2,IF(ISERROR(MATCH(Q13,Input!M$5:M$24,0)),2,1)))","v":1},"",0]
[null,null,null,null,null,null,0,"",null,"",null,"",null,null,null,null,"\\",{"$f":"IF(AND(A14=\"\",B14=\"\",C14=\"\",D14=\"\"),1,IF(OR(O14=\"\",N14=\"\"),2,IF(ISERROR(MATCH(Q14,Input!M$5:M$24,0)),2,1)))","v":1},"",0]
[null,null,null,null,null,null,0,"",null,"",null,"",null,null,null,null,"\\",{"$f":"IF(AND(A15=\"\",B15=\"\",C15=\"\",D15=\"\"),1,IF(OR(O15=\"\",N15=\"\"),2,IF(ISERROR(MATCH(Q15,Input!M$5:M$24,0)),2,1)))","v":1},"",0]
[null,null,null,null,null,null,0,"",null,"",null,"",null,null,null,null,"\\",{"$f":"IF(AND(A16=\"\",B16=\"\",C16=\"\",D16=\"\"),1,IF(OR(O16=\"\",N16=\"\"),2,IF(ISERROR(MATCH(Q16,Input!M$5:M$24,0)),2,1)))","v":1},"",0]
[null,null,null,null,null,null,0,"",null,"",null,"",null,null,null,null,"\\",{"$f":"IF(AND(A17=\"\",B17=\"\",C17=\"\",D17=\"\"),1,IF(OR(O17=\"\",N17=\"\"),2,IF(ISERROR(MATCH(Q17,Input!M$5:M$24,0)),2,1)))","v":1},"",0]
[]
["TANK SHEET"]
["Bid Item (In Order of Placement)",null,"Today's Placement",null,null,"Bid Item Plan Quantity","Plan Thickness (in)","Contract Mix Price","Contract Binder Price","Project Number",null,null,null,"Mix Pay Units","Mix Delivered to Road\n(Ton or SY)","Waste On Road (Ton)\nNO waste for SY Items","Tons Placed - Waste",null,null,"This adds up column S as it depends if the Est SY is filled out or the SY",null,"Use this Column for SY for the Q column","Uses this Value for Mix on Road"]
[null,null,null,null,null,{"$f":"IF($J21=\"\",\"\",INDEX(Input!$A$5:$H$24,MATCH($A21&$J21,Input!$A$5:$A$24&Input!$G$5:$G$24,0),2))","v":""},{"$f":"IF($J21=\"\",\"\",INDEX(Input!$A$5:$H$24,MATCH($A21&$J21,Input!$A$5:$A$24&Input!$G$5:$G$24,0),3))","v":""},{"$f":"IF($J21=\"\",\"\",INDEX(Input!$A$5:$H$24,MATCH($A21&$J21,Input!$A$5:$A$24&Input!$G$5:$G$24,0),4))","v":""},{"$f":"IF($J21=\"\",\"\",INDEX(Input!$A$5:$H$24,MATCH($A21&$J21,Input!$A$5:$A$24&Input!$G$5:$G$24,0),5))","v":""},null,null,null,null,{"$f":"IF($A21=\"\",\"\",OFFSET(Input!F$4,MATCH($A21,Input!$A$5:$A$24,0),0))","v":""},{"$f":"IF(N21=\"SY\", T21, IF(N21=\"Tons\", W21, \"\"))","v":""},null,{"$f":"IF(N21=\"SY\", V21, IF(N21=\"Tons\", O21-P21, \"\"))","v":""},{"$f":"SUBSTITUTE(A21 & \"\\\" & J21,\"\"\"\",\"\")","v":"\\"},{"$f":"IF(A21=\"\",1,IF(ISERROR(MATCH(R21,Input!L$5:L$24,0)),2,1))","v":1},{"$f":"IF(A21=\"\", \"\", SUMIF($Q$8:$Q$17, \"*\" & LEFT(A21, 11) & \"*\", $S$8:$S$17))","v":""},null,{"$f":"IF(A21=\"\", \"\", SUMIF($Q$8:$Q$17, \"*\" & LEFT(A21, 11) & \"*\", $T$8:$T$17))","v":""},{"$f":"IF(N21=\"SY\", T21, IF(N21=\"Tons\", V21+P21, \"\"))","v":""}]
[null,null,null,null,null,{"$f":"IF($J22=\"\",\"\",INDEX(Input!$A$5:$H$24,MATCH($A22&$J22,Input!$A$5:$A$24&Input!$G$5:$G$24,0),2))","v":""},{"$f":"IF($J22=\"\",\"\",INDEX(Input!$A$5:$H$24,MATCH($A22&$J22,Input!$A$5:$A$24&Input!$G$5:$G$24,0),3))","v":""},{"$f":"IF($J22=\"\",\"\",INDEX(Input!$A$5:$H$24,MATCH($A22&$J22,Input!$A$5:$A$24&Input!$G$5:$G$24,0),4))","v":""},{"$f":"IF($J22=\"\",\"\",INDEX(Input!$A$5:$H$24,MATCH($A22&$J22,Input!$A$5:$A$24&Input!$G$5:$G$24,0),5))","v":""},null,null,null,null,{"$f":"IF($A22=\"\",\"\",OFFSET(Input!F$4,MATCH($A22,Input!$A$5:$A$24,0),0))","v":""},{"$f":"IF(N22=\"SY\", T22, IF(N22=\"Tons\", W22, \"\"))","v":""},null,{"$f":"IF(N22=\"SY\", V22, IF(N22=\"Tons\", O22-P22, \"\"))","v":""},{"$f":"SUBSTITUTE(A22 & \"\\\" & J22,\"\"\"\",\"\")","v":"\\"},{"$f":"IF(A22=\"\",1,IF(ISERROR(MATCH(R22,Input!L$5:L$24,0)),2,1))","v":1},{"$f":"IF(A22=\"\", \"\", SUMIF($Q$8:$Q$17, \"*\" & LEFT(A22, 11) & \"*\", $S$8:$S$17))","v":""},null,{"$f":"IF(A22=\"\", \"\", SUMIF($Q$8:$Q$17, \"*\" & LEFT(A22, 11) & \"*\", $T$8:$T$17))","v":""},{"$f":"IF(N22=\"SY\", T22, IF(N22=\"Tons\", V22+P22, \"\"))","v":""}]
[null,null,null,null,null,{"$f":"IF($J23=\"\",\"\",INDEX(Input!$A$5:$H$24,MATCH($A23&$J23,Input!$A$5:$A$24&Input!$G$5:$G$24,0),2))","v":""},{"$f":"IF($J23=\"\",\"\",INDEX(Input!$A$5:$H$24,MATCH($A23&$J23,Input!$A$5:$A$24&Input!$G$5:$G$24,0),3))","v":""},{"$f":"IF($J23=\"\",\"\",INDEX(Input!$A$5:$H$24,MATCH($A23&$J23,Input!$A$5:$A$24&Input!$G$5:$G$24,0),4))","v":""},{"$f":"IF($J23=\"\",\"\",INDEX(Input!$A$5:$H$24,MATCH($A23&$J23,Input!$A$5:$A$24&Input!$G$5:$G$24,0),5))","v":""},null,null,null,null,{"$f":"IF($A23=\"\",\"\",OFFSET(Input!F$4,MATCH($A23,Input!$A$5:$A$24,0),0))","v":""},{"$f":"IF(N23=\"SY\", T23, IF(N23=\"Tons\", W23, \"\"))","v":""},null,{"$f":"IF(N23=\"SY\", V23, IF(N23=\"Tons\", O23-P23, \"\"))","v":""},"\\",{"$f":"IF(A23=\"\",1,IF(ISERROR(MATCH(R23,Input!L$5:L$24,0)),2,1))","v":1},{"$f":"IF(A23=\"\", \"\", SUMIF($Q$8:$Q$17, \"*\" & LEFT(A23, 11) & \"*\", $S$8:$S$17))","v":""},null,{"$f":"IF(A23=\"\", \"\", SUMIF($Q$8:$Q$17, \"*\" & LEFT(A23, 11) & \"*\", $T$8:$T$17))","v":""},{"$f":"IF(N23=\"SY\", T23, IF(N23=\"Tons\", V23+P23, \"\"))","v":""}]
[null,null,null,null,null,{"$f":"IF($J24=\"\",\"\",INDEX(Input!$A$5:$H$24,MATCH($A24&$J24,Input!$A$5:$A$24&Input!$G$5:$G$24,0),2))","v":""},{"$f":"IF($J24=\"\",\"\",INDEX(Input!$A$5:$H$24,MATCH($A24&$J24,Input!$A$5:$A$24&Input!$G$5:$G$24,0),3))","v":""},{"$f":"IF($J24=\"\",\"\",INDEX(Input!$A$5:$H$24,MATCH($A24&$J24,Input!$A$5:$A$24&Input!$G$5:$G$24,0),4))","v":""},{"$f":"IF($J24=\"\",\"\",INDEX(Input!$A$5:$H$24,MATCH($A24&$J24,Input!$A$5:$A$24&Input!$G$5:$G$24,0),5))","v":""},null,null,null,null,{"$f":"IF($A24=\"\",\"\",OFFSET(Input!F$4,MATCH($A24,Input!$A$5:$A$24,0),0))","v":""},"",null,{"$f":"IF(N24=\"SY\", V24, IF(N24=\"Tons\", O24-P24, \"\"))","v":""},"\\",{"$f":"IF(A24=\"\",1,IF(ISERROR(MATCH(R24,Input!L$5:L$24,0)),2,1))","v":1},"",null,{"$f":"IF(A24=\"\", \"\", SUMIF($Q$8:$Q$17, \"*\" & LEFT(A24, 11) & \"*\", $T$8:$T$17))","v":""},{"$f":"IF(N24=\"SY\", T24, IF(N24=\"Tons\", V24+P24, \"\"))","v":""}]
[null,null,null,null,null,{"$f":"IF($J25=\"\",\"\",INDEX(Input!$A$5:$H$24,MATCH($A25&$J25,Input!$A$5:$A$24&Input!$G$5:$G$24,0),2))","v":""},{"$f":"IF($J25=\"\",\"\",INDEX(Input!$A$5:$H$24,MATCH($A25&$J25,Input!$A$5:$A$24&Input!$G$5:$G$24,0),3))","v":""},{"$f":"IF($J25=\"\",\"\",INDEX(Input!$A$5:$H$24,MATCH($A25&$J25,Input!$A$5:$A$24&Input!$G$5:$G$24,0),4))","v":""},{"$f":"IF($J25=\"\",\"\",INDEX(Input!$A$5:$H$24,MATCH($A25&$J25,Input!$A$5:$A$24&Input!$G$5:$G$24,0),5))","v":""},null,null,null,null,{"$f":"IF($A25=\"\",\"\",OFFSET(Input!F$4,MATCH($A25,Input!$A$5:$A$24,0),0))","v":""},"",null,"","\\",{"$f":"IF(A25=\"\",1,IF(ISERROR(MATCH(R25,Input!L$5:L$24,0)),2,1))","v":1},"",null,"",""]
[null,null,null,null,null,null,null,null,null,null,null,null,null,null,null,null,null,null,null,null,null,"",{"$f":"IF(N26=\"SY\", T26, IF(N26=\"Tons\", V26+P26, \"\"))","v":""},{"$f":"IF(A26=\"\", \"\", SUMIF($Q$8:$Q$17, \"*\" & LEFT(A26, 11) & \"*\", $S$8:$S$17))","v":""},{"$f":"IF(N26=\"SY\",X26,\"\")","v":""},{"$f":"IF(A26=\"\", \"\", SUMIF($Q$8:$Q$17, \"*\" & LEFT(A26, 11) & \"*\", $T$8:$T$17))","v":""}]
["Hot Box Sample",null,null,null,null,null,null,null,null,null,"Mat Temperatures °F"]
[null,"Test A","Test B","Test C","Test D","Test E",null,null,null,null,"Time","Temp"]
[" Hot Box ID Number  ",null,null,null,null,null,null,null,null,null,"7:00"]
["Hot Box Sample Tons: ",null,null,null,null,null,null,null,null,null,"9:00",null,null,null,"Intended Thickness:"]
[" Time: ",null,null,null,null,null,null,null,null,null,"11:00",null,null,null,"Cores Waived?"]
[" Station/MP: ",null,null,null,null,null,null,null,null,null,"1:00",null,null,null,"Small Quantity Statement?"]
["Bar Code ID.:",null,null,null,null,null,null,null,null,null,"3:00",null,null,null,"Scale Check Done?"]
["Compaction Temp. °F: ",null,null,null,null,null,null,null,null,null,"5:00",null,null,null,"Tack Tickets Today?"]
[null,null,null,null,null,null,null,null,null,null,"7:00"]
["The Below Comments should show up on the plant report"]
["Comments:"]
[]
[]
["The Below Notes are for the CPI from the field or Plant Monitor"]
["Notes:"]
[]
[]
["RANDOM CORE LOCATIONS"]
[null,null,null,null,null,null,null,"Core #","Station","Offset,ft","Joint Station","Lane"]
[null,null,null,null,null,null,null,1]
[null,null,null,null,null,null,null,2]
[null,null,null,null,null,null,null,3]
[null,null,null,null,null,null,null,4]
[null,null,null,null,null,null,null,5]
[null,null,null,null,null,null,null,6]
[null,null,null,null,null,null,null,7]
[null,null,null,null,null,null,null,8]
[]
[null,null,null,null,null,null,null,null,null,null,"Joint Sublot Size, ft"]
[null,null,null,null,null,null,null,null,null,null,0]
[]
[]
[]
[]
[]
[]
[]
[]
[]
[]
[]
[]
[]
[]
[]
[]
[]
[]
[]
[]
[]
[]
[]
[]
[]
[]
[]
[]
[]
[]
[]
[]
[]
[]
[]
[]
[]
[]
[]
[]
[false]

{"sheet":"39","index":54,"n_rows":97,"n_cols":26,"rows_kept":97,"cut":false,"hidden":false,"merged":[[50,11,50,13],[51,11,51,13],[52,11,52,13],[44,11,44,13],[45,11,45,13],[46,11,46,13],[47,11,47,13],[48,11,48,13],[49,11,49,13],[43,0,43,16],[25,0,25,1],[26,0,26,5],[26,20,26,23],[26,25,26,27],[34,2,34,4],[35,0,35,5],[36,1,36,14],[37,0,37,14],[39,0,39,5],[40,1,40,14],[41,0,41,14],[23,0,23,1],[23,2,23,4],[23,9,23,12],[24,0,24,1],[24,2,24,4],[24,9,24,12],[21,0,21,1],[21,2,21,4],[21,9,21,12],[22,0,22,1],[22,2,22,4],[22,9,22,12],[19,0,19,1],[19,2,19,4],[19,9,19,12],[20,0,20,1],[20,2,20,4],[20,9,20,12],[18,0,18,16],[6,14,6,15],[7,14,7,15],[8,14,8,15],[9,14,9,15],[10,14,10,15],[11,14,11,15],[12,14,12,15],[13,14,13,15],[14,14,14,15],[15,14,15,15],[16,14,16,15],[1,0,1,16],[4,0,4,15],[5,4,5,5],[5,8,5,9],[5,11,5,12],[5,13,5,15]]}
[]
["Iowa DOT HMA Field Report"]
["Date :"]
["Item No.('s)"]
["PLACEMENT RECORD",null,null,null,null,null,null,null,null,null,null,null,null,null,null,null,null,null,null,null,null,{"$f":"SUBSTITUTE(A21 & \"\\\" & J21,\"\"\"\",\"\")","v":"\\"}]
[null,null,null,null,"Additional width to DEDUCT from Field Voids",null,null,null,"Placed Density (Pounds/CF)=",null,150,"Overwritten on the \"Summary\" Tab",null,"ONLY ONE (1) MIX DESIGN PER DFR OTHERWISE IT WILL NOT IMPORT INTO THE PLANT REPORT PROPERLY",null,null,null,null,null,null,null,{"$f":"SUBSTITUTE(A22 & \"\\\" & J22,\"\"\"\",\"\")","v":"\\"}]
["From Station"," To Station","Lane","ML or Widening Placement Width","Additional Width (ft) ","Thickness (in)","Total Length Placed (FT)","\"Pay\"  Est \"SY\"","Thickness (inches)","Calculated Field Voids Tons","Placed Tons            (Not including Waste)","% Yield","SY to be PAID (If Diff. than Est SY)","Mix Design No.","Bid Item/ Project No.",null,null,null,"This uses the correct SY #, if Green is blank uses Est. SY","Adds up the Tons",null,"\\"]
[null,null,null,null,null,null,{"$f":"IF(OR(A8=\"\",B8=\"\"),0,IF($A$97=TRUE,ABS(B8-A8)*5280,ABS(VALUE(SUBSTITUTE(A8,\"+\",\"\"))-VALUE(SUBSTITUTE(B8,\"+\",\"\")))))","v":0},{"$f":"IF(D8=\"\",\"\",G8*(D8+E8)/9)","v":""},null,{"$f":"IF(I8=\"\",\"\",(G8)*(D8+E8)*I8/12*$K$6/2000)","v":""},null,{"$f":"IF(K8=\"\",\"\",K8/J8*100)","v":""},null,null,null,null,{"$f":"O8 & \"\\\" & N8","v":"\\"},{"$f":"IF(AND(A8=\"\",B8=\"\",C8=\"\",D8=\"\"),1,IF(OR(O8=\"\",N8=\"\"),2,IF(ISERROR(MATCH(Q8,Input!M$5:M$24,0)),2,1)))","v":1},{"$f":"IF(M8<>\"\", M8, H8)","v":""},{"$f":"K8","v":0},null,"\\"]
[null,null,null,null,null,null,{"$f":"IF(OR(A9=\"\",B9=\"\"),0,IF($A$97=TRUE,ABS(B9-A9)*5280,ABS(VALUE(SUBSTITUTE(A9,\"+\",\"\"))-VALUE(SUBSTITUTE(B9,\"+\",\"\")))))","v":0},{"$f":"IF(D9=\"\",\"\",G9*(D9+E9)/9)","v":""},null,"",null,{"$f":"IF(K9=\"\",\"\",K9/J9*100)","v":""},null,null,null,null,{"$f":"O9 & \"\\\" & N9","v":"\\"},{"$f":"IF(AND(A9=\"\",B9=\"\",C9=\"\",D9=\"\"),1,IF(OR(O9=\"\",N9=\"\"),2,IF(ISERROR(MATCH(Q9,Input!M$5:M$24,0)),2,1)))","v":1},{"$f":"IF(M9<>\"\", M9, H9)","v":""},{"$f":"K9","v":0},null,"\\"]
[null,null,null,null,null,null,0,"",null,"",null,"",null,null,null,null,"\\",{"$f":"IF(AND(A10=\"\",B10=\"\",C10=\"\",D10=\"\"),1,IF(OR(O10=\"\",N10=\"\"),2,IF(ISERROR(MATCH(Q10,Input!M$5:M$24,0)),2,1)))","v":1},{"$f":"IF(M10<>\"\", M10, H10)","v":""},0]
[null,null,null,null,null,null,0,"",null,"",null,"",null,null,null,null,"\\",{"$f":"IF(AND(A11=\"\",B11=\"\",C11=\"\",D11=\"\"),1,IF(OR(O11=\"\",N11=\"\"),2,IF(ISERROR(MATCH(Q11,Input!M$5:M$24,0)),2,1)))","v":1},"",0]
[null,null,null,null,null,null,0,"",null,"",null,"",null,null,null,null,"\\",{"$f":"IF(AND(A12=\"\",B12=\"\",C12=\"\",D12=\"\"),1,IF(OR(O12=\"\",N12=\"\"),2,IF(ISERROR(MATCH(Q12,Input!M$5:M$24,0)),2,1)))","v":1},"",0]
[null,null,null,null,null,null,0,"",null,"",null,"",null,null,null,null,"\\",{"$f":"IF(AND(A13=\"\",B13=\"\",C13=\"\",D13=\"\"),1,IF(OR(O13=\"\",N13=\"\"),2,IF(ISERROR(MATCH(Q13,Input!M$5:M$24,0)),2,1)))","v":1},"",0]
[null,null,null,null,null,null,0,"",null,"",null,"",null,null,null,null,"\\",{"$f":"IF(AND(A14=\"\",B14=\"\",C14=\"\",D14=\"\"),1,IF(OR(O14=\"\",N14=\"\"),2,IF(ISERROR(MATCH(Q14,Input!M$5:M$24,0)),2,1)))","v":1},"",0]
[null,null,null,null,null,null,0,"",null,"",null,"",null,null,null,null,"\\",{"$f":"IF(AND(A15=\"\",B15=\"\",C15=\"\",D15=\"\"),1,IF(OR(O15=\"\",N15=\"\"),2,IF(ISERROR(MATCH(Q15,Input!M$5:M$24,0)),2,1)))","v":1},"",0]
[null,null,null,null,null,null,0,"",null,"",null,"",null,null,null,null,"\\",{"$f":"IF(AND(A16=\"\",B16=\"\",C16=\"\",D16=\"\"),1,IF(OR(O16=\"\",N16=\"\"),2,IF(ISERROR(MATCH(Q16,Input!M$5:M$24,0)),2,1)))","v":1},"",0]
[null,null,null,null,null,null,0,"",null,"",null,"",null,null,null,null,"\\",{"$f":"IF(AND(A17=\"\",B17=\"\",C17=\"\",D17=\"\"),1,IF(OR(O17=\"\",N17=\"\"),2,IF(ISERROR(MATCH(Q17,Input!M$5:M$24,0)),2,1)))","v":1},"",0]
[]
["TANK SHEET"]
["Bid Item (In Order of Placement)",null,"Today's Placement",null,null,"Bid Item Plan Quantity","Plan Thickness (in)","Contract Mix Price","Contract Binder Price","Project Number",null,null,null,"Mix Pay Units","Mix Delivered to Road\n(Ton or SY)","Waste On Road (Ton)\nNO waste for SY Items","Tons Placed - Waste",null,null,"This adds up column S as it depends if the Est SY is filled out or the SY",null,"Use this Column for SY for the Q column","Uses this Value for Mix on Road"]
[null,null,null,null,null,{"$f":"IF($J21=\"\",\"\",INDEX(Input!$A$5:$H$24,MATCH($A21&$J21,Input!$A$5:$A$24&Input!$G$5:$G$24,0),2))","v":""},{"$f":"IF($J21=\"\",\"\",INDEX(Input!$A$5:$H$24,MATCH($A21&$J21,Input!$A$5:$A$24&Input!$G$5:$G$24,0),3))","v":""},{"$f":"IF($J21=\"\",\"\",INDEX(Input!$A$5:$H$24,MATCH($A21&$J21,Input!$A$5:$A$24&Input!$G$5:$G$24,0),4))","v":""},{"$f":"IF($J21=\"\",\"\",INDEX(Input!$A$5:$H$24,MATCH($A21&$J21,Input!$A$5:$A$24&Input!$G$5:$G$24,0),5))","v":""},null,null,null,null,{"$f":"IF($A21=\"\",\"\",OFFSET(Input!F$4,MATCH($A21,Input!$A$5:$A$24,0),0))","v":""},{"$f":"IF(N21=\"SY\", T21, IF(N21=\"Tons\", W21, \"\"))","v":""},null,{"$f":"IF(N21=\"SY\", V21, IF(N21=\"Tons\", O21-P21, \"\"))","v":""},{"$f":"SUBSTITUTE(A21 & \"\\\" & J21,\"\"\"\",\"\")","v":"\\"},{"$f":"IF(A21=\"\",1,IF(ISERROR(MATCH(R21,Input!L$5:L$24,0)),2,1))","v":1},{"$f":"IF(A21=\"\", \"\", SUMIF($Q$8:$Q$17, \"*\" & LEFT(A21, 11) & \"*\", $S$8:$S$17))","v":""},null,{"$f":"IF(A21=\"\", \"\", SUMIF($Q$8:$Q$17, \"*\" & LEFT(A21, 11) & \"*\", $T$8:$T$17))","v":""},{"$f":"IF(N21=\"SY\", T21, IF(N21=\"Tons\", V21+P21, \"\"))","v":""}]
[null,null,null,null,null,{"$f":"IF($J22=\"\",\"\",INDEX(Input!$A$5:$H$24,MATCH($A22&$J22,Input!$A$5:$A$24&Input!$G$5:$G$24,0),2))","v":""},{"$f":"IF($J22=\"\",\"\",INDEX(Input!$A$5:$H$24,MATCH($A22&$J22,Input!$A$5:$A$24&Input!$G$5:$G$24,0),3))","v":""},{"$f":"IF($J22=\"\",\"\",INDEX(Input!$A$5:$H$24,MATCH($A22&$J22,Input!$A$5:$A$24&Input!$G$5:$G$24,0),4))","v":""},{"$f":"IF($J22=\"\",\"\",INDEX(Input!$A$5:$H$24,MATCH($A22&$J22,Input!$A$5:$A$24&Input!$G$5:$G$24,0),5))","v":""},null,null,null,null,{"$f":"IF($A22=\"\",\"\",OFFSET(Input!F$4,MATCH($A22,Input!$A$5:$A$24,0),0))","v":""},{"$f":"IF(N22=\"SY\", T22, IF(N22=\"Tons\", W22, \"\"))","v":""},null,{"$f":"IF(N22=\"SY\", V22, IF(N22=\"Tons\", O22-P22, \"\"))","v":""},{"$f":"SUBSTITUTE(A22 & \"\\\" & J22,\"\"\"\",\"\")","v":"\\"},{"$f":"IF(A22=\"\",1,IF(ISERROR(MATCH(R22,Input!L$5:L$24,0)),2,1))","v":1},{"$f":"IF(A22=\"\", \"\", SUMIF($Q$8:$Q$17, \"*\" & LEFT(A22, 11) & \"*\", $S$8:$S$17))","v":""},null,{"$f":"IF(A22=\"\", \"\", SUMIF($Q$8:$Q$17, \"*\" & LEFT(A22, 11) & \"*\", $T$8:$T$17))","v":""},{"$f":"IF(N22=\"SY\", T22, IF(N22=\"Tons\", V22+P22, \"\"))","v":""}]
[null,null,null,null,null,{"$f":"IF($J23=\"\",\"\",INDEX(Input!$A$5:$H$24,MATCH($A23&$J23,Input!$A$5:$A$24&Input!$G$5:$G$24,0),2))","v":""},{"$f":"IF($J23=\"\",\"\",INDEX(Input!$A$5:$H$24,MATCH($A23&$J23,Input!$A$5:$A$24&Input!$G$5:$G$24,0),3))","v":""},{"$f":"IF($J23=\"\",\"\",INDEX(Input!$A$5:$H$24,MATCH($A23&$J23,Input!$A$5:$A$24&Input!$G$5:$G$24,0),4))","v":""},{"$f":"IF($J23=\"\",\"\",INDEX(Input!$A$5:$H$24,MATCH($A23&$J23,Input!$A$5:$A$24&Input!$G$5:$G$24,0),5))","v":""},null,null,null,null,{"$f":"IF($A23=\"\",\"\",OFFSET(Input!F$4,MATCH($A23,Input!$A$5:$A$24,0),0))","v":""},{"$f":"IF(N23=\"SY\", T23, IF(N23=\"Tons\", W23, \"\"))","v":""},null,{"$f":"IF(N23=\"SY\", V23, IF(N23=\"Tons\", O23-P23, \"\"))","v":""},"\\",{"$f":"IF(A23=\"\",1,IF(ISERROR(MATCH(R23,Input!L$5:L$24,0)),2,1))","v":1},{"$f":"IF(A23=\"\", \"\", SUMIF($Q$8:$Q$17, \"*\" & LEFT(A23, 11) & \"*\", $S$8:$S$17))","v":""},null,{"$f":"IF(A23=\"\", \"\", SUMIF($Q$8:$Q$17, \"*\" & LEFT(A23, 11) & \"*\", $T$8:$T$17))","v":""},{"$f":"IF(N23=\"SY\", T23, IF(N23=\"Tons\", V23+P23, \"\"))","v":""}]
[null,null,null,null,null,{"$f":"IF($J24=\"\",\"\",INDEX(Input!$A$5:$H$24,MATCH($A24&$J24,Input!$A$5:$A$24&Input!$G$5:$G$24,0),2))","v":""},{"$f":"IF($J24=\"\",\"\",INDEX(Input!$A$5:$H$24,MATCH($A24&$J24,Input!$A$5:$A$24&Input!$G$5:$G$24,0),3))","v":""},{"$f":"IF($J24=\"\",\"\",INDEX(Input!$A$5:$H$24,MATCH($A24&$J24,Input!$A$5:$A$24&Input!$G$5:$G$24,0),4))","v":""},{"$f":"IF($J24=\"\",\"\",INDEX(Input!$A$5:$H$24,MATCH($A24&$J24,Input!$A$5:$A$24&Input!$G$5:$G$24,0),5))","v":""},null,null,null,null,{"$f":"IF($A24=\"\",\"\",OFFSET(Input!F$4,MATCH($A24,Input!$A$5:$A$24,0),0))","v":""},"",null,{"$f":"IF(N24=\"SY\", V24, IF(N24=\"Tons\", O24-P24, \"\"))","v":""},"\\",{"$f":"IF(A24=\"\",1,IF(ISERROR(MATCH(R24,Input!L$5:L$24,0)),2,1))","v":1},"",null,{"$f":"IF(A24=\"\", \"\", SUMIF($Q$8:$Q$17, \"*\" & LEFT(A24, 11) & \"*\", $T$8:$T$17))","v":""},{"$f":"IF(N24=\"SY\", T24, IF(N24=\"Tons\", V24+P24, \"\"))","v":""}]
[null,null,null,null,null,{"$f":"IF($J25=\"\",\"\",INDEX(Input!$A$5:$H$24,MATCH($A25&$J25,Input!$A$5:$A$24&Input!$G$5:$G$24,0),2))","v":""},{"$f":"IF($J25=\"\",\"\",INDEX(Input!$A$5:$H$24,MATCH($A25&$J25,Input!$A$5:$A$24&Input!$G$5:$G$24,0),3))","v":""},{"$f":"IF($J25=\"\",\"\",INDEX(Input!$A$5:$H$24,MATCH($A25&$J25,Input!$A$5:$A$24&Input!$G$5:$G$24,0),4))","v":""},{"$f":"IF($J25=\"\",\"\",INDEX(Input!$A$5:$H$24,MATCH($A25&$J25,Input!$A$5:$A$24&Input!$G$5:$G$24,0),5))","v":""},null,null,null,null,{"$f":"IF($A25=\"\",\"\",OFFSET(Input!F$4,MATCH($A25,Input!$A$5:$A$24,0),0))","v":""},"",null,"","\\",{"$f":"IF(A25=\"\",1,IF(ISERROR(MATCH(R25,Input!L$5:L$24,0)),2,1))","v":1},"",null,"",""]
[null,null,null,null,null,null,null,null,null,null,null,null,null,null,null,null,null,null,null,null,null,"",{"$f":"IF(N26=\"SY\", T26, IF(N26=\"Tons\", V26+P26, \"\"))","v":""},{"$f":"IF(A26=\"\", \"\", SUMIF($Q$8:$Q$17, \"*\" & LEFT(A26, 11) & \"*\", $S$8:$S$17))","v":""},{"$f":"IF(N26=\"SY\",X26,\"\")","v":""},{"$f":"IF(A26=\"\", \"\", SUMIF($Q$8:$Q$17, \"*\" & LEFT(A26, 11) & \"*\", $T$8:$T$17))","v":""}]
["Hot Box Sample",null,null,null,null,null,null,null,null,null,"Mat Temperatures °F"]
[null,"Test A","Test B","Test C","Test D","Test E",null,null,null,null,"Time","Temp"]
[" Hot Box ID Number  ",null,null,null,null,null,null,null,null,null,"7:00"]
["Hot Box Sample Tons: ",null,null,null,null,null,null,null,null,null,"9:00",null,null,null,"Intended Thickness:"]
[" Time: ",null,null,null,null,null,null,null,null,null,"11:00",null,null,null,"Cores Waived?"]
[" Station/MP: ",null,null,null,null,null,null,null,null,null,"1:00",null,null,null,"Small Quantity Statement?"]
["Bar Code ID.:",null,null,null,null,null,null,null,null,null,"3:00",null,null,null,"Scale Check Done?"]
["Compaction Temp. °F: ",null,null,null,null,null,null,null,null,null,"5:00",null,null,null,"Tack Tickets Today?"]
[null,null,null,null,null,null,null,null,null,null,"7:00"]
["The Below Comments should show up on the plant report"]
["Comments:"]
[]
[]
["The Below Notes are for the CPI from the field or Plant Monitor"]
["Notes:"]
[]
[]
["RANDOM CORE LOCATIONS"]
[null,null,null,null,null,null,null,"Core #","Station","Offset,ft","Joint Station","Lane"]
[null,null,null,null,null,null,null,1]
[null,null,null,null,null,null,null,2]
[null,null,null,null,null,null,null,3]
[null,null,null,null,null,null,null,4]
[null,null,null,null,null,null,null,5]
[null,null,null,null,null,null,null,6]
[null,null,null,null,null,null,null,7]
[null,null,null,null,null,null,null,8]
[]
[null,null,null,null,null,null,null,null,null,null,"Joint Sublot Size, ft"]
[null,null,null,null,null,null,null,null,null,null,0]
[]
[]
[]
[]
[]
[]
[]
[]
[]
[]
[]
[]
[]
[]
[]
[]
[]
[]
[]
[]
[]
[]
[]
[]
[]
[]
[]
[]
[]
[]
[]
[]
[]
[]
[]
[]
[]
[]
[]
[]
[false]

{"sheet":"40","index":55,"n_rows":97,"n_cols":26,"rows_kept":97,"cut":false,"hidden":false,"merged":[[50,11,50,13],[51,11,51,13],[52,11,52,13],[44,11,44,13],[45,11,45,13],[46,11,46,13],[47,11,47,13],[48,11,48,13],[49,11,49,13],[43,0,43,16],[25,0,25,1],[26,0,26,5],[26,20,26,23],[26,25,26,27],[34,2,34,4],[35,0,35,5],[36,1,36,14],[37,0,37,14],[39,0,39,5],[40,1,40,14],[41,0,41,14],[23,0,23,1],[23,2,23,4],[23,9,23,12],[24,0,24,1],[24,2,24,4],[24,9,24,12],[21,0,21,1],[21,2,21,4],[21,9,21,12],[22,0,22,1],[22,2,22,4],[22,9,22,12],[19,0,19,1],[19,2,19,4],[19,9,19,12],[20,0,20,1],[20,2,20,4],[20,9,20,12],[18,0,18,16],[6,14,6,15],[7,14,7,15],[8,14,8,15],[9,14,9,15],[10,14,10,15],[11,14,11,15],[12,14,12,15],[13,14,13,15],[14,14,14,15],[15,14,15,15],[16,14,16,15],[1,0,1,16],[4,0,4,15],[5,4,5,5],[5,8,5,9],[5,11,5,12],[5,13,5,15]]}
[]
["Iowa DOT HMA Field Report"]
["Date :"]
["Item No.('s)"]
["PLACEMENT RECORD",null,null,null,null,null,null,null,null,null,null,null,null,null,null,null,null,null,null,null,null,{"$f":"SUBSTITUTE(A21 & \"\\\" & J21,\"\"\"\",\"\")","v":"\\"}]
[null,null,null,null,"Additional width to DEDUCT from Field Voids",null,null,null,"Placed Density (Pounds/CF)=",null,150,"Overwritten on the \"Summary\" Tab",null,"ONLY ONE (1) MIX DESIGN PER DFR OTHERWISE IT WILL NOT IMPORT INTO THE PLANT REPORT PROPERLY",null,null,null,null,null,null,null,{"$f":"SUBSTITUTE(A22 & \"\\\" & J22,\"\"\"\",\"\")","v":"\\"}]
["From Station"," To Station","Lane","ML or Widening Placement Width","Additional Width (ft) ","Thickness (in)","Total Length Placed (FT)","\"Pay\"  Est \"SY\"","Thickness (inches)","Calculated Field Voids Tons","Placed Tons            (Not including Waste)","% Yield","SY to be PAID (If Diff. than Est SY)","Mix Design No.","Bid Item/ Project No.",null,null,null,"This uses the correct SY #, if Green is blank uses Est. SY","Adds up the Tons",null,"\\"]
[null,null,null,null,null,null,{"$f":"IF(OR(A8=\"\",B8=\"\"),0,IF($A$97=TRUE,ABS(B8-A8)*5280,ABS(VALUE(SUBSTITUTE(A8,\"+\",\"\"))-VALUE(SUBSTITUTE(B8,\"+\",\"\")))))","v":0},{"$f":"IF(D8=\"\",\"\",G8*(D8+E8)/9)","v":""},null,{"$f":"IF(I8=\"\",\"\",(G8)*(D8+E8)*I8/12*$K$6/2000)","v":""},null,{"$f":"IF(K8=\"\",\"\",K8/J8*100)","v":""},null,null,null,null,{"$f":"O8 & \"\\\" & N8","v":"\\"},{"$f":"IF(AND(A8=\"\",B8=\"\",C8=\"\",D8=\"\"),1,IF(OR(O8=\"\",N8=\"\"),2,IF(ISERROR(MATCH(Q8,Input!M$5:M$24,0)),2,1)))","v":1},{"$f":"IF(M8<>\"\", M8, H8)","v":""},{"$f":"K8","v":0},null,"\\"]
[null,null,null,null,null,null,{"$f":"IF(OR(A9=\"\",B9=\"\"),0,IF($A$97=TRUE,ABS(B9-A9)*5280,ABS(VALUE(SUBSTITUTE(A9,\"+\",\"\"))-VALUE(SUBSTITUTE(B9,\"+\",\"\")))))","v":0},{"$f":"IF(D9=\"\",\"\",G9*(D9+E9)/9)","v":""},null,"",null,{"$f":"IF(K9=\"\",\"\",K9/J9*100)","v":""},null,null,null,null,{"$f":"O9 & \"\\\" & N9","v":"\\"},{"$f":"IF(AND(A9=\"\",B9=\"\",C9=\"\",D9=\"\"),1,IF(OR(O9=\"\",N9=\"\"),2,IF(ISERROR(MATCH(Q9,Input!M$5:M$24,0)),2,1)))","v":1},{"$f":"IF(M9<>\"\", M9, H9)","v":""},{"$f":"K9","v":0},null,"\\"]
[null,null,null,null,null,null,0,"",null,"",null,"",null,null,null,null,"\\",{"$f":"IF(AND(A10=\"\",B10=\"\",C10=\"\",D10=\"\"),1,IF(OR(O10=\"\",N10=\"\"),2,IF(ISERROR(MATCH(Q10,Input!M$5:M$24,0)),2,1)))","v":1},{"$f":"IF(M10<>\"\", M10, H10)","v":""},0]
[null,null,null,null,null,null,0,"",null,"",null,"",null,null,null,null,"\\",{"$f":"IF(AND(A11=\"\",B11=\"\",C11=\"\",D11=\"\"),1,IF(OR(O11=\"\",N11=\"\"),2,IF(ISERROR(MATCH(Q11,Input!M$5:M$24,0)),2,1)))","v":1},"",0]
[null,null,null,null,null,null,0,"",null,"",null,"",null,null,null,null,"\\",{"$f":"IF(AND(A12=\"\",B12=\"\",C12=\"\",D12=\"\"),1,IF(OR(O12=\"\",N12=\"\"),2,IF(ISERROR(MATCH(Q12,Input!M$5:M$24,0)),2,1)))","v":1},"",0]
[null,null,null,null,null,null,0,"",null,"",null,"",null,null,null,null,"\\",{"$f":"IF(AND(A13=\"\",B13=\"\",C13=\"\",D13=\"\"),1,IF(OR(O13=\"\",N13=\"\"),2,IF(ISERROR(MATCH(Q13,Input!M$5:M$24,0)),2,1)))","v":1},"",0]
[null,null,null,null,null,null,0,"",null,"",null,"",null,null,null,null,"\\",{"$f":"IF(AND(A14=\"\",B14=\"\",C14=\"\",D14=\"\"),1,IF(OR(O14=\"\",N14=\"\"),2,IF(ISERROR(MATCH(Q14,Input!M$5:M$24,0)),2,1)))","v":1},"",0]
[null,null,null,null,null,null,0,"",null,"",null,"",null,null,null,null,"\\",{"$f":"IF(AND(A15=\"\",B15=\"\",C15=\"\",D15=\"\"),1,IF(OR(O15=\"\",N15=\"\"),2,IF(ISERROR(MATCH(Q15,Input!M$5:M$24,0)),2,1)))","v":1},"",0]
[null,null,null,null,null,null,0,"",null,"",null,"",null,null,null,null,"\\",{"$f":"IF(AND(A16=\"\",B16=\"\",C16=\"\",D16=\"\"),1,IF(OR(O16=\"\",N16=\"\"),2,IF(ISERROR(MATCH(Q16,Input!M$5:M$24,0)),2,1)))","v":1},"",0]
[null,null,null,null,null,null,0,"",null,"",null,"",null,null,null,null,"\\",{"$f":"IF(AND(A17=\"\",B17=\"\",C17=\"\",D17=\"\"),1,IF(OR(O17=\"\",N17=\"\"),2,IF(ISERROR(MATCH(Q17,Input!M$5:M$24,0)),2,1)))","v":1},"",0]
[]
["TANK SHEET"]
["Bid Item (In Order of Placement)",null,"Today's Placement",null,null,"Bid Item Plan Quantity","Plan Thickness (in)","Contract Mix Price","Contract Binder Price","Project Number",null,null,null,"Mix Pay Units","Mix Delivered to Road\n(Ton or SY)","Waste On Road (Ton)\nNO waste for SY Items","Tons Placed - Waste",null,null,"This adds up column S as it depends if the Est SY is filled out or the SY",null,"Use this Column for SY for the Q column","Uses this Value for Mix on Road"]
[null,null,null,null,null,{"$f":"IF($J21=\"\",\"\",INDEX(Input!$A$5:$H$24,MATCH($A21&$J21,Input!$A$5:$A$24&Input!$G$5:$G$24,0),2))","v":""},{"$f":"IF($J21=\"\",\"\",INDEX(Input!$A$5:$H$24,MATCH($A21&$J21,Input!$A$5:$A$24&Input!$G$5:$G$24,0),3))","v":""},{"$f":"IF($J21=\"\",\"\",INDEX(Input!$A$5:$H$24,MATCH($A21&$J21,Input!$A$5:$A$24&Input!$G$5:$G$24,0),4))","v":""},{"$f":"IF($J21=\"\",\"\",INDEX(Input!$A$5:$H$24,MATCH($A21&$J21,Input!$A$5:$A$24&Input!$G$5:$G$24,0),5))","v":""},null,null,null,null,{"$f":"IF($A21=\"\",\"\",OFFSET(Input!F$4,MATCH($A21,Input!$A$5:$A$24,0),0))","v":""},{"$f":"IF(N21=\"SY\", T21, IF(N21=\"Tons\", W21, \"\"))","v":""},null,{"$f":"IF(N21=\"SY\", V21, IF(N21=\"Tons\", O21-P21, \"\"))","v":""},{"$f":"SUBSTITUTE(A21 & \"\\\" & J21,\"\"\"\",\"\")","v":"\\"},{"$f":"IF(A21=\"\",1,IF(ISERROR(MATCH(R21,Input!L$5:L$24,0)),2,1))","v":1},{"$f":"IF(A21=\"\", \"\", SUMIF($Q$8:$Q$17, \"*\" & LEFT(A21, 11) & \"*\", $S$8:$S$17))","v":""},null,{"$f":"IF(A21=\"\", \"\", SUMIF($Q$8:$Q$17, \"*\" & LEFT(A21, 11) & \"*\", $T$8:$T$17))","v":""},{"$f":"IF(N21=\"SY\", T21, IF(N21=\"Tons\", V21+P21, \"\"))","v":""}]
[null,null,null,null,null,{"$f":"IF($J22=\"\",\"\",INDEX(Input!$A$5:$H$24,MATCH($A22&$J22,Input!$A$5:$A$24&Input!$G$5:$G$24,0),2))","v":""},{"$f":"IF($J22=\"\",\"\",INDEX(Input!$A$5:$H$24,MATCH($A22&$J22,Input!$A$5:$A$24&Input!$G$5:$G$24,0),3))","v":""},{"$f":"IF($J22=\"\",\"\",INDEX(Input!$A$5:$H$24,MATCH($A22&$J22,Input!$A$5:$A$24&Input!$G$5:$G$24,0),4))","v":""},{"$f":"IF($J22=\"\",\"\",INDEX(Input!$A$5:$H$24,MATCH($A22&$J22,Input!$A$5:$A$24&Input!$G$5:$G$24,0),5))","v":""},null,null,null,null,{"$f":"IF($A22=\"\",\"\",OFFSET(Input!F$4,MATCH($A22,Input!$A$5:$A$24,0),0))","v":""},{"$f":"IF(N22=\"SY\", T22, IF(N22=\"Tons\", W22, \"\"))","v":""},null,{"$f":"IF(N22=\"SY\", V22, IF(N22=\"Tons\", O22-P22, \"\"))","v":""},{"$f":"SUBSTITUTE(A22 & \"\\\" & J22,\"\"\"\",\"\")","v":"\\"},{"$f":"IF(A22=\"\",1,IF(ISERROR(MATCH(R22,Input!L$5:L$24,0)),2,1))","v":1},{"$f":"IF(A22=\"\", \"\", SUMIF($Q$8:$Q$17, \"*\" & LEFT(A22, 11) & \"*\", $S$8:$S$17))","v":""},null,{"$f":"IF(A22=\"\", \"\", SUMIF($Q$8:$Q$17, \"*\" & LEFT(A22, 11) & \"*\", $T$8:$T$17))","v":""},{"$f":"IF(N22=\"SY\", T22, IF(N22=\"Tons\", V22+P22, \"\"))","v":""}]
[null,null,null,null,null,{"$f":"IF($J23=\"\",\"\",INDEX(Input!$A$5:$H$24,MATCH($A23&$J23,Input!$A$5:$A$24&Input!$G$5:$G$24,0),2))","v":""},{"$f":"IF($J23=\"\",\"\",INDEX(Input!$A$5:$H$24,MATCH($A23&$J23,Input!$A$5:$A$24&Input!$G$5:$G$24,0),3))","v":""},{"$f":"IF($J23=\"\",\"\",INDEX(Input!$A$5:$H$24,MATCH($A23&$J23,Input!$A$5:$A$24&Input!$G$5:$G$24,0),4))","v":""},{"$f":"IF($J23=\"\",\"\",INDEX(Input!$A$5:$H$24,MATCH($A23&$J23,Input!$A$5:$A$24&Input!$G$5:$G$24,0),5))","v":""},null,null,null,null,{"$f":"IF($A23=\"\",\"\",OFFSET(Input!F$4,MATCH($A23,Input!$A$5:$A$24,0),0))","v":""},{"$f":"IF(N23=\"SY\", T23, IF(N23=\"Tons\", W23, \"\"))","v":""},null,{"$f":"IF(N23=\"SY\", V23, IF(N23=\"Tons\", O23-P23, \"\"))","v":""},"\\",{"$f":"IF(A23=\"\",1,IF(ISERROR(MATCH(R23,Input!L$5:L$24,0)),2,1))","v":1},{"$f":"IF(A23=\"\", \"\", SUMIF($Q$8:$Q$17, \"*\" & LEFT(A23, 11) & \"*\", $S$8:$S$17))","v":""},null,{"$f":"IF(A23=\"\", \"\", SUMIF($Q$8:$Q$17, \"*\" & LEFT(A23, 11) & \"*\", $T$8:$T$17))","v":""},{"$f":"IF(N23=\"SY\", T23, IF(N23=\"Tons\", V23+P23, \"\"))","v":""}]
[null,null,null,null,null,{"$f":"IF($J24=\"\",\"\",INDEX(Input!$A$5:$H$24,MATCH($A24&$J24,Input!$A$5:$A$24&Input!$G$5:$G$24,0),2))","v":""},{"$f":"IF($J24=\"\",\"\",INDEX(Input!$A$5:$H$24,MATCH($A24&$J24,Input!$A$5:$A$24&Input!$G$5:$G$24,0),3))","v":""},{"$f":"IF($J24=\"\",\"\",INDEX(Input!$A$5:$H$24,MATCH($A24&$J24,Input!$A$5:$A$24&Input!$G$5:$G$24,0),4))","v":""},{"$f":"IF($J24=\"\",\"\",INDEX(Input!$A$5:$H$24,MATCH($A24&$J24,Input!$A$5:$A$24&Input!$G$5:$G$24,0),5))","v":""},null,null,null,null,{"$f":"IF($A24=\"\",\"\",OFFSET(Input!F$4,MATCH($A24,Input!$A$5:$A$24,0),0))","v":""},"",null,{"$f":"IF(N24=\"SY\", V24, IF(N24=\"Tons\", O24-P24, \"\"))","v":""},"\\",{"$f":"IF(A24=\"\",1,IF(ISERROR(MATCH(R24,Input!L$5:L$24,0)),2,1))","v":1},"",null,{"$f":"IF(A24=\"\", \"\", SUMIF($Q$8:$Q$17, \"*\" & LEFT(A24, 11) & \"*\", $T$8:$T$17))","v":""},{"$f":"IF(N24=\"SY\", T24, IF(N24=\"Tons\", V24+P24, \"\"))","v":""}]
[null,null,null,null,null,{"$f":"IF($J25=\"\",\"\",INDEX(Input!$A$5:$H$24,MATCH($A25&$J25,Input!$A$5:$A$24&Input!$G$5:$G$24,0),2))","v":""},{"$f":"IF($J25=\"\",\"\",INDEX(Input!$A$5:$H$24,MATCH($A25&$J25,Input!$A$5:$A$24&Input!$G$5:$G$24,0),3))","v":""},{"$f":"IF($J25=\"\",\"\",INDEX(Input!$A$5:$H$24,MATCH($A25&$J25,Input!$A$5:$A$24&Input!$G$5:$G$24,0),4))","v":""},{"$f":"IF($J25=\"\",\"\",INDEX(Input!$A$5:$H$24,MATCH($A25&$J25,Input!$A$5:$A$24&Input!$G$5:$G$24,0),5))","v":""},null,null,null,null,{"$f":"IF($A25=\"\",\"\",OFFSET(Input!F$4,MATCH($A25,Input!$A$5:$A$24,0),0))","v":""},"",null,"","\\",{"$f":"IF(A25=\"\",1,IF(ISERROR(MATCH(R25,Input!L$5:L$24,0)),2,1))","v":1},"",null,"",""]
[null,null,null,null,null,null,null,null,null,null,null,null,null,null,null,null,null,null,null,null,null,"",{"$f":"IF(N26=\"SY\", T26, IF(N26=\"Tons\", V26+P26, \"\"))","v":""},{"$f":"IF(A26=\"\", \"\", SUMIF($Q$8:$Q$17, \"*\" & LEFT(A26, 11) & \"*\", $S$8:$S$17))","v":""},{"$f":"IF(N26=\"SY\",X26,\"\")","v":""},{"$f":"IF(A26=\"\", \"\", SUMIF($Q$8:$Q$17, \"*\" & LEFT(A26, 11) & \"*\", $T$8:$T$17))","v":""}]
["Hot Box Sample",null,null,null,null,null,null,null,null,null,"Mat Temperatures °F"]
[null,"Test A","Test B","Test C","Test D","Test E",null,null,null,null,"Time","Temp"]
[" Hot Box ID Number  ",null,null,null,null,null,null,null,null,null,"7:00"]
["Hot Box Sample Tons: ",null,null,null,null,null,null,null,null,null,"9:00",null,null,null,"Intended Thickness:"]
[" Time: ",null,null,null,null,null,null,null,null,null,"11:00",null,null,null,"Cores Waived?"]
[" Station/MP: ",null,null,null,null,null,null,null,null,null,"1:00",null,null,null,"Small Quantity Statement?"]
["Bar Code ID.:",null,null,null,null,null,null,null,null,null,"3:00",null,null,null,"Scale Check Done?"]
["Compaction Temp. °F: ",null,null,null,null,null,null,null,null,null,"5:00",null,null,null,"Tack Tickets Today?"]
[null,null,null,null,null,null,null,null,null,null,"7:00"]
["The Below Comments should show up on the plant report"]
["Comments:"]
[]
[]
["The Below Notes are for the CPI from the field or Plant Monitor"]
["Notes:"]
[]
[]
["RANDOM CORE LOCATIONS"]
[null,null,null,null,null,null,null,"Core #","Station","Offset,ft","Joint Station","Lane"]
[null,null,null,null,null,null,null,1]
[null,null,null,null,null,null,null,2]
[null,null,null,null,null,null,null,3]
[null,null,null,null,null,null,null,4]
[null,null,null,null,null,null,null,5]
[null,null,null,null,null,null,null,6]
[null,null,null,null,null,null,null,7]
[null,null,null,null,null,null,null,8]
[]
[null,null,null,null,null,null,null,null,null,null,"Joint Sublot Size, ft"]
[null,null,null,null,null,null,null,null,null,null,0]
[]
[]
[]
[]
[]
[]
[]
[]
[]
[]
[]
[]
[]
[]
[]
[]
[]
[]
[]
[]
[]
[]
[]
[]
[]
[]
[]
[]
[]
[]
[]
[]
[]
[]
[]
[]
[]
[]
[]
[]
[false]

{"sheet":"41","index":56,"n_rows":97,"n_cols":26,"rows_kept":97,"cut":false,"hidden":false,"merged":[[50,11,50,13],[51,11,51,13],[52,11,52,13],[44,11,44,13],[45,11,45,13],[46,11,46,13],[47,11,47,13],[48,11,48,13],[49,11,49,13],[43,0,43,16],[25,0,25,1],[26,0,26,5],[26,20,26,23],[26,25,26,27],[34,2,34,4],[35,0,35,5],[36,1,36,14],[37,0,37,14],[39,0,39,5],[40,1,40,14],[41,0,41,14],[23,0,23,1],[23,2,23,4],[23,9,23,12],[24,0,24,1],[24,2,24,4],[24,9,24,12],[21,0,21,1],[21,2,21,4],[21,9,21,12],[22,0,22,1],[22,2,22,4],[22,9,22,12],[19,0,19,1],[19,2,19,4],[19,9,19,12],[20,0,20,1],[20,2,20,4],[20,9,20,12],[18,0,18,16],[6,14,6,15],[7,14,7,15],[8,14,8,15],[9,14,9,15],[10,14,10,15],[11,14,11,15],[12,14,12,15],[13,14,13,15],[14,14,14,15],[15,14,15,15],[16,14,16,15],[1,0,1,16],[4,0,4,15],[5,4,5,5],[5,8,5,9],[5,11,5,12],[5,13,5,15]]}
[]
["Iowa DOT HMA Field Report"]
["Date :"]
["Item No.('s)"]
["PLACEMENT RECORD",null,null,null,null,null,null,null,null,null,null,null,null,null,null,null,null,null,null,null,null,{"$f":"SUBSTITUTE(A21 & \"\\\" & J21,\"\"\"\",\"\")","v":"\\"}]
[null,null,null,null,"Additional width to DEDUCT from Field Voids",null,null,null,"Placed Density (Pounds/CF)=",null,150,"Overwritten on the \"Summary\" Tab",null,"ONLY ONE (1) MIX DESIGN PER DFR OTHERWISE IT WILL NOT IMPORT INTO THE PLANT REPORT PROPERLY",null,null,null,null,null,null,null,{"$f":"SUBSTITUTE(A22 & \"\\\" & J22,\"\"\"\",\"\")","v":"\\"}]
["From Station"," To Station","Lane","ML or Widening Placement Width","Additional Width (ft) ","Thickness (in)","Total Length Placed (FT)","\"Pay\"  Est \"SY\"","Thickness (inches)","Calculated Field Voids Tons","Placed Tons            (Not including Waste)","% Yield","SY to be PAID (If Diff. than Est SY)","Mix Design No.","Bid Item/ Project No.",null,null,null,"This uses the correct SY #, if Green is blank uses Est. SY","Adds up the Tons",null,"\\"]
[null,null,null,null,null,null,{"$f":"IF(OR(A8=\"\",B8=\"\"),0,IF($A$97=TRUE,ABS(B8-A8)*5280,ABS(VALUE(SUBSTITUTE(A8,\"+\",\"\"))-VALUE(SUBSTITUTE(B8,\"+\",\"\")))))","v":0},{"$f":"IF(D8=\"\",\"\",G8*(D8+E8)/9)","v":""},null,{"$f":"IF(I8=\"\",\"\",(G8)*(D8+E8)*I8/12*$K$6/2000)","v":""},null,{"$f":"IF(K8=\"\",\"\",K8/J8*100)","v":""},null,null,null,null,{"$f":"O8 & \"\\\" & N8","v":"\\"},{"$f":"IF(AND(A8=\"\",B8=\"\",C8=\"\",D8=\"\"),1,IF(OR(O8=\"\",N8=\"\"),2,IF(ISERROR(MATCH(Q8,Input!M$5:M$24,0)),2,1)))","v":1},{"$f":"IF(M8<>\"\", M8, H8)","v":""},{"$f":"K8","v":0},null,"\\"]
[null,null,null,null,null,null,{"$f":"IF(OR(A9=\"\",B9=\"\"),0,IF($A$97=TRUE,ABS(B9-A9)*5280,ABS(VALUE(SUBSTITUTE(A9,\"+\",\"\"))-VALUE(SUBSTITUTE(B9,\"+\",\"\")))))","v":0},{"$f":"IF(D9=\"\",\"\",G9*(D9+E9)/9)","v":""},null,"",null,{"$f":"IF(K9=\"\",\"\",K9/J9*100)","v":""},null,null,null,null,{"$f":"O9 & \"\\\" & N9","v":"\\"},{"$f":"IF(AND(A9=\"\",B9=\"\",C9=\"\",D9=\"\"),1,IF(OR(O9=\"\",N9=\"\"),2,IF(ISERROR(MATCH(Q9,Input!M$5:M$24,0)),2,1)))","v":1},{"$f":"IF(M9<>\"\", M9, H9)","v":""},{"$f":"K9","v":0},null,"\\"]
[null,null,null,null,null,null,0,"",null,"",null,"",null,null,null,null,"\\",{"$f":"IF(AND(A10=\"\",B10=\"\",C10=\"\",D10=\"\"),1,IF(OR(O10=\"\",N10=\"\"),2,IF(ISERROR(MATCH(Q10,Input!M$5:M$24,0)),2,1)))","v":1},{"$f":"IF(M10<>\"\", M10, H10)","v":""},0]
[null,null,null,null,null,null,0,"",null,"",null,"",null,null,null,null,"\\",{"$f":"IF(AND(A11=\"\",B11=\"\",C11=\"\",D11=\"\"),1,IF(OR(O11=\"\",N11=\"\"),2,IF(ISERROR(MATCH(Q11,Input!M$5:M$24,0)),2,1)))","v":1},"",0]
[null,null,null,null,null,null,0,"",null,"",null,"",null,null,null,null,"\\",{"$f":"IF(AND(A12=\"\",B12=\"\",C12=\"\",D12=\"\"),1,IF(OR(O12=\"\",N12=\"\"),2,IF(ISERROR(MATCH(Q12,Input!M$5:M$24,0)),2,1)))","v":1},"",0]
[null,null,null,null,null,null,0,"",null,"",null,"",null,null,null,null,"\\",{"$f":"IF(AND(A13=\"\",B13=\"\",C13=\"\",D13=\"\"),1,IF(OR(O13=\"\",N13=\"\"),2,IF(ISERROR(MATCH(Q13,Input!M$5:M$24,0)),2,1)))","v":1},"",0]
[null,null,null,null,null,null,0,"",null,"",null,"",null,null,null,null,"\\",{"$f":"IF(AND(A14=\"\",B14=\"\",C14=\"\",D14=\"\"),1,IF(OR(O14=\"\",N14=\"\"),2,IF(ISERROR(MATCH(Q14,Input!M$5:M$24,0)),2,1)))","v":1},"",0]
[null,null,null,null,null,null,0,"",null,"",null,"",null,null,null,null,"\\",{"$f":"IF(AND(A15=\"\",B15=\"\",C15=\"\",D15=\"\"),1,IF(OR(O15=\"\",N15=\"\"),2,IF(ISERROR(MATCH(Q15,Input!M$5:M$24,0)),2,1)))","v":1},"",0]
[null,null,null,null,null,null,0,"",null,"",null,"",null,null,null,null,"\\",{"$f":"IF(AND(A16=\"\",B16=\"\",C16=\"\",D16=\"\"),1,IF(OR(O16=\"\",N16=\"\"),2,IF(ISERROR(MATCH(Q16,Input!M$5:M$24,0)),2,1)))","v":1},"",0]
[null,null,null,null,null,null,0,"",null,"",null,"",null,null,null,null,"\\",{"$f":"IF(AND(A17=\"\",B17=\"\",C17=\"\",D17=\"\"),1,IF(OR(O17=\"\",N17=\"\"),2,IF(ISERROR(MATCH(Q17,Input!M$5:M$24,0)),2,1)))","v":1},"",0]
[]
["TANK SHEET"]
["Bid Item (In Order of Placement)",null,"Today's Placement",null,null,"Bid Item Plan Quantity","Plan Thickness (in)","Contract Mix Price","Contract Binder Price","Project Number",null,null,null,"Mix Pay Units","Mix Delivered to Road\n(Ton or SY)","Waste On Road (Ton)\nNO waste for SY Items","Tons Placed - Waste",null,null,"This adds up column S as it depends if the Est SY is filled out or the SY",null,"Use this Column for SY for the Q column","Uses this Value for Mix on Road"]
[null,null,null,null,null,{"$f":"IF($J21=\"\",\"\",INDEX(Input!$A$5:$H$24,MATCH($A21&$J21,Input!$A$5:$A$24&Input!$G$5:$G$24,0),2))","v":""},{"$f":"IF($J21=\"\",\"\",INDEX(Input!$A$5:$H$24,MATCH($A21&$J21,Input!$A$5:$A$24&Input!$G$5:$G$24,0),3))","v":""},{"$f":"IF($J21=\"\",\"\",INDEX(Input!$A$5:$H$24,MATCH($A21&$J21,Input!$A$5:$A$24&Input!$G$5:$G$24,0),4))","v":""},{"$f":"IF($J21=\"\",\"\",INDEX(Input!$A$5:$H$24,MATCH($A21&$J21,Input!$A$5:$A$24&Input!$G$5:$G$24,0),5))","v":""},null,null,null,null,{"$f":"IF($A21=\"\",\"\",OFFSET(Input!F$4,MATCH($A21,Input!$A$5:$A$24,0),0))","v":""},{"$f":"IF(N21=\"SY\", T21, IF(N21=\"Tons\", W21, \"\"))","v":""},null,{"$f":"IF(N21=\"SY\", V21, IF(N21=\"Tons\", O21-P21, \"\"))","v":""},{"$f":"SUBSTITUTE(A21 & \"\\\" & J21,\"\"\"\",\"\")","v":"\\"},{"$f":"IF(A21=\"\",1,IF(ISERROR(MATCH(R21,Input!L$5:L$24,0)),2,1))","v":1},{"$f":"IF(A21=\"\", \"\", SUMIF($Q$8:$Q$17, \"*\" & LEFT(A21, 11) & \"*\", $S$8:$S$17))","v":""},null,{"$f":"IF(A21=\"\", \"\", SUMIF($Q$8:$Q$17, \"*\" & LEFT(A21, 11) & \"*\", $T$8:$T$17))","v":""},{"$f":"IF(N21=\"SY\", T21, IF(N21=\"Tons\", V21+P21, \"\"))","v":""}]
[null,null,null,null,null,{"$f":"IF($J22=\"\",\"\",INDEX(Input!$A$5:$H$24,MATCH($A22&$J22,Input!$A$5:$A$24&Input!$G$5:$G$24,0),2))","v":""},{"$f":"IF($J22=\"\",\"\",INDEX(Input!$A$5:$H$24,MATCH($A22&$J22,Input!$A$5:$A$24&Input!$G$5:$G$24,0),3))","v":""},{"$f":"IF($J22=\"\",\"\",INDEX(Input!$A$5:$H$24,MATCH($A22&$J22,Input!$A$5:$A$24&Input!$G$5:$G$24,0),4))","v":""},{"$f":"IF($J22=\"\",\"\",INDEX(Input!$A$5:$H$24,MATCH($A22&$J22,Input!$A$5:$A$24&Input!$G$5:$G$24,0),5))","v":""},null,null,null,null,{"$f":"IF($A22=\"\",\"\",OFFSET(Input!F$4,MATCH($A22,Input!$A$5:$A$24,0),0))","v":""},{"$f":"IF(N22=\"SY\", T22, IF(N22=\"Tons\", W22, \"\"))","v":""},null,{"$f":"IF(N22=\"SY\", V22, IF(N22=\"Tons\", O22-P22, \"\"))","v":""},{"$f":"SUBSTITUTE(A22 & \"\\\" & J22,\"\"\"\",\"\")","v":"\\"},{"$f":"IF(A22=\"\",1,IF(ISERROR(MATCH(R22,Input!L$5:L$24,0)),2,1))","v":1},{"$f":"IF(A22=\"\", \"\", SUMIF($Q$8:$Q$17, \"*\" & LEFT(A22, 11) & \"*\", $S$8:$S$17))","v":""},null,{"$f":"IF(A22=\"\", \"\", SUMIF($Q$8:$Q$17, \"*\" & LEFT(A22, 11) & \"*\", $T$8:$T$17))","v":""},{"$f":"IF(N22=\"SY\", T22, IF(N22=\"Tons\", V22+P22, \"\"))","v":""}]
[null,null,null,null,null,{"$f":"IF($J23=\"\",\"\",INDEX(Input!$A$5:$H$24,MATCH($A23&$J23,Input!$A$5:$A$24&Input!$G$5:$G$24,0),2))","v":""},{"$f":"IF($J23=\"\",\"\",INDEX(Input!$A$5:$H$24,MATCH($A23&$J23,Input!$A$5:$A$24&Input!$G$5:$G$24,0),3))","v":""},{"$f":"IF($J23=\"\",\"\",INDEX(Input!$A$5:$H$24,MATCH($A23&$J23,Input!$A$5:$A$24&Input!$G$5:$G$24,0),4))","v":""},{"$f":"IF($J23=\"\",\"\",INDEX(Input!$A$5:$H$24,MATCH($A23&$J23,Input!$A$5:$A$24&Input!$G$5:$G$24,0),5))","v":""},null,null,null,null,{"$f":"IF($A23=\"\",\"\",OFFSET(Input!F$4,MATCH($A23,Input!$A$5:$A$24,0),0))","v":""},{"$f":"IF(N23=\"SY\", T23, IF(N23=\"Tons\", W23, \"\"))","v":""},null,{"$f":"IF(N23=\"SY\", V23, IF(N23=\"Tons\", O23-P23, \"\"))","v":""},"\\",{"$f":"IF(A23=\"\",1,IF(ISERROR(MATCH(R23,Input!L$5:L$24,0)),2,1))","v":1},{"$f":"IF(A23=\"\", \"\", SUMIF($Q$8:$Q$17, \"*\" & LEFT(A23, 11) & \"*\", $S$8:$S$17))","v":""},null,{"$f":"IF(A23=\"\", \"\", SUMIF($Q$8:$Q$17, \"*\" & LEFT(A23, 11) & \"*\", $T$8:$T$17))","v":""},{"$f":"IF(N23=\"SY\", T23, IF(N23=\"Tons\", V23+P23, \"\"))","v":""}]
[null,null,null,null,null,{"$f":"IF($J24=\"\",\"\",INDEX(Input!$A$5:$H$24,MATCH($A24&$J24,Input!$A$5:$A$24&Input!$G$5:$G$24,0),2))","v":""},{"$f":"IF($J24=\"\",\"\",INDEX(Input!$A$5:$H$24,MATCH($A24&$J24,Input!$A$5:$A$24&Input!$G$5:$G$24,0),3))","v":""},{"$f":"IF($J24=\"\",\"\",INDEX(Input!$A$5:$H$24,MATCH($A24&$J24,Input!$A$5:$A$24&Input!$G$5:$G$24,0),4))","v":""},{"$f":"IF($J24=\"\",\"\",INDEX(Input!$A$5:$H$24,MATCH($A24&$J24,Input!$A$5:$A$24&Input!$G$5:$G$24,0),5))","v":""},null,null,null,null,{"$f":"IF($A24=\"\",\"\",OFFSET(Input!F$4,MATCH($A24,Input!$A$5:$A$24,0),0))","v":""},"",null,{"$f":"IF(N24=\"SY\", V24, IF(N24=\"Tons\", O24-P24, \"\"))","v":""},"\\",{"$f":"IF(A24=\"\",1,IF(ISERROR(MATCH(R24,Input!L$5:L$24,0)),2,1))","v":1},"",null,{"$f":"IF(A24=\"\", \"\", SUMIF($Q$8:$Q$17, \"*\" & LEFT(A24, 11) & \"*\", $T$8:$T$17))","v":""},{"$f":"IF(N24=\"SY\", T24, IF(N24=\"Tons\", V24+P24, \"\"))","v":""}]
[null,null,null,null,null,{"$f":"IF($J25=\"\",\"\",INDEX(Input!$A$5:$H$24,MATCH($A25&$J25,Input!$A$5:$A$24&Input!$G$5:$G$24,0),2))","v":""},{"$f":"IF($J25=\"\",\"\",INDEX(Input!$A$5:$H$24,MATCH($A25&$J25,Input!$A$5:$A$24&Input!$G$5:$G$24,0),3))","v":""},{"$f":"IF($J25=\"\",\"\",INDEX(Input!$A$5:$H$24,MATCH($A25&$J25,Input!$A$5:$A$24&Input!$G$5:$G$24,0),4))","v":""},{"$f":"IF($J25=\"\",\"\",INDEX(Input!$A$5:$H$24,MATCH($A25&$J25,Input!$A$5:$A$24&Input!$G$5:$G$24,0),5))","v":""},null,null,null,null,{"$f":"IF($A25=\"\",\"\",OFFSET(Input!F$4,MATCH($A25,Input!$A$5:$A$24,0),0))","v":""},"",null,"","\\",{"$f":"IF(A25=\"\",1,IF(ISERROR(MATCH(R25,Input!L$5:L$24,0)),2,1))","v":1},"",null,"",""]
[null,null,null,null,null,null,null,null,null,null,null,null,null,null,null,null,null,null,null,null,null,"",{"$f":"IF(N26=\"SY\", T26, IF(N26=\"Tons\", V26+P26, \"\"))","v":""},{"$f":"IF(A26=\"\", \"\", SUMIF($Q$8:$Q$17, \"*\" & LEFT(A26, 11) & \"*\", $S$8:$S$17))","v":""},{"$f":"IF(N26=\"SY\",X26,\"\")","v":""},{"$f":"IF(A26=\"\", \"\", SUMIF($Q$8:$Q$17, \"*\" & LEFT(A26, 11) & \"*\", $T$8:$T$17))","v":""}]
["Hot Box Sample",null,null,null,null,null,null,null,null,null,"Mat Temperatures °F"]
[null,"Test A","Test B","Test C","Test D","Test E",null,null,null,null,"Time","Temp"]
[" Hot Box ID Number  ",null,null,null,null,null,null,null,null,null,"7:00"]
["Hot Box Sample Tons: ",null,null,null,null,null,null,null,null,null,"9:00",null,null,null,"Intended Thickness:"]
[" Time: ",null,null,null,null,null,null,null,null,null,"11:00",null,null,null,"Cores Waived?"]
[" Station/MP: ",null,null,null,null,null,null,null,null,null,"1:00",null,null,null,"Small Quantity Statement?"]
["Bar Code ID.:",null,null,null,null,null,null,null,null,null,"3:00",null,null,null,"Scale Check Done?"]
["Compaction Temp. °F: ",null,null,null,null,null,null,null,null,null,"5:00",null,null,null,"Tack Tickets Today?"]
[null,null,null,null,null,null,null,null,null,null,"7:00"]
["The Below Comments should show up on the plant report"]
["Comments:"]
[]
[]
["The Below Notes are for the CPI from the field or Plant Monitor"]
["Notes:"]
[]
[]
["RANDOM CORE LOCATIONS"]
[null,null,null,null,null,null,null,"Core #","Station","Offset,ft","Joint Station","Lane"]
[null,null,null,null,null,null,null,1]
[null,null,null,null,null,null,null,2]
[null,null,null,null,null,null,null,3]
[null,null,null,null,null,null,null,4]
[null,null,null,null,null,null,null,5]
[null,null,null,null,null,null,null,6]
[null,null,null,null,null,null,null,7]
[null,null,null,null,null,null,null,8]
[]
[null,null,null,null,null,null,null,null,null,null,"Joint Sublot Size, ft"]
[null,null,null,null,null,null,null,null,null,null,0]
[]
[]
[]
[]
[]
[]
[]
[]
[]
[]
[]
[]
[]
[]
[]
[]
[]
[]
[]
[]
[]
[]
[]
[]
[]
[]
[]
[]
[]
[]
[]
[]
[]
[]
[]
[]
[]
[]
[]
[]
[false]

{"sheet":"42","index":57,"n_rows":97,"n_cols":26,"rows_kept":97,"cut":false,"hidden":false,"merged":[[50,11,50,13],[51,11,51,13],[52,11,52,13],[44,11,44,13],[45,11,45,13],[46,11,46,13],[47,11,47,13],[48,11,48,13],[49,11,49,13],[43,0,43,16],[25,0,25,1],[26,0,26,5],[26,20,26,23],[26,25,26,27],[34,2,34,4],[35,0,35,5],[36,1,36,14],[37,0,37,14],[39,0,39,5],[40,1,40,14],[41,0,41,14],[23,0,23,1],[23,2,23,4],[23,9,23,12],[24,0,24,1],[24,2,24,4],[24,9,24,12],[21,0,21,1],[21,2,21,4],[21,9,21,12],[22,0,22,1],[22,2,22,4],[22,9,22,12],[19,0,19,1],[19,2,19,4],[19,9,19,12],[20,0,20,1],[20,2,20,4],[20,9,20,12],[18,0,18,16],[6,14,6,15],[7,14,7,15],[8,14,8,15],[9,14,9,15],[10,14,10,15],[11,14,11,15],[12,14,12,15],[13,14,13,15],[14,14,14,15],[15,14,15,15],[16,14,16,15],[1,0,1,16],[4,0,4,15],[5,4,5,5],[5,8,5,9],[5,11,5,12],[5,13,5,15]]}
[]
["Iowa DOT HMA Field Report"]
["Date :"]
["Item No.('s)"]
["PLACEMENT RECORD",null,null,null,null,null,null,null,null,null,null,null,null,null,null,null,null,null,null,null,null,{"$f":"SUBSTITUTE(A21 & \"\\\" & J21,\"\"\"\",\"\")","v":"\\"}]
[null,null,null,null,"Additional width to DEDUCT from Field Voids",null,null,null,"Placed Density (Pounds/CF)=",null,150,"Overwritten on the \"Summary\" Tab",null,"ONLY ONE (1) MIX DESIGN PER DFR OTHERWISE IT WILL NOT IMPORT INTO THE PLANT REPORT PROPERLY",null,null,null,null,null,null,null,{"$f":"SUBSTITUTE(A22 & \"\\\" & J22,\"\"\"\",\"\")","v":"\\"}]
["From Station"," To Station","Lane","ML or Widening Placement Width","Additional Width (ft) ","Thickness (in)","Total Length Placed (FT)","\"Pay\"  Est \"SY\"","Thickness (inches)","Calculated Field Voids Tons","Placed Tons            (Not including Waste)","% Yield","SY to be PAID (If Diff. than Est SY)","Mix Design No.","Bid Item/ Project No.",null,null,null,"This uses the correct SY #, if Green is blank uses Est. SY","Adds up the Tons",null,"\\"]
[null,null,null,null,null,null,{"$f":"IF(OR(A8=\"\",B8=\"\"),0,IF($A$97=TRUE,ABS(B8-A8)*5280,ABS(VALUE(SUBSTITUTE(A8,\"+\",\"\"))-VALUE(SUBSTITUTE(B8,\"+\",\"\")))))","v":0},{"$f":"IF(D8=\"\",\"\",G8*(D8+E8)/9)","v":""},null,{"$f":"IF(I8=\"\",\"\",(G8)*(D8+E8)*I8/12*$K$6/2000)","v":""},null,{"$f":"IF(K8=\"\",\"\",K8/J8*100)","v":""},null,null,null,null,{"$f":"O8 & \"\\\" & N8","v":"\\"},{"$f":"IF(AND(A8=\"\",B8=\"\",C8=\"\",D8=\"\"),1,IF(OR(O8=\"\",N8=\"\"),2,IF(ISERROR(MATCH(Q8,Input!M$5:M$24,0)),2,1)))","v":1},{"$f":"IF(M8<>\"\", M8, H8)","v":""},{"$f":"K8","v":0},null,"\\"]
[null,null,null,null,null,null,{"$f":"IF(OR(A9=\"\",B9=\"\"),0,IF($A$97=TRUE,ABS(B9-A9)*5280,ABS(VALUE(SUBSTITUTE(A9,\"+\",\"\"))-VALUE(SUBSTITUTE(B9,\"+\",\"\")))))","v":0},{"$f":"IF(D9=\"\",\"\",G9*(D9+E9)/9)","v":""},null,"",null,{"$f":"IF(K9=\"\",\"\",K9/J9*100)","v":""},null,null,null,null,{"$f":"O9 & \"\\\" & N9","v":"\\"},{"$f":"IF(AND(A9=\"\",B9=\"\",C9=\"\",D9=\"\"),1,IF(OR(O9=\"\",N9=\"\"),2,IF(ISERROR(MATCH(Q9,Input!M$5:M$24,0)),2,1)))","v":1},{"$f":"IF(M9<>\"\", M9, H9)","v":""},{"$f":"K9","v":0},null,"\\"]
[null,null,null,null,null,null,0,"",null,"",null,"",null,null,null,null,"\\",{"$f":"IF(AND(A10=\"\",B10=\"\",C10=\"\",D10=\"\"),1,IF(OR(O10=\"\",N10=\"\"),2,IF(ISERROR(MATCH(Q10,Input!M$5:M$24,0)),2,1)))","v":1},{"$f":"IF(M10<>\"\", M10, H10)","v":""},0]
[null,null,null,null,null,null,0,"",null,"",null,"",null,null,null,null,"\\",{"$f":"IF(AND(A11=\"\",B11=\"\",C11=\"\",D11=\"\"),1,IF(OR(O11=\"\",N11=\"\"),2,IF(ISERROR(MATCH(Q11,Input!M$5:M$24,0)),2,1)))","v":1},"",0]
[null,null,null,null,null,null,0,"",null,"",null,"",null,null,null,null,"\\",{"$f":"IF(AND(A12=\"\",B12=\"\",C12=\"\",D12=\"\"),1,IF(OR(O12=\"\",N12=\"\"),2,IF(ISERROR(MATCH(Q12,Input!M$5:M$24,0)),2,1)))","v":1},"",0]
[null,null,null,null,null,null,0,"",null,"",null,"",null,null,null,null,"\\",{"$f":"IF(AND(A13=\"\",B13=\"\",C13=\"\",D13=\"\"),1,IF(OR(O13=\"\",N13=\"\"),2,IF(ISERROR(MATCH(Q13,Input!M$5:M$24,0)),2,1)))","v":1},"",0]
[null,null,null,null,null,null,0,"",null,"",null,"",null,null,null,null,"\\",{"$f":"IF(AND(A14=\"\",B14=\"\",C14=\"\",D14=\"\"),1,IF(OR(O14=\"\",N14=\"\"),2,IF(ISERROR(MATCH(Q14,Input!M$5:M$24,0)),2,1)))","v":1},"",0]
[null,null,null,null,null,null,0,"",null,"",null,"",null,null,null,null,"\\",{"$f":"IF(AND(A15=\"\",B15=\"\",C15=\"\",D15=\"\"),1,IF(OR(O15=\"\",N15=\"\"),2,IF(ISERROR(MATCH(Q15,Input!M$5:M$24,0)),2,1)))","v":1},"",0]
[null,null,null,null,null,null,0,"",null,"",null,"",null,null,null,null,"\\",{"$f":"IF(AND(A16=\"\",B16=\"\",C16=\"\",D16=\"\"),1,IF(OR(O16=\"\",N16=\"\"),2,IF(ISERROR(MATCH(Q16,Input!M$5:M$24,0)),2,1)))","v":1},"",0]
[null,null,null,null,null,null,0,"",null,"",null,"",null,null,null,null,"\\",{"$f":"IF(AND(A17=\"\",B17=\"\",C17=\"\",D17=\"\"),1,IF(OR(O17=\"\",N17=\"\"),2,IF(ISERROR(MATCH(Q17,Input!M$5:M$24,0)),2,1)))","v":1},"",0]
[]
["TANK SHEET"]
["Bid Item (In Order of Placement)",null,"Today's Placement",null,null,"Bid Item Plan Quantity","Plan Thickness (in)","Contract Mix Price","Contract Binder Price","Project Number",null,null,null,"Mix Pay Units","Mix Delivered to Road\n(Ton or SY)","Waste On Road (Ton)\nNO waste for SY Items","Tons Placed - Waste",null,null,"This adds up column S as it depends if the Est SY is filled out or the SY",null,"Use this Column for SY for the Q column","Uses this Value for Mix on Road"]
[null,null,null,null,null,{"$f":"IF($J21=\"\",\"\",INDEX(Input!$A$5:$H$24,MATCH($A21&$J21,Input!$A$5:$A$24&Input!$G$5:$G$24,0),2))","v":""},{"$f":"IF($J21=\"\",\"\",INDEX(Input!$A$5:$H$24,MATCH($A21&$J21,Input!$A$5:$A$24&Input!$G$5:$G$24,0),3))","v":""},{"$f":"IF($J21=\"\",\"\",INDEX(Input!$A$5:$H$24,MATCH($A21&$J21,Input!$A$5:$A$24&Input!$G$5:$G$24,0),4))","v":""},{"$f":"IF($J21=\"\",\"\",INDEX(Input!$A$5:$H$24,MATCH($A21&$J21,Input!$A$5:$A$24&Input!$G$5:$G$24,0),5))","v":""},null,null,null,null,{"$f":"IF($A21=\"\",\"\",OFFSET(Input!F$4,MATCH($A21,Input!$A$5:$A$24,0),0))","v":""},{"$f":"IF(N21=\"SY\", T21, IF(N21=\"Tons\", W21, \"\"))","v":""},null,{"$f":"IF(N21=\"SY\", V21, IF(N21=\"Tons\", O21-P21, \"\"))","v":""},{"$f":"SUBSTITUTE(A21 & \"\\\" & J21,\"\"\"\",\"\")","v":"\\"},{"$f":"IF(A21=\"\",1,IF(ISERROR(MATCH(R21,Input!L$5:L$24,0)),2,1))","v":1},{"$f":"IF(A21=\"\", \"\", SUMIF($Q$8:$Q$17, \"*\" & LEFT(A21, 11) & \"*\", $S$8:$S$17))","v":""},null,{"$f":"IF(A21=\"\", \"\", SUMIF($Q$8:$Q$17, \"*\" & LEFT(A21, 11) & \"*\", $T$8:$T$17))","v":""},{"$f":"IF(N21=\"SY\", T21, IF(N21=\"Tons\", V21+P21, \"\"))","v":""}]
[null,null,null,null,null,{"$f":"IF($J22=\"\",\"\",INDEX(Input!$A$5:$H$24,MATCH($A22&$J22,Input!$A$5:$A$24&Input!$G$5:$G$24,0),2))","v":""},{"$f":"IF($J22=\"\",\"\",INDEX(Input!$A$5:$H$24,MATCH($A22&$J22,Input!$A$5:$A$24&Input!$G$5:$G$24,0),3))","v":""},{"$f":"IF($J22=\"\",\"\",INDEX(Input!$A$5:$H$24,MATCH($A22&$J22,Input!$A$5:$A$24&Input!$G$5:$G$24,0),4))","v":""},{"$f":"IF($J22=\"\",\"\",INDEX(Input!$A$5:$H$24,MATCH($A22&$J22,Input!$A$5:$A$24&Input!$G$5:$G$24,0),5))","v":""},null,null,null,null,{"$f":"IF($A22=\"\",\"\",OFFSET(Input!F$4,MATCH($A22,Input!$A$5:$A$24,0),0))","v":""},{"$f":"IF(N22=\"SY\", T22, IF(N22=\"Tons\", W22, \"\"))","v":""},null,{"$f":"IF(N22=\"SY\", V22, IF(N22=\"Tons\", O22-P22, \"\"))","v":""},{"$f":"SUBSTITUTE(A22 & \"\\\" & J22,\"\"\"\",\"\")","v":"\\"},{"$f":"IF(A22=\"\",1,IF(ISERROR(MATCH(R22,Input!L$5:L$24,0)),2,1))","v":1},{"$f":"IF(A22=\"\", \"\", SUMIF($Q$8:$Q$17, \"*\" & LEFT(A22, 11) & \"*\", $S$8:$S$17))","v":""},null,{"$f":"IF(A22=\"\", \"\", SUMIF($Q$8:$Q$17, \"*\" & LEFT(A22, 11) & \"*\", $T$8:$T$17))","v":""},{"$f":"IF(N22=\"SY\", T22, IF(N22=\"Tons\", V22+P22, \"\"))","v":""}]
[null,null,null,null,null,{"$f":"IF($J23=\"\",\"\",INDEX(Input!$A$5:$H$24,MATCH($A23&$J23,Input!$A$5:$A$24&Input!$G$5:$G$24,0),2))","v":""},{"$f":"IF($J23=\"\",\"\",INDEX(Input!$A$5:$H$24,MATCH($A23&$J23,Input!$A$5:$A$24&Input!$G$5:$G$24,0),3))","v":""},{"$f":"IF($J23=\"\",\"\",INDEX(Input!$A$5:$H$24,MATCH($A23&$J23,Input!$A$5:$A$24&Input!$G$5:$G$24,0),4))","v":""},{"$f":"IF($J23=\"\",\"\",INDEX(Input!$A$5:$H$24,MATCH($A23&$J23,Input!$A$5:$A$24&Input!$G$5:$G$24,0),5))","v":""},null,null,null,null,{"$f":"IF($A23=\"\",\"\",OFFSET(Input!F$4,MATCH($A23,Input!$A$5:$A$24,0),0))","v":""},{"$f":"IF(N23=\"SY\", T23, IF(N23=\"Tons\", W23, \"\"))","v":""},null,{"$f":"IF(N23=\"SY\", V23, IF(N23=\"Tons\", O23-P23, \"\"))","v":""},"\\",{"$f":"IF(A23=\"\",1,IF(ISERROR(MATCH(R23,Input!L$5:L$24,0)),2,1))","v":1},{"$f":"IF(A23=\"\", \"\", SUMIF($Q$8:$Q$17, \"*\" & LEFT(A23, 11) & \"*\", $S$8:$S$17))","v":""},null,{"$f":"IF(A23=\"\", \"\", SUMIF($Q$8:$Q$17, \"*\" & LEFT(A23, 11) & \"*\", $T$8:$T$17))","v":""},{"$f":"IF(N23=\"SY\", T23, IF(N23=\"Tons\", V23+P23, \"\"))","v":""}]
[null,null,null,null,null,{"$f":"IF($J24=\"\",\"\",INDEX(Input!$A$5:$H$24,MATCH($A24&$J24,Input!$A$5:$A$24&Input!$G$5:$G$24,0),2))","v":""},{"$f":"IF($J24=\"\",\"\",INDEX(Input!$A$5:$H$24,MATCH($A24&$J24,Input!$A$5:$A$24&Input!$G$5:$G$24,0),3))","v":""},{"$f":"IF($J24=\"\",\"\",INDEX(Input!$A$5:$H$24,MATCH($A24&$J24,Input!$A$5:$A$24&Input!$G$5:$G$24,0),4))","v":""},{"$f":"IF($J24=\"\",\"\",INDEX(Input!$A$5:$H$24,MATCH($A24&$J24,Input!$A$5:$A$24&Input!$G$5:$G$24,0),5))","v":""},null,null,null,null,{"$f":"IF($A24=\"\",\"\",OFFSET(Input!F$4,MATCH($A24,Input!$A$5:$A$24,0),0))","v":""},"",null,{"$f":"IF(N24=\"SY\", V24, IF(N24=\"Tons\", O24-P24, \"\"))","v":""},"\\",{"$f":"IF(A24=\"\",1,IF(ISERROR(MATCH(R24,Input!L$5:L$24,0)),2,1))","v":1},"",null,{"$f":"IF(A24=\"\", \"\", SUMIF($Q$8:$Q$17, \"*\" & LEFT(A24, 11) & \"*\", $T$8:$T$17))","v":""},{"$f":"IF(N24=\"SY\", T24, IF(N24=\"Tons\", V24+P24, \"\"))","v":""}]
[null,null,null,null,null,{"$f":"IF($J25=\"\",\"\",INDEX(Input!$A$5:$H$24,MATCH($A25&$J25,Input!$A$5:$A$24&Input!$G$5:$G$24,0),2))","v":""},{"$f":"IF($J25=\"\",\"\",INDEX(Input!$A$5:$H$24,MATCH($A25&$J25,Input!$A$5:$A$24&Input!$G$5:$G$24,0),3))","v":""},{"$f":"IF($J25=\"\",\"\",INDEX(Input!$A$5:$H$24,MATCH($A25&$J25,Input!$A$5:$A$24&Input!$G$5:$G$24,0),4))","v":""},{"$f":"IF($J25=\"\",\"\",INDEX(Input!$A$5:$H$24,MATCH($A25&$J25,Input!$A$5:$A$24&Input!$G$5:$G$24,0),5))","v":""},null,null,null,null,{"$f":"IF($A25=\"\",\"\",OFFSET(Input!F$4,MATCH($A25,Input!$A$5:$A$24,0),0))","v":""},"",null,"","\\",{"$f":"IF(A25=\"\",1,IF(ISERROR(MATCH(R25,Input!L$5:L$24,0)),2,1))","v":1},"",null,"",""]
[null,null,null,null,null,null,null,null,null,null,null,null,null,null,null,null,null,null,null,null,null,"",{"$f":"IF(N26=\"SY\", T26, IF(N26=\"Tons\", V26+P26, \"\"))","v":""},{"$f":"IF(A26=\"\", \"\", SUMIF($Q$8:$Q$17, \"*\" & LEFT(A26, 11) & \"*\", $S$8:$S$17))","v":""},{"$f":"IF(N26=\"SY\",X26,\"\")","v":""},{"$f":"IF(A26=\"\", \"\", SUMIF($Q$8:$Q$17, \"*\" & LEFT(A26, 11) & \"*\", $T$8:$T$17))","v":""}]
["Hot Box Sample",null,null,null,null,null,null,null,null,null,"Mat Temperatures °F"]
[null,"Test A","Test B","Test C","Test D","Test E",null,null,null,null,"Time","Temp"]
[" Hot Box ID Number  ",null,null,null,null,null,null,null,null,null,"7:00"]
["Hot Box Sample Tons: ",null,null,null,null,null,null,null,null,null,"9:00",null,null,null,"Intended Thickness:"]
[" Time: ",null,null,null,null,null,null,null,null,null,"11:00",null,null,null,"Cores Waived?"]
[" Station/MP: ",null,null,null,null,null,null,null,null,null,"1:00",null,null,null,"Small Quantity Statement?"]
["Bar Code ID.:",null,null,null,null,null,null,null,null,null,"3:00",null,null,null,"Scale Check Done?"]
["Compaction Temp. °F: ",null,null,null,null,null,null,null,null,null,"5:00",null,null,null,"Tack Tickets Today?"]
[null,null,null,null,null,null,null,null,null,null,"7:00"]
["The Below Comments should show up on the plant report"]
["Comments:"]
[]
[]
["The Below Notes are for the CPI from the field or Plant Monitor"]
["Notes:"]
[]
[]
["RANDOM CORE LOCATIONS"]
[null,null,null,null,null,null,null,"Core #","Station","Offset,ft","Joint Station","Lane"]
[null,null,null,null,null,null,null,1]
[null,null,null,null,null,null,null,2]
[null,null,null,null,null,null,null,3]
[null,null,null,null,null,null,null,4]
[null,null,null,null,null,null,null,5]
[null,null,null,null,null,null,null,6]
[null,null,null,null,null,null,null,7]
[null,null,null,null,null,null,null,8]
[]
[null,null,null,null,null,null,null,null,null,null,"Joint Sublot Size, ft"]
[null,null,null,null,null,null,null,null,null,null,0]
[]
[]
[]
[]
[]
[]
[]
[]
[]
[]
[]
[]
[]
[]
[]
[]
[]
[]
[]
[]
[]
[]
[]
[]
[]
[]
[]
[]
[]
[]
[]
[]
[]
[]
[]
[]
[]
[]
[]
[]
[false]

{"sheet":"43","index":58,"n_rows":97,"n_cols":26,"rows_kept":97,"cut":false,"hidden":false,"merged":[[50,11,50,13],[51,11,51,13],[52,11,52,13],[44,11,44,13],[45,11,45,13],[46,11,46,13],[47,11,47,13],[48,11,48,13],[49,11,49,13],[43,0,43,16],[25,0,25,1],[26,0,26,5],[26,20,26,23],[26,25,26,27],[34,2,34,4],[35,0,35,5],[36,1,36,14],[37,0,37,14],[39,0,39,5],[40,1,40,14],[41,0,41,14],[23,0,23,1],[23,2,23,4],[23,9,23,12],[24,0,24,1],[24,2,24,4],[24,9,24,12],[21,0,21,1],[21,2,21,4],[21,9,21,12],[22,0,22,1],[22,2,22,4],[22,9,22,12],[19,0,19,1],[19,2,19,4],[19,9,19,12],[20,0,20,1],[20,2,20,4],[20,9,20,12],[18,0,18,16],[6,14,6,15],[7,14,7,15],[8,14,8,15],[9,14,9,15],[10,14,10,15],[11,14,11,15],[12,14,12,15],[13,14,13,15],[14,14,14,15],[15,14,15,15],[16,14,16,15],[1,0,1,16],[4,0,4,15],[5,4,5,5],[5,8,5,9],[5,11,5,12],[5,13,5,15]]}
[]
["Iowa DOT HMA Field Report"]
["Date :"]
["Item No.('s)"]
["PLACEMENT RECORD",null,null,null,null,null,null,null,null,null,null,null,null,null,null,null,null,null,null,null,null,{"$f":"SUBSTITUTE(A21 & \"\\\" & J21,\"\"\"\",\"\")","v":"\\"}]
[null,null,null,null,"Additional width to DEDUCT from Field Voids",null,null,null,"Placed Density (Pounds/CF)=",null,150,"Overwritten on the \"Summary\" Tab",null,"ONLY ONE (1) MIX DESIGN PER DFR OTHERWISE IT WILL NOT IMPORT INTO THE PLANT REPORT PROPERLY",null,null,null,null,null,null,null,{"$f":"SUBSTITUTE(A22 & \"\\\" & J22,\"\"\"\",\"\")","v":"\\"}]
["From Station"," To Station","Lane","ML or Widening Placement Width","Additional Width (ft) ","Thickness (in)","Total Length Placed (FT)","\"Pay\"  Est \"SY\"","Thickness (inches)","Calculated Field Voids Tons","Placed Tons            (Not including Waste)","% Yield","SY to be PAID (If Diff. than Est SY)","Mix Design No.","Bid Item/ Project No.",null,null,null,"This uses the correct SY #, if Green is blank uses Est. SY","Adds up the Tons",null,"\\"]
[null,null,null,null,null,null,{"$f":"IF(OR(A8=\"\",B8=\"\"),0,IF($A$97=TRUE,ABS(B8-A8)*5280,ABS(VALUE(SUBSTITUTE(A8,\"+\",\"\"))-VALUE(SUBSTITUTE(B8,\"+\",\"\")))))","v":0},{"$f":"IF(D8=\"\",\"\",G8*(D8+E8)/9)","v":""},null,{"$f":"IF(I8=\"\",\"\",(G8)*(D8+E8)*I8/12*$K$6/2000)","v":""},null,{"$f":"IF(K8=\"\",\"\",K8/J8*100)","v":""},null,null,null,null,{"$f":"O8 & \"\\\" & N8","v":"\\"},{"$f":"IF(AND(A8=\"\",B8=\"\",C8=\"\",D8=\"\"),1,IF(OR(O8=\"\",N8=\"\"),2,IF(ISERROR(MATCH(Q8,Input!M$5:M$24,0)),2,1)))","v":1},{"$f":"IF(M8<>\"\", M8, H8)","v":""},{"$f":"K8","v":0},null,"\\"]
[null,null,null,null,null,null,{"$f":"IF(OR(A9=\"\",B9=\"\"),0,IF($A$97=TRUE,ABS(B9-A9)*5280,ABS(VALUE(SUBSTITUTE(A9,\"+\",\"\"))-VALUE(SUBSTITUTE(B9,\"+\",\"\")))))","v":0},{"$f":"IF(D9=\"\",\"\",G9*(D9+E9)/9)","v":""},null,"",null,{"$f":"IF(K9=\"\",\"\",K9/J9*100)","v":""},null,null,null,null,{"$f":"O9 & \"\\\" & N9","v":"\\"},{"$f":"IF(AND(A9=\"\",B9=\"\",C9=\"\",D9=\"\"),1,IF(OR(O9=\"\",N9=\"\"),2,IF(ISERROR(MATCH(Q9,Input!M$5:M$24,0)),2,1)))","v":1},{"$f":"IF(M9<>\"\", M9, H9)","v":""},{"$f":"K9","v":0},null,"\\"]
[null,null,null,null,null,null,0,"",null,"",null,"",null,null,null,null,"\\",{"$f":"IF(AND(A10=\"\",B10=\"\",C10=\"\",D10=\"\"),1,IF(OR(O10=\"\",N10=\"\"),2,IF(ISERROR(MATCH(Q10,Input!M$5:M$24,0)),2,1)))","v":1},{"$f":"IF(M10<>\"\", M10, H10)","v":""},0]
[null,null,null,null,null,null,0,"",null,"",null,"",null,null,null,null,"\\",{"$f":"IF(AND(A11=\"\",B11=\"\",C11=\"\",D11=\"\"),1,IF(OR(O11=\"\",N11=\"\"),2,IF(ISERROR(MATCH(Q11,Input!M$5:M$24,0)),2,1)))","v":1},"",0]
[null,null,null,null,null,null,0,"",null,"",null,"",null,null,null,null,"\\",{"$f":"IF(AND(A12=\"\",B12=\"\",C12=\"\",D12=\"\"),1,IF(OR(O12=\"\",N12=\"\"),2,IF(ISERROR(MATCH(Q12,Input!M$5:M$24,0)),2,1)))","v":1},"",0]
[null,null,null,null,null,null,0,"",null,"",null,"",null,null,null,null,"\\",{"$f":"IF(AND(A13=\"\",B13=\"\",C13=\"\",D13=\"\"),1,IF(OR(O13=\"\",N13=\"\"),2,IF(ISERROR(MATCH(Q13,Input!M$5:M$24,0)),2,1)))","v":1},"",0]
[null,null,null,null,null,null,0,"",null,"",null,"",null,null,null,null,"\\",{"$f":"IF(AND(A14=\"\",B14=\"\",C14=\"\",D14=\"\"),1,IF(OR(O14=\"\",N14=\"\"),2,IF(ISERROR(MATCH(Q14,Input!M$5:M$24,0)),2,1)))","v":1},"",0]
[null,null,null,null,null,null,0,"",null,"",null,"",null,null,null,null,"\\",{"$f":"IF(AND(A15=\"\",B15=\"\",C15=\"\",D15=\"\"),1,IF(OR(O15=\"\",N15=\"\"),2,IF(ISERROR(MATCH(Q15,Input!M$5:M$24,0)),2,1)))","v":1},"",0]
[null,null,null,null,null,null,0,"",null,"",null,"",null,null,null,null,"\\",{"$f":"IF(AND(A16=\"\",B16=\"\",C16=\"\",D16=\"\"),1,IF(OR(O16=\"\",N16=\"\"),2,IF(ISERROR(MATCH(Q16,Input!M$5:M$24,0)),2,1)))","v":1},"",0]
[null,null,null,null,null,null,0,"",null,"",null,"",null,null,null,null,"\\",{"$f":"IF(AND(A17=\"\",B17=\"\",C17=\"\",D17=\"\"),1,IF(OR(O17=\"\",N17=\"\"),2,IF(ISERROR(MATCH(Q17,Input!M$5:M$24,0)),2,1)))","v":1},"",0]
[]
["TANK SHEET"]
["Bid Item (In Order of Placement)",null,"Today's Placement",null,null,"Bid Item Plan Quantity","Plan Thickness (in)","Contract Mix Price","Contract Binder Price","Project Number",null,null,null,"Mix Pay Units","Mix Delivered to Road\n(Ton or SY)","Waste On Road (Ton)\nNO waste for SY Items","Tons Placed - Waste",null,null,"This adds up column S as it depends if the Est SY is filled out or the SY",null,"Use this Column for SY for the Q column","Uses this Value for Mix on Road"]
[null,null,null,null,null,{"$f":"IF($J21=\"\",\"\",INDEX(Input!$A$5:$H$24,MATCH($A21&$J21,Input!$A$5:$A$24&Input!$G$5:$G$24,0),2))","v":""},{"$f":"IF($J21=\"\",\"\",INDEX(Input!$A$5:$H$24,MATCH($A21&$J21,Input!$A$5:$A$24&Input!$G$5:$G$24,0),3))","v":""},{"$f":"IF($J21=\"\",\"\",INDEX(Input!$A$5:$H$24,MATCH($A21&$J21,Input!$A$5:$A$24&Input!$G$5:$G$24,0),4))","v":""},{"$f":"IF($J21=\"\",\"\",INDEX(Input!$A$5:$H$24,MATCH($A21&$J21,Input!$A$5:$A$24&Input!$G$5:$G$24,0),5))","v":""},null,null,null,null,{"$f":"IF($A21=\"\",\"\",OFFSET(Input!F$4,MATCH($A21,Input!$A$5:$A$24,0),0))","v":""},{"$f":"IF(N21=\"SY\", T21, IF(N21=\"Tons\", W21, \"\"))","v":""},null,{"$f":"IF(N21=\"SY\", V21, IF(N21=\"Tons\", O21-P21, \"\"))","v":""},{"$f":"SUBSTITUTE(A21 & \"\\\" & J21,\"\"\"\",\"\")","v":"\\"},{"$f":"IF(A21=\"\",1,IF(ISERROR(MATCH(R21,Input!L$5:L$24,0)),2,1))","v":1},{"$f":"IF(A21=\"\", \"\", SUMIF($Q$8:$Q$17, \"*\" & LEFT(A21, 11) & \"*\", $S$8:$S$17))","v":""},null,{"$f":"IF(A21=\"\", \"\", SUMIF($Q$8:$Q$17, \"*\" & LEFT(A21, 11) & \"*\", $T$8:$T$17))","v":""},{"$f":"IF(N21=\"SY\", T21, IF(N21=\"Tons\", V21+P21, \"\"))","v":""}]
[null,null,null,null,null,{"$f":"IF($J22=\"\",\"\",INDEX(Input!$A$5:$H$24,MATCH($A22&$J22,Input!$A$5:$A$24&Input!$G$5:$G$24,0),2))","v":""},{"$f":"IF($J22=\"\",\"\",INDEX(Input!$A$5:$H$24,MATCH($A22&$J22,Input!$A$5:$A$24&Input!$G$5:$G$24,0),3))","v":""},{"$f":"IF($J22=\"\",\"\",INDEX(Input!$A$5:$H$24,MATCH($A22&$J22,Input!$A$5:$A$24&Input!$G$5:$G$24,0),4))","v":""},{"$f":"IF($J22=\"\",\"\",INDEX(Input!$A$5:$H$24,MATCH($A22&$J22,Input!$A$5:$A$24&Input!$G$5:$G$24,0),5))","v":""},null,null,null,null,{"$f":"IF($A22=\"\",\"\",OFFSET(Input!F$4,MATCH($A22,Input!$A$5:$A$24,0),0))","v":""},{"$f":"IF(N22=\"SY\", T22, IF(N22=\"Tons\", W22, \"\"))","v":""},null,{"$f":"IF(N22=\"SY\", V22, IF(N22=\"Tons\", O22-P22, \"\"))","v":""},{"$f":"SUBSTITUTE(A22 & \"\\\" & J22,\"\"\"\",\"\")","v":"\\"},{"$f":"IF(A22=\"\",1,IF(ISERROR(MATCH(R22,Input!L$5:L$24,0)),2,1))","v":1},{"$f":"IF(A22=\"\", \"\", SUMIF($Q$8:$Q$17, \"*\" & LEFT(A22, 11) & \"*\", $S$8:$S$17))","v":""},null,{"$f":"IF(A22=\"\", \"\", SUMIF($Q$8:$Q$17, \"*\" & LEFT(A22, 11) & \"*\", $T$8:$T$17))","v":""},{"$f":"IF(N22=\"SY\", T22, IF(N22=\"Tons\", V22+P22, \"\"))","v":""}]
[null,null,null,null,null,{"$f":"IF($J23=\"\",\"\",INDEX(Input!$A$5:$H$24,MATCH($A23&$J23,Input!$A$5:$A$24&Input!$G$5:$G$24,0),2))","v":""},{"$f":"IF($J23=\"\",\"\",INDEX(Input!$A$5:$H$24,MATCH($A23&$J23,Input!$A$5:$A$24&Input!$G$5:$G$24,0),3))","v":""},{"$f":"IF($J23=\"\",\"\",INDEX(Input!$A$5:$H$24,MATCH($A23&$J23,Input!$A$5:$A$24&Input!$G$5:$G$24,0),4))","v":""},{"$f":"IF($J23=\"\",\"\",INDEX(Input!$A$5:$H$24,MATCH($A23&$J23,Input!$A$5:$A$24&Input!$G$5:$G$24,0),5))","v":""},null,null,null,null,{"$f":"IF($A23=\"\",\"\",OFFSET(Input!F$4,MATCH($A23,Input!$A$5:$A$24,0),0))","v":""},{"$f":"IF(N23=\"SY\", T23, IF(N23=\"Tons\", W23, \"\"))","v":""},null,{"$f":"IF(N23=\"SY\", V23, IF(N23=\"Tons\", O23-P23, \"\"))","v":""},"\\",{"$f":"IF(A23=\"\",1,IF(ISERROR(MATCH(R23,Input!L$5:L$24,0)),2,1))","v":1},{"$f":"IF(A23=\"\", \"\", SUMIF($Q$8:$Q$17, \"*\" & LEFT(A23, 11) & \"*\", $S$8:$S$17))","v":""},null,{"$f":"IF(A23=\"\", \"\", SUMIF($Q$8:$Q$17, \"*\" & LEFT(A23, 11) & \"*\", $T$8:$T$17))","v":""},{"$f":"IF(N23=\"SY\", T23, IF(N23=\"Tons\", V23+P23, \"\"))","v":""}]
[null,null,null,null,null,{"$f":"IF($J24=\"\",\"\",INDEX(Input!$A$5:$H$24,MATCH($A24&$J24,Input!$A$5:$A$24&Input!$G$5:$G$24,0),2))","v":""},{"$f":"IF($J24=\"\",\"\",INDEX(Input!$A$5:$H$24,MATCH($A24&$J24,Input!$A$5:$A$24&Input!$G$5:$G$24,0),3))","v":""},{"$f":"IF($J24=\"\",\"\",INDEX(Input!$A$5:$H$24,MATCH($A24&$J24,Input!$A$5:$A$24&Input!$G$5:$G$24,0),4))","v":""},{"$f":"IF($J24=\"\",\"\",INDEX(Input!$A$5:$H$24,MATCH($A24&$J24,Input!$A$5:$A$24&Input!$G$5:$G$24,0),5))","v":""},null,null,null,null,{"$f":"IF($A24=\"\",\"\",OFFSET(Input!F$4,MATCH($A24,Input!$A$5:$A$24,0),0))","v":""},"",null,{"$f":"IF(N24=\"SY\", V24, IF(N24=\"Tons\", O24-P24, \"\"))","v":""},"\\",{"$f":"IF(A24=\"\",1,IF(ISERROR(MATCH(R24,Input!L$5:L$24,0)),2,1))","v":1},"",null,{"$f":"IF(A24=\"\", \"\", SUMIF($Q$8:$Q$17, \"*\" & LEFT(A24, 11) & \"*\", $T$8:$T$17))","v":""},{"$f":"IF(N24=\"SY\", T24, IF(N24=\"Tons\", V24+P24, \"\"))","v":""}]
[null,null,null,null,null,{"$f":"IF($J25=\"\",\"\",INDEX(Input!$A$5:$H$24,MATCH($A25&$J25,Input!$A$5:$A$24&Input!$G$5:$G$24,0),2))","v":""},{"$f":"IF($J25=\"\",\"\",INDEX(Input!$A$5:$H$24,MATCH($A25&$J25,Input!$A$5:$A$24&Input!$G$5:$G$24,0),3))","v":""},{"$f":"IF($J25=\"\",\"\",INDEX(Input!$A$5:$H$24,MATCH($A25&$J25,Input!$A$5:$A$24&Input!$G$5:$G$24,0),4))","v":""},{"$f":"IF($J25=\"\",\"\",INDEX(Input!$A$5:$H$24,MATCH($A25&$J25,Input!$A$5:$A$24&Input!$G$5:$G$24,0),5))","v":""},null,null,null,null,{"$f":"IF($A25=\"\",\"\",OFFSET(Input!F$4,MATCH($A25,Input!$A$5:$A$24,0),0))","v":""},"",null,"","\\",{"$f":"IF(A25=\"\",1,IF(ISERROR(MATCH(R25,Input!L$5:L$24,0)),2,1))","v":1},"",null,"",""]
[null,null,null,null,null,null,null,null,null,null,null,null,null,null,null,null,null,null,null,null,null,"",{"$f":"IF(N26=\"SY\", T26, IF(N26=\"Tons\", V26+P26, \"\"))","v":""},{"$f":"IF(A26=\"\", \"\", SUMIF($Q$8:$Q$17, \"*\" & LEFT(A26, 11) & \"*\", $S$8:$S$17))","v":""},{"$f":"IF(N26=\"SY\",X26,\"\")","v":""},{"$f":"IF(A26=\"\", \"\", SUMIF($Q$8:$Q$17, \"*\" & LEFT(A26, 11) & \"*\", $T$8:$T$17))","v":""}]
["Hot Box Sample",null,null,null,null,null,null,null,null,null,"Mat Temperatures °F"]
[null,"Test A","Test B","Test C","Test D","Test E",null,null,null,null,"Time","Temp"]
[" Hot Box ID Number  ",null,null,null,null,null,null,null,null,null,"7:00"]
["Hot Box Sample Tons: ",null,null,null,null,null,null,null,null,null,"9:00",null,null,null,"Intended Thickness:"]
[" Time: ",null,null,null,null,null,null,null,null,null,"11:00",null,null,null,"Cores Waived?"]
[" Station/MP: ",null,null,null,null,null,null,null,null,null,"1:00",null,null,null,"Small Quantity Statement?"]
["Bar Code ID.:",null,null,null,null,null,null,null,null,null,"3:00",null,null,null,"Scale Check Done?"]
["Compaction Temp. °F: ",null,null,null,null,null,null,null,null,null,"5:00",null,null,null,"Tack Tickets Today?"]
[null,null,null,null,null,null,null,null,null,null,"7:00"]
["The Below Comments should show up on the plant report"]
["Comments:"]
[]
[]
["The Below Notes are for the CPI from the field or Plant Monitor"]
["Notes:"]
[]
[]
["RANDOM CORE LOCATIONS"]
[null,null,null,null,null,null,null,"Core #","Station","Offset,ft","Joint Station","Lane"]
[null,null,null,null,null,null,null,1]
[null,null,null,null,null,null,null,2]
[null,null,null,null,null,null,null,3]
[null,null,null,null,null,null,null,4]
[null,null,null,null,null,null,null,5]
[null,null,null,null,null,null,null,6]
[null,null,null,null,null,null,null,7]
[null,null,null,null,null,null,null,8]
[]
[null,null,null,null,null,null,null,null,null,null,"Joint Sublot Size, ft"]
[null,null,null,null,null,null,null,null,null,null,0]
[]
[]
[]
[]
[]
[]
[]
[]
[]
[]
[]
[]
[]
[]
[]
[]
[]
[]
[]
[]
[]
[]
[]
[]
[]
[]
[]
[]
[]
[]
[]
[]
[]
[]
[]
[]
[]
[]
[]
[]
[false]

{"sheet":"44","index":59,"n_rows":97,"n_cols":26,"rows_kept":97,"cut":false,"hidden":false,"merged":[[50,11,50,13],[51,11,51,13],[52,11,52,13],[44,11,44,13],[45,11,45,13],[46,11,46,13],[47,11,47,13],[48,11,48,13],[49,11,49,13],[43,0,43,16],[25,0,25,1],[26,0,26,5],[26,20,26,23],[26,25,26,27],[34,2,34,4],[35,0,35,5],[36,1,36,14],[37,0,37,14],[39,0,39,5],[40,1,40,14],[41,0,41,14],[23,0,23,1],[23,2,23,4],[23,9,23,12],[24,0,24,1],[24,2,24,4],[24,9,24,12],[21,0,21,1],[21,2,21,4],[21,9,21,12],[22,0,22,1],[22,2,22,4],[22,9,22,12],[19,0,19,1],[19,2,19,4],[19,9,19,12],[20,0,20,1],[20,2,20,4],[20,9,20,12],[18,0,18,16],[6,14,6,15],[7,14,7,15],[8,14,8,15],[9,14,9,15],[10,14,10,15],[11,14,11,15],[12,14,12,15],[13,14,13,15],[14,14,14,15],[15,14,15,15],[16,14,16,15],[1,0,1,16],[4,0,4,15],[5,4,5,5],[5,8,5,9],[5,11,5,12],[5,13,5,15]]}
[]
["Iowa DOT HMA Field Report"]
["Date :"]
["Item No.('s)"]
["PLACEMENT RECORD",null,null,null,null,null,null,null,null,null,null,null,null,null,null,null,null,null,null,null,null,{"$f":"SUBSTITUTE(A21 & \"\\\" & J21,\"\"\"\",\"\")","v":"\\"}]
[null,null,null,null,"Additional width to DEDUCT from Field Voids",null,null,null,"Placed Density (Pounds/CF)=",null,150,"Overwritten on the \"Summary\" Tab",null,"ONLY ONE (1) MIX DESIGN PER DFR OTHERWISE IT WILL NOT IMPORT INTO THE PLANT REPORT PROPERLY",null,null,null,null,null,null,null,{"$f":"SUBSTITUTE(A22 & \"\\\" & J22,\"\"\"\",\"\")","v":"\\"}]
["From Station"," To Station","Lane","ML or Widening Placement Width","Additional Width (ft) ","Thickness (in)","Total Length Placed (FT)","\"Pay\"  Est \"SY\"","Thickness (inches)","Calculated Field Voids Tons","Placed Tons            (Not including Waste)","% Yield","SY to be PAID (If Diff. than Est SY)","Mix Design No.","Bid Item/ Project No.",null,null,null,"This uses the correct SY #, if Green is blank uses Est. SY","Adds up the Tons",null,"\\"]
[null,null,null,null,null,null,{"$f":"IF(OR(A8=\"\",B8=\"\"),0,IF($A$97=TRUE,ABS(B8-A8)*5280,ABS(VALUE(SUBSTITUTE(A8,\"+\",\"\"))-VALUE(SUBSTITUTE(B8,\"+\",\"\")))))","v":0},{"$f":"IF(D8=\"\",\"\",G8*(D8+E8)/9)","v":""},null,{"$f":"IF(I8=\"\",\"\",(G8)*(D8+E8)*I8/12*$K$6/2000)","v":""},null,{"$f":"IF(K8=\"\",\"\",K8/J8*100)","v":""},null,null,null,null,{"$f":"O8 & \"\\\" & N8","v":"\\"},{"$f":"IF(AND(A8=\"\",B8=\"\",C8=\"\",D8=\"\"),1,IF(OR(O8=\"\",N8=\"\"),2,IF(ISERROR(MATCH(Q8,Input!M$5:M$24,0)),2,1)))","v":1},{"$f":"IF(M8<>\"\", M8, H8)","v":""},{"$f":"K8","v":0},null,"\\"]
[null,null,null,null,null,null,{"$f":"IF(OR(A9=\"\",B9=\"\"),0,IF($A$97=TRUE,ABS(B9-A9)*5280,ABS(VALUE(SUBSTITUTE(A9,\"+\",\"\"))-VALUE(SUBSTITUTE(B9,\"+\",\"\")))))","v":0},{"$f":"IF(D9=\"\",\"\",G9*(D9+E9)/9)","v":""},null,"",null,{"$f":"IF(K9=\"\",\"\",K9/J9*100)","v":""},null,null,null,null,{"$f":"O9 & \"\\\" & N9","v":"\\"},{"$f":"IF(AND(A9=\"\",B9=\"\",C9=\"\",D9=\"\"),1,IF(OR(O9=\"\",N9=\"\"),2,IF(ISERROR(MATCH(Q9,Input!M$5:M$24,0)),2,1)))","v":1},{"$f":"IF(M9<>\"\", M9, H9)","v":""},{"$f":"K9","v":0},null,"\\"]
[null,null,null,null,null,null,0,"",null,"",null,"",null,null,null,null,"\\",{"$f":"IF(AND(A10=\"\",B10=\"\",C10=\"\",D10=\"\"),1,IF(OR(O10=\"\",N10=\"\"),2,IF(ISERROR(MATCH(Q10,Input!M$5:M$24,0)),2,1)))","v":1},{"$f":"IF(M10<>\"\", M10, H10)","v":""},0]
[null,null,null,null,null,null,0,"",null,"",null,"",null,null,null,null,"\\",{"$f":"IF(AND(A11=\"\",B11=\"\",C11=\"\",D11=\"\"),1,IF(OR(O11=\"\",N11=\"\"),2,IF(ISERROR(MATCH(Q11,Input!M$5:M$24,0)),2,1)))","v":1},"",0]
[null,null,null,null,null,null,0,"",null,"",null,"",null,null,null,null,"\\",{"$f":"IF(AND(A12=\"\",B12=\"\",C12=\"\",D12=\"\"),1,IF(OR(O12=\"\",N12=\"\"),2,IF(ISERROR(MATCH(Q12,Input!M$5:M$24,0)),2,1)))","v":1},"",0]
[null,null,null,null,null,null,0,"",null,"",null,"",null,null,null,null,"\\",{"$f":"IF(AND(A13=\"\",B13=\"\",C13=\"\",D13=\"\"),1,IF(OR(O13=\"\",N13=\"\"),2,IF(ISERROR(MATCH(Q13,Input!M$5:M$24,0)),2,1)))","v":1},"",0]
[null,null,null,null,null,null,0,"",null,"",null,"",null,null,null,null,"\\",{"$f":"IF(AND(A14=\"\",B14=\"\",C14=\"\",D14=\"\"),1,IF(OR(O14=\"\",N14=\"\"),2,IF(ISERROR(MATCH(Q14,Input!M$5:M$24,0)),2,1)))","v":1},"",0]
[null,null,null,null,null,null,0,"",null,"",null,"",null,null,null,null,"\\",{"$f":"IF(AND(A15=\"\",B15=\"\",C15=\"\",D15=\"\"),1,IF(OR(O15=\"\",N15=\"\"),2,IF(ISERROR(MATCH(Q15,Input!M$5:M$24,0)),2,1)))","v":1},"",0]
[null,null,null,null,null,null,0,"",null,"",null,"",null,null,null,null,"\\",{"$f":"IF(AND(A16=\"\",B16=\"\",C16=\"\",D16=\"\"),1,IF(OR(O16=\"\",N16=\"\"),2,IF(ISERROR(MATCH(Q16,Input!M$5:M$24,0)),2,1)))","v":1},"",0]
[null,null,null,null,null,null,0,"",null,"",null,"",null,null,null,null,"\\",{"$f":"IF(AND(A17=\"\",B17=\"\",C17=\"\",D17=\"\"),1,IF(OR(O17=\"\",N17=\"\"),2,IF(ISERROR(MATCH(Q17,Input!M$5:M$24,0)),2,1)))","v":1},"",0]
[]
["TANK SHEET"]
["Bid Item (In Order of Placement)",null,"Today's Placement",null,null,"Bid Item Plan Quantity","Plan Thickness (in)","Contract Mix Price","Contract Binder Price","Project Number",null,null,null,"Mix Pay Units","Mix Delivered to Road\n(Ton or SY)","Waste On Road (Ton)\nNO waste for SY Items","Tons Placed - Waste",null,null,"This adds up column S as it depends if the Est SY is filled out or the SY",null,"Use this Column for SY for the Q column","Uses this Value for Mix on Road"]
[null,null,null,null,null,{"$f":"IF($J21=\"\",\"\",INDEX(Input!$A$5:$H$24,MATCH($A21&$J21,Input!$A$5:$A$24&Input!$G$5:$G$24,0),2))","v":""},{"$f":"IF($J21=\"\",\"\",INDEX(Input!$A$5:$H$24,MATCH($A21&$J21,Input!$A$5:$A$24&Input!$G$5:$G$24,0),3))","v":""},{"$f":"IF($J21=\"\",\"\",INDEX(Input!$A$5:$H$24,MATCH($A21&$J21,Input!$A$5:$A$24&Input!$G$5:$G$24,0),4))","v":""},{"$f":"IF($J21=\"\",\"\",INDEX(Input!$A$5:$H$24,MATCH($A21&$J21,Input!$A$5:$A$24&Input!$G$5:$G$24,0),5))","v":""},null,null,null,null,{"$f":"IF($A21=\"\",\"\",OFFSET(Input!F$4,MATCH($A21,Input!$A$5:$A$24,0),0))","v":""},{"$f":"IF(N21=\"SY\", T21, IF(N21=\"Tons\", W21, \"\"))","v":""},null,{"$f":"IF(N21=\"SY\", V21, IF(N21=\"Tons\", O21-P21, \"\"))","v":""},{"$f":"SUBSTITUTE(A21 & \"\\\" & J21,\"\"\"\",\"\")","v":"\\"},{"$f":"IF(A21=\"\",1,IF(ISERROR(MATCH(R21,Input!L$5:L$24,0)),2,1))","v":1},{"$f":"IF(A21=\"\", \"\", SUMIF($Q$8:$Q$17, \"*\" & LEFT(A21, 11) & \"*\", $S$8:$S$17))","v":""},null,{"$f":"IF(A21=\"\", \"\", SUMIF($Q$8:$Q$17, \"*\" & LEFT(A21, 11) & \"*\", $T$8:$T$17))","v":""},{"$f":"IF(N21=\"SY\", T21, IF(N21=\"Tons\", V21+P21, \"\"))","v":""}]
[null,null,null,null,null,{"$f":"IF($J22=\"\",\"\",INDEX(Input!$A$5:$H$24,MATCH($A22&$J22,Input!$A$5:$A$24&Input!$G$5:$G$24,0),2))","v":""},{"$f":"IF($J22=\"\",\"\",INDEX(Input!$A$5:$H$24,MATCH($A22&$J22,Input!$A$5:$A$24&Input!$G$5:$G$24,0),3))","v":""},{"$f":"IF($J22=\"\",\"\",INDEX(Input!$A$5:$H$24,MATCH($A22&$J22,Input!$A$5:$A$24&Input!$G$5:$G$24,0),4))","v":""},{"$f":"IF($J22=\"\",\"\",INDEX(Input!$A$5:$H$24,MATCH($A22&$J22,Input!$A$5:$A$24&Input!$G$5:$G$24,0),5))","v":""},null,null,null,null,{"$f":"IF($A22=\"\",\"\",OFFSET(Input!F$4,MATCH($A22,Input!$A$5:$A$24,0),0))","v":""},{"$f":"IF(N22=\"SY\", T22, IF(N22=\"Tons\", W22, \"\"))","v":""},null,{"$f":"IF(N22=\"SY\", V22, IF(N22=\"Tons\", O22-P22, \"\"))","v":""},{"$f":"SUBSTITUTE(A22 & \"\\\" & J22,\"\"\"\",\"\")","v":"\\"},{"$f":"IF(A22=\"\",1,IF(ISERROR(MATCH(R22,Input!L$5:L$24,0)),2,1))","v":1},{"$f":"IF(A22=\"\", \"\", SUMIF($Q$8:$Q$17, \"*\" & LEFT(A22, 11) & \"*\", $S$8:$S$17))","v":""},null,{"$f":"IF(A22=\"\", \"\", SUMIF($Q$8:$Q$17, \"*\" & LEFT(A22, 11) & \"*\", $T$8:$T$17))","v":""},{"$f":"IF(N22=\"SY\", T22, IF(N22=\"Tons\", V22+P22, \"\"))","v":""}]
[null,null,null,null,null,{"$f":"IF($J23=\"\",\"\",INDEX(Input!$A$5:$H$24,MATCH($A23&$J23,Input!$A$5:$A$24&Input!$G$5:$G$24,0),2))","v":""},{"$f":"IF($J23=\"\",\"\",INDEX(Input!$A$5:$H$24,MATCH($A23&$J23,Input!$A$5:$A$24&Input!$G$5:$G$24,0),3))","v":""},{"$f":"IF($J23=\"\",\"\",INDEX(Input!$A$5:$H$24,MATCH($A23&$J23,Input!$A$5:$A$24&Input!$G$5:$G$24,0),4))","v":""},{"$f":"IF($J23=\"\",\"\",INDEX(Input!$A$5:$H$24,MATCH($A23&$J23,Input!$A$5:$A$24&Input!$G$5:$G$24,0),5))","v":""},null,null,null,null,{"$f":"IF($A23=\"\",\"\",OFFSET(Input!F$4,MATCH($A23,Input!$A$5:$A$24,0),0))","v":""},{"$f":"IF(N23=\"SY\", T23, IF(N23=\"Tons\", W23, \"\"))","v":""},null,{"$f":"IF(N23=\"SY\", V23, IF(N23=\"Tons\", O23-P23, \"\"))","v":""},"\\",{"$f":"IF(A23=\"\",1,IF(ISERROR(MATCH(R23,Input!L$5:L$24,0)),2,1))","v":1},{"$f":"IF(A23=\"\", \"\", SUMIF($Q$8:$Q$17, \"*\" & LEFT(A23, 11) & \"*\", $S$8:$S$17))","v":""},null,{"$f":"IF(A23=\"\", \"\", SUMIF($Q$8:$Q$17, \"*\" & LEFT(A23, 11) & \"*\", $T$8:$T$17))","v":""},{"$f":"IF(N23=\"SY\", T23, IF(N23=\"Tons\", V23+P23, \"\"))","v":""}]
[null,null,null,null,null,{"$f":"IF($J24=\"\",\"\",INDEX(Input!$A$5:$H$24,MATCH($A24&$J24,Input!$A$5:$A$24&Input!$G$5:$G$24,0),2))","v":""},{"$f":"IF($J24=\"\",\"\",INDEX(Input!$A$5:$H$24,MATCH($A24&$J24,Input!$A$5:$A$24&Input!$G$5:$G$24,0),3))","v":""},{"$f":"IF($J24=\"\",\"\",INDEX(Input!$A$5:$H$24,MATCH($A24&$J24,Input!$A$5:$A$24&Input!$G$5:$G$24,0),4))","v":""},{"$f":"IF($J24=\"\",\"\",INDEX(Input!$A$5:$H$24,MATCH($A24&$J24,Input!$A$5:$A$24&Input!$G$5:$G$24,0),5))","v":""},null,null,null,null,{"$f":"IF($A24=\"\",\"\",OFFSET(Input!F$4,MATCH($A24,Input!$A$5:$A$24,0),0))","v":""},"",null,{"$f":"IF(N24=\"SY\", V24, IF(N24=\"Tons\", O24-P24, \"\"))","v":""},"\\",{"$f":"IF(A24=\"\",1,IF(ISERROR(MATCH(R24,Input!L$5:L$24,0)),2,1))","v":1},"",null,{"$f":"IF(A24=\"\", \"\", SUMIF($Q$8:$Q$17, \"*\" & LEFT(A24, 11) & \"*\", $T$8:$T$17))","v":""},{"$f":"IF(N24=\"SY\", T24, IF(N24=\"Tons\", V24+P24, \"\"))","v":""}]
[null,null,null,null,null,{"$f":"IF($J25=\"\",\"\",INDEX(Input!$A$5:$H$24,MATCH($A25&$J25,Input!$A$5:$A$24&Input!$G$5:$G$24,0),2))","v":""},{"$f":"IF($J25=\"\",\"\",INDEX(Input!$A$5:$H$24,MATCH($A25&$J25,Input!$A$5:$A$24&Input!$G$5:$G$24,0),3))","v":""},{"$f":"IF($J25=\"\",\"\",INDEX(Input!$A$5:$H$24,MATCH($A25&$J25,Input!$A$5:$A$24&Input!$G$5:$G$24,0),4))","v":""},{"$f":"IF($J25=\"\",\"\",INDEX(Input!$A$5:$H$24,MATCH($A25&$J25,Input!$A$5:$A$24&Input!$G$5:$G$24,0),5))","v":""},null,null,null,null,{"$f":"IF($A25=\"\",\"\",OFFSET(Input!F$4,MATCH($A25,Input!$A$5:$A$24,0),0))","v":""},"",null,"","\\",{"$f":"IF(A25=\"\",1,IF(ISERROR(MATCH(R25,Input!L$5:L$24,0)),2,1))","v":1},"",null,"",""]
[null,null,null,null,null,null,null,null,null,null,null,null,null,null,null,null,null,null,null,null,null,"",{"$f":"IF(N26=\"SY\", T26, IF(N26=\"Tons\", V26+P26, \"\"))","v":""},{"$f":"IF(A26=\"\", \"\", SUMIF($Q$8:$Q$17, \"*\" & LEFT(A26, 11) & \"*\", $S$8:$S$17))","v":""},{"$f":"IF(N26=\"SY\",X26,\"\")","v":""},{"$f":"IF(A26=\"\", \"\", SUMIF($Q$8:$Q$17, \"*\" & LEFT(A26, 11) & \"*\", $T$8:$T$17))","v":""}]
["Hot Box Sample",null,null,null,null,null,null,null,null,null,"Mat Temperatures °F"]
[null,"Test A","Test B","Test C","Test D","Test E",null,null,null,null,"Time","Temp"]
[" Hot Box ID Number  ",null,null,null,null,null,null,null,null,null,"7:00"]
["Hot Box Sample Tons: ",null,null,null,null,null,null,null,null,null,"9:00",null,null,null,"Intended Thickness:"]
[" Time: ",null,null,null,null,null,null,null,null,null,"11:00",null,null,null,"Cores Waived?"]
[" Station/MP: ",null,null,null,null,null,null,null,null,null,"1:00",null,null,null,"Small Quantity Statement?"]
["Bar Code ID.:",null,null,null,null,null,null,null,null,null,"3:00",null,null,null,"Scale Check Done?"]
["Compaction Temp. °F: ",null,null,null,null,null,null,null,null,null,"5:00",null,null,null,"Tack Tickets Today?"]
[null,null,null,null,null,null,null,null,null,null,"7:00"]
["The Below Comments should show up on the plant report"]
["Comments:"]
[]
[]
["The Below Notes are for the CPI from the field or Plant Monitor"]
["Notes:"]
[]
[]
["RANDOM CORE LOCATIONS"]
[null,null,null,null,null,null,null,"Core #","Station","Offset,ft","Joint Station","Lane"]
[null,null,null,null,null,null,null,1]
[null,null,null,null,null,null,null,2]
[null,null,null,null,null,null,null,3]
[null,null,null,null,null,null,null,4]
[null,null,null,null,null,null,null,5]
[null,null,null,null,null,null,null,6]
[null,null,null,null,null,null,null,7]
[null,null,null,null,null,null,null,8]
[]
[null,null,null,null,null,null,null,null,null,null,"Joint Sublot Size, ft"]
[null,null,null,null,null,null,null,null,null,null,0]
[]
[]
[]
[]
[]
[]
[]
[]
[]
[]
[]
[]
[]
[]
[]
[]
[]
[]
[]
[]
[]
[]
[]
[]
[]
[]
[]
[]
[]
[]
[]
[]
[]
[]
[]
[]
[]
[]
[]
[]
[false]

{"sheet":"45","index":60,"n_rows":97,"n_cols":26,"rows_kept":97,"cut":false,"hidden":false,"merged":[[50,11,50,13],[51,11,51,13],[52,11,52,13],[44,11,44,13],[45,11,45,13],[46,11,46,13],[47,11,47,13],[48,11,48,13],[49,11,49,13],[43,0,43,16],[25,0,25,1],[26,0,26,5],[26,20,26,23],[26,25,26,27],[34,2,34,4],[35,0,35,5],[36,1,36,14],[37,0,37,14],[39,0,39,5],[40,1,40,14],[41,0,41,14],[23,0,23,1],[23,2,23,4],[23,9,23,12],[24,0,24,1],[24,2,24,4],[24,9,24,12],[21,0,21,1],[21,2,21,4],[21,9,21,12],[22,0,22,1],[22,2,22,4],[22,9,22,12],[19,0,19,1],[19,2,19,4],[19,9,19,12],[20,0,20,1],[20,2,20,4],[20,9,20,12],[18,0,18,16],[6,14,6,15],[7,14,7,15],[8,14,8,15],[9,14,9,15],[10,14,10,15],[11,14,11,15],[12,14,12,15],[13,14,13,15],[14,14,14,15],[15,14,15,15],[16,14,16,15],[1,0,1,16],[4,0,4,15],[5,4,5,5],[5,8,5,9],[5,11,5,12],[5,13,5,15]]}
[]
["Iowa DOT HMA Field Report"]
["Date :"]
["Item No.('s)"]
["PLACEMENT RECORD",null,null,null,null,null,null,null,null,null,null,null,null,null,null,null,null,null,null,null,null,{"$f":"SUBSTITUTE(A21 & \"\\\" & J21,\"\"\"\",\"\")","v":"\\"}]
[null,null,null,null,"Additional width to DEDUCT from Field Voids",null,null,null,"Placed Density (Pounds/CF)=",null,150,"Overwritten on the \"Summary\" Tab",null,"ONLY ONE (1) MIX DESIGN PER DFR OTHERWISE IT WILL NOT IMPORT INTO THE PLANT REPORT PROPERLY",null,null,null,null,null,null,null,{"$f":"SUBSTITUTE(A22 & \"\\\" & J22,\"\"\"\",\"\")","v":"\\"}]
["From Station"," To Station","Lane","ML or Widening Placement Width","Additional Width (ft) ","Thickness (in)","Total Length Placed (FT)","\"Pay\"  Est \"SY\"","Thickness (inches)","Calculated Field Voids Tons","Placed Tons            (Not including Waste)","% Yield","SY to be PAID (If Diff. than Est SY)","Mix Design No.","Bid Item/ Project No.",null,null,null,"This uses the correct SY #, if Green is blank uses Est. SY","Adds up the Tons",null,"\\"]
[null,null,null,null,null,null,{"$f":"IF(OR(A8=\"\",B8=\"\"),0,IF($A$97=TRUE,ABS(B8-A8)*5280,ABS(VALUE(SUBSTITUTE(A8,\"+\",\"\"))-VALUE(SUBSTITUTE(B8,\"+\",\"\")))))","v":0},{"$f":"IF(D8=\"\",\"\",G8*(D8+E8)/9)","v":""},null,{"$f":"IF(I8=\"\",\"\",(G8)*(D8+E8)*I8/12*$K$6/2000)","v":""},null,{"$f":"IF(K8=\"\",\"\",K8/J8*100)","v":""},null,null,null,null,{"$f":"O8 & \"\\\" & N8","v":"\\"},{"$f":"IF(AND(A8=\"\",B8=\"\",C8=\"\",D8=\"\"),1,IF(OR(O8=\"\",N8=\"\"),2,IF(ISERROR(MATCH(Q8,Input!M$5:M$24,0)),2,1)))","v":1},{"$f":"IF(M8<>\"\", M8, H8)","v":""},{"$f":"K8","v":0},null,"\\"]
[null,null,null,null,null,null,{"$f":"IF(OR(A9=\"\",B9=\"\"),0,IF($A$97=TRUE,ABS(B9-A9)*5280,ABS(VALUE(SUBSTITUTE(A9,\"+\",\"\"))-VALUE(SUBSTITUTE(B9,\"+\",\"\")))))","v":0},{"$f":"IF(D9=\"\",\"\",G9*(D9+E9)/9)","v":""},null,"",null,{"$f":"IF(K9=\"\",\"\",K9/J9*100)","v":""},null,null,null,null,{"$f":"O9 & \"\\\" & N9","v":"\\"},{"$f":"IF(AND(A9=\"\",B9=\"\",C9=\"\",D9=\"\"),1,IF(OR(O9=\"\",N9=\"\"),2,IF(ISERROR(MATCH(Q9,Input!M$5:M$24,0)),2,1)))","v":1},{"$f":"IF(M9<>\"\", M9, H9)","v":""},{"$f":"K9","v":0},null,"\\"]
[null,null,null,null,null,null,0,"",null,"",null,"",null,null,null,null,"\\",{"$f":"IF(AND(A10=\"\",B10=\"\",C10=\"\",D10=\"\"),1,IF(OR(O10=\"\",N10=\"\"),2,IF(ISERROR(MATCH(Q10,Input!M$5:M$24,0)),2,1)))","v":1},{"$f":"IF(M10<>\"\", M10, H10)","v":""},0]
[null,null,null,null,null,null,0,"",null,"",null,"",null,null,null,null,"\\",{"$f":"IF(AND(A11=\"\",B11=\"\",C11=\"\",D11=\"\"),1,IF(OR(O11=\"\",N11=\"\"),2,IF(ISERROR(MATCH(Q11,Input!M$5:M$24,0)),2,1)))","v":1},"",0]
[null,null,null,null,null,null,0,"",null,"",null,"",null,null,null,null,"\\",{"$f":"IF(AND(A12=\"\",B12=\"\",C12=\"\",D12=\"\"),1,IF(OR(O12=\"\",N12=\"\"),2,IF(ISERROR(MATCH(Q12,Input!M$5:M$24,0)),2,1)))","v":1},"",0]
[null,null,null,null,null,null,0,"",null,"",null,"",null,null,null,null,"\\",{"$f":"IF(AND(A13=\"\",B13=\"\",C13=\"\",D13=\"\"),1,IF(OR(O13=\"\",N13=\"\"),2,IF(ISERROR(MATCH(Q13,Input!M$5:M$24,0)),2,1)))","v":1},"",0]
[null,null,null,null,null,null,0,"",null,"",null,"",null,null,null,null,"\\",{"$f":"IF(AND(A14=\"\",B14=\"\",C14=\"\",D14=\"\"),1,IF(OR(O14=\"\",N14=\"\"),2,IF(ISERROR(MATCH(Q14,Input!M$5:M$24,0)),2,1)))","v":1},"",0]
[null,null,null,null,null,null,0,"",null,"",null,"",null,null,null,null,"\\",{"$f":"IF(AND(A15=\"\",B15=\"\",C15=\"\",D15=\"\"),1,IF(OR(O15=\"\",N15=\"\"),2,IF(ISERROR(MATCH(Q15,Input!M$5:M$24,0)),2,1)))","v":1},"",0]
[null,null,null,null,null,null,0,"",null,"",null,"",null,null,null,null,"\\",{"$f":"IF(AND(A16=\"\",B16=\"\",C16=\"\",D16=\"\"),1,IF(OR(O16=\"\",N16=\"\"),2,IF(ISERROR(MATCH(Q16,Input!M$5:M$24,0)),2,1)))","v":1},"",0]
[null,null,null,null,null,null,0,"",null,"",null,"",null,null,null,null,"\\",{"$f":"IF(AND(A17=\"\",B17=\"\",C17=\"\",D17=\"\"),1,IF(OR(O17=\"\",N17=\"\"),2,IF(ISERROR(MATCH(Q17,Input!M$5:M$24,0)),2,1)))","v":1},"",0]
[]
["TANK SHEET"]
["Bid Item (In Order of Placement)",null,"Today's Placement",null,null,"Bid Item Plan Quantity","Plan Thickness (in)","Contract Mix Price","Contract Binder Price","Project Number",null,null,null,"Mix Pay Units","Mix Delivered to Road\n(Ton or SY)","Waste On Road (Ton)\nNO waste for SY Items","Tons Placed - Waste",null,null,"This adds up column S as it depends if the Est SY is filled out or the SY",null,"Use this Column for SY for the Q column","Uses this Value for Mix on Road"]
[null,null,null,null,null,{"$f":"IF($J21=\"\",\"\",INDEX(Input!$A$5:$H$24,MATCH($A21&$J21,Input!$A$5:$A$24&Input!$G$5:$G$24,0),2))","v":""},{"$f":"IF($J21=\"\",\"\",INDEX(Input!$A$5:$H$24,MATCH($A21&$J21,Input!$A$5:$A$24&Input!$G$5:$G$24,0),3))","v":""},{"$f":"IF($J21=\"\",\"\",INDEX(Input!$A$5:$H$24,MATCH($A21&$J21,Input!$A$5:$A$24&Input!$G$5:$G$24,0),4))","v":""},{"$f":"IF($J21=\"\",\"\",INDEX(Input!$A$5:$H$24,MATCH($A21&$J21,Input!$A$5:$A$24&Input!$G$5:$G$24,0),5))","v":""},null,null,null,null,{"$f":"IF($A21=\"\",\"\",OFFSET(Input!F$4,MATCH($A21,Input!$A$5:$A$24,0),0))","v":""},{"$f":"IF(N21=\"SY\", T21, IF(N21=\"Tons\", W21, \"\"))","v":""},null,{"$f":"IF(N21=\"SY\", V21, IF(N21=\"Tons\", O21-P21, \"\"))","v":""},{"$f":"SUBSTITUTE(A21 & \"\\\" & J21,\"\"\"\",\"\")","v":"\\"},{"$f":"IF(A21=\"\",1,IF(ISERROR(MATCH(R21,Input!L$5:L$24,0)),2,1))","v":1},{"$f":"IF(A21=\"\", \"\", SUMIF($Q$8:$Q$17, \"*\" & LEFT(A21, 11) & \"*\", $S$8:$S$17))","v":""},null,{"$f":"IF(A21=\"\", \"\", SUMIF($Q$8:$Q$17, \"*\" & LEFT(A21, 11) & \"*\", $T$8:$T$17))","v":""},{"$f":"IF(N21=\"SY\", T21, IF(N21=\"Tons\", V21+P21, \"\"))","v":""}]
[null,null,null,null,null,{"$f":"IF($J22=\"\",\"\",INDEX(Input!$A$5:$H$24,MATCH($A22&$J22,Input!$A$5:$A$24&Input!$G$5:$G$24,0),2))","v":""},{"$f":"IF($J22=\"\",\"\",INDEX(Input!$A$5:$H$24,MATCH($A22&$J22,Input!$A$5:$A$24&Input!$G$5:$G$24,0),3))","v":""},{"$f":"IF($J22=\"\",\"\",INDEX(Input!$A$5:$H$24,MATCH($A22&$J22,Input!$A$5:$A$24&Input!$G$5:$G$24,0),4))","v":""},{"$f":"IF($J22=\"\",\"\",INDEX(Input!$A$5:$H$24,MATCH($A22&$J22,Input!$A$5:$A$24&Input!$G$5:$G$24,0),5))","v":""},null,null,null,null,{"$f":"IF($A22=\"\",\"\",OFFSET(Input!F$4,MATCH($A22,Input!$A$5:$A$24,0),0))","v":""},{"$f":"IF(N22=\"SY\", T22, IF(N22=\"Tons\", W22, \"\"))","v":""},null,{"$f":"IF(N22=\"SY\", V22, IF(N22=\"Tons\", O22-P22, \"\"))","v":""},{"$f":"SUBSTITUTE(A22 & \"\\\" & J22,\"\"\"\",\"\")","v":"\\"},{"$f":"IF(A22=\"\",1,IF(ISERROR(MATCH(R22,Input!L$5:L$24,0)),2,1))","v":1},{"$f":"IF(A22=\"\", \"\", SUMIF($Q$8:$Q$17, \"*\" & LEFT(A22, 11) & \"*\", $S$8:$S$17))","v":""},null,{"$f":"IF(A22=\"\", \"\", SUMIF($Q$8:$Q$17, \"*\" & LEFT(A22, 11) & \"*\", $T$8:$T$17))","v":""},{"$f":"IF(N22=\"SY\", T22, IF(N22=\"Tons\", V22+P22, \"\"))","v":""}]
[null,null,null,null,null,{"$f":"IF($J23=\"\",\"\",INDEX(Input!$A$5:$H$24,MATCH($A23&$J23,Input!$A$5:$A$24&Input!$G$5:$G$24,0),2))","v":""},{"$f":"IF($J23=\"\",\"\",INDEX(Input!$A$5:$H$24,MATCH($A23&$J23,Input!$A$5:$A$24&Input!$G$5:$G$24,0),3))","v":""},{"$f":"IF($J23=\"\",\"\",INDEX(Input!$A$5:$H$24,MATCH($A23&$J23,Input!$A$5:$A$24&Input!$G$5:$G$24,0),4))","v":""},{"$f":"IF($J23=\"\",\"\",INDEX(Input!$A$5:$H$24,MATCH($A23&$J23,Input!$A$5:$A$24&Input!$G$5:$G$24,0),5))","v":""},null,null,null,null,{"$f":"IF($A23=\"\",\"\",OFFSET(Input!F$4,MATCH($A23,Input!$A$5:$A$24,0),0))","v":""},{"$f":"IF(N23=\"SY\", T23, IF(N23=\"Tons\", W23, \"\"))","v":""},null,{"$f":"IF(N23=\"SY\", V23, IF(N23=\"Tons\", O23-P23, \"\"))","v":""},"\\",{"$f":"IF(A23=\"\",1,IF(ISERROR(MATCH(R23,Input!L$5:L$24,0)),2,1))","v":1},{"$f":"IF(A23=\"\", \"\", SUMIF($Q$8:$Q$17, \"*\" & LEFT(A23, 11) & \"*\", $S$8:$S$17))","v":""},null,{"$f":"IF(A23=\"\", \"\", SUMIF($Q$8:$Q$17, \"*\" & LEFT(A23, 11) & \"*\", $T$8:$T$17))","v":""},{"$f":"IF(N23=\"SY\", T23, IF(N23=\"Tons\", V23+P23, \"\"))","v":""}]
[null,null,null,null,null,{"$f":"IF($J24=\"\",\"\",INDEX(Input!$A$5:$H$24,MATCH($A24&$J24,Input!$A$5:$A$24&Input!$G$5:$G$24,0),2))","v":""},{"$f":"IF($J24=\"\",\"\",INDEX(Input!$A$5:$H$24,MATCH($A24&$J24,Input!$A$5:$A$24&Input!$G$5:$G$24,0),3))","v":""},{"$f":"IF($J24=\"\",\"\",INDEX(Input!$A$5:$H$24,MATCH($A24&$J24,Input!$A$5:$A$24&Input!$G$5:$G$24,0),4))","v":""},{"$f":"IF($J24=\"\",\"\",INDEX(Input!$A$5:$H$24,MATCH($A24&$J24,Input!$A$5:$A$24&Input!$G$5:$G$24,0),5))","v":""},null,null,null,null,{"$f":"IF($A24=\"\",\"\",OFFSET(Input!F$4,MATCH($A24,Input!$A$5:$A$24,0),0))","v":""},"",null,{"$f":"IF(N24=\"SY\", V24, IF(N24=\"Tons\", O24-P24, \"\"))","v":""},"\\",{"$f":"IF(A24=\"\",1,IF(ISERROR(MATCH(R24,Input!L$5:L$24,0)),2,1))","v":1},"",null,{"$f":"IF(A24=\"\", \"\", SUMIF($Q$8:$Q$17, \"*\" & LEFT(A24, 11) & \"*\", $T$8:$T$17))","v":""},{"$f":"IF(N24=\"SY\", T24, IF(N24=\"Tons\", V24+P24, \"\"))","v":""}]
[null,null,null,null,null,{"$f":"IF($J25=\"\",\"\",INDEX(Input!$A$5:$H$24,MATCH($A25&$J25,Input!$A$5:$A$24&Input!$G$5:$G$24,0),2))","v":""},{"$f":"IF($J25=\"\",\"\",INDEX(Input!$A$5:$H$24,MATCH($A25&$J25,Input!$A$5:$A$24&Input!$G$5:$G$24,0),3))","v":""},{"$f":"IF($J25=\"\",\"\",INDEX(Input!$A$5:$H$24,MATCH($A25&$J25,Input!$A$5:$A$24&Input!$G$5:$G$24,0),4))","v":""},{"$f":"IF($J25=\"\",\"\",INDEX(Input!$A$5:$H$24,MATCH($A25&$J25,Input!$A$5:$A$24&Input!$G$5:$G$24,0),5))","v":""},null,null,null,null,{"$f":"IF($A25=\"\",\"\",OFFSET(Input!F$4,MATCH($A25,Input!$A$5:$A$24,0),0))","v":""},"",null,"","\\",{"$f":"IF(A25=\"\",1,IF(ISERROR(MATCH(R25,Input!L$5:L$24,0)),2,1))","v":1},"",null,"",""]
[null,null,null,null,null,null,null,null,null,null,null,null,null,null,null,null,null,null,null,null,null,"",{"$f":"IF(N26=\"SY\", T26, IF(N26=\"Tons\", V26+P26, \"\"))","v":""},{"$f":"IF(A26=\"\", \"\", SUMIF($Q$8:$Q$17, \"*\" & LEFT(A26, 11) & \"*\", $S$8:$S$17))","v":""},{"$f":"IF(N26=\"SY\",X26,\"\")","v":""},{"$f":"IF(A26=\"\", \"\", SUMIF($Q$8:$Q$17, \"*\" & LEFT(A26, 11) & \"*\", $T$8:$T$17))","v":""}]
["Hot Box Sample",null,null,null,null,null,null,null,null,null,"Mat Temperatures °F"]
[null,"Test A","Test B","Test C","Test D","Test E",null,null,null,null,"Time","Temp"]
[" Hot Box ID Number  ",null,null,null,null,null,null,null,null,null,"7:00"]
["Hot Box Sample Tons: ",null,null,null,null,null,null,null,null,null,"9:00",null,null,null,"Intended Thickness:"]
[" Time: ",null,null,null,null,null,null,null,null,null,"11:00",null,null,null,"Cores Waived?"]
[" Station/MP: ",null,null,null,null,null,null,null,null,null,"1:00",null,null,null,"Small Quantity Statement?"]
["Bar Code ID.:",null,null,null,null,null,null,null,null,null,"3:00",null,null,null,"Scale Check Done?"]
["Compaction Temp. °F: ",null,null,null,null,null,null,null,null,null,"5:00",null,null,null,"Tack Tickets Today?"]
[null,null,null,null,null,null,null,null,null,null,"7:00"]
["The Below Comments should show up on the plant report"]
["Comments:"]
[]
[]
["The Below Notes are for the CPI from the field or Plant Monitor"]
["Notes:"]
[]
[]
["RANDOM CORE LOCATIONS"]
[null,null,null,null,null,null,null,"Core #","Station","Offset,ft","Joint Station","Lane"]
[null,null,null,null,null,null,null,1]
[null,null,null,null,null,null,null,2]
[null,null,null,null,null,null,null,3]
[null,null,null,null,null,null,null,4]
[null,null,null,null,null,null,null,5]
[null,null,null,null,null,null,null,6]
[null,null,null,null,null,null,null,7]
[null,null,null,null,null,null,null,8]
[]
[null,null,null,null,null,null,null,null,null,null,"Joint Sublot Size, ft"]
[null,null,null,null,null,null,null,null,null,null,0]
[]
[]
[]
[]
[]
[]
[]
[]
[]
[]
[]
[]
[]
[]
[]
[]
[]
[]
[]
[]
[]
[]
[]
[]
[]
[]
[]
[]
[]
[]
[]
[]
[]
[]
[]
[]
[]
[]
[]
[]
[false]

{"sheet":"46","index":61,"n_rows":97,"n_cols":26,"rows_kept":97,"cut":false,"hidden":false,"merged":[[50,11,50,13],[51,11,51,13],[52,11,52,13],[44,11,44,13],[45,11,45,13],[46,11,46,13],[47,11,47,13],[48,11,48,13],[49,11,49,13],[43,0,43,16],[25,0,25,1],[26,0,26,5],[26,20,26,23],[26,25,26,27],[34,2,34,4],[35,0,35,5],[36,1,36,14],[37,0,37,14],[39,0,39,5],[40,1,40,14],[41,0,41,14],[23,0,23,1],[23,2,23,4],[23,9,23,12],[24,0,24,1],[24,2,24,4],[24,9,24,12],[21,0,21,1],[21,2,21,4],[21,9,21,12],[22,0,22,1],[22,2,22,4],[22,9,22,12],[19,0,19,1],[19,2,19,4],[19,9,19,12],[20,0,20,1],[20,2,20,4],[20,9,20,12],[18,0,18,16],[6,14,6,15],[7,14,7,15],[8,14,8,15],[9,14,9,15],[10,14,10,15],[11,14,11,15],[12,14,12,15],[13,14,13,15],[14,14,14,15],[15,14,15,15],[16,14,16,15],[1,0,1,16],[4,0,4,15],[5,4,5,5],[5,8,5,9],[5,11,5,12],[5,13,5,15]]}
[]
["Iowa DOT HMA Field Report"]
["Date :"]
["Item No.('s)"]
["PLACEMENT RECORD",null,null,null,null,null,null,null,null,null,null,null,null,null,null,null,null,null,null,null,null,{"$f":"SUBSTITUTE(A21 & \"\\\" & J21,\"\"\"\",\"\")","v":"\\"}]
[null,null,null,null,"Additional width to DEDUCT from Field Voids",null,null,null,"Placed Density (Pounds/CF)=",null,150,"Overwritten on the \"Summary\" Tab",null,"ONLY ONE (1) MIX DESIGN PER DFR OTHERWISE IT WILL NOT IMPORT INTO THE PLANT REPORT PROPERLY",null,null,null,null,null,null,null,{"$f":"SUBSTITUTE(A22 & \"\\\" & J22,\"\"\"\",\"\")","v":"\\"}]
["From Station"," To Station","Lane","ML or Widening Placement Width","Additional Width (ft) ","Thickness (in)","Total Length Placed (FT)","\"Pay\"  Est \"SY\"","Thickness (inches)","Calculated Field Voids Tons","Placed Tons            (Not including Waste)","% Yield","SY to be PAID (If Diff. than Est SY)","Mix Design No.","Bid Item/ Project No.",null,null,null,"This uses the correct SY #, if Green is blank uses Est. SY","Adds up the Tons",null,"\\"]
[null,null,null,null,null,null,{"$f":"IF(OR(A8=\"\",B8=\"\"),0,IF($A$97=TRUE,ABS(B8-A8)*5280,ABS(VALUE(SUBSTITUTE(A8,\"+\",\"\"))-VALUE(SUBSTITUTE(B8,\"+\",\"\")))))","v":0},{"$f":"IF(D8=\"\",\"\",G8*(D8+E8)/9)","v":""},null,{"$f":"IF(I8=\"\",\"\",(G8)*(D8+E8)*I8/12*$K$6/2000)","v":""},null,{"$f":"IF(K8=\"\",\"\",K8/J8*100)","v":""},null,null,null,null,{"$f":"O8 & \"\\\" & N8","v":"\\"},{"$f":"IF(AND(A8=\"\",B8=\"\",C8=\"\",D8=\"\"),1,IF(OR(O8=\"\",N8=\"\"),2,IF(ISERROR(MATCH(Q8,Input!M$5:M$24,0)),2,1)))","v":1},{"$f":"IF(M8<>\"\", M8, H8)","v":""},{"$f":"K8","v":0},null,"\\"]
[null,null,null,null,null,null,{"$f":"IF(OR(A9=\"\",B9=\"\"),0,IF($A$97=TRUE,ABS(B9-A9)*5280,ABS(VALUE(SUBSTITUTE(A9,\"+\",\"\"))-VALUE(SUBSTITUTE(B9,\"+\",\"\")))))","v":0},{"$f":"IF(D9=\"\",\"\",G9*(D9+E9)/9)","v":""},null,"",null,{"$f":"IF(K9=\"\",\"\",K9/J9*100)","v":""},null,null,null,null,{"$f":"O9 & \"\\\" & N9","v":"\\"},{"$f":"IF(AND(A9=\"\",B9=\"\",C9=\"\",D9=\"\"),1,IF(OR(O9=\"\",N9=\"\"),2,IF(ISERROR(MATCH(Q9,Input!M$5:M$24,0)),2,1)))","v":1},{"$f":"IF(M9<>\"\", M9, H9)","v":""},{"$f":"K9","v":0},null,"\\"]
[null,null,null,null,null,null,0,"",null,"",null,"",null,null,null,null,"\\",{"$f":"IF(AND(A10=\"\",B10=\"\",C10=\"\",D10=\"\"),1,IF(OR(O10=\"\",N10=\"\"),2,IF(ISERROR(MATCH(Q10,Input!M$5:M$24,0)),2,1)))","v":1},{"$f":"IF(M10<>\"\", M10, H10)","v":""},0]
[null,null,null,null,null,null,0,"",null,"",null,"",null,null,null,null,"\\",{"$f":"IF(AND(A11=\"\",B11=\"\",C11=\"\",D11=\"\"),1,IF(OR(O11=\"\",N11=\"\"),2,IF(ISERROR(MATCH(Q11,Input!M$5:M$24,0)),2,1)))","v":1},"",0]
[null,null,null,null,null,null,0,"",null,"",null,"",null,null,null,null,"\\",{"$f":"IF(AND(A12=\"\",B12=\"\",C12=\"\",D12=\"\"),1,IF(OR(O12=\"\",N12=\"\"),2,IF(ISERROR(MATCH(Q12,Input!M$5:M$24,0)),2,1)))","v":1},"",0]
[null,null,null,null,null,null,0,"",null,"",null,"",null,null,null,null,"\\",{"$f":"IF(AND(A13=\"\",B13=\"\",C13=\"\",D13=\"\"),1,IF(OR(O13=\"\",N13=\"\"),2,IF(ISERROR(MATCH(Q13,Input!M$5:M$24,0)),2,1)))","v":1},"",0]
[null,null,null,null,null,null,0,"",null,"",null,"",null,null,null,null,"\\",{"$f":"IF(AND(A14=\"\",B14=\"\",C14=\"\",D14=\"\"),1,IF(OR(O14=\"\",N14=\"\"),2,IF(ISERROR(MATCH(Q14,Input!M$5:M$24,0)),2,1)))","v":1},"",0]
[null,null,null,null,null,null,0,"",null,"",null,"",null,null,null,null,"\\",{"$f":"IF(AND(A15=\"\",B15=\"\",C15=\"\",D15=\"\"),1,IF(OR(O15=\"\",N15=\"\"),2,IF(ISERROR(MATCH(Q15,Input!M$5:M$24,0)),2,1)))","v":1},"",0]
[null,null,null,null,null,null,0,"",null,"",null,"",null,null,null,null,"\\",{"$f":"IF(AND(A16=\"\",B16=\"\",C16=\"\",D16=\"\"),1,IF(OR(O16=\"\",N16=\"\"),2,IF(ISERROR(MATCH(Q16,Input!M$5:M$24,0)),2,1)))","v":1},"",0]
[null,null,null,null,null,null,0,"",null,"",null,"",null,null,null,null,"\\",{"$f":"IF(AND(A17=\"\",B17=\"\",C17=\"\",D17=\"\"),1,IF(OR(O17=\"\",N17=\"\"),2,IF(ISERROR(MATCH(Q17,Input!M$5:M$24,0)),2,1)))","v":1},"",0]
[]
["TANK SHEET"]
["Bid Item (In Order of Placement)",null,"Today's Placement",null,null,"Bid Item Plan Quantity","Plan Thickness (in)","Contract Mix Price","Contract Binder Price","Project Number",null,null,null,"Mix Pay Units","Mix Delivered to Road\n(Ton or SY)","Waste On Road (Ton)\nNO waste for SY Items","Tons Placed - Waste",null,null,"This adds up column S as it depends if the Est SY is filled out or the SY",null,"Use this Column for SY for the Q column","Uses this Value for Mix on Road"]
[null,null,null,null,null,{"$f":"IF($J21=\"\",\"\",INDEX(Input!$A$5:$H$24,MATCH($A21&$J21,Input!$A$5:$A$24&Input!$G$5:$G$24,0),2))","v":""},{"$f":"IF($J21=\"\",\"\",INDEX(Input!$A$5:$H$24,MATCH($A21&$J21,Input!$A$5:$A$24&Input!$G$5:$G$24,0),3))","v":""},{"$f":"IF($J21=\"\",\"\",INDEX(Input!$A$5:$H$24,MATCH($A21&$J21,Input!$A$5:$A$24&Input!$G$5:$G$24,0),4))","v":""},{"$f":"IF($J21=\"\",\"\",INDEX(Input!$A$5:$H$24,MATCH($A21&$J21,Input!$A$5:$A$24&Input!$G$5:$G$24,0),5))","v":""},null,null,null,null,{"$f":"IF($A21=\"\",\"\",OFFSET(Input!F$4,MATCH($A21,Input!$A$5:$A$24,0),0))","v":""},{"$f":"IF(N21=\"SY\", T21, IF(N21=\"Tons\", W21, \"\"))","v":""},null,{"$f":"IF(N21=\"SY\", V21, IF(N21=\"Tons\", O21-P21, \"\"))","v":""},{"$f":"SUBSTITUTE(A21 & \"\\\" & J21,\"\"\"\",\"\")","v":"\\"},{"$f":"IF(A21=\"\",1,IF(ISERROR(MATCH(R21,Input!L$5:L$24,0)),2,1))","v":1},{"$f":"IF(A21=\"\", \"\", SUMIF($Q$8:$Q$17, \"*\" & LEFT(A21, 11) & \"*\", $S$8:$S$17))","v":""},null,{"$f":"IF(A21=\"\", \"\", SUMIF($Q$8:$Q$17, \"*\" & LEFT(A21, 11) & \"*\", $T$8:$T$17))","v":""},{"$f":"IF(N21=\"SY\", T21, IF(N21=\"Tons\", V21+P21, \"\"))","v":""}]
[null,null,null,null,null,{"$f":"IF($J22=\"\",\"\",INDEX(Input!$A$5:$H$24,MATCH($A22&$J22,Input!$A$5:$A$24&Input!$G$5:$G$24,0),2))","v":""},{"$f":"IF($J22=\"\",\"\",INDEX(Input!$A$5:$H$24,MATCH($A22&$J22,Input!$A$5:$A$24&Input!$G$5:$G$24,0),3))","v":""},{"$f":"IF($J22=\"\",\"\",INDEX(Input!$A$5:$H$24,MATCH($A22&$J22,Input!$A$5:$A$24&Input!$G$5:$G$24,0),4))","v":""},{"$f":"IF($J22=\"\",\"\",INDEX(Input!$A$5:$H$24,MATCH($A22&$J22,Input!$A$5:$A$24&Input!$G$5:$G$24,0),5))","v":""},null,null,null,null,{"$f":"IF($A22=\"\",\"\",OFFSET(Input!F$4,MATCH($A22,Input!$A$5:$A$24,0),0))","v":""},{"$f":"IF(N22=\"SY\", T22, IF(N22=\"Tons\", W22, \"\"))","v":""},null,{"$f":"IF(N22=\"SY\", V22, IF(N22=\"Tons\", O22-P22, \"\"))","v":""},{"$f":"SUBSTITUTE(A22 & \"\\\" & J22,\"\"\"\",\"\")","v":"\\"},{"$f":"IF(A22=\"\",1,IF(ISERROR(MATCH(R22,Input!L$5:L$24,0)),2,1))","v":1},{"$f":"IF(A22=\"\", \"\", SUMIF($Q$8:$Q$17, \"*\" & LEFT(A22, 11) & \"*\", $S$8:$S$17))","v":""},null,{"$f":"IF(A22=\"\", \"\", SUMIF($Q$8:$Q$17, \"*\" & LEFT(A22, 11) & \"*\", $T$8:$T$17))","v":""},{"$f":"IF(N22=\"SY\", T22, IF(N22=\"Tons\", V22+P22, \"\"))","v":""}]
[null,null,null,null,null,{"$f":"IF($J23=\"\",\"\",INDEX(Input!$A$5:$H$24,MATCH($A23&$J23,Input!$A$5:$A$24&Input!$G$5:$G$24,0),2))","v":""},{"$f":"IF($J23=\"\",\"\",INDEX(Input!$A$5:$H$24,MATCH($A23&$J23,Input!$A$5:$A$24&Input!$G$5:$G$24,0),3))","v":""},{"$f":"IF($J23=\"\",\"\",INDEX(Input!$A$5:$H$24,MATCH($A23&$J23,Input!$A$5:$A$24&Input!$G$5:$G$24,0),4))","v":""},{"$f":"IF($J23=\"\",\"\",INDEX(Input!$A$5:$H$24,MATCH($A23&$J23,Input!$A$5:$A$24&Input!$G$5:$G$24,0),5))","v":""},null,null,null,null,{"$f":"IF($A23=\"\",\"\",OFFSET(Input!F$4,MATCH($A23,Input!$A$5:$A$24,0),0))","v":""},{"$f":"IF(N23=\"SY\", T23, IF(N23=\"Tons\", W23, \"\"))","v":""},null,{"$f":"IF(N23=\"SY\", V23, IF(N23=\"Tons\", O23-P23, \"\"))","v":""},"\\",{"$f":"IF(A23=\"\",1,IF(ISERROR(MATCH(R23,Input!L$5:L$24,0)),2,1))","v":1},{"$f":"IF(A23=\"\", \"\", SUMIF($Q$8:$Q$17, \"*\" & LEFT(A23, 11) & \"*\", $S$8:$S$17))","v":""},null,{"$f":"IF(A23=\"\", \"\", SUMIF($Q$8:$Q$17, \"*\" & LEFT(A23, 11) & \"*\", $T$8:$T$17))","v":""},{"$f":"IF(N23=\"SY\", T23, IF(N23=\"Tons\", V23+P23, \"\"))","v":""}]
[null,null,null,null,null,{"$f":"IF($J24=\"\",\"\",INDEX(Input!$A$5:$H$24,MATCH($A24&$J24,Input!$A$5:$A$24&Input!$G$5:$G$24,0),2))","v":""},{"$f":"IF($J24=\"\",\"\",INDEX(Input!$A$5:$H$24,MATCH($A24&$J24,Input!$A$5:$A$24&Input!$G$5:$G$24,0),3))","v":""},{"$f":"IF($J24=\"\",\"\",INDEX(Input!$A$5:$H$24,MATCH($A24&$J24,Input!$A$5:$A$24&Input!$G$5:$G$24,0),4))","v":""},{"$f":"IF($J24=\"\",\"\",INDEX(Input!$A$5:$H$24,MATCH($A24&$J24,Input!$A$5:$A$24&Input!$G$5:$G$24,0),5))","v":""},null,null,null,null,{"$f":"IF($A24=\"\",\"\",OFFSET(Input!F$4,MATCH($A24,Input!$A$5:$A$24,0),0))","v":""},"",null,{"$f":"IF(N24=\"SY\", V24, IF(N24=\"Tons\", O24-P24, \"\"))","v":""},"\\",{"$f":"IF(A24=\"\",1,IF(ISERROR(MATCH(R24,Input!L$5:L$24,0)),2,1))","v":1},"",null,{"$f":"IF(A24=\"\", \"\", SUMIF($Q$8:$Q$17, \"*\" & LEFT(A24, 11) & \"*\", $T$8:$T$17))","v":""},{"$f":"IF(N24=\"SY\", T24, IF(N24=\"Tons\", V24+P24, \"\"))","v":""}]
[null,null,null,null,null,{"$f":"IF($J25=\"\",\"\",INDEX(Input!$A$5:$H$24,MATCH($A25&$J25,Input!$A$5:$A$24&Input!$G$5:$G$24,0),2))","v":""},{"$f":"IF($J25=\"\",\"\",INDEX(Input!$A$5:$H$24,MATCH($A25&$J25,Input!$A$5:$A$24&Input!$G$5:$G$24,0),3))","v":""},{"$f":"IF($J25=\"\",\"\",INDEX(Input!$A$5:$H$24,MATCH($A25&$J25,Input!$A$5:$A$24&Input!$G$5:$G$24,0),4))","v":""},{"$f":"IF($J25=\"\",\"\",INDEX(Input!$A$5:$H$24,MATCH($A25&$J25,Input!$A$5:$A$24&Input!$G$5:$G$24,0),5))","v":""},null,null,null,null,{"$f":"IF($A25=\"\",\"\",OFFSET(Input!F$4,MATCH($A25,Input!$A$5:$A$24,0),0))","v":""},"",null,"","\\",{"$f":"IF(A25=\"\",1,IF(ISERROR(MATCH(R25,Input!L$5:L$24,0)),2,1))","v":1},"",null,"",""]
[null,null,null,null,null,null,null,null,null,null,null,null,null,null,null,null,null,null,null,null,null,"",{"$f":"IF(N26=\"SY\", T26, IF(N26=\"Tons\", V26+P26, \"\"))","v":""},{"$f":"IF(A26=\"\", \"\", SUMIF($Q$8:$Q$17, \"*\" & LEFT(A26, 11) & \"*\", $S$8:$S$17))","v":""},{"$f":"IF(N26=\"SY\",X26,\"\")","v":""},{"$f":"IF(A26=\"\", \"\", SUMIF($Q$8:$Q$17, \"*\" & LEFT(A26, 11) & \"*\", $T$8:$T$17))","v":""}]
["Hot Box Sample",null,null,null,null,null,null,null,null,null,"Mat Temperatures °F"]
[null,"Test A","Test B","Test C","Test D","Test E",null,null,null,null,"Time","Temp"]
[" Hot Box ID Number  ",null,null,null,null,null,null,null,null,null,"7:00"]
["Hot Box Sample Tons: ",null,null,null,null,null,null,null,null,null,"9:00",null,null,null,"Intended Thickness:"]
[" Time: ",null,null,null,null,null,null,null,null,null,"11:00",null,null,null,"Cores Waived?"]
[" Station/MP: ",null,null,null,null,null,null,null,null,null,"1:00",null,null,null,"Small Quantity Statement?"]
["Bar Code ID.:",null,null,null,null,null,null,null,null,null,"3:00",null,null,null,"Scale Check Done?"]
["Compaction Temp. °F: ",null,null,null,null,null,null,null,null,null,"5:00",null,null,null,"Tack Tickets Today?"]
[null,null,null,null,null,null,null,null,null,null,"7:00"]
["The Below Comments should show up on the plant report"]
["Comments:"]
[]
[]
["The Below Notes are for the CPI from the field or Plant Monitor"]
["Notes:"]
[]
[]
["RANDOM CORE LOCATIONS"]
[null,null,null,null,null,null,null,"Core #","Station","Offset,ft","Joint Station","Lane"]
[null,null,null,null,null,null,null,1]
[null,null,null,null,null,null,null,2]
[null,null,null,null,null,null,null,3]
[null,null,null,null,null,null,null,4]
[null,null,null,null,null,null,null,5]
[null,null,null,null,null,null,null,6]
[null,null,null,null,null,null,null,7]
[null,null,null,null,null,null,null,8]
[]
[null,null,null,null,null,null,null,null,null,null,"Joint Sublot Size, ft"]
[null,null,null,null,null,null,null,null,null,null,0]
[]
[]
[]
[]
[]
[]
[]
[]
[]
[]
[]
[]
[]
[]
[]
[]
[]
[]
[]
[]
[]
[]
[]
[]
[]
[]
[]
[]
[]
[]
[]
[]
[]
[]
[]
[]
[]
[]
[]
[]
[false]

{"sheet":"47","index":62,"n_rows":97,"n_cols":26,"rows_kept":97,"cut":false,"hidden":false,"merged":[[50,11,50,13],[51,11,51,13],[52,11,52,13],[44,11,44,13],[45,11,45,13],[46,11,46,13],[47,11,47,13],[48,11,48,13],[49,11,49,13],[43,0,43,16],[25,0,25,1],[26,0,26,5],[26,20,26,23],[26,25,26,27],[34,2,34,4],[35,0,35,5],[36,1,36,14],[37,0,37,14],[39,0,39,5],[40,1,40,14],[41,0,41,14],[23,0,23,1],[23,2,23,4],[23,9,23,12],[24,0,24,1],[24,2,24,4],[24,9,24,12],[21,0,21,1],[21,2,21,4],[21,9,21,12],[22,0,22,1],[22,2,22,4],[22,9,22,12],[19,0,19,1],[19,2,19,4],[19,9,19,12],[20,0,20,1],[20,2,20,4],[20,9,20,12],[18,0,18,16],[6,14,6,15],[7,14,7,15],[8,14,8,15],[9,14,9,15],[10,14,10,15],[11,14,11,15],[12,14,12,15],[13,14,13,15],[14,14,14,15],[15,14,15,15],[16,14,16,15],[1,0,1,16],[4,0,4,15],[5,4,5,5],[5,8,5,9],[5,11,5,12],[5,13,5,15]]}
[]
["Iowa DOT HMA Field Report"]
["Date :"]
["Item No.('s)"]
["PLACEMENT RECORD",null,null,null,null,null,null,null,null,null,null,null,null,null,null,null,null,null,null,null,null,{"$f":"SUBSTITUTE(A21 & \"\\\" & J21,\"\"\"\",\"\")","v":"\\"}]
[null,null,null,null,"Additional width to DEDUCT from Field Voids",null,null,null,"Placed Density (Pounds/CF)=",null,150,"Overwritten on the \"Summary\" Tab",null,"ONLY ONE (1) MIX DESIGN PER DFR OTHERWISE IT WILL NOT IMPORT INTO THE PLANT REPORT PROPERLY",null,null,null,null,null,null,null,{"$f":"SUBSTITUTE(A22 & \"\\\" & J22,\"\"\"\",\"\")","v":"\\"}]
["From Station"," To Station","Lane","ML or Widening Placement Width","Additional Width (ft) ","Thickness (in)","Total Length Placed (FT)","\"Pay\"  Est \"SY\"","Thickness (inches)","Calculated Field Voids Tons","Placed Tons            (Not including Waste)","% Yield","SY to be PAID (If Diff. than Est SY)","Mix Design No.","Bid Item/ Project No.",null,null,null,"This uses the correct SY #, if Green is blank uses Est. SY","Adds up the Tons",null,"\\"]
[null,null,null,null,null,null,{"$f":"IF(OR(A8=\"\",B8=\"\"),0,IF($A$97=TRUE,ABS(B8-A8)*5280,ABS(VALUE(SUBSTITUTE(A8,\"+\",\"\"))-VALUE(SUBSTITUTE(B8,\"+\",\"\")))))","v":0},{"$f":"IF(D8=\"\",\"\",G8*(D8+E8)/9)","v":""},null,{"$f":"IF(I8=\"\",\"\",(G8)*(D8+E8)*I8/12*$K$6/2000)","v":""},null,{"$f":"IF(K8=\"\",\"\",K8/J8*100)","v":""},null,null,null,null,{"$f":"O8 & \"\\\" & N8","v":"\\"},{"$f":"IF(AND(A8=\"\",B8=\"\",C8=\"\",D8=\"\"),1,IF(OR(O8=\"\",N8=\"\"),2,IF(ISERROR(MATCH(Q8,Input!M$5:M$24,0)),2,1)))","v":1},{"$f":"IF(M8<>\"\", M8, H8)","v":""},{"$f":"K8","v":0},null,"\\"]
[null,null,null,null,null,null,{"$f":"IF(OR(A9=\"\",B9=\"\"),0,IF($A$97=TRUE,ABS(B9-A9)*5280,ABS(VALUE(SUBSTITUTE(A9,\"+\",\"\"))-VALUE(SUBSTITUTE(B9,\"+\",\"\")))))","v":0},{"$f":"IF(D9=\"\",\"\",G9*(D9+E9)/9)","v":""},null,"",null,{"$f":"IF(K9=\"\",\"\",K9/J9*100)","v":""},null,null,null,null,{"$f":"O9 & \"\\\" & N9","v":"\\"},{"$f":"IF(AND(A9=\"\",B9=\"\",C9=\"\",D9=\"\"),1,IF(OR(O9=\"\",N9=\"\"),2,IF(ISERROR(MATCH(Q9,Input!M$5:M$24,0)),2,1)))","v":1},{"$f":"IF(M9<>\"\", M9, H9)","v":""},{"$f":"K9","v":0},null,"\\"]
[null,null,null,null,null,null,0,"",null,"",null,"",null,null,null,null,"\\",{"$f":"IF(AND(A10=\"\",B10=\"\",C10=\"\",D10=\"\"),1,IF(OR(O10=\"\",N10=\"\"),2,IF(ISERROR(MATCH(Q10,Input!M$5:M$24,0)),2,1)))","v":1},{"$f":"IF(M10<>\"\", M10, H10)","v":""},0]
[null,null,null,null,null,null,0,"",null,"",null,"",null,null,null,null,"\\",{"$f":"IF(AND(A11=\"\",B11=\"\",C11=\"\",D11=\"\"),1,IF(OR(O11=\"\",N11=\"\"),2,IF(ISERROR(MATCH(Q11,Input!M$5:M$24,0)),2,1)))","v":1},"",0]
[null,null,null,null,null,null,0,"",null,"",null,"",null,null,null,null,"\\",{"$f":"IF(AND(A12=\"\",B12=\"\",C12=\"\",D12=\"\"),1,IF(OR(O12=\"\",N12=\"\"),2,IF(ISERROR(MATCH(Q12,Input!M$5:M$24,0)),2,1)))","v":1},"",0]
[null,null,null,null,null,null,0,"",null,"",null,"",null,null,null,null,"\\",{"$f":"IF(AND(A13=\"\",B13=\"\",C13=\"\",D13=\"\"),1,IF(OR(O13=\"\",N13=\"\"),2,IF(ISERROR(MATCH(Q13,Input!M$5:M$24,0)),2,1)))","v":1},"",0]
[null,null,null,null,null,null,0,"",null,"",null,"",null,null,null,null,"\\",{"$f":"IF(AND(A14=\"\",B14=\"\",C14=\"\",D14=\"\"),1,IF(OR(O14=\"\",N14=\"\"),2,IF(ISERROR(MATCH(Q14,Input!M$5:M$24,0)),2,1)))","v":1},"",0]
[null,null,null,null,null,null,0,"",null,"",null,"",null,null,null,null,"\\",{"$f":"IF(AND(A15=\"\",B15=\"\",C15=\"\",D15=\"\"),1,IF(OR(O15=\"\",N15=\"\"),2,IF(ISERROR(MATCH(Q15,Input!M$5:M$24,0)),2,1)))","v":1},"",0]
[null,null,null,null,null,null,0,"",null,"",null,"",null,null,null,null,"\\",{"$f":"IF(AND(A16=\"\",B16=\"\",C16=\"\",D16=\"\"),1,IF(OR(O16=\"\",N16=\"\"),2,IF(ISERROR(MATCH(Q16,Input!M$5:M$24,0)),2,1)))","v":1},"",0]
[null,null,null,null,null,null,0,"",null,"",null,"",null,null,null,null,"\\",{"$f":"IF(AND(A17=\"\",B17=\"\",C17=\"\",D17=\"\"),1,IF(OR(O17=\"\",N17=\"\"),2,IF(ISERROR(MATCH(Q17,Input!M$5:M$24,0)),2,1)))","v":1},"",0]
[]
["TANK SHEET"]
["Bid Item (In Order of Placement)",null,"Today's Placement",null,null,"Bid Item Plan Quantity","Plan Thickness (in)","Contract Mix Price","Contract Binder Price","Project Number",null,null,null,"Mix Pay Units","Mix Delivered to Road\n(Ton or SY)","Waste On Road (Ton)\nNO waste for SY Items","Tons Placed - Waste",null,null,"This adds up column S as it depends if the Est SY is filled out or the SY",null,"Use this Column for SY for the Q column","Uses this Value for Mix on Road"]
[null,null,null,null,null,{"$f":"IF($J21=\"\",\"\",INDEX(Input!$A$5:$H$24,MATCH($A21&$J21,Input!$A$5:$A$24&Input!$G$5:$G$24,0),2))","v":""},{"$f":"IF($J21=\"\",\"\",INDEX(Input!$A$5:$H$24,MATCH($A21&$J21,Input!$A$5:$A$24&Input!$G$5:$G$24,0),3))","v":""},{"$f":"IF($J21=\"\",\"\",INDEX(Input!$A$5:$H$24,MATCH($A21&$J21,Input!$A$5:$A$24&Input!$G$5:$G$24,0),4))","v":""},{"$f":"IF($J21=\"\",\"\",INDEX(Input!$A$5:$H$24,MATCH($A21&$J21,Input!$A$5:$A$24&Input!$G$5:$G$24,0),5))","v":""},null,null,null,null,{"$f":"IF($A21=\"\",\"\",OFFSET(Input!F$4,MATCH($A21,Input!$A$5:$A$24,0),0))","v":""},{"$f":"IF(N21=\"SY\", T21, IF(N21=\"Tons\", W21, \"\"))","v":""},null,{"$f":"IF(N21=\"SY\", V21, IF(N21=\"Tons\", O21-P21, \"\"))","v":""},{"$f":"SUBSTITUTE(A21 & \"\\\" & J21,\"\"\"\",\"\")","v":"\\"},{"$f":"IF(A21=\"\",1,IF(ISERROR(MATCH(R21,Input!L$5:L$24,0)),2,1))","v":1},{"$f":"IF(A21=\"\", \"\", SUMIF($Q$8:$Q$17, \"*\" & LEFT(A21, 11) & \"*\", $S$8:$S$17))","v":""},null,{"$f":"IF(A21=\"\", \"\", SUMIF($Q$8:$Q$17, \"*\" & LEFT(A21, 11) & \"*\", $T$8:$T$17))","v":""},{"$f":"IF(N21=\"SY\", T21, IF(N21=\"Tons\", V21+P21, \"\"))","v":""}]
[null,null,null,null,null,{"$f":"IF($J22=\"\",\"\",INDEX(Input!$A$5:$H$24,MATCH($A22&$J22,Input!$A$5:$A$24&Input!$G$5:$G$24,0),2))","v":""},{"$f":"IF($J22=\"\",\"\",INDEX(Input!$A$5:$H$24,MATCH($A22&$J22,Input!$A$5:$A$24&Input!$G$5:$G$24,0),3))","v":""},{"$f":"IF($J22=\"\",\"\",INDEX(Input!$A$5:$H$24,MATCH($A22&$J22,Input!$A$5:$A$24&Input!$G$5:$G$24,0),4))","v":""},{"$f":"IF($J22=\"\",\"\",INDEX(Input!$A$5:$H$24,MATCH($A22&$J22,Input!$A$5:$A$24&Input!$G$5:$G$24,0),5))","v":""},null,null,null,null,{"$f":"IF($A22=\"\",\"\",OFFSET(Input!F$4,MATCH($A22,Input!$A$5:$A$24,0),0))","v":""},{"$f":"IF(N22=\"SY\", T22, IF(N22=\"Tons\", W22, \"\"))","v":""},null,{"$f":"IF(N22=\"SY\", V22, IF(N22=\"Tons\", O22-P22, \"\"))","v":""},{"$f":"SUBSTITUTE(A22 & \"\\\" & J22,\"\"\"\",\"\")","v":"\\"},{"$f":"IF(A22=\"\",1,IF(ISERROR(MATCH(R22,Input!L$5:L$24,0)),2,1))","v":1},{"$f":"IF(A22=\"\", \"\", SUMIF($Q$8:$Q$17, \"*\" & LEFT(A22, 11) & \"*\", $S$8:$S$17))","v":""},null,{"$f":"IF(A22=\"\", \"\", SUMIF($Q$8:$Q$17, \"*\" & LEFT(A22, 11) & \"*\", $T$8:$T$17))","v":""},{"$f":"IF(N22=\"SY\", T22, IF(N22=\"Tons\", V22+P22, \"\"))","v":""}]
[null,null,null,null,null,{"$f":"IF($J23=\"\",\"\",INDEX(Input!$A$5:$H$24,MATCH($A23&$J23,Input!$A$5:$A$24&Input!$G$5:$G$24,0),2))","v":""},{"$f":"IF($J23=\"\",\"\",INDEX(Input!$A$5:$H$24,MATCH($A23&$J23,Input!$A$5:$A$24&Input!$G$5:$G$24,0),3))","v":""},{"$f":"IF($J23=\"\",\"\",INDEX(Input!$A$5:$H$24,MATCH($A23&$J23,Input!$A$5:$A$24&Input!$G$5:$G$24,0),4))","v":""},{"$f":"IF($J23=\"\",\"\",INDEX(Input!$A$5:$H$24,MATCH($A23&$J23,Input!$A$5:$A$24&Input!$G$5:$G$24,0),5))","v":""},null,null,null,null,{"$f":"IF($A23=\"\",\"\",OFFSET(Input!F$4,MATCH($A23,Input!$A$5:$A$24,0),0))","v":""},{"$f":"IF(N23=\"SY\", T23, IF(N23=\"Tons\", W23, \"\"))","v":""},null,{"$f":"IF(N23=\"SY\", V23, IF(N23=\"Tons\", O23-P23, \"\"))","v":""},"\\",{"$f":"IF(A23=\"\",1,IF(ISERROR(MATCH(R23,Input!L$5:L$24,0)),2,1))","v":1},{"$f":"IF(A23=\"\", \"\", SUMIF($Q$8:$Q$17, \"*\" & LEFT(A23, 11) & \"*\", $S$8:$S$17))","v":""},null,{"$f":"IF(A23=\"\", \"\", SUMIF($Q$8:$Q$17, \"*\" & LEFT(A23, 11) & \"*\", $T$8:$T$17))","v":""},{"$f":"IF(N23=\"SY\", T23, IF(N23=\"Tons\", V23+P23, \"\"))","v":""}]
[null,null,null,null,null,{"$f":"IF($J24=\"\",\"\",INDEX(Input!$A$5:$H$24,MATCH($A24&$J24,Input!$A$5:$A$24&Input!$G$5:$G$24,0),2))","v":""},{"$f":"IF($J24=\"\",\"\",INDEX(Input!$A$5:$H$24,MATCH($A24&$J24,Input!$A$5:$A$24&Input!$G$5:$G$24,0),3))","v":""},{"$f":"IF($J24=\"\",\"\",INDEX(Input!$A$5:$H$24,MATCH($A24&$J24,Input!$A$5:$A$24&Input!$G$5:$G$24,0),4))","v":""},{"$f":"IF($J24=\"\",\"\",INDEX(Input!$A$5:$H$24,MATCH($A24&$J24,Input!$A$5:$A$24&Input!$G$5:$G$24,0),5))","v":""},null,null,null,null,{"$f":"IF($A24=\"\",\"\",OFFSET(Input!F$4,MATCH($A24,Input!$A$5:$A$24,0),0))","v":""},"",null,{"$f":"IF(N24=\"SY\", V24, IF(N24=\"Tons\", O24-P24, \"\"))","v":""},"\\",{"$f":"IF(A24=\"\",1,IF(ISERROR(MATCH(R24,Input!L$5:L$24,0)),2,1))","v":1},"",null,{"$f":"IF(A24=\"\", \"\", SUMIF($Q$8:$Q$17, \"*\" & LEFT(A24, 11) & \"*\", $T$8:$T$17))","v":""},{"$f":"IF(N24=\"SY\", T24, IF(N24=\"Tons\", V24+P24, \"\"))","v":""}]
[null,null,null,null,null,{"$f":"IF($J25=\"\",\"\",INDEX(Input!$A$5:$H$24,MATCH($A25&$J25,Input!$A$5:$A$24&Input!$G$5:$G$24,0),2))","v":""},{"$f":"IF($J25=\"\",\"\",INDEX(Input!$A$5:$H$24,MATCH($A25&$J25,Input!$A$5:$A$24&Input!$G$5:$G$24,0),3))","v":""},{"$f":"IF($J25=\"\",\"\",INDEX(Input!$A$5:$H$24,MATCH($A25&$J25,Input!$A$5:$A$24&Input!$G$5:$G$24,0),4))","v":""},{"$f":"IF($J25=\"\",\"\",INDEX(Input!$A$5:$H$24,MATCH($A25&$J25,Input!$A$5:$A$24&Input!$G$5:$G$24,0),5))","v":""},null,null,null,null,{"$f":"IF($A25=\"\",\"\",OFFSET(Input!F$4,MATCH($A25,Input!$A$5:$A$24,0),0))","v":""},"",null,"","\\",{"$f":"IF(A25=\"\",1,IF(ISERROR(MATCH(R25,Input!L$5:L$24,0)),2,1))","v":1},"",null,"",""]
[null,null,null,null,null,null,null,null,null,null,null,null,null,null,null,null,null,null,null,null,null,"",{"$f":"IF(N26=\"SY\", T26, IF(N26=\"Tons\", V26+P26, \"\"))","v":""},{"$f":"IF(A26=\"\", \"\", SUMIF($Q$8:$Q$17, \"*\" & LEFT(A26, 11) & \"*\", $S$8:$S$17))","v":""},{"$f":"IF(N26=\"SY\",X26,\"\")","v":""},{"$f":"IF(A26=\"\", \"\", SUMIF($Q$8:$Q$17, \"*\" & LEFT(A26, 11) & \"*\", $T$8:$T$17))","v":""}]
["Hot Box Sample",null,null,null,null,null,null,null,null,null,"Mat Temperatures °F"]
[null,"Test A","Test B","Test C","Test D","Test E",null,null,null,null,"Time","Temp"]
[" Hot Box ID Number  ",null,null,null,null,null,null,null,null,null,"7:00"]
["Hot Box Sample Tons: ",null,null,null,null,null,null,null,null,null,"9:00",null,null,null,"Intended Thickness:"]
[" Time: ",null,null,null,null,null,null,null,null,null,"11:00",null,null,null,"Cores Waived?"]
[" Station/MP: ",null,null,null,null,null,null,null,null,null,"1:00",null,null,null,"Small Quantity Statement?"]
["Bar Code ID.:",null,null,null,null,null,null,null,null,null,"3:00",null,null,null,"Scale Check Done?"]
["Compaction Temp. °F: ",null,null,null,null,null,null,null,null,null,"5:00",null,null,null,"Tack Tickets Today?"]
[null,null,null,null,null,null,null,null,null,null,"7:00"]
["The Below Comments should show up on the plant report"]
["Comments:"]
[]
[]
["The Below Notes are for the CPI from the field or Plant Monitor"]
["Notes:"]
[]
[]
["RANDOM CORE LOCATIONS"]
[null,null,null,null,null,null,null,"Core #","Station","Offset,ft","Joint Station","Lane"]
[null,null,null,null,null,null,null,1]
[null,null,null,null,null,null,null,2]
[null,null,null,null,null,null,null,3]
[null,null,null,null,null,null,null,4]
[null,null,null,null,null,null,null,5]
[null,null,null,null,null,null,null,6]
[null,null,null,null,null,null,null,7]
[null,null,null,null,null,null,null,8]
[]
[null,null,null,null,null,null,null,null,null,null,"Joint Sublot Size, ft"]
[null,null,null,null,null,null,null,null,null,null,0]
[]
[]
[]
[]
[]
[]
[]
[]
[]
[]
[]
[]
[]
[]
[]
[]
[]
[]
[]
[]
[]
[]
[]
[]
[]
[]
[]
[]
[]
[]
[]
[]
[]
[]
[]
[]
[]
[]
[]
[]
[false]

{"sheet":"48","index":63,"n_rows":97,"n_cols":26,"rows_kept":97,"cut":false,"hidden":false,"merged":[[50,11,50,13],[51,11,51,13],[52,11,52,13],[44,11,44,13],[45,11,45,13],[46,11,46,13],[47,11,47,13],[48,11,48,13],[49,11,49,13],[43,0,43,16],[25,0,25,1],[26,0,26,5],[26,20,26,23],[26,25,26,27],[34,2,34,4],[35,0,35,5],[36,1,36,14],[37,0,37,14],[39,0,39,5],[40,1,40,14],[41,0,41,14],[23,0,23,1],[23,2,23,4],[23,9,23,12],[24,0,24,1],[24,2,24,4],[24,9,24,12],[21,0,21,1],[21,2,21,4],[21,9,21,12],[22,0,22,1],[22,2,22,4],[22,9,22,12],[19,0,19,1],[19,2,19,4],[19,9,19,12],[20,0,20,1],[20,2,20,4],[20,9,20,12],[18,0,18,16],[6,14,6,15],[7,14,7,15],[8,14,8,15],[9,14,9,15],[10,14,10,15],[11,14,11,15],[12,14,12,15],[13,14,13,15],[14,14,14,15],[15,14,15,15],[16,14,16,15],[1,0,1,16],[4,0,4,15],[5,4,5,5],[5,8,5,9],[5,11,5,12],[5,13,5,15]]}
[]
["Iowa DOT HMA Field Report"]
["Date :"]
["Item No.('s)"]
["PLACEMENT RECORD",null,null,null,null,null,null,null,null,null,null,null,null,null,null,null,null,null,null,null,null,{"$f":"SUBSTITUTE(A21 & \"\\\" & J21,\"\"\"\",\"\")","v":"\\"}]
[null,null,null,null,"Additional width to DEDUCT from Field Voids",null,null,null,"Placed Density (Pounds/CF)=",null,150,"Overwritten on the \"Summary\" Tab",null,"ONLY ONE (1) MIX DESIGN PER DFR OTHERWISE IT WILL NOT IMPORT INTO THE PLANT REPORT PROPERLY",null,null,null,null,null,null,null,{"$f":"SUBSTITUTE(A22 & \"\\\" & J22,\"\"\"\",\"\")","v":"\\"}]
["From Station"," To Station","Lane","ML or Widening Placement Width","Additional Width (ft) ","Thickness (in)","Total Length Placed (FT)","\"Pay\"  Est \"SY\"","Thickness (inches)","Calculated Field Voids Tons","Placed Tons            (Not including Waste)","% Yield","SY to be PAID (If Diff. than Est SY)","Mix Design No.","Bid Item/ Project No.",null,null,null,"This uses the correct SY #, if Green is blank uses Est. SY","Adds up the Tons",null,"\\"]
[null,null,null,null,null,null,{"$f":"IF(OR(A8=\"\",B8=\"\"),0,IF($A$97=TRUE,ABS(B8-A8)*5280,ABS(VALUE(SUBSTITUTE(A8,\"+\",\"\"))-VALUE(SUBSTITUTE(B8,\"+\",\"\")))))","v":0},{"$f":"IF(D8=\"\",\"\",G8*(D8+E8)/9)","v":""},null,{"$f":"IF(I8=\"\",\"\",(G8)*(D8+E8)*I8/12*$K$6/2000)","v":""},null,{"$f":"IF(K8=\"\",\"\",K8/J8*100)","v":""},null,null,null,null,{"$f":"O8 & \"\\\" & N8","v":"\\"},{"$f":"IF(AND(A8=\"\",B8=\"\",C8=\"\",D8=\"\"),1,IF(OR(O8=\"\",N8=\"\"),2,IF(ISERROR(MATCH(Q8,Input!M$5:M$24,0)),2,1)))","v":1},{"$f":"IF(M8<>\"\", M8, H8)","v":""},{"$f":"K8","v":0},null,"\\"]
[null,null,null,null,null,null,{"$f":"IF(OR(A9=\"\",B9=\"\"),0,IF($A$97=TRUE,ABS(B9-A9)*5280,ABS(VALUE(SUBSTITUTE(A9,\"+\",\"\"))-VALUE(SUBSTITUTE(B9,\"+\",\"\")))))","v":0},{"$f":"IF(D9=\"\",\"\",G9*(D9+E9)/9)","v":""},null,"",null,{"$f":"IF(K9=\"\",\"\",K9/J9*100)","v":""},null,null,null,null,{"$f":"O9 & \"\\\" & N9","v":"\\"},{"$f":"IF(AND(A9=\"\",B9=\"\",C9=\"\",D9=\"\"),1,IF(OR(O9=\"\",N9=\"\"),2,IF(ISERROR(MATCH(Q9,Input!M$5:M$24,0)),2,1)))","v":1},{"$f":"IF(M9<>\"\", M9, H9)","v":""},{"$f":"K9","v":0},null,"\\"]
[null,null,null,null,null,null,0,"",null,"",null,"",null,null,null,null,"\\",{"$f":"IF(AND(A10=\"\",B10=\"\",C10=\"\",D10=\"\"),1,IF(OR(O10=\"\",N10=\"\"),2,IF(ISERROR(MATCH(Q10,Input!M$5:M$24,0)),2,1)))","v":1},{"$f":"IF(M10<>\"\", M10, H10)","v":""},0]
[null,null,null,null,null,null,0,"",null,"",null,"",null,null,null,null,"\\",{"$f":"IF(AND(A11=\"\",B11=\"\",C11=\"\",D11=\"\"),1,IF(OR(O11=\"\",N11=\"\"),2,IF(ISERROR(MATCH(Q11,Input!M$5:M$24,0)),2,1)))","v":1},"",0]
[null,null,null,null,null,null,0,"",null,"",null,"",null,null,null,null,"\\",{"$f":"IF(AND(A12=\"\",B12=\"\",C12=\"\",D12=\"\"),1,IF(OR(O12=\"\",N12=\"\"),2,IF(ISERROR(MATCH(Q12,Input!M$5:M$24,0)),2,1)))","v":1},"",0]
[null,null,null,null,null,null,0,"",null,"",null,"",null,null,null,null,"\\",{"$f":"IF(AND(A13=\"\",B13=\"\",C13=\"\",D13=\"\"),1,IF(OR(O13=\"\",N13=\"\"),2,IF(ISERROR(MATCH(Q13,Input!M$5:M$24,0)),2,1)))","v":1},"",0]
[null,null,null,null,null,null,0,"",null,"",null,"",null,null,null,null,"\\",{"$f":"IF(AND(A14=\"\",B14=\"\",C14=\"\",D14=\"\"),1,IF(OR(O14=\"\",N14=\"\"),2,IF(ISERROR(MATCH(Q14,Input!M$5:M$24,0)),2,1)))","v":1},"",0]
[null,null,null,null,null,null,0,"",null,"",null,"",null,null,null,null,"\\",{"$f":"IF(AND(A15=\"\",B15=\"\",C15=\"\",D15=\"\"),1,IF(OR(O15=\"\",N15=\"\"),2,IF(ISERROR(MATCH(Q15,Input!M$5:M$24,0)),2,1)))","v":1},"",0]
[null,null,null,null,null,null,0,"",null,"",null,"",null,null,null,null,"\\",{"$f":"IF(AND(A16=\"\",B16=\"\",C16=\"\",D16=\"\"),1,IF(OR(O16=\"\",N16=\"\"),2,IF(ISERROR(MATCH(Q16,Input!M$5:M$24,0)),2,1)))","v":1},"",0]
[null,null,null,null,null,null,0,"",null,"",null,"",null,null,null,null,"\\",{"$f":"IF(AND(A17=\"\",B17=\"\",C17=\"\",D17=\"\"),1,IF(OR(O17=\"\",N17=\"\"),2,IF(ISERROR(MATCH(Q17,Input!M$5:M$24,0)),2,1)))","v":1},"",0]
[]
["TANK SHEET"]
["Bid Item (In Order of Placement)",null,"Today's Placement",null,null,"Bid Item Plan Quantity","Plan Thickness (in)","Contract Mix Price","Contract Binder Price","Project Number",null,null,null,"Mix Pay Units","Mix Delivered to Road\n(Ton or SY)","Waste On Road (Ton)\nNO waste for SY Items","Tons Placed - Waste",null,null,"This adds up column S as it depends if the Est SY is filled out or the SY",null,"Use this Column for SY for the Q column","Uses this Value for Mix on Road"]
[null,null,null,null,null,{"$f":"IF($J21=\"\",\"\",INDEX(Input!$A$5:$H$24,MATCH($A21&$J21,Input!$A$5:$A$24&Input!$G$5:$G$24,0),2))","v":""},{"$f":"IF($J21=\"\",\"\",INDEX(Input!$A$5:$H$24,MATCH($A21&$J21,Input!$A$5:$A$24&Input!$G$5:$G$24,0),3))","v":""},{"$f":"IF($J21=\"\",\"\",INDEX(Input!$A$5:$H$24,MATCH($A21&$J21,Input!$A$5:$A$24&Input!$G$5:$G$24,0),4))","v":""},{"$f":"IF($J21=\"\",\"\",INDEX(Input!$A$5:$H$24,MATCH($A21&$J21,Input!$A$5:$A$24&Input!$G$5:$G$24,0),5))","v":""},null,null,null,null,{"$f":"IF($A21=\"\",\"\",OFFSET(Input!F$4,MATCH($A21,Input!$A$5:$A$24,0),0))","v":""},{"$f":"IF(N21=\"SY\", T21, IF(N21=\"Tons\", W21, \"\"))","v":""},null,{"$f":"IF(N21=\"SY\", V21, IF(N21=\"Tons\", O21-P21, \"\"))","v":""},{"$f":"SUBSTITUTE(A21 & \"\\\" & J21,\"\"\"\",\"\")","v":"\\"},{"$f":"IF(A21=\"\",1,IF(ISERROR(MATCH(R21,Input!L$5:L$24,0)),2,1))","v":1},{"$f":"IF(A21=\"\", \"\", SUMIF($Q$8:$Q$17, \"*\" & LEFT(A21, 11) & \"*\", $S$8:$S$17))","v":""},null,{"$f":"IF(A21=\"\", \"\", SUMIF($Q$8:$Q$17, \"*\" & LEFT(A21, 11) & \"*\", $T$8:$T$17))","v":""},{"$f":"IF(N21=\"SY\", T21, IF(N21=\"Tons\", V21+P21, \"\"))","v":""}]
[null,null,null,null,null,{"$f":"IF($J22=\"\",\"\",INDEX(Input!$A$5:$H$24,MATCH($A22&$J22,Input!$A$5:$A$24&Input!$G$5:$G$24,0),2))","v":""},{"$f":"IF($J22=\"\",\"\",INDEX(Input!$A$5:$H$24,MATCH($A22&$J22,Input!$A$5:$A$24&Input!$G$5:$G$24,0),3))","v":""},{"$f":"IF($J22=\"\",\"\",INDEX(Input!$A$5:$H$24,MATCH($A22&$J22,Input!$A$5:$A$24&Input!$G$5:$G$24,0),4))","v":""},{"$f":"IF($J22=\"\",\"\",INDEX(Input!$A$5:$H$24,MATCH($A22&$J22,Input!$A$5:$A$24&Input!$G$5:$G$24,0),5))","v":""},null,null,null,null,{"$f":"IF($A22=\"\",\"\",OFFSET(Input!F$4,MATCH($A22,Input!$A$5:$A$24,0),0))","v":""},{"$f":"IF(N22=\"SY\", T22, IF(N22=\"Tons\", W22, \"\"))","v":""},null,{"$f":"IF(N22=\"SY\", V22, IF(N22=\"Tons\", O22-P22, \"\"))","v":""},{"$f":"SUBSTITUTE(A22 & \"\\\" & J22,\"\"\"\",\"\")","v":"\\"},{"$f":"IF(A22=\"\",1,IF(ISERROR(MATCH(R22,Input!L$5:L$24,0)),2,1))","v":1},{"$f":"IF(A22=\"\", \"\", SUMIF($Q$8:$Q$17, \"*\" & LEFT(A22, 11) & \"*\", $S$8:$S$17))","v":""},null,{"$f":"IF(A22=\"\", \"\", SUMIF($Q$8:$Q$17, \"*\" & LEFT(A22, 11) & \"*\", $T$8:$T$17))","v":""},{"$f":"IF(N22=\"SY\", T22, IF(N22=\"Tons\", V22+P22, \"\"))","v":""}]
[null,null,null,null,null,{"$f":"IF($J23=\"\",\"\",INDEX(Input!$A$5:$H$24,MATCH($A23&$J23,Input!$A$5:$A$24&Input!$G$5:$G$24,0),2))","v":""},{"$f":"IF($J23=\"\",\"\",INDEX(Input!$A$5:$H$24,MATCH($A23&$J23,Input!$A$5:$A$24&Input!$G$5:$G$24,0),3))","v":""},{"$f":"IF($J23=\"\",\"\",INDEX(Input!$A$5:$H$24,MATCH($A23&$J23,Input!$A$5:$A$24&Input!$G$5:$G$24,0),4))","v":""},{"$f":"IF($J23=\"\",\"\",INDEX(Input!$A$5:$H$24,MATCH($A23&$J23,Input!$A$5:$A$24&Input!$G$5:$G$24,0),5))","v":""},null,null,null,null,{"$f":"IF($A23=\"\",\"\",OFFSET(Input!F$4,MATCH($A23,Input!$A$5:$A$24,0),0))","v":""},{"$f":"IF(N23=\"SY\", T23, IF(N23=\"Tons\", W23, \"\"))","v":""},null,{"$f":"IF(N23=\"SY\", V23, IF(N23=\"Tons\", O23-P23, \"\"))","v":""},"\\",{"$f":"IF(A23=\"\",1,IF(ISERROR(MATCH(R23,Input!L$5:L$24,0)),2,1))","v":1},{"$f":"IF(A23=\"\", \"\", SUMIF($Q$8:$Q$17, \"*\" & LEFT(A23, 11) & \"*\", $S$8:$S$17))","v":""},null,{"$f":"IF(A23=\"\", \"\", SUMIF($Q$8:$Q$17, \"*\" & LEFT(A23, 11) & \"*\", $T$8:$T$17))","v":""},{"$f":"IF(N23=\"SY\", T23, IF(N23=\"Tons\", V23+P23, \"\"))","v":""}]
[null,null,null,null,null,{"$f":"IF($J24=\"\",\"\",INDEX(Input!$A$5:$H$24,MATCH($A24&$J24,Input!$A$5:$A$24&Input!$G$5:$G$24,0),2))","v":""},{"$f":"IF($J24=\"\",\"\",INDEX(Input!$A$5:$H$24,MATCH($A24&$J24,Input!$A$5:$A$24&Input!$G$5:$G$24,0),3))","v":""},{"$f":"IF($J24=\"\",\"\",INDEX(Input!$A$5:$H$24,MATCH($A24&$J24,Input!$A$5:$A$24&Input!$G$5:$G$24,0),4))","v":""},{"$f":"IF($J24=\"\",\"\",INDEX(Input!$A$5:$H$24,MATCH($A24&$J24,Input!$A$5:$A$24&Input!$G$5:$G$24,0),5))","v":""},null,null,null,null,{"$f":"IF($A24=\"\",\"\",OFFSET(Input!F$4,MATCH($A24,Input!$A$5:$A$24,0),0))","v":""},"",null,{"$f":"IF(N24=\"SY\", V24, IF(N24=\"Tons\", O24-P24, \"\"))","v":""},"\\",{"$f":"IF(A24=\"\",1,IF(ISERROR(MATCH(R24,Input!L$5:L$24,0)),2,1))","v":1},"",null,{"$f":"IF(A24=\"\", \"\", SUMIF($Q$8:$Q$17, \"*\" & LEFT(A24, 11) & \"*\", $T$8:$T$17))","v":""},{"$f":"IF(N24=\"SY\", T24, IF(N24=\"Tons\", V24+P24, \"\"))","v":""}]
[null,null,null,null,null,{"$f":"IF($J25=\"\",\"\",INDEX(Input!$A$5:$H$24,MATCH($A25&$J25,Input!$A$5:$A$24&Input!$G$5:$G$24,0),2))","v":""},{"$f":"IF($J25=\"\",\"\",INDEX(Input!$A$5:$H$24,MATCH($A25&$J25,Input!$A$5:$A$24&Input!$G$5:$G$24,0),3))","v":""},{"$f":"IF($J25=\"\",\"\",INDEX(Input!$A$5:$H$24,MATCH($A25&$J25,Input!$A$5:$A$24&Input!$G$5:$G$24,0),4))","v":""},{"$f":"IF($J25=\"\",\"\",INDEX(Input!$A$5:$H$24,MATCH($A25&$J25,Input!$A$5:$A$24&Input!$G$5:$G$24,0),5))","v":""},null,null,null,null,{"$f":"IF($A25=\"\",\"\",OFFSET(Input!F$4,MATCH($A25,Input!$A$5:$A$24,0),0))","v":""},"",null,"","\\",{"$f":"IF(A25=\"\",1,IF(ISERROR(MATCH(R25,Input!L$5:L$24,0)),2,1))","v":1},"",null,"",""]
[null,null,null,null,null,null,null,null,null,null,null,null,null,null,null,null,null,null,null,null,null,"",{"$f":"IF(N26=\"SY\", T26, IF(N26=\"Tons\", V26+P26, \"\"))","v":""},{"$f":"IF(A26=\"\", \"\", SUMIF($Q$8:$Q$17, \"*\" & LEFT(A26, 11) & \"*\", $S$8:$S$17))","v":""},{"$f":"IF(N26=\"SY\",X26,\"\")","v":""},{"$f":"IF(A26=\"\", \"\", SUMIF($Q$8:$Q$17, \"*\" & LEFT(A26, 11) & \"*\", $T$8:$T$17))","v":""}]
["Hot Box Sample",null,null,null,null,null,null,null,null,null,"Mat Temperatures °F"]
[null,"Test A","Test B","Test C","Test D","Test E",null,null,null,null,"Time","Temp"]
[" Hot Box ID Number  ",null,null,null,null,null,null,null,null,null,"7:00"]
["Hot Box Sample Tons: ",null,null,null,null,null,null,null,null,null,"9:00",null,null,null,"Intended Thickness:"]
[" Time: ",null,null,null,null,null,null,null,null,null,"11:00",null,null,null,"Cores Waived?"]
[" Station/MP: ",null,null,null,null,null,null,null,null,null,"1:00",null,null,null,"Small Quantity Statement?"]
["Bar Code ID.:",null,null,null,null,null,null,null,null,null,"3:00",null,null,null,"Scale Check Done?"]
["Compaction Temp. °F: ",null,null,null,null,null,null,null,null,null,"5:00",null,null,null,"Tack Tickets Today?"]
[null,null,null,null,null,null,null,null,null,null,"7:00"]
["The Below Comments should show up on the plant report"]
["Comments:"]
[]
[]
["The Below Notes are for the CPI from the field or Plant Monitor"]
["Notes:"]
[]
[]
["RANDOM CORE LOCATIONS"]
[null,null,null,null,null,null,null,"Core #","Station","Offset,ft","Joint Station","Lane"]
[null,null,null,null,null,null,null,1]
[null,null,null,null,null,null,null,2]
[null,null,null,null,null,null,null,3]
[null,null,null,null,null,null,null,4]
[null,null,null,null,null,null,null,5]
[null,null,null,null,null,null,null,6]
[null,null,null,null,null,null,null,7]
[null,null,null,null,null,null,null,8]
[]
[null,null,null,null,null,null,null,null,null,null,"Joint Sublot Size, ft"]
[null,null,null,null,null,null,null,null,null,null,0]
[]
[]
[]
[]
[]
[]
[]
[]
[]
[]
[]
[]
[]
[]
[]
[]
[]
[]
[]
[]
[]
[]
[]
[]
[]
[]
[]
[]
[]
[]
[]
[]
[]
[]
[]
[]
[]
[]
[]
[]
[false]

{"sheet":"49","index":64,"n_rows":97,"n_cols":26,"rows_kept":97,"cut":false,"hidden":false,"merged":[[50,11,50,13],[51,11,51,13],[52,11,52,13],[44,11,44,13],[45,11,45,13],[46,11,46,13],[47,11,47,13],[48,11,48,13],[49,11,49,13],[43,0,43,16],[25,0,25,1],[26,0,26,5],[26,20,26,23],[26,25,26,27],[34,2,34,4],[35,0,35,5],[36,1,36,14],[37,0,37,14],[39,0,39,5],[40,1,40,14],[41,0,41,14],[23,0,23,1],[23,2,23,4],[23,9,23,12],[24,0,24,1],[24,2,24,4],[24,9,24,12],[21,0,21,1],[21,2,21,4],[21,9,21,12],[22,0,22,1],[22,2,22,4],[22,9,22,12],[19,0,19,1],[19,2,19,4],[19,9,19,12],[20,0,20,1],[20,2,20,4],[20,9,20,12],[18,0,18,16],[6,14,6,15],[7,14,7,15],[8,14,8,15],[9,14,9,15],[10,14,10,15],[11,14,11,15],[12,14,12,15],[13,14,13,15],[14,14,14,15],[15,14,15,15],[16,14,16,15],[1,0,1,16],[4,0,4,15],[5,4,5,5],[5,8,5,9],[5,11,5,12],[5,13,5,15]]}
[]
["Iowa DOT HMA Field Report"]
["Date :"]
["Item No.('s)"]
["PLACEMENT RECORD",null,null,null,null,null,null,null,null,null,null,null,null,null,null,null,null,null,null,null,null,{"$f":"SUBSTITUTE(A21 & \"\\\" & J21,\"\"\"\",\"\")","v":"\\"}]
[null,null,null,null,"Additional width to DEDUCT from Field Voids",null,null,null,"Placed Density (Pounds/CF)=",null,150,"Overwritten on the \"Summary\" Tab",null,"ONLY ONE (1) MIX DESIGN PER DFR OTHERWISE IT WILL NOT IMPORT INTO THE PLANT REPORT PROPERLY",null,null,null,null,null,null,null,{"$f":"SUBSTITUTE(A22 & \"\\\" & J22,\"\"\"\",\"\")","v":"\\"}]
["From Station"," To Station","Lane","ML or Widening Placement Width","Additional Width (ft) ","Thickness (in)","Total Length Placed (FT)","\"Pay\"  Est \"SY\"","Thickness (inches)","Calculated Field Voids Tons","Placed Tons            (Not including Waste)","% Yield","SY to be PAID (If Diff. than Est SY)","Mix Design No.","Bid Item/ Project No.",null,null,null,"This uses the correct SY #, if Green is blank uses Est. SY","Adds up the Tons",null,"\\"]
[null,null,null,null,null,null,{"$f":"IF(OR(A8=\"\",B8=\"\"),0,IF($A$97=TRUE,ABS(B8-A8)*5280,ABS(VALUE(SUBSTITUTE(A8,\"+\",\"\"))-VALUE(SUBSTITUTE(B8,\"+\",\"\")))))","v":0},{"$f":"IF(D8=\"\",\"\",G8*(D8+E8)/9)","v":""},null,{"$f":"IF(I8=\"\",\"\",(G8)*(D8+E8)*I8/12*$K$6/2000)","v":""},null,{"$f":"IF(K8=\"\",\"\",K8/J8*100)","v":""},null,null,null,null,{"$f":"O8 & \"\\\" & N8","v":"\\"},{"$f":"IF(AND(A8=\"\",B8=\"\",C8=\"\",D8=\"\"),1,IF(OR(O8=\"\",N8=\"\"),2,IF(ISERROR(MATCH(Q8,Input!M$5:M$24,0)),2,1)))","v":1},{"$f":"IF(M8<>\"\", M8, H8)","v":""},{"$f":"K8","v":0},null,"\\"]
[null,null,null,null,null,null,{"$f":"IF(OR(A9=\"\",B9=\"\"),0,IF($A$97=TRUE,ABS(B9-A9)*5280,ABS(VALUE(SUBSTITUTE(A9,\"+\",\"\"))-VALUE(SUBSTITUTE(B9,\"+\",\"\")))))","v":0},{"$f":"IF(D9=\"\",\"\",G9*(D9+E9)/9)","v":""},null,"",null,{"$f":"IF(K9=\"\",\"\",K9/J9*100)","v":""},null,null,null,null,{"$f":"O9 & \"\\\" & N9","v":"\\"},{"$f":"IF(AND(A9=\"\",B9=\"\",C9=\"\",D9=\"\"),1,IF(OR(O9=\"\",N9=\"\"),2,IF(ISERROR(MATCH(Q9,Input!M$5:M$24,0)),2,1)))","v":1},{"$f":"IF(M9<>\"\", M9, H9)","v":""},{"$f":"K9","v":0},null,"\\"]
[null,null,null,null,null,null,0,"",null,"",null,"",null,null,null,null,"\\",{"$f":"IF(AND(A10=\"\",B10=\"\",C10=\"\",D10=\"\"),1,IF(OR(O10=\"\",N10=\"\"),2,IF(ISERROR(MATCH(Q10,Input!M$5:M$24,0)),2,1)))","v":1},{"$f":"IF(M10<>\"\", M10, H10)","v":""},0]
[null,null,null,null,null,null,0,"",null,"",null,"",null,null,null,null,"\\",{"$f":"IF(AND(A11=\"\",B11=\"\",C11=\"\",D11=\"\"),1,IF(OR(O11=\"\",N11=\"\"),2,IF(ISERROR(MATCH(Q11,Input!M$5:M$24,0)),2,1)))","v":1},"",0]
[null,null,null,null,null,null,0,"",null,"",null,"",null,null,null,null,"\\",{"$f":"IF(AND(A12=\"\",B12=\"\",C12=\"\",D12=\"\"),1,IF(OR(O12=\"\",N12=\"\"),2,IF(ISERROR(MATCH(Q12,Input!M$5:M$24,0)),2,1)))","v":1},"",0]
[null,null,null,null,null,null,0,"",null,"",null,"",null,null,null,null,"\\",{"$f":"IF(AND(A13=\"\",B13=\"\",C13=\"\",D13=\"\"),1,IF(OR(O13=\"\",N13=\"\"),2,IF(ISERROR(MATCH(Q13,Input!M$5:M$24,0)),2,1)))","v":1},"",0]
[null,null,null,null,null,null,0,"",null,"",null,"",null,null,null,null,"\\",{"$f":"IF(AND(A14=\"\",B14=\"\",C14=\"\",D14=\"\"),1,IF(OR(O14=\"\",N14=\"\"),2,IF(ISERROR(MATCH(Q14,Input!M$5:M$24,0)),2,1)))","v":1},"",0]
[null,null,null,null,null,null,0,"",null,"",null,"",null,null,null,null,"\\",{"$f":"IF(AND(A15=\"\",B15=\"\",C15=\"\",D15=\"\"),1,IF(OR(O15=\"\",N15=\"\"),2,IF(ISERROR(MATCH(Q15,Input!M$5:M$24,0)),2,1)))","v":1},"",0]
[null,null,null,null,null,null,0,"",null,"",null,"",null,null,null,null,"\\",{"$f":"IF(AND(A16=\"\",B16=\"\",C16=\"\",D16=\"\"),1,IF(OR(O16=\"\",N16=\"\"),2,IF(ISERROR(MATCH(Q16,Input!M$5:M$24,0)),2,1)))","v":1},"",0]
[null,null,null,null,null,null,0,"",null,"",null,"",null,null,null,null,"\\",{"$f":"IF(AND(A17=\"\",B17=\"\",C17=\"\",D17=\"\"),1,IF(OR(O17=\"\",N17=\"\"),2,IF(ISERROR(MATCH(Q17,Input!M$5:M$24,0)),2,1)))","v":1},"",0]
[]
["TANK SHEET"]
["Bid Item (In Order of Placement)",null,"Today's Placement",null,null,"Bid Item Plan Quantity","Plan Thickness (in)","Contract Mix Price","Contract Binder Price","Project Number",null,null,null,"Mix Pay Units","Mix Delivered to Road\n(Ton or SY)","Waste On Road (Ton)\nNO waste for SY Items","Tons Placed - Waste",null,null,"This adds up column S as it depends if the Est SY is filled out or the SY",null,"Use this Column for SY for the Q column","Uses this Value for Mix on Road"]
[null,null,null,null,null,{"$f":"IF($J21=\"\",\"\",INDEX(Input!$A$5:$H$24,MATCH($A21&$J21,Input!$A$5:$A$24&Input!$G$5:$G$24,0),2))","v":""},{"$f":"IF($J21=\"\",\"\",INDEX(Input!$A$5:$H$24,MATCH($A21&$J21,Input!$A$5:$A$24&Input!$G$5:$G$24,0),3))","v":""},{"$f":"IF($J21=\"\",\"\",INDEX(Input!$A$5:$H$24,MATCH($A21&$J21,Input!$A$5:$A$24&Input!$G$5:$G$24,0),4))","v":""},{"$f":"IF($J21=\"\",\"\",INDEX(Input!$A$5:$H$24,MATCH($A21&$J21,Input!$A$5:$A$24&Input!$G$5:$G$24,0),5))","v":""},null,null,null,null,{"$f":"IF($A21=\"\",\"\",OFFSET(Input!F$4,MATCH($A21,Input!$A$5:$A$24,0),0))","v":""},{"$f":"IF(N21=\"SY\", T21, IF(N21=\"Tons\", W21, \"\"))","v":""},null,{"$f":"IF(N21=\"SY\", V21, IF(N21=\"Tons\", O21-P21, \"\"))","v":""},{"$f":"SUBSTITUTE(A21 & \"\\\" & J21,\"\"\"\",\"\")","v":"\\"},{"$f":"IF(A21=\"\",1,IF(ISERROR(MATCH(R21,Input!L$5:L$24,0)),2,1))","v":1},{"$f":"IF(A21=\"\", \"\", SUMIF($Q$8:$Q$17, \"*\" & LEFT(A21, 11) & \"*\", $S$8:$S$17))","v":""},null,{"$f":"IF(A21=\"\", \"\", SUMIF($Q$8:$Q$17, \"*\" & LEFT(A21, 11) & \"*\", $T$8:$T$17))","v":""},{"$f":"IF(N21=\"SY\", T21, IF(N21=\"Tons\", V21+P21, \"\"))","v":""}]
[null,null,null,null,null,{"$f":"IF($J22=\"\",\"\",INDEX(Input!$A$5:$H$24,MATCH($A22&$J22,Input!$A$5:$A$24&Input!$G$5:$G$24,0),2))","v":""},{"$f":"IF($J22=\"\",\"\",INDEX(Input!$A$5:$H$24,MATCH($A22&$J22,Input!$A$5:$A$24&Input!$G$5:$G$24,0),3))","v":""},{"$f":"IF($J22=\"\",\"\",INDEX(Input!$A$5:$H$24,MATCH($A22&$J22,Input!$A$5:$A$24&Input!$G$5:$G$24,0),4))","v":""},{"$f":"IF($J22=\"\",\"\",INDEX(Input!$A$5:$H$24,MATCH($A22&$J22,Input!$A$5:$A$24&Input!$G$5:$G$24,0),5))","v":""},null,null,null,null,{"$f":"IF($A22=\"\",\"\",OFFSET(Input!F$4,MATCH($A22,Input!$A$5:$A$24,0),0))","v":""},{"$f":"IF(N22=\"SY\", T22, IF(N22=\"Tons\", W22, \"\"))","v":""},null,{"$f":"IF(N22=\"SY\", V22, IF(N22=\"Tons\", O22-P22, \"\"))","v":""},{"$f":"SUBSTITUTE(A22 & \"\\\" & J22,\"\"\"\",\"\")","v":"\\"},{"$f":"IF(A22=\"\",1,IF(ISERROR(MATCH(R22,Input!L$5:L$24,0)),2,1))","v":1},{"$f":"IF(A22=\"\", \"\", SUMIF($Q$8:$Q$17, \"*\" & LEFT(A22, 11) & \"*\", $S$8:$S$17))","v":""},null,{"$f":"IF(A22=\"\", \"\", SUMIF($Q$8:$Q$17, \"*\" & LEFT(A22, 11) & \"*\", $T$8:$T$17))","v":""},{"$f":"IF(N22=\"SY\", T22, IF(N22=\"Tons\", V22+P22, \"\"))","v":""}]
[null,null,null,null,null,{"$f":"IF($J23=\"\",\"\",INDEX(Input!$A$5:$H$24,MATCH($A23&$J23,Input!$A$5:$A$24&Input!$G$5:$G$24,0),2))","v":""},{"$f":"IF($J23=\"\",\"\",INDEX(Input!$A$5:$H$24,MATCH($A23&$J23,Input!$A$5:$A$24&Input!$G$5:$G$24,0),3))","v":""},{"$f":"IF($J23=\"\",\"\",INDEX(Input!$A$5:$H$24,MATCH($A23&$J23,Input!$A$5:$A$24&Input!$G$5:$G$24,0),4))","v":""},{"$f":"IF($J23=\"\",\"\",INDEX(Input!$A$5:$H$24,MATCH($A23&$J23,Input!$A$5:$A$24&Input!$G$5:$G$24,0),5))","v":""},null,null,null,null,{"$f":"IF($A23=\"\",\"\",OFFSET(Input!F$4,MATCH($A23,Input!$A$5:$A$24,0),0))","v":""},{"$f":"IF(N23=\"SY\", T23, IF(N23=\"Tons\", W23, \"\"))","v":""},null,{"$f":"IF(N23=\"SY\", V23, IF(N23=\"Tons\", O23-P23, \"\"))","v":""},"\\",{"$f":"IF(A23=\"\",1,IF(ISERROR(MATCH(R23,Input!L$5:L$24,0)),2,1))","v":1},{"$f":"IF(A23=\"\", \"\", SUMIF($Q$8:$Q$17, \"*\" & LEFT(A23, 11) & \"*\", $S$8:$S$17))","v":""},null,{"$f":"IF(A23=\"\", \"\", SUMIF($Q$8:$Q$17, \"*\" & LEFT(A23, 11) & \"*\", $T$8:$T$17))","v":""},{"$f":"IF(N23=\"SY\", T23, IF(N23=\"Tons\", V23+P23, \"\"))","v":""}]
[null,null,null,null,null,{"$f":"IF($J24=\"\",\"\",INDEX(Input!$A$5:$H$24,MATCH($A24&$J24,Input!$A$5:$A$24&Input!$G$5:$G$24,0),2))","v":""},{"$f":"IF($J24=\"\",\"\",INDEX(Input!$A$5:$H$24,MATCH($A24&$J24,Input!$A$5:$A$24&Input!$G$5:$G$24,0),3))","v":""},{"$f":"IF($J24=\"\",\"\",INDEX(Input!$A$5:$H$24,MATCH($A24&$J24,Input!$A$5:$A$24&Input!$G$5:$G$24,0),4))","v":""},{"$f":"IF($J24=\"\",\"\",INDEX(Input!$A$5:$H$24,MATCH($A24&$J24,Input!$A$5:$A$24&Input!$G$5:$G$24,0),5))","v":""},null,null,null,null,{"$f":"IF($A24=\"\",\"\",OFFSET(Input!F$4,MATCH($A24,Input!$A$5:$A$24,0),0))","v":""},"",null,{"$f":"IF(N24=\"SY\", V24, IF(N24=\"Tons\", O24-P24, \"\"))","v":""},"\\",{"$f":"IF(A24=\"\",1,IF(ISERROR(MATCH(R24,Input!L$5:L$24,0)),2,1))","v":1},"",null,{"$f":"IF(A24=\"\", \"\", SUMIF($Q$8:$Q$17, \"*\" & LEFT(A24, 11) & \"*\", $T$8:$T$17))","v":""},{"$f":"IF(N24=\"SY\", T24, IF(N24=\"Tons\", V24+P24, \"\"))","v":""}]
[null,null,null,null,null,{"$f":"IF($J25=\"\",\"\",INDEX(Input!$A$5:$H$24,MATCH($A25&$J25,Input!$A$5:$A$24&Input!$G$5:$G$24,0),2))","v":""},{"$f":"IF($J25=\"\",\"\",INDEX(Input!$A$5:$H$24,MATCH($A25&$J25,Input!$A$5:$A$24&Input!$G$5:$G$24,0),3))","v":""},{"$f":"IF($J25=\"\",\"\",INDEX(Input!$A$5:$H$24,MATCH($A25&$J25,Input!$A$5:$A$24&Input!$G$5:$G$24,0),4))","v":""},{"$f":"IF($J25=\"\",\"\",INDEX(Input!$A$5:$H$24,MATCH($A25&$J25,Input!$A$5:$A$24&Input!$G$5:$G$24,0),5))","v":""},null,null,null,null,{"$f":"IF($A25=\"\",\"\",OFFSET(Input!F$4,MATCH($A25,Input!$A$5:$A$24,0),0))","v":""},"",null,"","\\",{"$f":"IF(A25=\"\",1,IF(ISERROR(MATCH(R25,Input!L$5:L$24,0)),2,1))","v":1},"",null,"",""]
[null,null,null,null,null,null,null,null,null,null,null,null,null,null,null,null,null,null,null,null,null,"",{"$f":"IF(N26=\"SY\", T26, IF(N26=\"Tons\", V26+P26, \"\"))","v":""},{"$f":"IF(A26=\"\", \"\", SUMIF($Q$8:$Q$17, \"*\" & LEFT(A26, 11) & \"*\", $S$8:$S$17))","v":""},{"$f":"IF(N26=\"SY\",X26,\"\")","v":""},{"$f":"IF(A26=\"\", \"\", SUMIF($Q$8:$Q$17, \"*\" & LEFT(A26, 11) & \"*\", $T$8:$T$17))","v":""}]
["Hot Box Sample",null,null,null,null,null,null,null,null,null,"Mat Temperatures °F"]
[null,"Test A","Test B","Test C","Test D","Test E",null,null,null,null,"Time","Temp"]
[" Hot Box ID Number  ",null,null,null,null,null,null,null,null,null,"7:00"]
["Hot Box Sample Tons: ",null,null,null,null,null,null,null,null,null,"9:00",null,null,null,"Intended Thickness:"]
[" Time: ",null,null,null,null,null,null,null,null,null,"11:00",null,null,null,"Cores Waived?"]
[" Station/MP: ",null,null,null,null,null,null,null,null,null,"1:00",null,null,null,"Small Quantity Statement?"]
["Bar Code ID.:",null,null,null,null,null,null,null,null,null,"3:00",null,null,null,"Scale Check Done?"]
["Compaction Temp. °F: ",null,null,null,null,null,null,null,null,null,"5:00",null,null,null,"Tack Tickets Today?"]
[null,null,null,null,null,null,null,null,null,null,"7:00"]
["The Below Comments should show up on the plant report"]
["Comments:"]
[]
[]
["The Below Notes are for the CPI from the field or Plant Monitor"]
["Notes:"]
[]
[]
["RANDOM CORE LOCATIONS"]
[null,null,null,null,null,null,null,"Core #","Station","Offset,ft","Joint Station","Lane"]
[null,null,null,null,null,null,null,1]
[null,null,null,null,null,null,null,2]
[null,null,null,null,null,null,null,3]
[null,null,null,null,null,null,null,4]
[null,null,null,null,null,null,null,5]
[null,null,null,null,null,null,null,6]
[null,null,null,null,null,null,null,7]
[null,null,null,null,null,null,null,8]
[]
[null,null,null,null,null,null,null,null,null,null,"Joint Sublot Size, ft"]
[null,null,null,null,null,null,null,null,null,null,0]
[]
[]
[]
[]
[]
[]
[]
[]
[]
[]
[]
[]
[]
[]
[]
[]
[]
[]
[]
[]
[]
[]
[]
[]
[]
[]
[]
[]
[]
[]
[]
[]
[]
[]
[]
[]
[]
[]
[]
[]
[false]

{"sheet":"50","index":65,"n_rows":97,"n_cols":26,"rows_kept":97,"cut":false,"hidden":false,"merged":[[50,11,50,13],[51,11,51,13],[52,11,52,13],[44,11,44,13],[45,11,45,13],[46,11,46,13],[47,11,47,13],[48,11,48,13],[49,11,49,13],[43,0,43,16],[25,0,25,1],[26,0,26,5],[26,20,26,23],[26,25,26,27],[34,2,34,4],[35,0,35,5],[36,1,36,14],[37,0,37,14],[39,0,39,5],[40,1,40,14],[41,0,41,14],[23,0,23,1],[23,2,23,4],[23,9,23,12],[24,0,24,1],[24,2,24,4],[24,9,24,12],[21,0,21,1],[21,2,21,4],[21,9,21,12],[22,0,22,1],[22,2,22,4],[22,9,22,12],[19,0,19,1],[19,2,19,4],[19,9,19,12],[20,0,20,1],[20,2,20,4],[20,9,20,12],[18,0,18,16],[6,14,6,15],[7,14,7,15],[8,14,8,15],[9,14,9,15],[10,14,10,15],[11,14,11,15],[12,14,12,15],[13,14,13,15],[14,14,14,15],[15,14,15,15],[16,14,16,15],[1,0,1,16],[4,0,4,15],[5,4,5,5],[5,8,5,9],[5,11,5,12],[5,13,5,15]]}
[]
["Iowa DOT HMA Field Report"]
["Date :"]
["Item No.('s)"]
["PLACEMENT RECORD",null,null,null,null,null,null,null,null,null,null,null,null,null,null,null,null,null,null,null,null,{"$f":"SUBSTITUTE(A21 & \"\\\" & J21,\"\"\"\",\"\")","v":"\\"}]
[null,null,null,null,"Additional width to DEDUCT from Field Voids",null,null,null,"Placed Density (Pounds/CF)=",null,150,"Overwritten on the \"Summary\" Tab",null,"ONLY ONE (1) MIX DESIGN PER DFR OTHERWISE IT WILL NOT IMPORT INTO THE PLANT REPORT PROPERLY",null,null,null,null,null,null,null,{"$f":"SUBSTITUTE(A22 & \"\\\" & J22,\"\"\"\",\"\")","v":"\\"}]
["From Station"," To Station","Lane","ML or Widening Placement Width","Additional Width (ft) ","Thickness (in)","Total Length Placed (FT)","\"Pay\"  Est \"SY\"","Thickness (inches)","Calculated Field Voids Tons","Placed Tons            (Not including Waste)","% Yield","SY to be PAID (If Diff. than Est SY)","Mix Design No.","Bid Item/ Project No.",null,null,null,"This uses the correct SY #, if Green is blank uses Est. SY","Adds up the Tons",null,"\\"]
[null,null,null,null,null,null,{"$f":"IF(OR(A8=\"\",B8=\"\"),0,IF($A$97=TRUE,ABS(B8-A8)*5280,ABS(VALUE(SUBSTITUTE(A8,\"+\",\"\"))-VALUE(SUBSTITUTE(B8,\"+\",\"\")))))","v":0},{"$f":"IF(D8=\"\",\"\",G8*(D8+E8)/9)","v":""},null,{"$f":"IF(I8=\"\",\"\",(G8)*(D8+E8)*I8/12*$K$6/2000)","v":""},null,{"$f":"IF(K8=\"\",\"\",K8/J8*100)","v":""},null,null,null,null,{"$f":"O8 & \"\\\" & N8","v":"\\"},{"$f":"IF(AND(A8=\"\",B8=\"\",C8=\"\",D8=\"\"),1,IF(OR(O8=\"\",N8=\"\"),2,IF(ISERROR(MATCH(Q8,Input!M$5:M$24,0)),2,1)))","v":1},{"$f":"IF(M8<>\"\", M8, H8)","v":""},{"$f":"K8","v":0},null,"\\"]
[null,null,null,null,null,null,{"$f":"IF(OR(A9=\"\",B9=\"\"),0,IF($A$97=TRUE,ABS(B9-A9)*5280,ABS(VALUE(SUBSTITUTE(A9,\"+\",\"\"))-VALUE(SUBSTITUTE(B9,\"+\",\"\")))))","v":0},{"$f":"IF(D9=\"\",\"\",G9*(D9+E9)/9)","v":""},null,"",null,{"$f":"IF(K9=\"\",\"\",K9/J9*100)","v":""},null,null,null,null,{"$f":"O9 & \"\\\" & N9","v":"\\"},{"$f":"IF(AND(A9=\"\",B9=\"\",C9=\"\",D9=\"\"),1,IF(OR(O9=\"\",N9=\"\"),2,IF(ISERROR(MATCH(Q9,Input!M$5:M$24,0)),2,1)))","v":1},{"$f":"IF(M9<>\"\", M9, H9)","v":""},{"$f":"K9","v":0},null,"\\"]
[null,null,null,null,null,null,0,"",null,"",null,"",null,null,null,null,"\\",{"$f":"IF(AND(A10=\"\",B10=\"\",C10=\"\",D10=\"\"),1,IF(OR(O10=\"\",N10=\"\"),2,IF(ISERROR(MATCH(Q10,Input!M$5:M$24,0)),2,1)))","v":1},{"$f":"IF(M10<>\"\", M10, H10)","v":""},0]
[null,null,null,null,null,null,0,"",null,"",null,"",null,null,null,null,"\\",{"$f":"IF(AND(A11=\"\",B11=\"\",C11=\"\",D11=\"\"),1,IF(OR(O11=\"\",N11=\"\"),2,IF(ISERROR(MATCH(Q11,Input!M$5:M$24,0)),2,1)))","v":1},"",0]
[null,null,null,null,null,null,0,"",null,"",null,"",null,null,null,null,"\\",{"$f":"IF(AND(A12=\"\",B12=\"\",C12=\"\",D12=\"\"),1,IF(OR(O12=\"\",N12=\"\"),2,IF(ISERROR(MATCH(Q12,Input!M$5:M$24,0)),2,1)))","v":1},"",0]
[null,null,null,null,null,null,0,"",null,"",null,"",null,null,null,null,"\\",{"$f":"IF(AND(A13=\"\",B13=\"\",C13=\"\",D13=\"\"),1,IF(OR(O13=\"\",N13=\"\"),2,IF(ISERROR(MATCH(Q13,Input!M$5:M$24,0)),2,1)))","v":1},"",0]
[null,null,null,null,null,null,0,"",null,"",null,"",null,null,null,null,"\\",{"$f":"IF(AND(A14=\"\",B14=\"\",C14=\"\",D14=\"\"),1,IF(OR(O14=\"\",N14=\"\"),2,IF(ISERROR(MATCH(Q14,Input!M$5:M$24,0)),2,1)))","v":1},"",0]
[null,null,null,null,null,null,0,"",null,"",null,"",null,null,null,null,"\\",{"$f":"IF(AND(A15=\"\",B15=\"\",C15=\"\",D15=\"\"),1,IF(OR(O15=\"\",N15=\"\"),2,IF(ISERROR(MATCH(Q15,Input!M$5:M$24,0)),2,1)))","v":1},"",0]
[null,null,null,null,null,null,0,"",null,"",null,"",null,null,null,null,"\\",{"$f":"IF(AND(A16=\"\",B16=\"\",C16=\"\",D16=\"\"),1,IF(OR(O16=\"\",N16=\"\"),2,IF(ISERROR(MATCH(Q16,Input!M$5:M$24,0)),2,1)))","v":1},"",0]
[null,null,null,null,null,null,0,"",null,"",null,"",null,null,null,null,"\\",{"$f":"IF(AND(A17=\"\",B17=\"\",C17=\"\",D17=\"\"),1,IF(OR(O17=\"\",N17=\"\"),2,IF(ISERROR(MATCH(Q17,Input!M$5:M$24,0)),2,1)))","v":1},"",0]
[]
["TANK SHEET"]
["Bid Item (In Order of Placement)",null,"Today's Placement",null,null,"Bid Item Plan Quantity","Plan Thickness (in)","Contract Mix Price","Contract Binder Price","Project Number",null,null,null,"Mix Pay Units","Mix Delivered to Road\n(Ton or SY)","Waste On Road (Ton)\nNO waste for SY Items","Tons Placed - Waste",null,null,"This adds up column S as it depends if the Est SY is filled out or the SY",null,"Use this Column for SY for the Q column","Uses this Value for Mix on Road"]
[null,null,null,null,null,{"$f":"IF($J21=\"\",\"\",INDEX(Input!$A$5:$H$24,MATCH($A21&$J21,Input!$A$5:$A$24&Input!$G$5:$G$24,0),2))","v":""},{"$f":"IF($J21=\"\",\"\",INDEX(Input!$A$5:$H$24,MATCH($A21&$J21,Input!$A$5:$A$24&Input!$G$5:$G$24,0),3))","v":""},{"$f":"IF($J21=\"\",\"\",INDEX(Input!$A$5:$H$24,MATCH($A21&$J21,Input!$A$5:$A$24&Input!$G$5:$G$24,0),4))","v":""},{"$f":"IF($J21=\"\",\"\",INDEX(Input!$A$5:$H$24,MATCH($A21&$J21,Input!$A$5:$A$24&Input!$G$5:$G$24,0),5))","v":""},null,null,null,null,{"$f":"IF($A21=\"\",\"\",OFFSET(Input!F$4,MATCH($A21,Input!$A$5:$A$24,0),0))","v":""},{"$f":"IF(N21=\"SY\", T21, IF(N21=\"Tons\", W21, \"\"))","v":""},null,{"$f":"IF(N21=\"SY\", V21, IF(N21=\"Tons\", O21-P21, \"\"))","v":""},{"$f":"SUBSTITUTE(A21 & \"\\\" & J21,\"\"\"\",\"\")","v":"\\"},{"$f":"IF(A21=\"\",1,IF(ISERROR(MATCH(R21,Input!L$5:L$24,0)),2,1))","v":1},{"$f":"IF(A21=\"\", \"\", SUMIF($Q$8:$Q$17, \"*\" & LEFT(A21, 11) & \"*\", $S$8:$S$17))","v":""},null,{"$f":"IF(A21=\"\", \"\", SUMIF($Q$8:$Q$17, \"*\" & LEFT(A21, 11) & \"*\", $T$8:$T$17))","v":""},{"$f":"IF(N21=\"SY\", T21, IF(N21=\"Tons\", V21+P21, \"\"))","v":""}]
[null,null,null,null,null,{"$f":"IF($J22=\"\",\"\",INDEX(Input!$A$5:$H$24,MATCH($A22&$J22,Input!$A$5:$A$24&Input!$G$5:$G$24,0),2))","v":""},{"$f":"IF($J22=\"\",\"\",INDEX(Input!$A$5:$H$24,MATCH($A22&$J22,Input!$A$5:$A$24&Input!$G$5:$G$24,0),3))","v":""},{"$f":"IF($J22=\"\",\"\",INDEX(Input!$A$5:$H$24,MATCH($A22&$J22,Input!$A$5:$A$24&Input!$G$5:$G$24,0),4))","v":""},{"$f":"IF($J22=\"\",\"\",INDEX(Input!$A$5:$H$24,MATCH($A22&$J22,Input!$A$5:$A$24&Input!$G$5:$G$24,0),5))","v":""},null,null,null,null,{"$f":"IF($A22=\"\",\"\",OFFSET(Input!F$4,MATCH($A22,Input!$A$5:$A$24,0),0))","v":""},{"$f":"IF(N22=\"SY\", T22, IF(N22=\"Tons\", W22, \"\"))","v":""},null,{"$f":"IF(N22=\"SY\", V22, IF(N22=\"Tons\", O22-P22, \"\"))","v":""},{"$f":"SUBSTITUTE(A22 & \"\\\" & J22,\"\"\"\",\"\")","v":"\\"},{"$f":"IF(A22=\"\",1,IF(ISERROR(MATCH(R22,Input!L$5:L$24,0)),2,1))","v":1},{"$f":"IF(A22=\"\", \"\", SUMIF($Q$8:$Q$17, \"*\" & LEFT(A22, 11) & \"*\", $S$8:$S$17))","v":""},null,{"$f":"IF(A22=\"\", \"\", SUMIF($Q$8:$Q$17, \"*\" & LEFT(A22, 11) & \"*\", $T$8:$T$17))","v":""},{"$f":"IF(N22=\"SY\", T22, IF(N22=\"Tons\", V22+P22, \"\"))","v":""}]
[null,null,null,null,null,{"$f":"IF($J23=\"\",\"\",INDEX(Input!$A$5:$H$24,MATCH($A23&$J23,Input!$A$5:$A$24&Input!$G$5:$G$24,0),2))","v":""},{"$f":"IF($J23=\"\",\"\",INDEX(Input!$A$5:$H$24,MATCH($A23&$J23,Input!$A$5:$A$24&Input!$G$5:$G$24,0),3))","v":""},{"$f":"IF($J23=\"\",\"\",INDEX(Input!$A$5:$H$24,MATCH($A23&$J23,Input!$A$5:$A$24&Input!$G$5:$G$24,0),4))","v":""},{"$f":"IF($J23=\"\",\"\",INDEX(Input!$A$5:$H$24,MATCH($A23&$J23,Input!$A$5:$A$24&Input!$G$5:$G$24,0),5))","v":""},null,null,null,null,{"$f":"IF($A23=\"\",\"\",OFFSET(Input!F$4,MATCH($A23,Input!$A$5:$A$24,0),0))","v":""},{"$f":"IF(N23=\"SY\", T23, IF(N23=\"Tons\", W23, \"\"))","v":""},null,{"$f":"IF(N23=\"SY\", V23, IF(N23=\"Tons\", O23-P23, \"\"))","v":""},"\\",{"$f":"IF(A23=\"\",1,IF(ISERROR(MATCH(R23,Input!L$5:L$24,0)),2,1))","v":1},{"$f":"IF(A23=\"\", \"\", SUMIF($Q$8:$Q$17, \"*\" & LEFT(A23, 11) & \"*\", $S$8:$S$17))","v":""},null,{"$f":"IF(A23=\"\", \"\", SUMIF($Q$8:$Q$17, \"*\" & LEFT(A23, 11) & \"*\", $T$8:$T$17))","v":""},{"$f":"IF(N23=\"SY\", T23, IF(N23=\"Tons\", V23+P23, \"\"))","v":""}]
[null,null,null,null,null,{"$f":"IF($J24=\"\",\"\",INDEX(Input!$A$5:$H$24,MATCH($A24&$J24,Input!$A$5:$A$24&Input!$G$5:$G$24,0),2))","v":""},{"$f":"IF($J24=\"\",\"\",INDEX(Input!$A$5:$H$24,MATCH($A24&$J24,Input!$A$5:$A$24&Input!$G$5:$G$24,0),3))","v":""},{"$f":"IF($J24=\"\",\"\",INDEX(Input!$A$5:$H$24,MATCH($A24&$J24,Input!$A$5:$A$24&Input!$G$5:$G$24,0),4))","v":""},{"$f":"IF($J24=\"\",\"\",INDEX(Input!$A$5:$H$24,MATCH($A24&$J24,Input!$A$5:$A$24&Input!$G$5:$G$24,0),5))","v":""},null,null,null,null,{"$f":"IF($A24=\"\",\"\",OFFSET(Input!F$4,MATCH($A24,Input!$A$5:$A$24,0),0))","v":""},"",null,{"$f":"IF(N24=\"SY\", V24, IF(N24=\"Tons\", O24-P24, \"\"))","v":""},"\\",{"$f":"IF(A24=\"\",1,IF(ISERROR(MATCH(R24,Input!L$5:L$24,0)),2,1))","v":1},"",null,{"$f":"IF(A24=\"\", \"\", SUMIF($Q$8:$Q$17, \"*\" & LEFT(A24, 11) & \"*\", $T$8:$T$17))","v":""},{"$f":"IF(N24=\"SY\", T24, IF(N24=\"Tons\", V24+P24, \"\"))","v":""}]
[null,null,null,null,null,{"$f":"IF($J25=\"\",\"\",INDEX(Input!$A$5:$H$24,MATCH($A25&$J25,Input!$A$5:$A$24&Input!$G$5:$G$24,0),2))","v":""},{"$f":"IF($J25=\"\",\"\",INDEX(Input!$A$5:$H$24,MATCH($A25&$J25,Input!$A$5:$A$24&Input!$G$5:$G$24,0),3))","v":""},{"$f":"IF($J25=\"\",\"\",INDEX(Input!$A$5:$H$24,MATCH($A25&$J25,Input!$A$5:$A$24&Input!$G$5:$G$24,0),4))","v":""},{"$f":"IF($J25=\"\",\"\",INDEX(Input!$A$5:$H$24,MATCH($A25&$J25,Input!$A$5:$A$24&Input!$G$5:$G$24,0),5))","v":""},null,null,null,null,{"$f":"IF($A25=\"\",\"\",OFFSET(Input!F$4,MATCH($A25,Input!$A$5:$A$24,0),0))","v":""},"",null,"","\\",{"$f":"IF(A25=\"\",1,IF(ISERROR(MATCH(R25,Input!L$5:L$24,0)),2,1))","v":1},"",null,"",""]
[null,null,null,null,null,null,null,null,null,null,null,null,null,null,null,null,null,null,null,null,null,"",{"$f":"IF(N26=\"SY\", T26, IF(N26=\"Tons\", V26+P26, \"\"))","v":""},{"$f":"IF(A26=\"\", \"\", SUMIF($Q$8:$Q$17, \"*\" & LEFT(A26, 11) & \"*\", $S$8:$S$17))","v":""},{"$f":"IF(N26=\"SY\",X26,\"\")","v":""},{"$f":"IF(A26=\"\", \"\", SUMIF($Q$8:$Q$17, \"*\" & LEFT(A26, 11) & \"*\", $T$8:$T$17))","v":""}]
["Hot Box Sample",null,null,null,null,null,null,null,null,null,"Mat Temperatures °F"]
[null,"Test A","Test B","Test C","Test D","Test E",null,null,null,null,"Time","Temp"]
[" Hot Box ID Number  ",null,null,null,null,null,null,null,null,null,"7:00"]
["Hot Box Sample Tons: ",null,null,null,null,null,null,null,null,null,"9:00",null,null,null,"Intended Thickness:"]
[" Time: ",null,null,null,null,null,null,null,null,null,"11:00",null,null,null,"Cores Waived?"]
[" Station/MP: ",null,null,null,null,null,null,null,null,null,"1:00",null,null,null,"Small Quantity Statement?"]
["Bar Code ID.:",null,null,null,null,null,null,null,null,null,"3:00",null,null,null,"Scale Check Done?"]
["Compaction Temp. °F: ",null,null,null,null,null,null,null,null,null,"5:00",null,null,null,"Tack Tickets Today?"]
[null,null,null,null,null,null,null,null,null,null,"7:00"]
["The Below Comments should show up on the plant report"]
["Comments:"]
[]
[]
["The Below Notes are for the CPI from the field or Plant Monitor"]
["Notes:"]
[]
[]
["RANDOM CORE LOCATIONS"]
[null,null,null,null,null,null,null,"Core #","Station","Offset,ft","Joint Station","Lane"]
[null,null,null,null,null,null,null,1]
[null,null,null,null,null,null,null,2]
[null,null,null,null,null,null,null,3]
[null,null,null,null,null,null,null,4]
[null,null,null,null,null,null,null,5]
[null,null,null,null,null,null,null,6]
[null,null,null,null,null,null,null,7]
[null,null,null,null,null,null,null,8]
[]
[null,null,null,null,null,null,null,null,null,null,"Joint Sublot Size, ft"]
[null,null,null,null,null,null,null,null,null,null,0]
[]
[]
[]
[]
[]
[]
[]
[]
[]
[]
[]
[]
[]
[]
[]
[]
[]
[]
[]
[]
[]
[]
[]
[]
[]
[]
[]
[]
[]
[]
[]
[]
[]
[]
[]
[]
[]
[]
[]
[]
[false]

{"sheet":"51","index":66,"n_rows":97,"n_cols":26,"rows_kept":97,"cut":false,"hidden":false,"merged":[[50,11,50,13],[51,11,51,13],[52,11,52,13],[44,11,44,13],[45,11,45,13],[46,11,46,13],[47,11,47,13],[48,11,48,13],[49,11,49,13],[43,0,43,16],[25,0,25,1],[26,0,26,5],[26,20,26,23],[26,25,26,27],[34,2,34,4],[35,0,35,5],[36,1,36,14],[37,0,37,14],[39,0,39,5],[40,1,40,14],[41,0,41,14],[23,0,23,1],[23,2,23,4],[23,9,23,12],[24,0,24,1],[24,2,24,4],[24,9,24,12],[21,0,21,1],[21,2,21,4],[21,9,21,12],[22,0,22,1],[22,2,22,4],[22,9,22,12],[19,0,19,1],[19,2,19,4],[19,9,19,12],[20,0,20,1],[20,2,20,4],[20,9,20,12],[18,0,18,16],[6,14,6,15],[7,14,7,15],[8,14,8,15],[9,14,9,15],[10,14,10,15],[11,14,11,15],[12,14,12,15],[13,14,13,15],[14,14,14,15],[15,14,15,15],[16,14,16,15],[1,0,1,16],[4,0,4,15],[5,4,5,5],[5,8,5,9],[5,11,5,12],[5,13,5,15]]}
[]
["Iowa DOT HMA Field Report"]
["Date :"]
["Item No.('s)"]
["PLACEMENT RECORD",null,null,null,null,null,null,null,null,null,null,null,null,null,null,null,null,null,null,null,null,{"$f":"SUBSTITUTE(A21 & \"\\\" & J21,\"\"\"\",\"\")","v":"\\"}]
[null,null,null,null,"Additional width to DEDUCT from Field Voids",null,null,null,"Placed Density (Pounds/CF)=",null,150,"Overwritten on the \"Summary\" Tab",null,"ONLY ONE (1) MIX DESIGN PER DFR OTHERWISE IT WILL NOT IMPORT INTO THE PLANT REPORT PROPERLY",null,null,null,null,null,null,null,{"$f":"SUBSTITUTE(A22 & \"\\\" & J22,\"\"\"\",\"\")","v":"\\"}]
["From Station"," To Station","Lane","ML or Widening Placement Width","Additional Width (ft) ","Thickness (in)","Total Length Placed (FT)","\"Pay\"  Est \"SY\"","Thickness (inches)","Calculated Field Voids Tons","Placed Tons            (Not including Waste)","% Yield","SY to be PAID (If Diff. than Est SY)","Mix Design No.","Bid Item/ Project No.",null,null,null,"This uses the correct SY #, if Green is blank uses Est. SY","Adds up the Tons",null,"\\"]
[null,null,null,null,null,null,{"$f":"IF(OR(A8=\"\",B8=\"\"),0,IF($A$97=TRUE,ABS(B8-A8)*5280,ABS(VALUE(SUBSTITUTE(A8,\"+\",\"\"))-VALUE(SUBSTITUTE(B8,\"+\",\"\")))))","v":0},{"$f":"IF(D8=\"\",\"\",G8*(D8+E8)/9)","v":""},null,{"$f":"IF(I8=\"\",\"\",(G8)*(D8+E8)*I8/12*$K$6/2000)","v":""},null,{"$f":"IF(K8=\"\",\"\",K8/J8*100)","v":""},null,null,null,null,{"$f":"O8 & \"\\\" & N8","v":"\\"},{"$f":"IF(AND(A8=\"\",B8=\"\",C8=\"\",D8=\"\"),1,IF(OR(O8=\"\",N8=\"\"),2,IF(ISERROR(MATCH(Q8,Input!M$5:M$24,0)),2,1)))","v":1},{"$f":"IF(M8<>\"\", M8, H8)","v":""},{"$f":"K8","v":0},null,"\\"]
[null,null,null,null,null,null,{"$f":"IF(OR(A9=\"\",B9=\"\"),0,IF($A$97=TRUE,ABS(B9-A9)*5280,ABS(VALUE(SUBSTITUTE(A9,\"+\",\"\"))-VALUE(SUBSTITUTE(B9,\"+\",\"\")))))","v":0},{"$f":"IF(D9=\"\",\"\",G9*(D9+E9)/9)","v":""},null,"",null,{"$f":"IF(K9=\"\",\"\",K9/J9*100)","v":""},null,null,null,null,{"$f":"O9 & \"\\\" & N9","v":"\\"},{"$f":"IF(AND(A9=\"\",B9=\"\",C9=\"\",D9=\"\"),1,IF(OR(O9=\"\",N9=\"\"),2,IF(ISERROR(MATCH(Q9,Input!M$5:M$24,0)),2,1)))","v":1},{"$f":"IF(M9<>\"\", M9, H9)","v":""},{"$f":"K9","v":0},null,"\\"]
[null,null,null,null,null,null,0,"",null,"",null,"",null,null,null,null,"\\",{"$f":"IF(AND(A10=\"\",B10=\"\",C10=\"\",D10=\"\"),1,IF(OR(O10=\"\",N10=\"\"),2,IF(ISERROR(MATCH(Q10,Input!M$5:M$24,0)),2,1)))","v":1},{"$f":"IF(M10<>\"\", M10, H10)","v":""},0]
[null,null,null,null,null,null,0,"",null,"",null,"",null,null,null,null,"\\",{"$f":"IF(AND(A11=\"\",B11=\"\",C11=\"\",D11=\"\"),1,IF(OR(O11=\"\",N11=\"\"),2,IF(ISERROR(MATCH(Q11,Input!M$5:M$24,0)),2,1)))","v":1},"",0]
[null,null,null,null,null,null,0,"",null,"",null,"",null,null,null,null,"\\",{"$f":"IF(AND(A12=\"\",B12=\"\",C12=\"\",D12=\"\"),1,IF(OR(O12=\"\",N12=\"\"),2,IF(ISERROR(MATCH(Q12,Input!M$5:M$24,0)),2,1)))","v":1},"",0]
[null,null,null,null,null,null,0,"",null,"",null,"",null,null,null,null,"\\",{"$f":"IF(AND(A13=\"\",B13=\"\",C13=\"\",D13=\"\"),1,IF(OR(O13=\"\",N13=\"\"),2,IF(ISERROR(MATCH(Q13,Input!M$5:M$24,0)),2,1)))","v":1},"",0]
[null,null,null,null,null,null,0,"",null,"",null,"",null,null,null,null,"\\",{"$f":"IF(AND(A14=\"\",B14=\"\",C14=\"\",D14=\"\"),1,IF(OR(O14=\"\",N14=\"\"),2,IF(ISERROR(MATCH(Q14,Input!M$5:M$24,0)),2,1)))","v":1},"",0]
[null,null,null,null,null,null,0,"",null,"",null,"",null,null,null,null,"\\",{"$f":"IF(AND(A15=\"\",B15=\"\",C15=\"\",D15=\"\"),1,IF(OR(O15=\"\",N15=\"\"),2,IF(ISERROR(MATCH(Q15,Input!M$5:M$24,0)),2,1)))","v":1},"",0]
[null,null,null,null,null,null,0,"",null,"",null,"",null,null,null,null,"\\",{"$f":"IF(AND(A16=\"\",B16=\"\",C16=\"\",D16=\"\"),1,IF(OR(O16=\"\",N16=\"\"),2,IF(ISERROR(MATCH(Q16,Input!M$5:M$24,0)),2,1)))","v":1},"",0]
[null,null,null,null,null,null,0,"",null,"",null,"",null,null,null,null,"\\",{"$f":"IF(AND(A17=\"\",B17=\"\",C17=\"\",D17=\"\"),1,IF(OR(O17=\"\",N17=\"\"),2,IF(ISERROR(MATCH(Q17,Input!M$5:M$24,0)),2,1)))","v":1},"",0]
[]
["TANK SHEET"]
["Bid Item (In Order of Placement)",null,"Today's Placement",null,null,"Bid Item Plan Quantity","Plan Thickness (in)","Contract Mix Price","Contract Binder Price","Project Number",null,null,null,"Mix Pay Units","Mix Delivered to Road\n(Ton or SY)","Waste On Road (Ton)\nNO waste for SY Items","Tons Placed - Waste",null,null,"This adds up column S as it depends if the Est SY is filled out or the SY",null,"Use this Column for SY for the Q column","Uses this Value for Mix on Road"]
[null,null,null,null,null,{"$f":"IF($J21=\"\",\"\",INDEX(Input!$A$5:$H$24,MATCH($A21&$J21,Input!$A$5:$A$24&Input!$G$5:$G$24,0),2))","v":""},{"$f":"IF($J21=\"\",\"\",INDEX(Input!$A$5:$H$24,MATCH($A21&$J21,Input!$A$5:$A$24&Input!$G$5:$G$24,0),3))","v":""},{"$f":"IF($J21=\"\",\"\",INDEX(Input!$A$5:$H$24,MATCH($A21&$J21,Input!$A$5:$A$24&Input!$G$5:$G$24,0),4))","v":""},{"$f":"IF($J21=\"\",\"\",INDEX(Input!$A$5:$H$24,MATCH($A21&$J21,Input!$A$5:$A$24&Input!$G$5:$G$24,0),5))","v":""},null,null,null,null,{"$f":"IF($A21=\"\",\"\",OFFSET(Input!F$4,MATCH($A21,Input!$A$5:$A$24,0),0))","v":""},{"$f":"IF(N21=\"SY\", T21, IF(N21=\"Tons\", W21, \"\"))","v":""},null,{"$f":"IF(N21=\"SY\", V21, IF(N21=\"Tons\", O21-P21, \"\"))","v":""},{"$f":"SUBSTITUTE(A21 & \"\\\" & J21,\"\"\"\",\"\")","v":"\\"},{"$f":"IF(A21=\"\",1,IF(ISERROR(MATCH(R21,Input!L$5:L$24,0)),2,1))","v":1},{"$f":"IF(A21=\"\", \"\", SUMIF($Q$8:$Q$17, \"*\" & LEFT(A21, 11) & \"*\", $S$8:$S$17))","v":""},null,{"$f":"IF(A21=\"\", \"\", SUMIF($Q$8:$Q$17, \"*\" & LEFT(A21, 11) & \"*\", $T$8:$T$17))","v":""},{"$f":"IF(N21=\"SY\", T21, IF(N21=\"Tons\", V21+P21, \"\"))","v":""}]
[null,null,null,null,null,{"$f":"IF($J22=\"\",\"\",INDEX(Input!$A$5:$H$24,MATCH($A22&$J22,Input!$A$5:$A$24&Input!$G$5:$G$24,0),2))","v":""},{"$f":"IF($J22=\"\",\"\",INDEX(Input!$A$5:$H$24,MATCH($A22&$J22,Input!$A$5:$A$24&Input!$G$5:$G$24,0),3))","v":""},{"$f":"IF($J22=\"\",\"\",INDEX(Input!$A$5:$H$24,MATCH($A22&$J22,Input!$A$5:$A$24&Input!$G$5:$G$24,0),4))","v":""},{"$f":"IF($J22=\"\",\"\",INDEX(Input!$A$5:$H$24,MATCH($A22&$J22,Input!$A$5:$A$24&Input!$G$5:$G$24,0),5))","v":""},null,null,null,null,{"$f":"IF($A22=\"\",\"\",OFFSET(Input!F$4,MATCH($A22,Input!$A$5:$A$24,0),0))","v":""},{"$f":"IF(N22=\"SY\", T22, IF(N22=\"Tons\", W22, \"\"))","v":""},null,{"$f":"IF(N22=\"SY\", V22, IF(N22=\"Tons\", O22-P22, \"\"))","v":""},{"$f":"SUBSTITUTE(A22 & \"\\\" & J22,\"\"\"\",\"\")","v":"\\"},{"$f":"IF(A22=\"\",1,IF(ISERROR(MATCH(R22,Input!L$5:L$24,0)),2,1))","v":1},{"$f":"IF(A22=\"\", \"\", SUMIF($Q$8:$Q$17, \"*\" & LEFT(A22, 11) & \"*\", $S$8:$S$17))","v":""},null,{"$f":"IF(A22=\"\", \"\", SUMIF($Q$8:$Q$17, \"*\" & LEFT(A22, 11) & \"*\", $T$8:$T$17))","v":""},{"$f":"IF(N22=\"SY\", T22, IF(N22=\"Tons\", V22+P22, \"\"))","v":""}]
[null,null,null,null,null,{"$f":"IF($J23=\"\",\"\",INDEX(Input!$A$5:$H$24,MATCH($A23&$J23,Input!$A$5:$A$24&Input!$G$5:$G$24,0),2))","v":""},{"$f":"IF($J23=\"\",\"\",INDEX(Input!$A$5:$H$24,MATCH($A23&$J23,Input!$A$5:$A$24&Input!$G$5:$G$24,0),3))","v":""},{"$f":"IF($J23=\"\",\"\",INDEX(Input!$A$5:$H$24,MATCH($A23&$J23,Input!$A$5:$A$24&Input!$G$5:$G$24,0),4))","v":""},{"$f":"IF($J23=\"\",\"\",INDEX(Input!$A$5:$H$24,MATCH($A23&$J23,Input!$A$5:$A$24&Input!$G$5:$G$24,0),5))","v":""},null,null,null,null,{"$f":"IF($A23=\"\",\"\",OFFSET(Input!F$4,MATCH($A23,Input!$A$5:$A$24,0),0))","v":""},{"$f":"IF(N23=\"SY\", T23, IF(N23=\"Tons\", W23, \"\"))","v":""},null,{"$f":"IF(N23=\"SY\", V23, IF(N23=\"Tons\", O23-P23, \"\"))","v":""},"\\",{"$f":"IF(A23=\"\",1,IF(ISERROR(MATCH(R23,Input!L$5:L$24,0)),2,1))","v":1},{"$f":"IF(A23=\"\", \"\", SUMIF($Q$8:$Q$17, \"*\" & LEFT(A23, 11) & \"*\", $S$8:$S$17))","v":""},null,{"$f":"IF(A23=\"\", \"\", SUMIF($Q$8:$Q$17, \"*\" & LEFT(A23, 11) & \"*\", $T$8:$T$17))","v":""},{"$f":"IF(N23=\"SY\", T23, IF(N23=\"Tons\", V23+P23, \"\"))","v":""}]
[null,null,null,null,null,{"$f":"IF($J24=\"\",\"\",INDEX(Input!$A$5:$H$24,MATCH($A24&$J24,Input!$A$5:$A$24&Input!$G$5:$G$24,0),2))","v":""},{"$f":"IF($J24=\"\",\"\",INDEX(Input!$A$5:$H$24,MATCH($A24&$J24,Input!$A$5:$A$24&Input!$G$5:$G$24,0),3))","v":""},{"$f":"IF($J24=\"\",\"\",INDEX(Input!$A$5:$H$24,MATCH($A24&$J24,Input!$A$5:$A$24&Input!$G$5:$G$24,0),4))","v":""},{"$f":"IF($J24=\"\",\"\",INDEX(Input!$A$5:$H$24,MATCH($A24&$J24,Input!$A$5:$A$24&Input!$G$5:$G$24,0),5))","v":""},null,null,null,null,{"$f":"IF($A24=\"\",\"\",OFFSET(Input!F$4,MATCH($A24,Input!$A$5:$A$24,0),0))","v":""},"",null,{"$f":"IF(N24=\"SY\", V24, IF(N24=\"Tons\", O24-P24, \"\"))","v":""},"\\",{"$f":"IF(A24=\"\",1,IF(ISERROR(MATCH(R24,Input!L$5:L$24,0)),2,1))","v":1},"",null,{"$f":"IF(A24=\"\", \"\", SUMIF($Q$8:$Q$17, \"*\" & LEFT(A24, 11) & \"*\", $T$8:$T$17))","v":""},{"$f":"IF(N24=\"SY\", T24, IF(N24=\"Tons\", V24+P24, \"\"))","v":""}]
[null,null,null,null,null,{"$f":"IF($J25=\"\",\"\",INDEX(Input!$A$5:$H$24,MATCH($A25&$J25,Input!$A$5:$A$24&Input!$G$5:$G$24,0),2))","v":""},{"$f":"IF($J25=\"\",\"\",INDEX(Input!$A$5:$H$24,MATCH($A25&$J25,Input!$A$5:$A$24&Input!$G$5:$G$24,0),3))","v":""},{"$f":"IF($J25=\"\",\"\",INDEX(Input!$A$5:$H$24,MATCH($A25&$J25,Input!$A$5:$A$24&Input!$G$5:$G$24,0),4))","v":""},{"$f":"IF($J25=\"\",\"\",INDEX(Input!$A$5:$H$24,MATCH($A25&$J25,Input!$A$5:$A$24&Input!$G$5:$G$24,0),5))","v":""},null,null,null,null,{"$f":"IF($A25=\"\",\"\",OFFSET(Input!F$4,MATCH($A25,Input!$A$5:$A$24,0),0))","v":""},"",null,"","\\",{"$f":"IF(A25=\"\",1,IF(ISERROR(MATCH(R25,Input!L$5:L$24,0)),2,1))","v":1},"",null,"",""]
[null,null,null,null,null,null,null,null,null,null,null,null,null,null,null,null,null,null,null,null,null,"",{"$f":"IF(N26=\"SY\", T26, IF(N26=\"Tons\", V26+P26, \"\"))","v":""},{"$f":"IF(A26=\"\", \"\", SUMIF($Q$8:$Q$17, \"*\" & LEFT(A26, 11) & \"*\", $S$8:$S$17))","v":""},{"$f":"IF(N26=\"SY\",X26,\"\")","v":""},{"$f":"IF(A26=\"\", \"\", SUMIF($Q$8:$Q$17, \"*\" & LEFT(A26, 11) & \"*\", $T$8:$T$17))","v":""}]
["Hot Box Sample",null,null,null,null,null,null,null,null,null,"Mat Temperatures °F"]
[null,"Test A","Test B","Test C","Test D","Test E",null,null,null,null,"Time","Temp"]
[" Hot Box ID Number  ",null,null,null,null,null,null,null,null,null,"7:00"]
["Hot Box Sample Tons: ",null,null,null,null,null,null,null,null,null,"9:00",null,null,null,"Intended Thickness:"]
[" Time: ",null,null,null,null,null,null,null,null,null,"11:00",null,null,null,"Cores Waived?"]
[" Station/MP: ",null,null,null,null,null,null,null,null,null,"1:00",null,null,null,"Small Quantity Statement?"]
["Bar Code ID.:",null,null,null,null,null,null,null,null,null,"3:00",null,null,null,"Scale Check Done?"]
["Compaction Temp. °F: ",null,null,null,null,null,null,null,null,null,"5:00",null,null,null,"Tack Tickets Today?"]
[null,null,null,null,null,null,null,null,null,null,"7:00"]
["The Below Comments should show up on the plant report"]
["Comments:"]
[]
[]
["The Below Notes are for the CPI from the field or Plant Monitor"]
["Notes:"]
[]
[]
["RANDOM CORE LOCATIONS"]
[null,null,null,null,null,null,null,"Core #","Station","Offset,ft","Joint Station","Lane"]
[null,null,null,null,null,null,null,1]
[null,null,null,null,null,null,null,2]
[null,null,null,null,null,null,null,3]
[null,null,null,null,null,null,null,4]
[null,null,null,null,null,null,null,5]
[null,null,null,null,null,null,null,6]
[null,null,null,null,null,null,null,7]
[null,null,null,null,null,null,null,8]
[]
[null,null,null,null,null,null,null,null,null,null,"Joint Sublot Size, ft"]
[null,null,null,null,null,null,null,null,null,null,0]
[]
[]
[]
[]
[]
[]
[]
[]
[]
[]
[]
[]
[]
[]
[]
[]
[]
[]
[]
[]
[]
[]
[]
[]
[]
[]
[]
[]
[]
[]
[]
[]
[]
[]
[]
[]
[]
[]
[]
[]
[false]

{"sheet":"52","index":67,"n_rows":97,"n_cols":26,"rows_kept":97,"cut":false,"hidden":false,"merged":[[50,11,50,13],[51,11,51,13],[52,11,52,13],[44,11,44,13],[45,11,45,13],[46,11,46,13],[47,11,47,13],[48,11,48,13],[49,11,49,13],[43,0,43,16],[25,0,25,1],[26,0,26,5],[26,20,26,23],[26,25,26,27],[34,2,34,4],[35,0,35,5],[36,1,36,14],[37,0,37,14],[39,0,39,5],[40,1,40,14],[41,0,41,14],[23,0,23,1],[23,2,23,4],[23,9,23,12],[24,0,24,1],[24,2,24,4],[24,9,24,12],[21,0,21,1],[21,2,21,4],[21,9,21,12],[22,0,22,1],[22,2,22,4],[22,9,22,12],[19,0,19,1],[19,2,19,4],[19,9,19,12],[20,0,20,1],[20,2,20,4],[20,9,20,12],[18,0,18,16],[6,14,6,15],[7,14,7,15],[8,14,8,15],[9,14,9,15],[10,14,10,15],[11,14,11,15],[12,14,12,15],[13,14,13,15],[14,14,14,15],[15,14,15,15],[16,14,16,15],[1,0,1,16],[4,0,4,15],[5,4,5,5],[5,8,5,9],[5,11,5,12],[5,13,5,15]]}
[]
["Iowa DOT HMA Field Report"]
["Date :"]
["Item No.('s)"]
["PLACEMENT RECORD",null,null,null,null,null,null,null,null,null,null,null,null,null,null,null,null,null,null,null,null,{"$f":"SUBSTITUTE(A21 & \"\\\" & J21,\"\"\"\",\"\")","v":"\\"}]
[null,null,null,null,"Additional width to DEDUCT from Field Voids",null,null,null,"Placed Density (Pounds/CF)=",null,150,"Overwritten on the \"Summary\" Tab",null,"ONLY ONE (1) MIX DESIGN PER DFR OTHERWISE IT WILL NOT IMPORT INTO THE PLANT REPORT PROPERLY",null,null,null,null,null,null,null,{"$f":"SUBSTITUTE(A22 & \"\\\" & J22,\"\"\"\",\"\")","v":"\\"}]
["From Station"," To Station","Lane","ML or Widening Placement Width","Additional Width (ft) ","Thickness (in)","Total Length Placed (FT)","\"Pay\"  Est \"SY\"","Thickness (inches)","Calculated Field Voids Tons","Placed Tons            (Not including Waste)","% Yield","SY to be PAID (If Diff. than Est SY)","Mix Design No.","Bid Item/ Project No.",null,null,null,"This uses the correct SY #, if Green is blank uses Est. SY","Adds up the Tons",null,"\\"]
[null,null,null,null,null,null,{"$f":"IF(OR(A8=\"\",B8=\"\"),0,IF($A$97=TRUE,ABS(B8-A8)*5280,ABS(VALUE(SUBSTITUTE(A8,\"+\",\"\"))-VALUE(SUBSTITUTE(B8,\"+\",\"\")))))","v":0},{"$f":"IF(D8=\"\",\"\",G8*(D8+E8)/9)","v":""},null,{"$f":"IF(I8=\"\",\"\",(G8)*(D8+E8)*I8/12*$K$6/2000)","v":""},null,{"$f":"IF(K8=\"\",\"\",K8/J8*100)","v":""},null,null,null,null,{"$f":"O8 & \"\\\" & N8","v":"\\"},{"$f":"IF(AND(A8=\"\",B8=\"\",C8=\"\",D8=\"\"),1,IF(OR(O8=\"\",N8=\"\"),2,IF(ISERROR(MATCH(Q8,Input!M$5:M$24,0)),2,1)))","v":1},{"$f":"IF(M8<>\"\", M8, H8)","v":""},{"$f":"K8","v":0},null,"\\"]
[null,null,null,null,null,null,{"$f":"IF(OR(A9=\"\",B9=\"\"),0,IF($A$97=TRUE,ABS(B9-A9)*5280,ABS(VALUE(SUBSTITUTE(A9,\"+\",\"\"))-VALUE(SUBSTITUTE(B9,\"+\",\"\")))))","v":0},{"$f":"IF(D9=\"\",\"\",G9*(D9+E9)/9)","v":""},null,"",null,{"$f":"IF(K9=\"\",\"\",K9/J9*100)","v":""},null,null,null,null,{"$f":"O9 & \"\\\" & N9","v":"\\"},{"$f":"IF(AND(A9=\"\",B9=\"\",C9=\"\",D9=\"\"),1,IF(OR(O9=\"\",N9=\"\"),2,IF(ISERROR(MATCH(Q9,Input!M$5:M$24,0)),2,1)))","v":1},{"$f":"IF(M9<>\"\", M9, H9)","v":""},{"$f":"K9","v":0},null,"\\"]
[null,null,null,null,null,null,0,"",null,"",null,"",null,null,null,null,"\\",{"$f":"IF(AND(A10=\"\",B10=\"\",C10=\"\",D10=\"\"),1,IF(OR(O10=\"\",N10=\"\"),2,IF(ISERROR(MATCH(Q10,Input!M$5:M$24,0)),2,1)))","v":1},{"$f":"IF(M10<>\"\", M10, H10)","v":""},0]
[null,null,null,null,null,null,0,"",null,"",null,"",null,null,null,null,"\\",{"$f":"IF(AND(A11=\"\",B11=\"\",C11=\"\",D11=\"\"),1,IF(OR(O11=\"\",N11=\"\"),2,IF(ISERROR(MATCH(Q11,Input!M$5:M$24,0)),2,1)))","v":1},"",0]
[null,null,null,null,null,null,0,"",null,"",null,"",null,null,null,null,"\\",{"$f":"IF(AND(A12=\"\",B12=\"\",C12=\"\",D12=\"\"),1,IF(OR(O12=\"\",N12=\"\"),2,IF(ISERROR(MATCH(Q12,Input!M$5:M$24,0)),2,1)))","v":1},"",0]
[null,null,null,null,null,null,0,"",null,"",null,"",null,null,null,null,"\\",{"$f":"IF(AND(A13=\"\",B13=\"\",C13=\"\",D13=\"\"),1,IF(OR(O13=\"\",N13=\"\"),2,IF(ISERROR(MATCH(Q13,Input!M$5:M$24,0)),2,1)))","v":1},"",0]
[null,null,null,null,null,null,0,"",null,"",null,"",null,null,null,null,"\\",{"$f":"IF(AND(A14=\"\",B14=\"\",C14=\"\",D14=\"\"),1,IF(OR(O14=\"\",N14=\"\"),2,IF(ISERROR(MATCH(Q14,Input!M$5:M$24,0)),2,1)))","v":1},"",0]
[null,null,null,null,null,null,0,"",null,"",null,"",null,null,null,null,"\\",{"$f":"IF(AND(A15=\"\",B15=\"\",C15=\"\",D15=\"\"),1,IF(OR(O15=\"\",N15=\"\"),2,IF(ISERROR(MATCH(Q15,Input!M$5:M$24,0)),2,1)))","v":1},"",0]
[null,null,null,null,null,null,0,"",null,"",null,"",null,null,null,null,"\\",{"$f":"IF(AND(A16=\"\",B16=\"\",C16=\"\",D16=\"\"),1,IF(OR(O16=\"\",N16=\"\"),2,IF(ISERROR(MATCH(Q16,Input!M$5:M$24,0)),2,1)))","v":1},"",0]
[null,null,null,null,null,null,0,"",null,"",null,"",null,null,null,null,"\\",{"$f":"IF(AND(A17=\"\",B17=\"\",C17=\"\",D17=\"\"),1,IF(OR(O17=\"\",N17=\"\"),2,IF(ISERROR(MATCH(Q17,Input!M$5:M$24,0)),2,1)))","v":1},"",0]
[]
["TANK SHEET"]
["Bid Item (In Order of Placement)",null,"Today's Placement",null,null,"Bid Item Plan Quantity","Plan Thickness (in)","Contract Mix Price","Contract Binder Price","Project Number",null,null,null,"Mix Pay Units","Mix Delivered to Road\n(Ton or SY)","Waste On Road (Ton)\nNO waste for SY Items","Tons Placed - Waste",null,null,"This adds up column S as it depends if the Est SY is filled out or the SY",null,"Use this Column for SY for the Q column","Uses this Value for Mix on Road"]
[null,null,null,null,null,{"$f":"IF($J21=\"\",\"\",INDEX(Input!$A$5:$H$24,MATCH($A21&$J21,Input!$A$5:$A$24&Input!$G$5:$G$24,0),2))","v":""},{"$f":"IF($J21=\"\",\"\",INDEX(Input!$A$5:$H$24,MATCH($A21&$J21,Input!$A$5:$A$24&Input!$G$5:$G$24,0),3))","v":""},{"$f":"IF($J21=\"\",\"\",INDEX(Input!$A$5:$H$24,MATCH($A21&$J21,Input!$A$5:$A$24&Input!$G$5:$G$24,0),4))","v":""},{"$f":"IF($J21=\"\",\"\",INDEX(Input!$A$5:$H$24,MATCH($A21&$J21,Input!$A$5:$A$24&Input!$G$5:$G$24,0),5))","v":""},null,null,null,null,{"$f":"IF($A21=\"\",\"\",OFFSET(Input!F$4,MATCH($A21,Input!$A$5:$A$24,0),0))","v":""},{"$f":"IF(N21=\"SY\", T21, IF(N21=\"Tons\", W21, \"\"))","v":""},null,{"$f":"IF(N21=\"SY\", V21, IF(N21=\"Tons\", O21-P21, \"\"))","v":""},{"$f":"SUBSTITUTE(A21 & \"\\\" & J21,\"\"\"\",\"\")","v":"\\"},{"$f":"IF(A21=\"\",1,IF(ISERROR(MATCH(R21,Input!L$5:L$24,0)),2,1))","v":1},{"$f":"IF(A21=\"\", \"\", SUMIF($Q$8:$Q$17, \"*\" & LEFT(A21, 11) & \"*\", $S$8:$S$17))","v":""},null,{"$f":"IF(A21=\"\", \"\", SUMIF($Q$8:$Q$17, \"*\" & LEFT(A21, 11) & \"*\", $T$8:$T$17))","v":""},{"$f":"IF(N21=\"SY\", T21, IF(N21=\"Tons\", V21+P21, \"\"))","v":""}]
[null,null,null,null,null,{"$f":"IF($J22=\"\",\"\",INDEX(Input!$A$5:$H$24,MATCH($A22&$J22,Input!$A$5:$A$24&Input!$G$5:$G$24,0),2))","v":""},{"$f":"IF($J22=\"\",\"\",INDEX(Input!$A$5:$H$24,MATCH($A22&$J22,Input!$A$5:$A$24&Input!$G$5:$G$24,0),3))","v":""},{"$f":"IF($J22=\"\",\"\",INDEX(Input!$A$5:$H$24,MATCH($A22&$J22,Input!$A$5:$A$24&Input!$G$5:$G$24,0),4))","v":""},{"$f":"IF($J22=\"\",\"\",INDEX(Input!$A$5:$H$24,MATCH($A22&$J22,Input!$A$5:$A$24&Input!$G$5:$G$24,0),5))","v":""},null,null,null,null,{"$f":"IF($A22=\"\",\"\",OFFSET(Input!F$4,MATCH($A22,Input!$A$5:$A$24,0),0))","v":""},{"$f":"IF(N22=\"SY\", T22, IF(N22=\"Tons\", W22, \"\"))","v":""},null,{"$f":"IF(N22=\"SY\", V22, IF(N22=\"Tons\", O22-P22, \"\"))","v":""},{"$f":"SUBSTITUTE(A22 & \"\\\" & J22,\"\"\"\",\"\")","v":"\\"},{"$f":"IF(A22=\"\",1,IF(ISERROR(MATCH(R22,Input!L$5:L$24,0)),2,1))","v":1},{"$f":"IF(A22=\"\", \"\", SUMIF($Q$8:$Q$17, \"*\" & LEFT(A22, 11) & \"*\", $S$8:$S$17))","v":""},null,{"$f":"IF(A22=\"\", \"\", SUMIF($Q$8:$Q$17, \"*\" & LEFT(A22, 11) & \"*\", $T$8:$T$17))","v":""},{"$f":"IF(N22=\"SY\", T22, IF(N22=\"Tons\", V22+P22, \"\"))","v":""}]
[null,null,null,null,null,{"$f":"IF($J23=\"\",\"\",INDEX(Input!$A$5:$H$24,MATCH($A23&$J23,Input!$A$5:$A$24&Input!$G$5:$G$24,0),2))","v":""},{"$f":"IF($J23=\"\",\"\",INDEX(Input!$A$5:$H$24,MATCH($A23&$J23,Input!$A$5:$A$24&Input!$G$5:$G$24,0),3))","v":""},{"$f":"IF($J23=\"\",\"\",INDEX(Input!$A$5:$H$24,MATCH($A23&$J23,Input!$A$5:$A$24&Input!$G$5:$G$24,0),4))","v":""},{"$f":"IF($J23=\"\",\"\",INDEX(Input!$A$5:$H$24,MATCH($A23&$J23,Input!$A$5:$A$24&Input!$G$5:$G$24,0),5))","v":""},null,null,null,null,{"$f":"IF($A23=\"\",\"\",OFFSET(Input!F$4,MATCH($A23,Input!$A$5:$A$24,0),0))","v":""},{"$f":"IF(N23=\"SY\", T23, IF(N23=\"Tons\", W23, \"\"))","v":""},null,{"$f":"IF(N23=\"SY\", V23, IF(N23=\"Tons\", O23-P23, \"\"))","v":""},"\\",{"$f":"IF(A23=\"\",1,IF(ISERROR(MATCH(R23,Input!L$5:L$24,0)),2,1))","v":1},{"$f":"IF(A23=\"\", \"\", SUMIF($Q$8:$Q$17, \"*\" & LEFT(A23, 11) & \"*\", $S$8:$S$17))","v":""},null,{"$f":"IF(A23=\"\", \"\", SUMIF($Q$8:$Q$17, \"*\" & LEFT(A23, 11) & \"*\", $T$8:$T$17))","v":""},{"$f":"IF(N23=\"SY\", T23, IF(N23=\"Tons\", V23+P23, \"\"))","v":""}]
[null,null,null,null,null,{"$f":"IF($J24=\"\",\"\",INDEX(Input!$A$5:$H$24,MATCH($A24&$J24,Input!$A$5:$A$24&Input!$G$5:$G$24,0),2))","v":""},{"$f":"IF($J24=\"\",\"\",INDEX(Input!$A$5:$H$24,MATCH($A24&$J24,Input!$A$5:$A$24&Input!$G$5:$G$24,0),3))","v":""},{"$f":"IF($J24=\"\",\"\",INDEX(Input!$A$5:$H$24,MATCH($A24&$J24,Input!$A$5:$A$24&Input!$G$5:$G$24,0),4))","v":""},{"$f":"IF($J24=\"\",\"\",INDEX(Input!$A$5:$H$24,MATCH($A24&$J24,Input!$A$5:$A$24&Input!$G$5:$G$24,0),5))","v":""},null,null,null,null,{"$f":"IF($A24=\"\",\"\",OFFSET(Input!F$4,MATCH($A24,Input!$A$5:$A$24,0),0))","v":""},"",null,{"$f":"IF(N24=\"SY\", V24, IF(N24=\"Tons\", O24-P24, \"\"))","v":""},"\\",{"$f":"IF(A24=\"\",1,IF(ISERROR(MATCH(R24,Input!L$5:L$24,0)),2,1))","v":1},"",null,{"$f":"IF(A24=\"\", \"\", SUMIF($Q$8:$Q$17, \"*\" & LEFT(A24, 11) & \"*\", $T$8:$T$17))","v":""},{"$f":"IF(N24=\"SY\", T24, IF(N24=\"Tons\", V24+P24, \"\"))","v":""}]
[null,null,null,null,null,{"$f":"IF($J25=\"\",\"\",INDEX(Input!$A$5:$H$24,MATCH($A25&$J25,Input!$A$5:$A$24&Input!$G$5:$G$24,0),2))","v":""},{"$f":"IF($J25=\"\",\"\",INDEX(Input!$A$5:$H$24,MATCH($A25&$J25,Input!$A$5:$A$24&Input!$G$5:$G$24,0),3))","v":""},{"$f":"IF($J25=\"\",\"\",INDEX(Input!$A$5:$H$24,MATCH($A25&$J25,Input!$A$5:$A$24&Input!$G$5:$G$24,0),4))","v":""},{"$f":"IF($J25=\"\",\"\",INDEX(Input!$A$5:$H$24,MATCH($A25&$J25,Input!$A$5:$A$24&Input!$G$5:$G$24,0),5))","v":""},null,null,null,null,{"$f":"IF($A25=\"\",\"\",OFFSET(Input!F$4,MATCH($A25,Input!$A$5:$A$24,0),0))","v":""},"",null,"","\\",{"$f":"IF(A25=\"\",1,IF(ISERROR(MATCH(R25,Input!L$5:L$24,0)),2,1))","v":1},"",null,"",""]
[null,null,null,null,null,null,null,null,null,null,null,null,null,null,null,null,null,null,null,null,null,"",{"$f":"IF(N26=\"SY\", T26, IF(N26=\"Tons\", V26+P26, \"\"))","v":""},{"$f":"IF(A26=\"\", \"\", SUMIF($Q$8:$Q$17, \"*\" & LEFT(A26, 11) & \"*\", $S$8:$S$17))","v":""},{"$f":"IF(N26=\"SY\",X26,\"\")","v":""},{"$f":"IF(A26=\"\", \"\", SUMIF($Q$8:$Q$17, \"*\" & LEFT(A26, 11) & \"*\", $T$8:$T$17))","v":""}]
["Hot Box Sample",null,null,null,null,null,null,null,null,null,"Mat Temperatures °F"]
[null,"Test A","Test B","Test C","Test D","Test E",null,null,null,null,"Time","Temp"]
[" Hot Box ID Number  ",null,null,null,null,null,null,null,null,null,"7:00"]
["Hot Box Sample Tons: ",null,null,null,null,null,null,null,null,null,"9:00",null,null,null,"Intended Thickness:"]
[" Time: ",null,null,null,null,null,null,null,null,null,"11:00",null,null,null,"Cores Waived?"]
[" Station/MP: ",null,null,null,null,null,null,null,null,null,"1:00",null,null,null,"Small Quantity Statement?"]
["Bar Code ID.:",null,null,null,null,null,null,null,null,null,"3:00",null,null,null,"Scale Check Done?"]
["Compaction Temp. °F: ",null,null,null,null,null,null,null,null,null,"5:00",null,null,null,"Tack Tickets Today?"]
[null,null,null,null,null,null,null,null,null,null,"7:00"]
["The Below Comments should show up on the plant report"]
["Comments:"]
[]
[]
["The Below Notes are for the CPI from the field or Plant Monitor"]
["Notes:"]
[]
[]
["RANDOM CORE LOCATIONS"]
[null,null,null,null,null,null,null,"Core #","Station","Offset,ft","Joint Station","Lane"]
[null,null,null,null,null,null,null,1]
[null,null,null,null,null,null,null,2]
[null,null,null,null,null,null,null,3]
[null,null,null,null,null,null,null,4]
[null,null,null,null,null,null,null,5]
[null,null,null,null,null,null,null,6]
[null,null,null,null,null,null,null,7]
[null,null,null,null,null,null,null,8]
[]
[null,null,null,null,null,null,null,null,null,null,"Joint Sublot Size, ft"]
[null,null,null,null,null,null,null,null,null,null,0]
[]
[]
[]
[]
[]
[]
[]
[]
[]
[]
[]
[]
[]
[]
[]
[]
[]
[]
[]
[]
[]
[]
[]
[]
[]
[]
[]
[]
[]
[]
[]
[]
[]
[]
[]
[]
[]
[]
[]
[]
[false]

{"sheet":"53","index":68,"n_rows":97,"n_cols":26,"rows_kept":97,"cut":false,"hidden":false,"merged":[[50,11,50,13],[51,11,51,13],[52,11,52,13],[44,11,44,13],[45,11,45,13],[46,11,46,13],[47,11,47,13],[48,11,48,13],[49,11,49,13],[43,0,43,16],[25,0,25,1],[26,0,26,5],[26,20,26,23],[26,25,26,27],[34,2,34,4],[35,0,35,5],[36,1,36,14],[37,0,37,14],[39,0,39,5],[40,1,40,14],[41,0,41,14],[23,0,23,1],[23,2,23,4],[23,9,23,12],[24,0,24,1],[24,2,24,4],[24,9,24,12],[21,0,21,1],[21,2,21,4],[21,9,21,12],[22,0,22,1],[22,2,22,4],[22,9,22,12],[19,0,19,1],[19,2,19,4],[19,9,19,12],[20,0,20,1],[20,2,20,4],[20,9,20,12],[18,0,18,16],[6,14,6,15],[7,14,7,15],[8,14,8,15],[9,14,9,15],[10,14,10,15],[11,14,11,15],[12,14,12,15],[13,14,13,15],[14,14,14,15],[15,14,15,15],[16,14,16,15],[1,0,1,16],[4,0,4,15],[5,4,5,5],[5,8,5,9],[5,11,5,12],[5,13,5,15]]}
[]
["Iowa DOT HMA Field Report"]
["Date :"]
["Item No.('s)"]
["PLACEMENT RECORD",null,null,null,null,null,null,null,null,null,null,null,null,null,null,null,null,null,null,null,null,{"$f":"SUBSTITUTE(A21 & \"\\\" & J21,\"\"\"\",\"\")","v":"\\"}]
[null,null,null,null,"Additional width to DEDUCT from Field Voids",null,null,null,"Placed Density (Pounds/CF)=",null,150,"Overwritten on the \"Summary\" Tab",null,"ONLY ONE (1) MIX DESIGN PER DFR OTHERWISE IT WILL NOT IMPORT INTO THE PLANT REPORT PROPERLY",null,null,null,null,null,null,null,{"$f":"SUBSTITUTE(A22 & \"\\\" & J22,\"\"\"\",\"\")","v":"\\"}]
["From Station"," To Station","Lane","ML or Widening Placement Width","Additional Width (ft) ","Thickness (in)","Total Length Placed (FT)","\"Pay\"  Est \"SY\"","Thickness (inches)","Calculated Field Voids Tons","Placed Tons            (Not including Waste)","% Yield","SY to be PAID (If Diff. than Est SY)","Mix Design No.","Bid Item/ Project No.",null,null,null,"This uses the correct SY #, if Green is blank uses Est. SY","Adds up the Tons",null,"\\"]
[null,null,null,null,null,null,{"$f":"IF(OR(A8=\"\",B8=\"\"),0,IF($A$97=TRUE,ABS(B8-A8)*5280,ABS(VALUE(SUBSTITUTE(A8,\"+\",\"\"))-VALUE(SUBSTITUTE(B8,\"+\",\"\")))))","v":0},{"$f":"IF(D8=\"\",\"\",G8*(D8+E8)/9)","v":""},null,{"$f":"IF(I8=\"\",\"\",(G8)*(D8+E8)*I8/12*$K$6/2000)","v":""},null,{"$f":"IF(K8=\"\",\"\",K8/J8*100)","v":""},null,null,null,null,{"$f":"O8 & \"\\\" & N8","v":"\\"},{"$f":"IF(AND(A8=\"\",B8=\"\",C8=\"\",D8=\"\"),1,IF(OR(O8=\"\",N8=\"\"),2,IF(ISERROR(MATCH(Q8,Input!M$5:M$24,0)),2,1)))","v":1},{"$f":"IF(M8<>\"\", M8, H8)","v":""},{"$f":"K8","v":0},null,"\\"]
[null,null,null,null,null,null,{"$f":"IF(OR(A9=\"\",B9=\"\"),0,IF($A$97=TRUE,ABS(B9-A9)*5280,ABS(VALUE(SUBSTITUTE(A9,\"+\",\"\"))-VALUE(SUBSTITUTE(B9,\"+\",\"\")))))","v":0},{"$f":"IF(D9=\"\",\"\",G9*(D9+E9)/9)","v":""},null,"",null,{"$f":"IF(K9=\"\",\"\",K9/J9*100)","v":""},null,null,null,null,{"$f":"O9 & \"\\\" & N9","v":"\\"},{"$f":"IF(AND(A9=\"\",B9=\"\",C9=\"\",D9=\"\"),1,IF(OR(O9=\"\",N9=\"\"),2,IF(ISERROR(MATCH(Q9,Input!M$5:M$24,0)),2,1)))","v":1},{"$f":"IF(M9<>\"\", M9, H9)","v":""},{"$f":"K9","v":0},null,"\\"]
[null,null,null,null,null,null,0,"",null,"",null,"",null,null,null,null,"\\",{"$f":"IF(AND(A10=\"\",B10=\"\",C10=\"\",D10=\"\"),1,IF(OR(O10=\"\",N10=\"\"),2,IF(ISERROR(MATCH(Q10,Input!M$5:M$24,0)),2,1)))","v":1},{"$f":"IF(M10<>\"\", M10, H10)","v":""},0]
[null,null,null,null,null,null,0,"",null,"",null,"",null,null,null,null,"\\",{"$f":"IF(AND(A11=\"\",B11=\"\",C11=\"\",D11=\"\"),1,IF(OR(O11=\"\",N11=\"\"),2,IF(ISERROR(MATCH(Q11,Input!M$5:M$24,0)),2,1)))","v":1},"",0]
[null,null,null,null,null,null,0,"",null,"",null,"",null,null,null,null,"\\",{"$f":"IF(AND(A12=\"\",B12=\"\",C12=\"\",D12=\"\"),1,IF(OR(O12=\"\",N12=\"\"),2,IF(ISERROR(MATCH(Q12,Input!M$5:M$24,0)),2,1)))","v":1},"",0]
[null,null,null,null,null,null,0,"",null,"",null,"",null,null,null,null,"\\",{"$f":"IF(AND(A13=\"\",B13=\"\",C13=\"\",D13=\"\"),1,IF(OR(O13=\"\",N13=\"\"),2,IF(ISERROR(MATCH(Q13,Input!M$5:M$24,0)),2,1)))","v":1},"",0]
[null,null,null,null,null,null,0,"",null,"",null,"",null,null,null,null,"\\",{"$f":"IF(AND(A14=\"\",B14=\"\",C14=\"\",D14=\"\"),1,IF(OR(O14=\"\",N14=\"\"),2,IF(ISERROR(MATCH(Q14,Input!M$5:M$24,0)),2,1)))","v":1},"",0]
[null,null,null,null,null,null,0,"",null,"",null,"",null,null,null,null,"\\",{"$f":"IF(AND(A15=\"\",B15=\"\",C15=\"\",D15=\"\"),1,IF(OR(O15=\"\",N15=\"\"),2,IF(ISERROR(MATCH(Q15,Input!M$5:M$24,0)),2,1)))","v":1},"",0]
[null,null,null,null,null,null,0,"",null,"",null,"",null,null,null,null,"\\",{"$f":"IF(AND(A16=\"\",B16=\"\",C16=\"\",D16=\"\"),1,IF(OR(O16=\"\",N16=\"\"),2,IF(ISERROR(MATCH(Q16,Input!M$5:M$24,0)),2,1)))","v":1},"",0]
[null,null,null,null,null,null,0,"",null,"",null,"",null,null,null,null,"\\",{"$f":"IF(AND(A17=\"\",B17=\"\",C17=\"\",D17=\"\"),1,IF(OR(O17=\"\",N17=\"\"),2,IF(ISERROR(MATCH(Q17,Input!M$5:M$24,0)),2,1)))","v":1},"",0]
[]
["TANK SHEET"]
["Bid Item (In Order of Placement)",null,"Today's Placement",null,null,"Bid Item Plan Quantity","Plan Thickness (in)","Contract Mix Price","Contract Binder Price","Project Number",null,null,null,"Mix Pay Units","Mix Delivered to Road\n(Ton or SY)","Waste On Road (Ton)\nNO waste for SY Items","Tons Placed - Waste",null,null,"This adds up column S as it depends if the Est SY is filled out or the SY",null,"Use this Column for SY for the Q column","Uses this Value for Mix on Road"]
[null,null,null,null,null,{"$f":"IF($J21=\"\",\"\",INDEX(Input!$A$5:$H$24,MATCH($A21&$J21,Input!$A$5:$A$24&Input!$G$5:$G$24,0),2))","v":""},{"$f":"IF($J21=\"\",\"\",INDEX(Input!$A$5:$H$24,MATCH($A21&$J21,Input!$A$5:$A$24&Input!$G$5:$G$24,0),3))","v":""},{"$f":"IF($J21=\"\",\"\",INDEX(Input!$A$5:$H$24,MATCH($A21&$J21,Input!$A$5:$A$24&Input!$G$5:$G$24,0),4))","v":""},{"$f":"IF($J21=\"\",\"\",INDEX(Input!$A$5:$H$24,MATCH($A21&$J21,Input!$A$5:$A$24&Input!$G$5:$G$24,0),5))","v":""},null,null,null,null,{"$f":"IF($A21=\"\",\"\",OFFSET(Input!F$4,MATCH($A21,Input!$A$5:$A$24,0),0))","v":""},{"$f":"IF(N21=\"SY\", T21, IF(N21=\"Tons\", W21, \"\"))","v":""},null,{"$f":"IF(N21=\"SY\", V21, IF(N21=\"Tons\", O21-P21, \"\"))","v":""},{"$f":"SUBSTITUTE(A21 & \"\\\" & J21,\"\"\"\",\"\")","v":"\\"},{"$f":"IF(A21=\"\",1,IF(ISERROR(MATCH(R21,Input!L$5:L$24,0)),2,1))","v":1},{"$f":"IF(A21=\"\", \"\", SUMIF($Q$8:$Q$17, \"*\" & LEFT(A21, 11) & \"*\", $S$8:$S$17))","v":""},null,{"$f":"IF(A21=\"\", \"\", SUMIF($Q$8:$Q$17, \"*\" & LEFT(A21, 11) & \"*\", $T$8:$T$17))","v":""},{"$f":"IF(N21=\"SY\", T21, IF(N21=\"Tons\", V21+P21, \"\"))","v":""}]
[null,null,null,null,null,{"$f":"IF($J22=\"\",\"\",INDEX(Input!$A$5:$H$24,MATCH($A22&$J22,Input!$A$5:$A$24&Input!$G$5:$G$24,0),2))","v":""},{"$f":"IF($J22=\"\",\"\",INDEX(Input!$A$5:$H$24,MATCH($A22&$J22,Input!$A$5:$A$24&Input!$G$5:$G$24,0),3))","v":""},{"$f":"IF($J22=\"\",\"\",INDEX(Input!$A$5:$H$24,MATCH($A22&$J22,Input!$A$5:$A$24&Input!$G$5:$G$24,0),4))","v":""},{"$f":"IF($J22=\"\",\"\",INDEX(Input!$A$5:$H$24,MATCH($A22&$J22,Input!$A$5:$A$24&Input!$G$5:$G$24,0),5))","v":""},null,null,null,null,{"$f":"IF($A22=\"\",\"\",OFFSET(Input!F$4,MATCH($A22,Input!$A$5:$A$24,0),0))","v":""},{"$f":"IF(N22=\"SY\", T22, IF(N22=\"Tons\", W22, \"\"))","v":""},null,{"$f":"IF(N22=\"SY\", V22, IF(N22=\"Tons\", O22-P22, \"\"))","v":""},{"$f":"SUBSTITUTE(A22 & \"\\\" & J22,\"\"\"\",\"\")","v":"\\"},{"$f":"IF(A22=\"\",1,IF(ISERROR(MATCH(R22,Input!L$5:L$24,0)),2,1))","v":1},{"$f":"IF(A22=\"\", \"\", SUMIF($Q$8:$Q$17, \"*\" & LEFT(A22, 11) & \"*\", $S$8:$S$17))","v":""},null,{"$f":"IF(A22=\"\", \"\", SUMIF($Q$8:$Q$17, \"*\" & LEFT(A22, 11) & \"*\", $T$8:$T$17))","v":""},{"$f":"IF(N22=\"SY\", T22, IF(N22=\"Tons\", V22+P22, \"\"))","v":""}]
[null,null,null,null,null,{"$f":"IF($J23=\"\",\"\",INDEX(Input!$A$5:$H$24,MATCH($A23&$J23,Input!$A$5:$A$24&Input!$G$5:$G$24,0),2))","v":""},{"$f":"IF($J23=\"\",\"\",INDEX(Input!$A$5:$H$24,MATCH($A23&$J23,Input!$A$5:$A$24&Input!$G$5:$G$24,0),3))","v":""},{"$f":"IF($J23=\"\",\"\",INDEX(Input!$A$5:$H$24,MATCH($A23&$J23,Input!$A$5:$A$24&Input!$G$5:$G$24,0),4))","v":""},{"$f":"IF($J23=\"\",\"\",INDEX(Input!$A$5:$H$24,MATCH($A23&$J23,Input!$A$5:$A$24&Input!$G$5:$G$24,0),5))","v":""},null,null,null,null,{"$f":"IF($A23=\"\",\"\",OFFSET(Input!F$4,MATCH($A23,Input!$A$5:$A$24,0),0))","v":""},{"$f":"IF(N23=\"SY\", T23, IF(N23=\"Tons\", W23, \"\"))","v":""},null,{"$f":"IF(N23=\"SY\", V23, IF(N23=\"Tons\", O23-P23, \"\"))","v":""},"\\",{"$f":"IF(A23=\"\",1,IF(ISERROR(MATCH(R23,Input!L$5:L$24,0)),2,1))","v":1},{"$f":"IF(A23=\"\", \"\", SUMIF($Q$8:$Q$17, \"*\" & LEFT(A23, 11) & \"*\", $S$8:$S$17))","v":""},null,{"$f":"IF(A23=\"\", \"\", SUMIF($Q$8:$Q$17, \"*\" & LEFT(A23, 11) & \"*\", $T$8:$T$17))","v":""},{"$f":"IF(N23=\"SY\", T23, IF(N23=\"Tons\", V23+P23, \"\"))","v":""}]
[null,null,null,null,null,{"$f":"IF($J24=\"\",\"\",INDEX(Input!$A$5:$H$24,MATCH($A24&$J24,Input!$A$5:$A$24&Input!$G$5:$G$24,0),2))","v":""},{"$f":"IF($J24=\"\",\"\",INDEX(Input!$A$5:$H$24,MATCH($A24&$J24,Input!$A$5:$A$24&Input!$G$5:$G$24,0),3))","v":""},{"$f":"IF($J24=\"\",\"\",INDEX(Input!$A$5:$H$24,MATCH($A24&$J24,Input!$A$5:$A$24&Input!$G$5:$G$24,0),4))","v":""},{"$f":"IF($J24=\"\",\"\",INDEX(Input!$A$5:$H$24,MATCH($A24&$J24,Input!$A$5:$A$24&Input!$G$5:$G$24,0),5))","v":""},null,null,null,null,{"$f":"IF($A24=\"\",\"\",OFFSET(Input!F$4,MATCH($A24,Input!$A$5:$A$24,0),0))","v":""},"",null,{"$f":"IF(N24=\"SY\", V24, IF(N24=\"Tons\", O24-P24, \"\"))","v":""},"\\",{"$f":"IF(A24=\"\",1,IF(ISERROR(MATCH(R24,Input!L$5:L$24,0)),2,1))","v":1},"",null,{"$f":"IF(A24=\"\", \"\", SUMIF($Q$8:$Q$17, \"*\" & LEFT(A24, 11) & \"*\", $T$8:$T$17))","v":""},{"$f":"IF(N24=\"SY\", T24, IF(N24=\"Tons\", V24+P24, \"\"))","v":""}]
[null,null,null,null,null,{"$f":"IF($J25=\"\",\"\",INDEX(Input!$A$5:$H$24,MATCH($A25&$J25,Input!$A$5:$A$24&Input!$G$5:$G$24,0),2))","v":""},{"$f":"IF($J25=\"\",\"\",INDEX(Input!$A$5:$H$24,MATCH($A25&$J25,Input!$A$5:$A$24&Input!$G$5:$G$24,0),3))","v":""},{"$f":"IF($J25=\"\",\"\",INDEX(Input!$A$5:$H$24,MATCH($A25&$J25,Input!$A$5:$A$24&Input!$G$5:$G$24,0),4))","v":""},{"$f":"IF($J25=\"\",\"\",INDEX(Input!$A$5:$H$24,MATCH($A25&$J25,Input!$A$5:$A$24&Input!$G$5:$G$24,0),5))","v":""},null,null,null,null,{"$f":"IF($A25=\"\",\"\",OFFSET(Input!F$4,MATCH($A25,Input!$A$5:$A$24,0),0))","v":""},"",null,"","\\",{"$f":"IF(A25=\"\",1,IF(ISERROR(MATCH(R25,Input!L$5:L$24,0)),2,1))","v":1},"",null,"",""]
[null,null,null,null,null,null,null,null,null,null,null,null,null,null,null,null,null,null,null,null,null,"",{"$f":"IF(N26=\"SY\", T26, IF(N26=\"Tons\", V26+P26, \"\"))","v":""},{"$f":"IF(A26=\"\", \"\", SUMIF($Q$8:$Q$17, \"*\" & LEFT(A26, 11) & \"*\", $S$8:$S$17))","v":""},{"$f":"IF(N26=\"SY\",X26,\"\")","v":""},{"$f":"IF(A26=\"\", \"\", SUMIF($Q$8:$Q$17, \"*\" & LEFT(A26, 11) & \"*\", $T$8:$T$17))","v":""}]
["Hot Box Sample",null,null,null,null,null,null,null,null,null,"Mat Temperatures °F"]
[null,"Test A","Test B","Test C","Test D","Test E",null,null,null,null,"Time","Temp"]
[" Hot Box ID Number  ",null,null,null,null,null,null,null,null,null,"7:00"]
["Hot Box Sample Tons: ",null,null,null,null,null,null,null,null,null,"9:00",null,null,null,"Intended Thickness:"]
[" Time: ",null,null,null,null,null,null,null,null,null,"11:00",null,null,null,"Cores Waived?"]
[" Station/MP: ",null,null,null,null,null,null,null,null,null,"1:00",null,null,null,"Small Quantity Statement?"]
["Bar Code ID.:",null,null,null,null,null,null,null,null,null,"3:00",null,null,null,"Scale Check Done?"]
["Compaction Temp. °F: ",null,null,null,null,null,null,null,null,null,"5:00",null,null,null,"Tack Tickets Today?"]
[null,null,null,null,null,null,null,null,null,null,"7:00"]
["The Below Comments should show up on the plant report"]
["Comments:"]
[]
[]
["The Below Notes are for the CPI from the field or Plant Monitor"]
["Notes:"]
[]
[]
["RANDOM CORE LOCATIONS"]
[null,null,null,null,null,null,null,"Core #","Station","Offset,ft","Joint Station","Lane"]
[null,null,null,null,null,null,null,1]
[null,null,null,null,null,null,null,2]
[null,null,null,null,null,null,null,3]
[null,null,null,null,null,null,null,4]
[null,null,null,null,null,null,null,5]
[null,null,null,null,null,null,null,6]
[null,null,null,null,null,null,null,7]
[null,null,null,null,null,null,null,8]
[]
[null,null,null,null,null,null,null,null,null,null,"Joint Sublot Size, ft"]
[null,null,null,null,null,null,null,null,null,null,0]
[]
[]
[]
[]
[]
[]
[]
[]
[]
[]
[]
[]
[]
[]
[]
[]
[]
[]
[]
[]
[]
[]
[]
[]
[]
[]
[]
[]
[]
[]
[]
[]
[]
[]
[]
[]
[]
[]
[]
[]
[false]

{"sheet":"54","index":69,"n_rows":97,"n_cols":26,"rows_kept":97,"cut":false,"hidden":false,"merged":[[50,11,50,13],[51,11,51,13],[52,11,52,13],[44,11,44,13],[45,11,45,13],[46,11,46,13],[47,11,47,13],[48,11,48,13],[49,11,49,13],[43,0,43,16],[25,0,25,1],[26,0,26,5],[26,20,26,23],[26,25,26,27],[34,2,34,4],[35,0,35,5],[36,1,36,14],[37,0,37,14],[39,0,39,5],[40,1,40,14],[41,0,41,14],[23,0,23,1],[23,2,23,4],[23,9,23,12],[24,0,24,1],[24,2,24,4],[24,9,24,12],[21,0,21,1],[21,2,21,4],[21,9,21,12],[22,0,22,1],[22,2,22,4],[22,9,22,12],[19,0,19,1],[19,2,19,4],[19,9,19,12],[20,0,20,1],[20,2,20,4],[20,9,20,12],[18,0,18,16],[6,14,6,15],[7,14,7,15],[8,14,8,15],[9,14,9,15],[10,14,10,15],[11,14,11,15],[12,14,12,15],[13,14,13,15],[14,14,14,15],[15,14,15,15],[16,14,16,15],[1,0,1,16],[4,0,4,15],[5,4,5,5],[5,8,5,9],[5,11,5,12],[5,13,5,15]]}
[]
["Iowa DOT HMA Field Report"]
["Date :"]
["Item No.('s)"]
["PLACEMENT RECORD",null,null,null,null,null,null,null,null,null,null,null,null,null,null,null,null,null,null,null,null,{"$f":"SUBSTITUTE(A21 & \"\\\" & J21,\"\"\"\",\"\")","v":"\\"}]
[null,null,null,null,"Additional width to DEDUCT from Field Voids",null,null,null,"Placed Density (Pounds/CF)=",null,150,"Overwritten on the \"Summary\" Tab",null,"ONLY ONE (1) MIX DESIGN PER DFR OTHERWISE IT WILL NOT IMPORT INTO THE PLANT REPORT PROPERLY",null,null,null,null,null,null,null,{"$f":"SUBSTITUTE(A22 & \"\\\" & J22,\"\"\"\",\"\")","v":"\\"}]
["From Station"," To Station","Lane","ML or Widening Placement Width","Additional Width (ft) ","Thickness (in)","Total Length Placed (FT)","\"Pay\"  Est \"SY\"","Thickness (inches)","Calculated Field Voids Tons","Placed Tons            (Not including Waste)","% Yield","SY to be PAID (If Diff. than Est SY)","Mix Design No.","Bid Item/ Project No.",null,null,null,"This uses the correct SY #, if Green is blank uses Est. SY","Adds up the Tons",null,"\\"]
[null,null,null,null,null,null,{"$f":"IF(OR(A8=\"\",B8=\"\"),0,IF($A$97=TRUE,ABS(B8-A8)*5280,ABS(VALUE(SUBSTITUTE(A8,\"+\",\"\"))-VALUE(SUBSTITUTE(B8,\"+\",\"\")))))","v":0},{"$f":"IF(D8=\"\",\"\",G8*(D8+E8)/9)","v":""},null,{"$f":"IF(I8=\"\",\"\",(G8)*(D8+E8)*I8/12*$K$6/2000)","v":""},null,{"$f":"IF(K8=\"\",\"\",K8/J8*100)","v":""},null,null,null,null,{"$f":"O8 & \"\\\" & N8","v":"\\"},{"$f":"IF(AND(A8=\"\",B8=\"\",C8=\"\",D8=\"\"),1,IF(OR(O8=\"\",N8=\"\"),2,IF(ISERROR(MATCH(Q8,Input!M$5:M$24,0)),2,1)))","v":1},{"$f":"IF(M8<>\"\", M8, H8)","v":""},{"$f":"K8","v":0},null,"\\"]
[null,null,null,null,null,null,{"$f":"IF(OR(A9=\"\",B9=\"\"),0,IF($A$97=TRUE,ABS(B9-A9)*5280,ABS(VALUE(SUBSTITUTE(A9,\"+\",\"\"))-VALUE(SUBSTITUTE(B9,\"+\",\"\")))))","v":0},{"$f":"IF(D9=\"\",\"\",G9*(D9+E9)/9)","v":""},null,"",null,{"$f":"IF(K9=\"\",\"\",K9/J9*100)","v":""},null,null,null,null,{"$f":"O9 & \"\\\" & N9","v":"\\"},{"$f":"IF(AND(A9=\"\",B9=\"\",C9=\"\",D9=\"\"),1,IF(OR(O9=\"\",N9=\"\"),2,IF(ISERROR(MATCH(Q9,Input!M$5:M$24,0)),2,1)))","v":1},{"$f":"IF(M9<>\"\", M9, H9)","v":""},{"$f":"K9","v":0},null,"\\"]
[null,null,null,null,null,null,0,"",null,"",null,"",null,null,null,null,"\\",{"$f":"IF(AND(A10=\"\",B10=\"\",C10=\"\",D10=\"\"),1,IF(OR(O10=\"\",N10=\"\"),2,IF(ISERROR(MATCH(Q10,Input!M$5:M$24,0)),2,1)))","v":1},{"$f":"IF(M10<>\"\", M10, H10)","v":""},0]
[null,null,null,null,null,null,0,"",null,"",null,"",null,null,null,null,"\\",{"$f":"IF(AND(A11=\"\",B11=\"\",C11=\"\",D11=\"\"),1,IF(OR(O11=\"\",N11=\"\"),2,IF(ISERROR(MATCH(Q11,Input!M$5:M$24,0)),2,1)))","v":1},"",0]
[null,null,null,null,null,null,0,"",null,"",null,"",null,null,null,null,"\\",{"$f":"IF(AND(A12=\"\",B12=\"\",C12=\"\",D12=\"\"),1,IF(OR(O12=\"\",N12=\"\"),2,IF(ISERROR(MATCH(Q12,Input!M$5:M$24,0)),2,1)))","v":1},"",0]
[null,null,null,null,null,null,0,"",null,"",null,"",null,null,null,null,"\\",{"$f":"IF(AND(A13=\"\",B13=\"\",C13=\"\",D13=\"\"),1,IF(OR(O13=\"\",N13=\"\"),2,IF(ISERROR(MATCH(Q13,Input!M$5:M$24,0)),2,1)))","v":1},"",0]
[null,null,null,null,null,null,0,"",null,"",null,"",null,null,null,null,"\\",{"$f":"IF(AND(A14=\"\",B14=\"\",C14=\"\",D14=\"\"),1,IF(OR(O14=\"\",N14=\"\"),2,IF(ISERROR(MATCH(Q14,Input!M$5:M$24,0)),2,1)))","v":1},"",0]
[null,null,null,null,null,null,0,"",null,"",null,"",null,null,null,null,"\\",{"$f":"IF(AND(A15=\"\",B15=\"\",C15=\"\",D15=\"\"),1,IF(OR(O15=\"\",N15=\"\"),2,IF(ISERROR(MATCH(Q15,Input!M$5:M$24,0)),2,1)))","v":1},"",0]
[null,null,null,null,null,null,0,"",null,"",null,"",null,null,null,null,"\\",{"$f":"IF(AND(A16=\"\",B16=\"\",C16=\"\",D16=\"\"),1,IF(OR(O16=\"\",N16=\"\"),2,IF(ISERROR(MATCH(Q16,Input!M$5:M$24,0)),2,1)))","v":1},"",0]
[null,null,null,null,null,null,0,"",null,"",null,"",null,null,null,null,"\\",{"$f":"IF(AND(A17=\"\",B17=\"\",C17=\"\",D17=\"\"),1,IF(OR(O17=\"\",N17=\"\"),2,IF(ISERROR(MATCH(Q17,Input!M$5:M$24,0)),2,1)))","v":1},"",0]
[]
["TANK SHEET"]
["Bid Item (In Order of Placement)",null,"Today's Placement",null,null,"Bid Item Plan Quantity","Plan Thickness (in)","Contract Mix Price","Contract Binder Price","Project Number",null,null,null,"Mix Pay Units","Mix Delivered to Road\n(Ton or SY)","Waste On Road (Ton)\nNO waste for SY Items","Tons Placed - Waste",null,null,"This adds up column S as it depends if the Est SY is filled out or the SY",null,"Use this Column for SY for the Q column","Uses this Value for Mix on Road"]
[null,null,null,null,null,{"$f":"IF($J21=\"\",\"\",INDEX(Input!$A$5:$H$24,MATCH($A21&$J21,Input!$A$5:$A$24&Input!$G$5:$G$24,0),2))","v":""},{"$f":"IF($J21=\"\",\"\",INDEX(Input!$A$5:$H$24,MATCH($A21&$J21,Input!$A$5:$A$24&Input!$G$5:$G$24,0),3))","v":""},{"$f":"IF($J21=\"\",\"\",INDEX(Input!$A$5:$H$24,MATCH($A21&$J21,Input!$A$5:$A$24&Input!$G$5:$G$24,0),4))","v":""},{"$f":"IF($J21=\"\",\"\",INDEX(Input!$A$5:$H$24,MATCH($A21&$J21,Input!$A$5:$A$24&Input!$G$5:$G$24,0),5))","v":""},null,null,null,null,{"$f":"IF($A21=\"\",\"\",OFFSET(Input!F$4,MATCH($A21,Input!$A$5:$A$24,0),0))","v":""},{"$f":"IF(N21=\"SY\", T21, IF(N21=\"Tons\", W21, \"\"))","v":""},null,{"$f":"IF(N21=\"SY\", V21, IF(N21=\"Tons\", O21-P21, \"\"))","v":""},{"$f":"SUBSTITUTE(A21 & \"\\\" & J21,\"\"\"\",\"\")","v":"\\"},{"$f":"IF(A21=\"\",1,IF(ISERROR(MATCH(R21,Input!L$5:L$24,0)),2,1))","v":1},{"$f":"IF(A21=\"\", \"\", SUMIF($Q$8:$Q$17, \"*\" & LEFT(A21, 11) & \"*\", $S$8:$S$17))","v":""},null,{"$f":"IF(A21=\"\", \"\", SUMIF($Q$8:$Q$17, \"*\" & LEFT(A21, 11) & \"*\", $T$8:$T$17))","v":""},{"$f":"IF(N21=\"SY\", T21, IF(N21=\"Tons\", V21+P21, \"\"))","v":""}]
[null,null,null,null,null,{"$f":"IF($J22=\"\",\"\",INDEX(Input!$A$5:$H$24,MATCH($A22&$J22,Input!$A$5:$A$24&Input!$G$5:$G$24,0),2))","v":""},{"$f":"IF($J22=\"\",\"\",INDEX(Input!$A$5:$H$24,MATCH($A22&$J22,Input!$A$5:$A$24&Input!$G$5:$G$24,0),3))","v":""},{"$f":"IF($J22=\"\",\"\",INDEX(Input!$A$5:$H$24,MATCH($A22&$J22,Input!$A$5:$A$24&Input!$G$5:$G$24,0),4))","v":""},{"$f":"IF($J22=\"\",\"\",INDEX(Input!$A$5:$H$24,MATCH($A22&$J22,Input!$A$5:$A$24&Input!$G$5:$G$24,0),5))","v":""},null,null,null,null,{"$f":"IF($A22=\"\",\"\",OFFSET(Input!F$4,MATCH($A22,Input!$A$5:$A$24,0),0))","v":""},{"$f":"IF(N22=\"SY\", T22, IF(N22=\"Tons\", W22, \"\"))","v":""},null,{"$f":"IF(N22=\"SY\", V22, IF(N22=\"Tons\", O22-P22, \"\"))","v":""},{"$f":"SUBSTITUTE(A22 & \"\\\" & J22,\"\"\"\",\"\")","v":"\\"},{"$f":"IF(A22=\"\",1,IF(ISERROR(MATCH(R22,Input!L$5:L$24,0)),2,1))","v":1},{"$f":"IF(A22=\"\", \"\", SUMIF($Q$8:$Q$17, \"*\" & LEFT(A22, 11) & \"*\", $S$8:$S$17))","v":""},null,{"$f":"IF(A22=\"\", \"\", SUMIF($Q$8:$Q$17, \"*\" & LEFT(A22, 11) & \"*\", $T$8:$T$17))","v":""},{"$f":"IF(N22=\"SY\", T22, IF(N22=\"Tons\", V22+P22, \"\"))","v":""}]
[null,null,null,null,null,{"$f":"IF($J23=\"\",\"\",INDEX(Input!$A$5:$H$24,MATCH($A23&$J23,Input!$A$5:$A$24&Input!$G$5:$G$24,0),2))","v":""},{"$f":"IF($J23=\"\",\"\",INDEX(Input!$A$5:$H$24,MATCH($A23&$J23,Input!$A$5:$A$24&Input!$G$5:$G$24,0),3))","v":""},{"$f":"IF($J23=\"\",\"\",INDEX(Input!$A$5:$H$24,MATCH($A23&$J23,Input!$A$5:$A$24&Input!$G$5:$G$24,0),4))","v":""},{"$f":"IF($J23=\"\",\"\",INDEX(Input!$A$5:$H$24,MATCH($A23&$J23,Input!$A$5:$A$24&Input!$G$5:$G$24,0),5))","v":""},null,null,null,null,{"$f":"IF($A23=\"\",\"\",OFFSET(Input!F$4,MATCH($A23,Input!$A$5:$A$24,0),0))","v":""},{"$f":"IF(N23=\"SY\", T23, IF(N23=\"Tons\", W23, \"\"))","v":""},null,{"$f":"IF(N23=\"SY\", V23, IF(N23=\"Tons\", O23-P23, \"\"))","v":""},"\\",{"$f":"IF(A23=\"\",1,IF(ISERROR(MATCH(R23,Input!L$5:L$24,0)),2,1))","v":1},{"$f":"IF(A23=\"\", \"\", SUMIF($Q$8:$Q$17, \"*\" & LEFT(A23, 11) & \"*\", $S$8:$S$17))","v":""},null,{"$f":"IF(A23=\"\", \"\", SUMIF($Q$8:$Q$17, \"*\" & LEFT(A23, 11) & \"*\", $T$8:$T$17))","v":""},{"$f":"IF(N23=\"SY\", T23, IF(N23=\"Tons\", V23+P23, \"\"))","v":""}]
[null,null,null,null,null,{"$f":"IF($J24=\"\",\"\",INDEX(Input!$A$5:$H$24,MATCH($A24&$J24,Input!$A$5:$A$24&Input!$G$5:$G$24,0),2))","v":""},{"$f":"IF($J24=\"\",\"\",INDEX(Input!$A$5:$H$24,MATCH($A24&$J24,Input!$A$5:$A$24&Input!$G$5:$G$24,0),3))","v":""},{"$f":"IF($J24=\"\",\"\",INDEX(Input!$A$5:$H$24,MATCH($A24&$J24,Input!$A$5:$A$24&Input!$G$5:$G$24,0),4))","v":""},{"$f":"IF($J24=\"\",\"\",INDEX(Input!$A$5:$H$24,MATCH($A24&$J24,Input!$A$5:$A$24&Input!$G$5:$G$24,0),5))","v":""},null,null,null,null,{"$f":"IF($A24=\"\",\"\",OFFSET(Input!F$4,MATCH($A24,Input!$A$5:$A$24,0),0))","v":""},"",null,{"$f":"IF(N24=\"SY\", V24, IF(N24=\"Tons\", O24-P24, \"\"))","v":""},"\\",{"$f":"IF(A24=\"\",1,IF(ISERROR(MATCH(R24,Input!L$5:L$24,0)),2,1))","v":1},"",null,{"$f":"IF(A24=\"\", \"\", SUMIF($Q$8:$Q$17, \"*\" & LEFT(A24, 11) & \"*\", $T$8:$T$17))","v":""},{"$f":"IF(N24=\"SY\", T24, IF(N24=\"Tons\", V24+P24, \"\"))","v":""}]
[null,null,null,null,null,{"$f":"IF($J25=\"\",\"\",INDEX(Input!$A$5:$H$24,MATCH($A25&$J25,Input!$A$5:$A$24&Input!$G$5:$G$24,0),2))","v":""},{"$f":"IF($J25=\"\",\"\",INDEX(Input!$A$5:$H$24,MATCH($A25&$J25,Input!$A$5:$A$24&Input!$G$5:$G$24,0),3))","v":""},{"$f":"IF($J25=\"\",\"\",INDEX(Input!$A$5:$H$24,MATCH($A25&$J25,Input!$A$5:$A$24&Input!$G$5:$G$24,0),4))","v":""},{"$f":"IF($J25=\"\",\"\",INDEX(Input!$A$5:$H$24,MATCH($A25&$J25,Input!$A$5:$A$24&Input!$G$5:$G$24,0),5))","v":""},null,null,null,null,{"$f":"IF($A25=\"\",\"\",OFFSET(Input!F$4,MATCH($A25,Input!$A$5:$A$24,0),0))","v":""},"",null,"","\\",{"$f":"IF(A25=\"\",1,IF(ISERROR(MATCH(R25,Input!L$5:L$24,0)),2,1))","v":1},"",null,"",""]
[null,null,null,null,null,null,null,null,null,null,null,null,null,null,null,null,null,null,null,null,null,"",{"$f":"IF(N26=\"SY\", T26, IF(N26=\"Tons\", V26+P26, \"\"))","v":""},{"$f":"IF(A26=\"\", \"\", SUMIF($Q$8:$Q$17, \"*\" & LEFT(A26, 11) & \"*\", $S$8:$S$17))","v":""},{"$f":"IF(N26=\"SY\",X26,\"\")","v":""},{"$f":"IF(A26=\"\", \"\", SUMIF($Q$8:$Q$17, \"*\" & LEFT(A26, 11) & \"*\", $T$8:$T$17))","v":""}]
["Hot Box Sample",null,null,null,null,null,null,null,null,null,"Mat Temperatures °F"]
[null,"Test A","Test B","Test C","Test D","Test E",null,null,null,null,"Time","Temp"]
[" Hot Box ID Number  ",null,null,null,null,null,null,null,null,null,"7:00"]
["Hot Box Sample Tons: ",null,null,null,null,null,null,null,null,null,"9:00",null,null,null,"Intended Thickness:"]
[" Time: ",null,null,null,null,null,null,null,null,null,"11:00",null,null,null,"Cores Waived?"]
[" Station/MP: ",null,null,null,null,null,null,null,null,null,"1:00",null,null,null,"Small Quantity Statement?"]
["Bar Code ID.:",null,null,null,null,null,null,null,null,null,"3:00",null,null,null,"Scale Check Done?"]
["Compaction Temp. °F: ",null,null,null,null,null,null,null,null,null,"5:00",null,null,null,"Tack Tickets Today?"]
[null,null,null,null,null,null,null,null,null,null,"7:00"]
["The Below Comments should show up on the plant report"]
["Comments:"]
[]
[]
["The Below Notes are for the CPI from the field or Plant Monitor"]
["Notes:"]
[]
[]
["RANDOM CORE LOCATIONS"]
[null,null,null,null,null,null,null,"Core #","Station","Offset,ft","Joint Station","Lane"]
[null,null,null,null,null,null,null,1]
[null,null,null,null,null,null,null,2]
[null,null,null,null,null,null,null,3]
[null,null,null,null,null,null,null,4]
[null,null,null,null,null,null,null,5]
[null,null,null,null,null,null,null,6]
[null,null,null,null,null,null,null,7]
[null,null,null,null,null,null,null,8]
[]
[null,null,null,null,null,null,null,null,null,null,"Joint Sublot Size, ft"]
[null,null,null,null,null,null,null,null,null,null,0]
[]
[]
[]
[]
[]
[]
[]
[]
[]
[]
[]
[]
[]
[]
[]
[]
[]
[]
[]
[]
[]
[]
[]
[]
[]
[]
[]
[]
[]
[]
[]
[]
[]
[]
[]
[]
[]
[]
[]
[]
[false]

{"sheet":"55","index":70,"n_rows":97,"n_cols":26,"rows_kept":97,"cut":false,"hidden":false,"merged":[[50,11,50,13],[51,11,51,13],[52,11,52,13],[44,11,44,13],[45,11,45,13],[46,11,46,13],[47,11,47,13],[48,11,48,13],[49,11,49,13],[43,0,43,16],[25,0,25,1],[26,0,26,5],[26,20,26,23],[26,25,26,27],[34,2,34,4],[35,0,35,5],[36,1,36,14],[37,0,37,14],[39,0,39,5],[40,1,40,14],[41,0,41,14],[23,0,23,1],[23,2,23,4],[23,9,23,12],[24,0,24,1],[24,2,24,4],[24,9,24,12],[21,0,21,1],[21,2,21,4],[21,9,21,12],[22,0,22,1],[22,2,22,4],[22,9,22,12],[19,0,19,1],[19,2,19,4],[19,9,19,12],[20,0,20,1],[20,2,20,4],[20,9,20,12],[18,0,18,16],[6,14,6,15],[7,14,7,15],[8,14,8,15],[9,14,9,15],[10,14,10,15],[11,14,11,15],[12,14,12,15],[13,14,13,15],[14,14,14,15],[15,14,15,15],[16,14,16,15],[1,0,1,16],[4,0,4,15],[5,4,5,5],[5,8,5,9],[5,11,5,12],[5,13,5,15]]}
[]
["Iowa DOT HMA Field Report"]
["Date :"]
["Item No.('s)"]
["PLACEMENT RECORD",null,null,null,null,null,null,null,null,null,null,null,null,null,null,null,null,null,null,null,null,{"$f":"SUBSTITUTE(A21 & \"\\\" & J21,\"\"\"\",\"\")","v":"\\"}]
[null,null,null,null,"Additional width to DEDUCT from Field Voids",null,null,null,"Placed Density (Pounds/CF)=",null,150,"Overwritten on the \"Summary\" Tab",null,"ONLY ONE (1) MIX DESIGN PER DFR OTHERWISE IT WILL NOT IMPORT INTO THE PLANT REPORT PROPERLY",null,null,null,null,null,null,null,{"$f":"SUBSTITUTE(A22 & \"\\\" & J22,\"\"\"\",\"\")","v":"\\"}]
["From Station"," To Station","Lane","ML or Widening Placement Width","Additional Width (ft) ","Thickness (in)","Total Length Placed (FT)","\"Pay\"  Est \"SY\"","Thickness (inches)","Calculated Field Voids Tons","Placed Tons            (Not including Waste)","% Yield","SY to be PAID (If Diff. than Est SY)","Mix Design No.","Bid Item/ Project No.",null,null,null,"This uses the correct SY #, if Green is blank uses Est. SY","Adds up the Tons",null,"\\"]
[null,null,null,null,null,null,{"$f":"IF(OR(A8=\"\",B8=\"\"),0,IF($A$97=TRUE,ABS(B8-A8)*5280,ABS(VALUE(SUBSTITUTE(A8,\"+\",\"\"))-VALUE(SUBSTITUTE(B8,\"+\",\"\")))))","v":0},{"$f":"IF(D8=\"\",\"\",G8*(D8+E8)/9)","v":""},null,{"$f":"IF(I8=\"\",\"\",(G8)*(D8+E8)*I8/12*$K$6/2000)","v":""},null,{"$f":"IF(K8=\"\",\"\",K8/J8*100)","v":""},null,null,null,null,{"$f":"O8 & \"\\\" & N8","v":"\\"},{"$f":"IF(AND(A8=\"\",B8=\"\",C8=\"\",D8=\"\"),1,IF(OR(O8=\"\",N8=\"\"),2,IF(ISERROR(MATCH(Q8,Input!M$5:M$24,0)),2,1)))","v":1},{"$f":"IF(M8<>\"\", M8, H8)","v":""},{"$f":"K8","v":0},null,"\\"]
[null,null,null,null,null,null,{"$f":"IF(OR(A9=\"\",B9=\"\"),0,IF($A$97=TRUE,ABS(B9-A9)*5280,ABS(VALUE(SUBSTITUTE(A9,\"+\",\"\"))-VALUE(SUBSTITUTE(B9,\"+\",\"\")))))","v":0},{"$f":"IF(D9=\"\",\"\",G9*(D9+E9)/9)","v":""},null,"",null,{"$f":"IF(K9=\"\",\"\",K9/J9*100)","v":""},null,null,null,null,{"$f":"O9 & \"\\\" & N9","v":"\\"},{"$f":"IF(AND(A9=\"\",B9=\"\",C9=\"\",D9=\"\"),1,IF(OR(O9=\"\",N9=\"\"),2,IF(ISERROR(MATCH(Q9,Input!M$5:M$24,0)),2,1)))","v":1},{"$f":"IF(M9<>\"\", M9, H9)","v":""},{"$f":"K9","v":0},null,"\\"]
[null,null,null,null,null,null,0,"",null,"",null,"",null,null,null,null,"\\",{"$f":"IF(AND(A10=\"\",B10=\"\",C10=\"\",D10=\"\"),1,IF(OR(O10=\"\",N10=\"\"),2,IF(ISERROR(MATCH(Q10,Input!M$5:M$24,0)),2,1)))","v":1},{"$f":"IF(M10<>\"\", M10, H10)","v":""},0]
[null,null,null,null,null,null,0,"",null,"",null,"",null,null,null,null,"\\",{"$f":"IF(AND(A11=\"\",B11=\"\",C11=\"\",D11=\"\"),1,IF(OR(O11=\"\",N11=\"\"),2,IF(ISERROR(MATCH(Q11,Input!M$5:M$24,0)),2,1)))","v":1},"",0]
[null,null,null,null,null,null,0,"",null,"",null,"",null,null,null,null,"\\",{"$f":"IF(AND(A12=\"\",B12=\"\",C12=\"\",D12=\"\"),1,IF(OR(O12=\"\",N12=\"\"),2,IF(ISERROR(MATCH(Q12,Input!M$5:M$24,0)),2,1)))","v":1},"",0]
[null,null,null,null,null,null,0,"",null,"",null,"",null,null,null,null,"\\",{"$f":"IF(AND(A13=\"\",B13=\"\",C13=\"\",D13=\"\"),1,IF(OR(O13=\"\",N13=\"\"),2,IF(ISERROR(MATCH(Q13,Input!M$5:M$24,0)),2,1)))","v":1},"",0]
[null,null,null,null,null,null,0,"",null,"",null,"",null,null,null,null,"\\",{"$f":"IF(AND(A14=\"\",B14=\"\",C14=\"\",D14=\"\"),1,IF(OR(O14=\"\",N14=\"\"),2,IF(ISERROR(MATCH(Q14,Input!M$5:M$24,0)),2,1)))","v":1},"",0]
[null,null,null,null,null,null,0,"",null,"",null,"",null,null,null,null,"\\",{"$f":"IF(AND(A15=\"\",B15=\"\",C15=\"\",D15=\"\"),1,IF(OR(O15=\"\",N15=\"\"),2,IF(ISERROR(MATCH(Q15,Input!M$5:M$24,0)),2,1)))","v":1},"",0]
[null,null,null,null,null,null,0,"",null,"",null,"",null,null,null,null,"\\",{"$f":"IF(AND(A16=\"\",B16=\"\",C16=\"\",D16=\"\"),1,IF(OR(O16=\"\",N16=\"\"),2,IF(ISERROR(MATCH(Q16,Input!M$5:M$24,0)),2,1)))","v":1},"",0]
[null,null,null,null,null,null,0,"",null,"",null,"",null,null,null,null,"\\",{"$f":"IF(AND(A17=\"\",B17=\"\",C17=\"\",D17=\"\"),1,IF(OR(O17=\"\",N17=\"\"),2,IF(ISERROR(MATCH(Q17,Input!M$5:M$24,0)),2,1)))","v":1},"",0]
[]
["TANK SHEET"]
["Bid Item (In Order of Placement)",null,"Today's Placement",null,null,"Bid Item Plan Quantity","Plan Thickness (in)","Contract Mix Price","Contract Binder Price","Project Number",null,null,null,"Mix Pay Units","Mix Delivered to Road\n(Ton or SY)","Waste On Road (Ton)\nNO waste for SY Items","Tons Placed - Waste",null,null,"This adds up column S as it depends if the Est SY is filled out or the SY",null,"Use this Column for SY for the Q column","Uses this Value for Mix on Road"]
[null,null,null,null,null,{"$f":"IF($J21=\"\",\"\",INDEX(Input!$A$5:$H$24,MATCH($A21&$J21,Input!$A$5:$A$24&Input!$G$5:$G$24,0),2))","v":""},{"$f":"IF($J21=\"\",\"\",INDEX(Input!$A$5:$H$24,MATCH($A21&$J21,Input!$A$5:$A$24&Input!$G$5:$G$24,0),3))","v":""},{"$f":"IF($J21=\"\",\"\",INDEX(Input!$A$5:$H$24,MATCH($A21&$J21,Input!$A$5:$A$24&Input!$G$5:$G$24,0),4))","v":""},{"$f":"IF($J21=\"\",\"\",INDEX(Input!$A$5:$H$24,MATCH($A21&$J21,Input!$A$5:$A$24&Input!$G$5:$G$24,0),5))","v":""},null,null,null,null,{"$f":"IF($A21=\"\",\"\",OFFSET(Input!F$4,MATCH($A21,Input!$A$5:$A$24,0),0))","v":""},{"$f":"IF(N21=\"SY\", T21, IF(N21=\"Tons\", W21, \"\"))","v":""},null,{"$f":"IF(N21=\"SY\", V21, IF(N21=\"Tons\", O21-P21, \"\"))","v":""},{"$f":"SUBSTITUTE(A21 & \"\\\" & J21,\"\"\"\",\"\")","v":"\\"},{"$f":"IF(A21=\"\",1,IF(ISERROR(MATCH(R21,Input!L$5:L$24,0)),2,1))","v":1},{"$f":"IF(A21=\"\", \"\", SUMIF($Q$8:$Q$17, \"*\" & LEFT(A21, 11) & \"*\", $S$8:$S$17))","v":""},null,{"$f":"IF(A21=\"\", \"\", SUMIF($Q$8:$Q$17, \"*\" & LEFT(A21, 11) & \"*\", $T$8:$T$17))","v":""},{"$f":"IF(N21=\"SY\", T21, IF(N21=\"Tons\", V21+P21, \"\"))","v":""}]
[null,null,null,null,null,{"$f":"IF($J22=\"\",\"\",INDEX(Input!$A$5:$H$24,MATCH($A22&$J22,Input!$A$5:$A$24&Input!$G$5:$G$24,0),2))","v":""},{"$f":"IF($J22=\"\",\"\",INDEX(Input!$A$5:$H$24,MATCH($A22&$J22,Input!$A$5:$A$24&Input!$G$5:$G$24,0),3))","v":""},{"$f":"IF($J22=\"\",\"\",INDEX(Input!$A$5:$H$24,MATCH($A22&$J22,Input!$A$5:$A$24&Input!$G$5:$G$24,0),4))","v":""},{"$f":"IF($J22=\"\",\"\",INDEX(Input!$A$5:$H$24,MATCH($A22&$J22,Input!$A$5:$A$24&Input!$G$5:$G$24,0),5))","v":""},null,null,null,null,{"$f":"IF($A22=\"\",\"\",OFFSET(Input!F$4,MATCH($A22,Input!$A$5:$A$24,0),0))","v":""},{"$f":"IF(N22=\"SY\", T22, IF(N22=\"Tons\", W22, \"\"))","v":""},null,{"$f":"IF(N22=\"SY\", V22, IF(N22=\"Tons\", O22-P22, \"\"))","v":""},{"$f":"SUBSTITUTE(A22 & \"\\\" & J22,\"\"\"\",\"\")","v":"\\"},{"$f":"IF(A22=\"\",1,IF(ISERROR(MATCH(R22,Input!L$5:L$24,0)),2,1))","v":1},{"$f":"IF(A22=\"\", \"\", SUMIF($Q$8:$Q$17, \"*\" & LEFT(A22, 11) & \"*\", $S$8:$S$17))","v":""},null,{"$f":"IF(A22=\"\", \"\", SUMIF($Q$8:$Q$17, \"*\" & LEFT(A22, 11) & \"*\", $T$8:$T$17))","v":""},{"$f":"IF(N22=\"SY\", T22, IF(N22=\"Tons\", V22+P22, \"\"))","v":""}]
[null,null,null,null,null,{"$f":"IF($J23=\"\",\"\",INDEX(Input!$A$5:$H$24,MATCH($A23&$J23,Input!$A$5:$A$24&Input!$G$5:$G$24,0),2))","v":""},{"$f":"IF($J23=\"\",\"\",INDEX(Input!$A$5:$H$24,MATCH($A23&$J23,Input!$A$5:$A$24&Input!$G$5:$G$24,0),3))","v":""},{"$f":"IF($J23=\"\",\"\",INDEX(Input!$A$5:$H$24,MATCH($A23&$J23,Input!$A$5:$A$24&Input!$G$5:$G$24,0),4))","v":""},{"$f":"IF($J23=\"\",\"\",INDEX(Input!$A$5:$H$24,MATCH($A23&$J23,Input!$A$5:$A$24&Input!$G$5:$G$24,0),5))","v":""},null,null,null,null,{"$f":"IF($A23=\"\",\"\",OFFSET(Input!F$4,MATCH($A23,Input!$A$5:$A$24,0),0))","v":""},{"$f":"IF(N23=\"SY\", T23, IF(N23=\"Tons\", W23, \"\"))","v":""},null,{"$f":"IF(N23=\"SY\", V23, IF(N23=\"Tons\", O23-P23, \"\"))","v":""},"\\",{"$f":"IF(A23=\"\",1,IF(ISERROR(MATCH(R23,Input!L$5:L$24,0)),2,1))","v":1},{"$f":"IF(A23=\"\", \"\", SUMIF($Q$8:$Q$17, \"*\" & LEFT(A23, 11) & \"*\", $S$8:$S$17))","v":""},null,{"$f":"IF(A23=\"\", \"\", SUMIF($Q$8:$Q$17, \"*\" & LEFT(A23, 11) & \"*\", $T$8:$T$17))","v":""},{"$f":"IF(N23=\"SY\", T23, IF(N23=\"Tons\", V23+P23, \"\"))","v":""}]
[null,null,null,null,null,{"$f":"IF($J24=\"\",\"\",INDEX(Input!$A$5:$H$24,MATCH($A24&$J24,Input!$A$5:$A$24&Input!$G$5:$G$24,0),2))","v":""},{"$f":"IF($J24=\"\",\"\",INDEX(Input!$A$5:$H$24,MATCH($A24&$J24,Input!$A$5:$A$24&Input!$G$5:$G$24,0),3))","v":""},{"$f":"IF($J24=\"\",\"\",INDEX(Input!$A$5:$H$24,MATCH($A24&$J24,Input!$A$5:$A$24&Input!$G$5:$G$24,0),4))","v":""},{"$f":"IF($J24=\"\",\"\",INDEX(Input!$A$5:$H$24,MATCH($A24&$J24,Input!$A$5:$A$24&Input!$G$5:$G$24,0),5))","v":""},null,null,null,null,{"$f":"IF($A24=\"\",\"\",OFFSET(Input!F$4,MATCH($A24,Input!$A$5:$A$24,0),0))","v":""},"",null,{"$f":"IF(N24=\"SY\", V24, IF(N24=\"Tons\", O24-P24, \"\"))","v":""},"\\",{"$f":"IF(A24=\"\",1,IF(ISERROR(MATCH(R24,Input!L$5:L$24,0)),2,1))","v":1},"",null,{"$f":"IF(A24=\"\", \"\", SUMIF($Q$8:$Q$17, \"*\" & LEFT(A24, 11) & \"*\", $T$8:$T$17))","v":""},{"$f":"IF(N24=\"SY\", T24, IF(N24=\"Tons\", V24+P24, \"\"))","v":""}]
[null,null,null,null,null,{"$f":"IF($J25=\"\",\"\",INDEX(Input!$A$5:$H$24,MATCH($A25&$J25,Input!$A$5:$A$24&Input!$G$5:$G$24,0),2))","v":""},{"$f":"IF($J25=\"\",\"\",INDEX(Input!$A$5:$H$24,MATCH($A25&$J25,Input!$A$5:$A$24&Input!$G$5:$G$24,0),3))","v":""},{"$f":"IF($J25=\"\",\"\",INDEX(Input!$A$5:$H$24,MATCH($A25&$J25,Input!$A$5:$A$24&Input!$G$5:$G$24,0),4))","v":""},{"$f":"IF($J25=\"\",\"\",INDEX(Input!$A$5:$H$24,MATCH($A25&$J25,Input!$A$5:$A$24&Input!$G$5:$G$24,0),5))","v":""},null,null,null,null,{"$f":"IF($A25=\"\",\"\",OFFSET(Input!F$4,MATCH($A25,Input!$A$5:$A$24,0),0))","v":""},"",null,"","\\",{"$f":"IF(A25=\"\",1,IF(ISERROR(MATCH(R25,Input!L$5:L$24,0)),2,1))","v":1},"",null,"",""]
[null,null,null,null,null,null,null,null,null,null,null,null,null,null,null,null,null,null,null,null,null,"",{"$f":"IF(N26=\"SY\", T26, IF(N26=\"Tons\", V26+P26, \"\"))","v":""},{"$f":"IF(A26=\"\", \"\", SUMIF($Q$8:$Q$17, \"*\" & LEFT(A26, 11) & \"*\", $S$8:$S$17))","v":""},{"$f":"IF(N26=\"SY\",X26,\"\")","v":""},{"$f":"IF(A26=\"\", \"\", SUMIF($Q$8:$Q$17, \"*\" & LEFT(A26, 11) & \"*\", $T$8:$T$17))","v":""}]
["Hot Box Sample",null,null,null,null,null,null,null,null,null,"Mat Temperatures °F"]
[null,"Test A","Test B","Test C","Test D","Test E",null,null,null,null,"Time","Temp"]
[" Hot Box ID Number  ",null,null,null,null,null,null,null,null,null,"7:00"]
["Hot Box Sample Tons: ",null,null,null,null,null,null,null,null,null,"9:00",null,null,null,"Intended Thickness:"]
[" Time: ",null,null,null,null,null,null,null,null,null,"11:00",null,null,null,"Cores Waived?"]
[" Station/MP: ",null,null,null,null,null,null,null,null,null,"1:00",null,null,null,"Small Quantity Statement?"]
["Bar Code ID.:",null,null,null,null,null,null,null,null,null,"3:00",null,null,null,"Scale Check Done?"]
["Compaction Temp. °F: ",null,null,null,null,null,null,null,null,null,"5:00",null,null,null,"Tack Tickets Today?"]
[null,null,null,null,null,null,null,null,null,null,"7:00"]
["The Below Comments should show up on the plant report"]
["Comments:"]
[]
[]
["The Below Notes are for the CPI from the field or Plant Monitor"]
["Notes:"]
[]
[]
["RANDOM CORE LOCATIONS"]
[null,null,null,null,null,null,null,"Core #","Station","Offset,ft","Joint Station","Lane"]
[null,null,null,null,null,null,null,1]
[null,null,null,null,null,null,null,2]
[null,null,null,null,null,null,null,3]
[null,null,null,null,null,null,null,4]
[null,null,null,null,null,null,null,5]
[null,null,null,null,null,null,null,6]
[null,null,null,null,null,null,null,7]
[null,null,null,null,null,null,null,8]
[]
[null,null,null,null,null,null,null,null,null,null,"Joint Sublot Size, ft"]
[null,null,null,null,null,null,null,null,null,null,0]
[]
[]
[]
[]
[]
[]
[]
[]
[]
[]
[]
[]
[]
[]
[]
[]
[]
[]
[]
[]
[]
[]
[]
[]
[]
[]
[]
[]
[]
[]
[]
[]
[]
[]
[]
[]
[]
[]
[]
[]
[false]

{"sheet":"56","index":71,"n_rows":97,"n_cols":26,"rows_kept":97,"cut":false,"hidden":false,"merged":[[50,11,50,13],[51,11,51,13],[52,11,52,13],[44,11,44,13],[45,11,45,13],[46,11,46,13],[47,11,47,13],[48,11,48,13],[49,11,49,13],[43,0,43,16],[25,0,25,1],[26,0,26,5],[26,20,26,23],[26,25,26,27],[34,2,34,4],[35,0,35,5],[36,1,36,14],[37,0,37,14],[39,0,39,5],[40,1,40,14],[41,0,41,14],[23,0,23,1],[23,2,23,4],[23,9,23,12],[24,0,24,1],[24,2,24,4],[24,9,24,12],[21,0,21,1],[21,2,21,4],[21,9,21,12],[22,0,22,1],[22,2,22,4],[22,9,22,12],[19,0,19,1],[19,2,19,4],[19,9,19,12],[20,0,20,1],[20,2,20,4],[20,9,20,12],[18,0,18,16],[6,14,6,15],[7,14,7,15],[8,14,8,15],[9,14,9,15],[10,14,10,15],[11,14,11,15],[12,14,12,15],[13,14,13,15],[14,14,14,15],[15,14,15,15],[16,14,16,15],[1,0,1,16],[4,0,4,15],[5,4,5,5],[5,8,5,9],[5,11,5,12],[5,13,5,15]]}
[]
["Iowa DOT HMA Field Report"]
["Date :"]
["Item No.('s)"]
["PLACEMENT RECORD",null,null,null,null,null,null,null,null,null,null,null,null,null,null,null,null,null,null,null,null,{"$f":"SUBSTITUTE(A21 & \"\\\" & J21,\"\"\"\",\"\")","v":"\\"}]
[null,null,null,null,"Additional width to DEDUCT from Field Voids",null,null,null,"Placed Density (Pounds/CF)=",null,150,"Overwritten on the \"Summary\" Tab",null,"ONLY ONE (1) MIX DESIGN PER DFR OTHERWISE IT WILL NOT IMPORT INTO THE PLANT REPORT PROPERLY",null,null,null,null,null,null,null,{"$f":"SUBSTITUTE(A22 & \"\\\" & J22,\"\"\"\",\"\")","v":"\\"}]
["From Station"," To Station","Lane","ML or Widening Placement Width","Additional Width (ft) ","Thickness (in)","Total Length Placed (FT)","\"Pay\"  Est \"SY\"","Thickness (inches)","Calculated Field Voids Tons","Placed Tons            (Not including Waste)","% Yield","SY to be PAID (If Diff. than Est SY)","Mix Design No.","Bid Item/ Project No.",null,null,null,"This uses the correct SY #, if Green is blank uses Est. SY","Adds up the Tons",null,"\\"]
[null,null,null,null,null,null,{"$f":"IF(OR(A8=\"\",B8=\"\"),0,IF($A$97=TRUE,ABS(B8-A8)*5280,ABS(VALUE(SUBSTITUTE(A8,\"+\",\"\"))-VALUE(SUBSTITUTE(B8,\"+\",\"\")))))","v":0},{"$f":"IF(D8=\"\",\"\",G8*(D8+E8)/9)","v":""},null,{"$f":"IF(I8=\"\",\"\",(G8)*(D8+E8)*I8/12*$K$6/2000)","v":""},null,{"$f":"IF(K8=\"\",\"\",K8/J8*100)","v":""},null,null,null,null,{"$f":"O8 & \"\\\" & N8","v":"\\"},{"$f":"IF(AND(A8=\"\",B8=\"\",C8=\"\",D8=\"\"),1,IF(OR(O8=\"\",N8=\"\"),2,IF(ISERROR(MATCH(Q8,Input!M$5:M$24,0)),2,1)))","v":1},{"$f":"IF(M8<>\"\", M8, H8)","v":""},{"$f":"K8","v":0},null,"\\"]
[null,null,null,null,null,null,{"$f":"IF(OR(A9=\"\",B9=\"\"),0,IF($A$97=TRUE,ABS(B9-A9)*5280,ABS(VALUE(SUBSTITUTE(A9,\"+\",\"\"))-VALUE(SUBSTITUTE(B9,\"+\",\"\")))))","v":0},{"$f":"IF(D9=\"\",\"\",G9*(D9+E9)/9)","v":""},null,"",null,{"$f":"IF(K9=\"\",\"\",K9/J9*100)","v":""},null,null,null,null,{"$f":"O9 & \"\\\" & N9","v":"\\"},{"$f":"IF(AND(A9=\"\",B9=\"\",C9=\"\",D9=\"\"),1,IF(OR(O9=\"\",N9=\"\"),2,IF(ISERROR(MATCH(Q9,Input!M$5:M$24,0)),2,1)))","v":1},{"$f":"IF(M9<>\"\", M9, H9)","v":""},{"$f":"K9","v":0},null,"\\"]
[null,null,null,null,null,null,0,"",null,"",null,"",null,null,null,null,"\\",{"$f":"IF(AND(A10=\"\",B10=\"\",C10=\"\",D10=\"\"),1,IF(OR(O10=\"\",N10=\"\"),2,IF(ISERROR(MATCH(Q10,Input!M$5:M$24,0)),2,1)))","v":1},{"$f":"IF(M10<>\"\", M10, H10)","v":""},0]
[null,null,null,null,null,null,0,"",null,"",null,"",null,null,null,null,"\\",{"$f":"IF(AND(A11=\"\",B11=\"\",C11=\"\",D11=\"\"),1,IF(OR(O11=\"\",N11=\"\"),2,IF(ISERROR(MATCH(Q11,Input!M$5:M$24,0)),2,1)))","v":1},"",0]
[null,null,null,null,null,null,0,"",null,"",null,"",null,null,null,null,"\\",{"$f":"IF(AND(A12=\"\",B12=\"\",C12=\"\",D12=\"\"),1,IF(OR(O12=\"\",N12=\"\"),2,IF(ISERROR(MATCH(Q12,Input!M$5:M$24,0)),2,1)))","v":1},"",0]
[null,null,null,null,null,null,0,"",null,"",null,"",null,null,null,null,"\\",{"$f":"IF(AND(A13=\"\",B13=\"\",C13=\"\",D13=\"\"),1,IF(OR(O13=\"\",N13=\"\"),2,IF(ISERROR(MATCH(Q13,Input!M$5:M$24,0)),2,1)))","v":1},"",0]
[null,null,null,null,null,null,0,"",null,"",null,"",null,null,null,null,"\\",{"$f":"IF(AND(A14=\"\",B14=\"\",C14=\"\",D14=\"\"),1,IF(OR(O14=\"\",N14=\"\"),2,IF(ISERROR(MATCH(Q14,Input!M$5:M$24,0)),2,1)))","v":1},"",0]
[null,null,null,null,null,null,0,"",null,"",null,"",null,null,null,null,"\\",{"$f":"IF(AND(A15=\"\",B15=\"\",C15=\"\",D15=\"\"),1,IF(OR(O15=\"\",N15=\"\"),2,IF(ISERROR(MATCH(Q15,Input!M$5:M$24,0)),2,1)))","v":1},"",0]
[null,null,null,null,null,null,0,"",null,"",null,"",null,null,null,null,"\\",{"$f":"IF(AND(A16=\"\",B16=\"\",C16=\"\",D16=\"\"),1,IF(OR(O16=\"\",N16=\"\"),2,IF(ISERROR(MATCH(Q16,Input!M$5:M$24,0)),2,1)))","v":1},"",0]
[null,null,null,null,null,null,0,"",null,"",null,"",null,null,null,null,"\\",{"$f":"IF(AND(A17=\"\",B17=\"\",C17=\"\",D17=\"\"),1,IF(OR(O17=\"\",N17=\"\"),2,IF(ISERROR(MATCH(Q17,Input!M$5:M$24,0)),2,1)))","v":1},"",0]
[]
["TANK SHEET"]
["Bid Item (In Order of Placement)",null,"Today's Placement",null,null,"Bid Item Plan Quantity","Plan Thickness (in)","Contract Mix Price","Contract Binder Price","Project Number",null,null,null,"Mix Pay Units","Mix Delivered to Road\n(Ton or SY)","Waste On Road (Ton)\nNO waste for SY Items","Tons Placed - Waste",null,null,"This adds up column S as it depends if the Est SY is filled out or the SY",null,"Use this Column for SY for the Q column","Uses this Value for Mix on Road"]
[null,null,null,null,null,{"$f":"IF($J21=\"\",\"\",INDEX(Input!$A$5:$H$24,MATCH($A21&$J21,Input!$A$5:$A$24&Input!$G$5:$G$24,0),2))","v":""},{"$f":"IF($J21=\"\",\"\",INDEX(Input!$A$5:$H$24,MATCH($A21&$J21,Input!$A$5:$A$24&Input!$G$5:$G$24,0),3))","v":""},{"$f":"IF($J21=\"\",\"\",INDEX(Input!$A$5:$H$24,MATCH($A21&$J21,Input!$A$5:$A$24&Input!$G$5:$G$24,0),4))","v":""},{"$f":"IF($J21=\"\",\"\",INDEX(Input!$A$5:$H$24,MATCH($A21&$J21,Input!$A$5:$A$24&Input!$G$5:$G$24,0),5))","v":""},null,null,null,null,{"$f":"IF($A21=\"\",\"\",OFFSET(Input!F$4,MATCH($A21,Input!$A$5:$A$24,0),0))","v":""},{"$f":"IF(N21=\"SY\", T21, IF(N21=\"Tons\", W21, \"\"))","v":""},null,{"$f":"IF(N21=\"SY\", V21, IF(N21=\"Tons\", O21-P21, \"\"))","v":""},{"$f":"SUBSTITUTE(A21 & \"\\\" & J21,\"\"\"\",\"\")","v":"\\"},{"$f":"IF(A21=\"\",1,IF(ISERROR(MATCH(R21,Input!L$5:L$24,0)),2,1))","v":1},{"$f":"IF(A21=\"\", \"\", SUMIF($Q$8:$Q$17, \"*\" & LEFT(A21, 11) & \"*\", $S$8:$S$17))","v":""},null,{"$f":"IF(A21=\"\", \"\", SUMIF($Q$8:$Q$17, \"*\" & LEFT(A21, 11) & \"*\", $T$8:$T$17))","v":""},{"$f":"IF(N21=\"SY\", T21, IF(N21=\"Tons\", V21+P21, \"\"))","v":""}]
[null,null,null,null,null,{"$f":"IF($J22=\"\",\"\",INDEX(Input!$A$5:$H$24,MATCH($A22&$J22,Input!$A$5:$A$24&Input!$G$5:$G$24,0),2))","v":""},{"$f":"IF($J22=\"\",\"\",INDEX(Input!$A$5:$H$24,MATCH($A22&$J22,Input!$A$5:$A$24&Input!$G$5:$G$24,0),3))","v":""},{"$f":"IF($J22=\"\",\"\",INDEX(Input!$A$5:$H$24,MATCH($A22&$J22,Input!$A$5:$A$24&Input!$G$5:$G$24,0),4))","v":""},{"$f":"IF($J22=\"\",\"\",INDEX(Input!$A$5:$H$24,MATCH($A22&$J22,Input!$A$5:$A$24&Input!$G$5:$G$24,0),5))","v":""},null,null,null,null,{"$f":"IF($A22=\"\",\"\",OFFSET(Input!F$4,MATCH($A22,Input!$A$5:$A$24,0),0))","v":""},{"$f":"IF(N22=\"SY\", T22, IF(N22=\"Tons\", W22, \"\"))","v":""},null,{"$f":"IF(N22=\"SY\", V22, IF(N22=\"Tons\", O22-P22, \"\"))","v":""},{"$f":"SUBSTITUTE(A22 & \"\\\" & J22,\"\"\"\",\"\")","v":"\\"},{"$f":"IF(A22=\"\",1,IF(ISERROR(MATCH(R22,Input!L$5:L$24,0)),2,1))","v":1},{"$f":"IF(A22=\"\", \"\", SUMIF($Q$8:$Q$17, \"*\" & LEFT(A22, 11) & \"*\", $S$8:$S$17))","v":""},null,{"$f":"IF(A22=\"\", \"\", SUMIF($Q$8:$Q$17, \"*\" & LEFT(A22, 11) & \"*\", $T$8:$T$17))","v":""},{"$f":"IF(N22=\"SY\", T22, IF(N22=\"Tons\", V22+P22, \"\"))","v":""}]
[null,null,null,null,null,{"$f":"IF($J23=\"\",\"\",INDEX(Input!$A$5:$H$24,MATCH($A23&$J23,Input!$A$5:$A$24&Input!$G$5:$G$24,0),2))","v":""},{"$f":"IF($J23=\"\",\"\",INDEX(Input!$A$5:$H$24,MATCH($A23&$J23,Input!$A$5:$A$24&Input!$G$5:$G$24,0),3))","v":""},{"$f":"IF($J23=\"\",\"\",INDEX(Input!$A$5:$H$24,MATCH($A23&$J23,Input!$A$5:$A$24&Input!$G$5:$G$24,0),4))","v":""},{"$f":"IF($J23=\"\",\"\",INDEX(Input!$A$5:$H$24,MATCH($A23&$J23,Input!$A$5:$A$24&Input!$G$5:$G$24,0),5))","v":""},null,null,null,null,{"$f":"IF($A23=\"\",\"\",OFFSET(Input!F$4,MATCH($A23,Input!$A$5:$A$24,0),0))","v":""},{"$f":"IF(N23=\"SY\", T23, IF(N23=\"Tons\", W23, \"\"))","v":""},null,{"$f":"IF(N23=\"SY\", V23, IF(N23=\"Tons\", O23-P23, \"\"))","v":""},"\\",{"$f":"IF(A23=\"\",1,IF(ISERROR(MATCH(R23,Input!L$5:L$24,0)),2,1))","v":1},{"$f":"IF(A23=\"\", \"\", SUMIF($Q$8:$Q$17, \"*\" & LEFT(A23, 11) & \"*\", $S$8:$S$17))","v":""},null,{"$f":"IF(A23=\"\", \"\", SUMIF($Q$8:$Q$17, \"*\" & LEFT(A23, 11) & \"*\", $T$8:$T$17))","v":""},{"$f":"IF(N23=\"SY\", T23, IF(N23=\"Tons\", V23+P23, \"\"))","v":""}]
[null,null,null,null,null,{"$f":"IF($J24=\"\",\"\",INDEX(Input!$A$5:$H$24,MATCH($A24&$J24,Input!$A$5:$A$24&Input!$G$5:$G$24,0),2))","v":""},{"$f":"IF($J24=\"\",\"\",INDEX(Input!$A$5:$H$24,MATCH($A24&$J24,Input!$A$5:$A$24&Input!$G$5:$G$24,0),3))","v":""},{"$f":"IF($J24=\"\",\"\",INDEX(Input!$A$5:$H$24,MATCH($A24&$J24,Input!$A$5:$A$24&Input!$G$5:$G$24,0),4))","v":""},{"$f":"IF($J24=\"\",\"\",INDEX(Input!$A$5:$H$24,MATCH($A24&$J24,Input!$A$5:$A$24&Input!$G$5:$G$24,0),5))","v":""},null,null,null,null,{"$f":"IF($A24=\"\",\"\",OFFSET(Input!F$4,MATCH($A24,Input!$A$5:$A$24,0),0))","v":""},"",null,{"$f":"IF(N24=\"SY\", V24, IF(N24=\"Tons\", O24-P24, \"\"))","v":""},"\\",{"$f":"IF(A24=\"\",1,IF(ISERROR(MATCH(R24,Input!L$5:L$24,0)),2,1))","v":1},"",null,{"$f":"IF(A24=\"\", \"\", SUMIF($Q$8:$Q$17, \"*\" & LEFT(A24, 11) & \"*\", $T$8:$T$17))","v":""},{"$f":"IF(N24=\"SY\", T24, IF(N24=\"Tons\", V24+P24, \"\"))","v":""}]
[null,null,null,null,null,{"$f":"IF($J25=\"\",\"\",INDEX(Input!$A$5:$H$24,MATCH($A25&$J25,Input!$A$5:$A$24&Input!$G$5:$G$24,0),2))","v":""},{"$f":"IF($J25=\"\",\"\",INDEX(Input!$A$5:$H$24,MATCH($A25&$J25,Input!$A$5:$A$24&Input!$G$5:$G$24,0),3))","v":""},{"$f":"IF($J25=\"\",\"\",INDEX(Input!$A$5:$H$24,MATCH($A25&$J25,Input!$A$5:$A$24&Input!$G$5:$G$24,0),4))","v":""},{"$f":"IF($J25=\"\",\"\",INDEX(Input!$A$5:$H$24,MATCH($A25&$J25,Input!$A$5:$A$24&Input!$G$5:$G$24,0),5))","v":""},null,null,null,null,{"$f":"IF($A25=\"\",\"\",OFFSET(Input!F$4,MATCH($A25,Input!$A$5:$A$24,0),0))","v":""},"",null,"","\\",{"$f":"IF(A25=\"\",1,IF(ISERROR(MATCH(R25,Input!L$5:L$24,0)),2,1))","v":1},"",null,"",""]
[null,null,null,null,null,null,null,null,null,null,null,null,null,null,null,null,null,null,null,null,null,"",{"$f":"IF(N26=\"SY\", T26, IF(N26=\"Tons\", V26+P26, \"\"))","v":""},{"$f":"IF(A26=\"\", \"\", SUMIF($Q$8:$Q$17, \"*\" & LEFT(A26, 11) & \"*\", $S$8:$S$17))","v":""},{"$f":"IF(N26=\"SY\",X26,\"\")","v":""},{"$f":"IF(A26=\"\", \"\", SUMIF($Q$8:$Q$17, \"*\" & LEFT(A26, 11) & \"*\", $T$8:$T$17))","v":""}]
["Hot Box Sample",null,null,null,null,null,null,null,null,null,"Mat Temperatures °F"]
[null,"Test A","Test B","Test C","Test D","Test E",null,null,null,null,"Time","Temp"]
[" Hot Box ID Number  ",null,null,null,null,null,null,null,null,null,"7:00"]
["Hot Box Sample Tons: ",null,null,null,null,null,null,null,null,null,"9:00",null,null,null,"Intended Thickness:"]
[" Time: ",null,null,null,null,null,null,null,null,null,"11:00",null,null,null,"Cores Waived?"]
[" Station/MP: ",null,null,null,null,null,null,null,null,null,"1:00",null,null,null,"Small Quantity Statement?"]
["Bar Code ID.:",null,null,null,null,null,null,null,null,null,"3:00",null,null,null,"Scale Check Done?"]
["Compaction Temp. °F: ",null,null,null,null,null,null,null,null,null,"5:00",null,null,null,"Tack Tickets Today?"]
[null,null,null,null,null,null,null,null,null,null,"7:00"]
["The Below Comments should show up on the plant report"]
["Comments:"]
[]
[]
["The Below Notes are for the CPI from the field or Plant Monitor"]
["Notes:"]
[]
[]
["RANDOM CORE LOCATIONS"]
[null,null,null,null,null,null,null,"Core #","Station","Offset,ft","Joint Station","Lane"]
[null,null,null,null,null,null,null,1]
[null,null,null,null,null,null,null,2]
[null,null,null,null,null,null,null,3]
[null,null,null,null,null,null,null,4]
[null,null,null,null,null,null,null,5]
[null,null,null,null,null,null,null,6]
[null,null,null,null,null,null,null,7]
[null,null,null,null,null,null,null,8]
[]
[null,null,null,null,null,null,null,null,null,null,"Joint Sublot Size, ft"]
[null,null,null,null,null,null,null,null,null,null,0]
[]
[]
[]
[]
[]
[]
[]
[]
[]
[]
[]
[]
[]
[]
[]
[]
[]
[]
[]
[]
[]
[]
[]
[]
[]
[]
[]
[]
[]
[]
[]
[]
[]
[]
[]
[]
[]
[]
[]
[]
[false]

{"sheet":"57","index":72,"n_rows":97,"n_cols":26,"rows_kept":97,"cut":false,"hidden":false,"merged":[[50,11,50,13],[51,11,51,13],[52,11,52,13],[44,11,44,13],[45,11,45,13],[46,11,46,13],[47,11,47,13],[48,11,48,13],[49,11,49,13],[43,0,43,16],[25,0,25,1],[26,0,26,5],[26,20,26,23],[26,25,26,27],[34,2,34,4],[35,0,35,5],[36,1,36,14],[37,0,37,14],[39,0,39,5],[40,1,40,14],[41,0,41,14],[23,0,23,1],[23,2,23,4],[23,9,23,12],[24,0,24,1],[24,2,24,4],[24,9,24,12],[21,0,21,1],[21,2,21,4],[21,9,21,12],[22,0,22,1],[22,2,22,4],[22,9,22,12],[19,0,19,1],[19,2,19,4],[19,9,19,12],[20,0,20,1],[20,2,20,4],[20,9,20,12],[18,0,18,16],[6,14,6,15],[7,14,7,15],[8,14,8,15],[9,14,9,15],[10,14,10,15],[11,14,11,15],[12,14,12,15],[13,14,13,15],[14,14,14,15],[15,14,15,15],[16,14,16,15],[1,0,1,16],[4,0,4,15],[5,4,5,5],[5,8,5,9],[5,11,5,12],[5,13,5,15]]}
[]
["Iowa DOT HMA Field Report"]
["Date :"]
["Item No.('s)"]
["PLACEMENT RECORD",null,null,null,null,null,null,null,null,null,null,null,null,null,null,null,null,null,null,null,null,{"$f":"SUBSTITUTE(A21 & \"\\\" & J21,\"\"\"\",\"\")","v":"\\"}]
[null,null,null,null,"Additional width to DEDUCT from Field Voids",null,null,null,"Placed Density (Pounds/CF)=",null,150,"Overwritten on the \"Summary\" Tab",null,"ONLY ONE (1) MIX DESIGN PER DFR OTHERWISE IT WILL NOT IMPORT INTO THE PLANT REPORT PROPERLY",null,null,null,null,null,null,null,{"$f":"SUBSTITUTE(A22 & \"\\\" & J22,\"\"\"\",\"\")","v":"\\"}]
["From Station"," To Station","Lane","ML or Widening Placement Width","Additional Width (ft) ","Thickness (in)","Total Length Placed (FT)","\"Pay\"  Est \"SY\"","Thickness (inches)","Calculated Field Voids Tons","Placed Tons            (Not including Waste)","% Yield","SY to be PAID (If Diff. than Est SY)","Mix Design No.","Bid Item/ Project No.",null,null,null,"This uses the correct SY #, if Green is blank uses Est. SY","Adds up the Tons",null,"\\"]
[null,null,null,null,null,null,{"$f":"IF(OR(A8=\"\",B8=\"\"),0,IF($A$97=TRUE,ABS(B8-A8)*5280,ABS(VALUE(SUBSTITUTE(A8,\"+\",\"\"))-VALUE(SUBSTITUTE(B8,\"+\",\"\")))))","v":0},{"$f":"IF(D8=\"\",\"\",G8*(D8+E8)/9)","v":""},null,{"$f":"IF(I8=\"\",\"\",(G8)*(D8+E8)*I8/12*$K$6/2000)","v":""},null,{"$f":"IF(K8=\"\",\"\",K8/J8*100)","v":""},null,null,null,null,{"$f":"O8 & \"\\\" & N8","v":"\\"},{"$f":"IF(AND(A8=\"\",B8=\"\",C8=\"\",D8=\"\"),1,IF(OR(O8=\"\",N8=\"\"),2,IF(ISERROR(MATCH(Q8,Input!M$5:M$24,0)),2,1)))","v":1},{"$f":"IF(M8<>\"\", M8, H8)","v":""},{"$f":"K8","v":0},null,"\\"]
[null,null,null,null,null,null,{"$f":"IF(OR(A9=\"\",B9=\"\"),0,IF($A$97=TRUE,ABS(B9-A9)*5280,ABS(VALUE(SUBSTITUTE(A9,\"+\",\"\"))-VALUE(SUBSTITUTE(B9,\"+\",\"\")))))","v":0},{"$f":"IF(D9=\"\",\"\",G9*(D9+E9)/9)","v":""},null,"",null,{"$f":"IF(K9=\"\",\"\",K9/J9*100)","v":""},null,null,null,null,{"$f":"O9 & \"\\\" & N9","v":"\\"},{"$f":"IF(AND(A9=\"\",B9=\"\",C9=\"\",D9=\"\"),1,IF(OR(O9=\"\",N9=\"\"),2,IF(ISERROR(MATCH(Q9,Input!M$5:M$24,0)),2,1)))","v":1},{"$f":"IF(M9<>\"\", M9, H9)","v":""},{"$f":"K9","v":0},null,"\\"]
[null,null,null,null,null,null,0,"",null,"",null,"",null,null,null,null,"\\",{"$f":"IF(AND(A10=\"\",B10=\"\",C10=\"\",D10=\"\"),1,IF(OR(O10=\"\",N10=\"\"),2,IF(ISERROR(MATCH(Q10,Input!M$5:M$24,0)),2,1)))","v":1},{"$f":"IF(M10<>\"\", M10, H10)","v":""},0]
[null,null,null,null,null,null,0,"",null,"",null,"",null,null,null,null,"\\",{"$f":"IF(AND(A11=\"\",B11=\"\",C11=\"\",D11=\"\"),1,IF(OR(O11=\"\",N11=\"\"),2,IF(ISERROR(MATCH(Q11,Input!M$5:M$24,0)),2,1)))","v":1},"",0]
[null,null,null,null,null,null,0,"",null,"",null,"",null,null,null,null,"\\",{"$f":"IF(AND(A12=\"\",B12=\"\",C12=\"\",D12=\"\"),1,IF(OR(O12=\"\",N12=\"\"),2,IF(ISERROR(MATCH(Q12,Input!M$5:M$24,0)),2,1)))","v":1},"",0]
[null,null,null,null,null,null,0,"",null,"",null,"",null,null,null,null,"\\",{"$f":"IF(AND(A13=\"\",B13=\"\",C13=\"\",D13=\"\"),1,IF(OR(O13=\"\",N13=\"\"),2,IF(ISERROR(MATCH(Q13,Input!M$5:M$24,0)),2,1)))","v":1},"",0]
[null,null,null,null,null,null,0,"",null,"",null,"",null,null,null,null,"\\",{"$f":"IF(AND(A14=\"\",B14=\"\",C14=\"\",D14=\"\"),1,IF(OR(O14=\"\",N14=\"\"),2,IF(ISERROR(MATCH(Q14,Input!M$5:M$24,0)),2,1)))","v":1},"",0]
[null,null,null,null,null,null,0,"",null,"",null,"",null,null,null,null,"\\",{"$f":"IF(AND(A15=\"\",B15=\"\",C15=\"\",D15=\"\"),1,IF(OR(O15=\"\",N15=\"\"),2,IF(ISERROR(MATCH(Q15,Input!M$5:M$24,0)),2,1)))","v":1},"",0]
[null,null,null,null,null,null,0,"",null,"",null,"",null,null,null,null,"\\",{"$f":"IF(AND(A16=\"\",B16=\"\",C16=\"\",D16=\"\"),1,IF(OR(O16=\"\",N16=\"\"),2,IF(ISERROR(MATCH(Q16,Input!M$5:M$24,0)),2,1)))","v":1},"",0]
[null,null,null,null,null,null,0,"",null,"",null,"",null,null,null,null,"\\",{"$f":"IF(AND(A17=\"\",B17=\"\",C17=\"\",D17=\"\"),1,IF(OR(O17=\"\",N17=\"\"),2,IF(ISERROR(MATCH(Q17,Input!M$5:M$24,0)),2,1)))","v":1},"",0]
[]
["TANK SHEET"]
["Bid Item (In Order of Placement)",null,"Today's Placement",null,null,"Bid Item Plan Quantity","Plan Thickness (in)","Contract Mix Price","Contract Binder Price","Project Number",null,null,null,"Mix Pay Units","Mix Delivered to Road\n(Ton or SY)","Waste On Road (Ton)\nNO waste for SY Items","Tons Placed - Waste",null,null,"This adds up column S as it depends if the Est SY is filled out or the SY",null,"Use this Column for SY for the Q column","Uses this Value for Mix on Road"]
[null,null,null,null,null,{"$f":"IF($J21=\"\",\"\",INDEX(Input!$A$5:$H$24,MATCH($A21&$J21,Input!$A$5:$A$24&Input!$G$5:$G$24,0),2))","v":""},{"$f":"IF($J21=\"\",\"\",INDEX(Input!$A$5:$H$24,MATCH($A21&$J21,Input!$A$5:$A$24&Input!$G$5:$G$24,0),3))","v":""},{"$f":"IF($J21=\"\",\"\",INDEX(Input!$A$5:$H$24,MATCH($A21&$J21,Input!$A$5:$A$24&Input!$G$5:$G$24,0),4))","v":""},{"$f":"IF($J21=\"\",\"\",INDEX(Input!$A$5:$H$24,MATCH($A21&$J21,Input!$A$5:$A$24&Input!$G$5:$G$24,0),5))","v":""},null,null,null,null,{"$f":"IF($A21=\"\",\"\",OFFSET(Input!F$4,MATCH($A21,Input!$A$5:$A$24,0),0))","v":""},{"$f":"IF(N21=\"SY\", T21, IF(N21=\"Tons\", W21, \"\"))","v":""},null,{"$f":"IF(N21=\"SY\", V21, IF(N21=\"Tons\", O21-P21, \"\"))","v":""},{"$f":"SUBSTITUTE(A21 & \"\\\" & J21,\"\"\"\",\"\")","v":"\\"},{"$f":"IF(A21=\"\",1,IF(ISERROR(MATCH(R21,Input!L$5:L$24,0)),2,1))","v":1},{"$f":"IF(A21=\"\", \"\", SUMIF($Q$8:$Q$17, \"*\" & LEFT(A21, 11) & \"*\", $S$8:$S$17))","v":""},null,{"$f":"IF(A21=\"\", \"\", SUMIF($Q$8:$Q$17, \"*\" & LEFT(A21, 11) & \"*\", $T$8:$T$17))","v":""},{"$f":"IF(N21=\"SY\", T21, IF(N21=\"Tons\", V21+P21, \"\"))","v":""}]
[null,null,null,null,null,{"$f":"IF($J22=\"\",\"\",INDEX(Input!$A$5:$H$24,MATCH($A22&$J22,Input!$A$5:$A$24&Input!$G$5:$G$24,0),2))","v":""},{"$f":"IF($J22=\"\",\"\",INDEX(Input!$A$5:$H$24,MATCH($A22&$J22,Input!$A$5:$A$24&Input!$G$5:$G$24,0),3))","v":""},{"$f":"IF($J22=\"\",\"\",INDEX(Input!$A$5:$H$24,MATCH($A22&$J22,Input!$A$5:$A$24&Input!$G$5:$G$24,0),4))","v":""},{"$f":"IF($J22=\"\",\"\",INDEX(Input!$A$5:$H$24,MATCH($A22&$J22,Input!$A$5:$A$24&Input!$G$5:$G$24,0),5))","v":""},null,null,null,null,{"$f":"IF($A22=\"\",\"\",OFFSET(Input!F$4,MATCH($A22,Input!$A$5:$A$24,0),0))","v":""},{"$f":"IF(N22=\"SY\", T22, IF(N22=\"Tons\", W22, \"\"))","v":""},null,{"$f":"IF(N22=\"SY\", V22, IF(N22=\"Tons\", O22-P22, \"\"))","v":""},{"$f":"SUBSTITUTE(A22 & \"\\\" & J22,\"\"\"\",\"\")","v":"\\"},{"$f":"IF(A22=\"\",1,IF(ISERROR(MATCH(R22,Input!L$5:L$24,0)),2,1))","v":1},{"$f":"IF(A22=\"\", \"\", SUMIF($Q$8:$Q$17, \"*\" & LEFT(A22, 11) & \"*\", $S$8:$S$17))","v":""},null,{"$f":"IF(A22=\"\", \"\", SUMIF($Q$8:$Q$17, \"*\" & LEFT(A22, 11) & \"*\", $T$8:$T$17))","v":""},{"$f":"IF(N22=\"SY\", T22, IF(N22=\"Tons\", V22+P22, \"\"))","v":""}]
[null,null,null,null,null,{"$f":"IF($J23=\"\",\"\",INDEX(Input!$A$5:$H$24,MATCH($A23&$J23,Input!$A$5:$A$24&Input!$G$5:$G$24,0),2))","v":""},{"$f":"IF($J23=\"\",\"\",INDEX(Input!$A$5:$H$24,MATCH($A23&$J23,Input!$A$5:$A$24&Input!$G$5:$G$24,0),3))","v":""},{"$f":"IF($J23=\"\",\"\",INDEX(Input!$A$5:$H$24,MATCH($A23&$J23,Input!$A$5:$A$24&Input!$G$5:$G$24,0),4))","v":""},{"$f":"IF($J23=\"\",\"\",INDEX(Input!$A$5:$H$24,MATCH($A23&$J23,Input!$A$5:$A$24&Input!$G$5:$G$24,0),5))","v":""},null,null,null,null,{"$f":"IF($A23=\"\",\"\",OFFSET(Input!F$4,MATCH($A23,Input!$A$5:$A$24,0),0))","v":""},{"$f":"IF(N23=\"SY\", T23, IF(N23=\"Tons\", W23, \"\"))","v":""},null,{"$f":"IF(N23=\"SY\", V23, IF(N23=\"Tons\", O23-P23, \"\"))","v":""},"\\",{"$f":"IF(A23=\"\",1,IF(ISERROR(MATCH(R23,Input!L$5:L$24,0)),2,1))","v":1},{"$f":"IF(A23=\"\", \"\", SUMIF($Q$8:$Q$17, \"*\" & LEFT(A23, 11) & \"*\", $S$8:$S$17))","v":""},null,{"$f":"IF(A23=\"\", \"\", SUMIF($Q$8:$Q$17, \"*\" & LEFT(A23, 11) & \"*\", $T$8:$T$17))","v":""},{"$f":"IF(N23=\"SY\", T23, IF(N23=\"Tons\", V23+P23, \"\"))","v":""}]
[null,null,null,null,null,{"$f":"IF($J24=\"\",\"\",INDEX(Input!$A$5:$H$24,MATCH($A24&$J24,Input!$A$5:$A$24&Input!$G$5:$G$24,0),2))","v":""},{"$f":"IF($J24=\"\",\"\",INDEX(Input!$A$5:$H$24,MATCH($A24&$J24,Input!$A$5:$A$24&Input!$G$5:$G$24,0),3))","v":""},{"$f":"IF($J24=\"\",\"\",INDEX(Input!$A$5:$H$24,MATCH($A24&$J24,Input!$A$5:$A$24&Input!$G$5:$G$24,0),4))","v":""},{"$f":"IF($J24=\"\",\"\",INDEX(Input!$A$5:$H$24,MATCH($A24&$J24,Input!$A$5:$A$24&Input!$G$5:$G$24,0),5))","v":""},null,null,null,null,{"$f":"IF($A24=\"\",\"\",OFFSET(Input!F$4,MATCH($A24,Input!$A$5:$A$24,0),0))","v":""},"",null,{"$f":"IF(N24=\"SY\", V24, IF(N24=\"Tons\", O24-P24, \"\"))","v":""},"\\",{"$f":"IF(A24=\"\",1,IF(ISERROR(MATCH(R24,Input!L$5:L$24,0)),2,1))","v":1},"",null,{"$f":"IF(A24=\"\", \"\", SUMIF($Q$8:$Q$17, \"*\" & LEFT(A24, 11) & \"*\", $T$8:$T$17))","v":""},{"$f":"IF(N24=\"SY\", T24, IF(N24=\"Tons\", V24+P24, \"\"))","v":""}]
[null,null,null,null,null,{"$f":"IF($J25=\"\",\"\",INDEX(Input!$A$5:$H$24,MATCH($A25&$J25,Input!$A$5:$A$24&Input!$G$5:$G$24,0),2))","v":""},{"$f":"IF($J25=\"\",\"\",INDEX(Input!$A$5:$H$24,MATCH($A25&$J25,Input!$A$5:$A$24&Input!$G$5:$G$24,0),3))","v":""},{"$f":"IF($J25=\"\",\"\",INDEX(Input!$A$5:$H$24,MATCH($A25&$J25,Input!$A$5:$A$24&Input!$G$5:$G$24,0),4))","v":""},{"$f":"IF($J25=\"\",\"\",INDEX(Input!$A$5:$H$24,MATCH($A25&$J25,Input!$A$5:$A$24&Input!$G$5:$G$24,0),5))","v":""},null,null,null,null,{"$f":"IF($A25=\"\",\"\",OFFSET(Input!F$4,MATCH($A25,Input!$A$5:$A$24,0),0))","v":""},"",null,"","\\",{"$f":"IF(A25=\"\",1,IF(ISERROR(MATCH(R25,Input!L$5:L$24,0)),2,1))","v":1},"",null,"",""]
[null,null,null,null,null,null,null,null,null,null,null,null,null,null,null,null,null,null,null,null,null,"",{"$f":"IF(N26=\"SY\", T26, IF(N26=\"Tons\", V26+P26, \"\"))","v":""},{"$f":"IF(A26=\"\", \"\", SUMIF($Q$8:$Q$17, \"*\" & LEFT(A26, 11) & \"*\", $S$8:$S$17))","v":""},{"$f":"IF(N26=\"SY\",X26,\"\")","v":""},{"$f":"IF(A26=\"\", \"\", SUMIF($Q$8:$Q$17, \"*\" & LEFT(A26, 11) & \"*\", $T$8:$T$17))","v":""}]
["Hot Box Sample",null,null,null,null,null,null,null,null,null,"Mat Temperatures °F"]
[null,"Test A","Test B","Test C","Test D","Test E",null,null,null,null,"Time","Temp"]
[" Hot Box ID Number  ",null,null,null,null,null,null,null,null,null,"7:00"]
["Hot Box Sample Tons: ",null,null,null,null,null,null,null,null,null,"9:00",null,null,null,"Intended Thickness:"]
[" Time: ",null,null,null,null,null,null,null,null,null,"11:00",null,null,null,"Cores Waived?"]
[" Station/MP: ",null,null,null,null,null,null,null,null,null,"1:00",null,null,null,"Small Quantity Statement?"]
["Bar Code ID.:",null,null,null,null,null,null,null,null,null,"3:00",null,null,null,"Scale Check Done?"]
["Compaction Temp. °F: ",null,null,null,null,null,null,null,null,null,"5:00",null,null,null,"Tack Tickets Today?"]
[null,null,null,null,null,null,null,null,null,null,"7:00"]
["The Below Comments should show up on the plant report"]
["Comments:"]
[]
[]
["The Below Notes are for the CPI from the field or Plant Monitor"]
["Notes:"]
[]
[]
["RANDOM CORE LOCATIONS"]
[null,null,null,null,null,null,null,"Core #","Station","Offset,ft","Joint Station","Lane"]
[null,null,null,null,null,null,null,1]
[null,null,null,null,null,null,null,2]
[null,null,null,null,null,null,null,3]
[null,null,null,null,null,null,null,4]
[null,null,null,null,null,null,null,5]
[null,null,null,null,null,null,null,6]
[null,null,null,null,null,null,null,7]
[null,null,null,null,null,null,null,8]
[]
[null,null,null,null,null,null,null,null,null,null,"Joint Sublot Size, ft"]
[null,null,null,null,null,null,null,null,null,null,0]
[]
[]
[]
[]
[]
[]
[]
[]
[]
[]
[]
[]
[]
[]
[]
[]
[]
[]
[]
[]
[]
[]
[]
[]
[]
[]
[]
[]
[]
[]
[]
[]
[]
[]
[]
[]
[]
[]
[]
[]
[false]

{"sheet":"58","index":73,"n_rows":97,"n_cols":26,"rows_kept":97,"cut":false,"hidden":false,"merged":[[50,11,50,13],[51,11,51,13],[52,11,52,13],[44,11,44,13],[45,11,45,13],[46,11,46,13],[47,11,47,13],[48,11,48,13],[49,11,49,13],[43,0,43,16],[25,0,25,1],[26,0,26,5],[26,20,26,23],[26,25,26,27],[34,2,34,4],[35,0,35,5],[36,1,36,14],[37,0,37,14],[39,0,39,5],[40,1,40,14],[41,0,41,14],[23,0,23,1],[23,2,23,4],[23,9,23,12],[24,0,24,1],[24,2,24,4],[24,9,24,12],[21,0,21,1],[21,2,21,4],[21,9,21,12],[22,0,22,1],[22,2,22,4],[22,9,22,12],[19,0,19,1],[19,2,19,4],[19,9,19,12],[20,0,20,1],[20,2,20,4],[20,9,20,12],[18,0,18,16],[6,14,6,15],[7,14,7,15],[8,14,8,15],[9,14,9,15],[10,14,10,15],[11,14,11,15],[12,14,12,15],[13,14,13,15],[14,14,14,15],[15,14,15,15],[16,14,16,15],[1,0,1,16],[4,0,4,15],[5,4,5,5],[5,8,5,9],[5,11,5,12],[5,13,5,15]]}
[]
["Iowa DOT HMA Field Report"]
["Date :"]
["Item No.('s)"]
["PLACEMENT RECORD",null,null,null,null,null,null,null,null,null,null,null,null,null,null,null,null,null,null,null,null,{"$f":"SUBSTITUTE(A21 & \"\\\" & J21,\"\"\"\",\"\")","v":"\\"}]
[null,null,null,null,"Additional width to DEDUCT from Field Voids",null,null,null,"Placed Density (Pounds/CF)=",null,150,"Overwritten on the \"Summary\" Tab",null,"ONLY ONE (1) MIX DESIGN PER DFR OTHERWISE IT WILL NOT IMPORT INTO THE PLANT REPORT PROPERLY",null,null,null,null,null,null,null,{"$f":"SUBSTITUTE(A22 & \"\\\" & J22,\"\"\"\",\"\")","v":"\\"}]
["From Station"," To Station","Lane","ML or Widening Placement Width","Additional Width (ft) ","Thickness (in)","Total Length Placed (FT)","\"Pay\"  Est \"SY\"","Thickness (inches)","Calculated Field Voids Tons","Placed Tons            (Not including Waste)","% Yield","SY to be PAID (If Diff. than Est SY)","Mix Design No.","Bid Item/ Project No.",null,null,null,"This uses the correct SY #, if Green is blank uses Est. SY","Adds up the Tons",null,"\\"]
[null,null,null,null,null,null,{"$f":"IF(OR(A8=\"\",B8=\"\"),0,IF($A$97=TRUE,ABS(B8-A8)*5280,ABS(VALUE(SUBSTITUTE(A8,\"+\",\"\"))-VALUE(SUBSTITUTE(B8,\"+\",\"\")))))","v":0},{"$f":"IF(D8=\"\",\"\",G8*(D8+E8)/9)","v":""},null,{"$f":"IF(I8=\"\",\"\",(G8)*(D8+E8)*I8/12*$K$6/2000)","v":""},null,{"$f":"IF(K8=\"\",\"\",K8/J8*100)","v":""},null,null,null,null,{"$f":"O8 & \"\\\" & N8","v":"\\"},{"$f":"IF(AND(A8=\"\",B8=\"\",C8=\"\",D8=\"\"),1,IF(OR(O8=\"\",N8=\"\"),2,IF(ISERROR(MATCH(Q8,Input!M$5:M$24,0)),2,1)))","v":1},{"$f":"IF(M8<>\"\", M8, H8)","v":""},{"$f":"K8","v":0},null,"\\"]
[null,null,null,null,null,null,{"$f":"IF(OR(A9=\"\",B9=\"\"),0,IF($A$97=TRUE,ABS(B9-A9)*5280,ABS(VALUE(SUBSTITUTE(A9,\"+\",\"\"))-VALUE(SUBSTITUTE(B9,\"+\",\"\")))))","v":0},{"$f":"IF(D9=\"\",\"\",G9*(D9+E9)/9)","v":""},null,"",null,{"$f":"IF(K9=\"\",\"\",K9/J9*100)","v":""},null,null,null,null,{"$f":"O9 & \"\\\" & N9","v":"\\"},{"$f":"IF(AND(A9=\"\",B9=\"\",C9=\"\",D9=\"\"),1,IF(OR(O9=\"\",N9=\"\"),2,IF(ISERROR(MATCH(Q9,Input!M$5:M$24,0)),2,1)))","v":1},{"$f":"IF(M9<>\"\", M9, H9)","v":""},{"$f":"K9","v":0},null,"\\"]
[null,null,null,null,null,null,0,"",null,"",null,"",null,null,null,null,"\\",{"$f":"IF(AND(A10=\"\",B10=\"\",C10=\"\",D10=\"\"),1,IF(OR(O10=\"\",N10=\"\"),2,IF(ISERROR(MATCH(Q10,Input!M$5:M$24,0)),2,1)))","v":1},{"$f":"IF(M10<>\"\", M10, H10)","v":""},0]
[null,null,null,null,null,null,0,"",null,"",null,"",null,null,null,null,"\\",{"$f":"IF(AND(A11=\"\",B11=\"\",C11=\"\",D11=\"\"),1,IF(OR(O11=\"\",N11=\"\"),2,IF(ISERROR(MATCH(Q11,Input!M$5:M$24,0)),2,1)))","v":1},"",0]
[null,null,null,null,null,null,0,"",null,"",null,"",null,null,null,null,"\\",{"$f":"IF(AND(A12=\"\",B12=\"\",C12=\"\",D12=\"\"),1,IF(OR(O12=\"\",N12=\"\"),2,IF(ISERROR(MATCH(Q12,Input!M$5:M$24,0)),2,1)))","v":1},"",0]
[null,null,null,null,null,null,0,"",null,"",null,"",null,null,null,null,"\\",{"$f":"IF(AND(A13=\"\",B13=\"\",C13=\"\",D13=\"\"),1,IF(OR(O13=\"\",N13=\"\"),2,IF(ISERROR(MATCH(Q13,Input!M$5:M$24,0)),2,1)))","v":1},"",0]
[null,null,null,null,null,null,0,"",null,"",null,"",null,null,null,null,"\\",{"$f":"IF(AND(A14=\"\",B14=\"\",C14=\"\",D14=\"\"),1,IF(OR(O14=\"\",N14=\"\"),2,IF(ISERROR(MATCH(Q14,Input!M$5:M$24,0)),2,1)))","v":1},"",0]
[null,null,null,null,null,null,0,"",null,"",null,"",null,null,null,null,"\\",{"$f":"IF(AND(A15=\"\",B15=\"\",C15=\"\",D15=\"\"),1,IF(OR(O15=\"\",N15=\"\"),2,IF(ISERROR(MATCH(Q15,Input!M$5:M$24,0)),2,1)))","v":1},"",0]
[null,null,null,null,null,null,0,"",null,"",null,"",null,null,null,null,"\\",{"$f":"IF(AND(A16=\"\",B16=\"\",C16=\"\",D16=\"\"),1,IF(OR(O16=\"\",N16=\"\"),2,IF(ISERROR(MATCH(Q16,Input!M$5:M$24,0)),2,1)))","v":1},"",0]
[null,null,null,null,null,null,0,"",null,"",null,"",null,null,null,null,"\\",{"$f":"IF(AND(A17=\"\",B17=\"\",C17=\"\",D17=\"\"),1,IF(OR(O17=\"\",N17=\"\"),2,IF(ISERROR(MATCH(Q17,Input!M$5:M$24,0)),2,1)))","v":1},"",0]
[]
["TANK SHEET"]
["Bid Item (In Order of Placement)",null,"Today's Placement",null,null,"Bid Item Plan Quantity","Plan Thickness (in)","Contract Mix Price","Contract Binder Price","Project Number",null,null,null,"Mix Pay Units","Mix Delivered to Road\n(Ton or SY)","Waste On Road (Ton)\nNO waste for SY Items","Tons Placed - Waste",null,null,"This adds up column S as it depends if the Est SY is filled out or the SY",null,"Use this Column for SY for the Q column","Uses this Value for Mix on Road"]
[null,null,null,null,null,{"$f":"IF($J21=\"\",\"\",INDEX(Input!$A$5:$H$24,MATCH($A21&$J21,Input!$A$5:$A$24&Input!$G$5:$G$24,0),2))","v":""},{"$f":"IF($J21=\"\",\"\",INDEX(Input!$A$5:$H$24,MATCH($A21&$J21,Input!$A$5:$A$24&Input!$G$5:$G$24,0),3))","v":""},{"$f":"IF($J21=\"\",\"\",INDEX(Input!$A$5:$H$24,MATCH($A21&$J21,Input!$A$5:$A$24&Input!$G$5:$G$24,0),4))","v":""},{"$f":"IF($J21=\"\",\"\",INDEX(Input!$A$5:$H$24,MATCH($A21&$J21,Input!$A$5:$A$24&Input!$G$5:$G$24,0),5))","v":""},null,null,null,null,{"$f":"IF($A21=\"\",\"\",OFFSET(Input!F$4,MATCH($A21,Input!$A$5:$A$24,0),0))","v":""},{"$f":"IF(N21=\"SY\", T21, IF(N21=\"Tons\", W21, \"\"))","v":""},null,{"$f":"IF(N21=\"SY\", V21, IF(N21=\"Tons\", O21-P21, \"\"))","v":""},{"$f":"SUBSTITUTE(A21 & \"\\\" & J21,\"\"\"\",\"\")","v":"\\"},{"$f":"IF(A21=\"\",1,IF(ISERROR(MATCH(R21,Input!L$5:L$24,0)),2,1))","v":1},{"$f":"IF(A21=\"\", \"\", SUMIF($Q$8:$Q$17, \"*\" & LEFT(A21, 11) & \"*\", $S$8:$S$17))","v":""},null,{"$f":"IF(A21=\"\", \"\", SUMIF($Q$8:$Q$17, \"*\" & LEFT(A21, 11) & \"*\", $T$8:$T$17))","v":""},{"$f":"IF(N21=\"SY\", T21, IF(N21=\"Tons\", V21+P21, \"\"))","v":""}]
[null,null,null,null,null,{"$f":"IF($J22=\"\",\"\",INDEX(Input!$A$5:$H$24,MATCH($A22&$J22,Input!$A$5:$A$24&Input!$G$5:$G$24,0),2))","v":""},{"$f":"IF($J22=\"\",\"\",INDEX(Input!$A$5:$H$24,MATCH($A22&$J22,Input!$A$5:$A$24&Input!$G$5:$G$24,0),3))","v":""},{"$f":"IF($J22=\"\",\"\",INDEX(Input!$A$5:$H$24,MATCH($A22&$J22,Input!$A$5:$A$24&Input!$G$5:$G$24,0),4))","v":""},{"$f":"IF($J22=\"\",\"\",INDEX(Input!$A$5:$H$24,MATCH($A22&$J22,Input!$A$5:$A$24&Input!$G$5:$G$24,0),5))","v":""},null,null,null,null,{"$f":"IF($A22=\"\",\"\",OFFSET(Input!F$4,MATCH($A22,Input!$A$5:$A$24,0),0))","v":""},{"$f":"IF(N22=\"SY\", T22, IF(N22=\"Tons\", W22, \"\"))","v":""},null,{"$f":"IF(N22=\"SY\", V22, IF(N22=\"Tons\", O22-P22, \"\"))","v":""},{"$f":"SUBSTITUTE(A22 & \"\\\" & J22,\"\"\"\",\"\")","v":"\\"},{"$f":"IF(A22=\"\",1,IF(ISERROR(MATCH(R22,Input!L$5:L$24,0)),2,1))","v":1},{"$f":"IF(A22=\"\", \"\", SUMIF($Q$8:$Q$17, \"*\" & LEFT(A22, 11) & \"*\", $S$8:$S$17))","v":""},null,{"$f":"IF(A22=\"\", \"\", SUMIF($Q$8:$Q$17, \"*\" & LEFT(A22, 11) & \"*\", $T$8:$T$17))","v":""},{"$f":"IF(N22=\"SY\", T22, IF(N22=\"Tons\", V22+P22, \"\"))","v":""}]
[null,null,null,null,null,{"$f":"IF($J23=\"\",\"\",INDEX(Input!$A$5:$H$24,MATCH($A23&$J23,Input!$A$5:$A$24&Input!$G$5:$G$24,0),2))","v":""},{"$f":"IF($J23=\"\",\"\",INDEX(Input!$A$5:$H$24,MATCH($A23&$J23,Input!$A$5:$A$24&Input!$G$5:$G$24,0),3))","v":""},{"$f":"IF($J23=\"\",\"\",INDEX(Input!$A$5:$H$24,MATCH($A23&$J23,Input!$A$5:$A$24&Input!$G$5:$G$24,0),4))","v":""},{"$f":"IF($J23=\"\",\"\",INDEX(Input!$A$5:$H$24,MATCH($A23&$J23,Input!$A$5:$A$24&Input!$G$5:$G$24,0),5))","v":""},null,null,null,null,{"$f":"IF($A23=\"\",\"\",OFFSET(Input!F$4,MATCH($A23,Input!$A$5:$A$24,0),0))","v":""},{"$f":"IF(N23=\"SY\", T23, IF(N23=\"Tons\", W23, \"\"))","v":""},null,{"$f":"IF(N23=\"SY\", V23, IF(N23=\"Tons\", O23-P23, \"\"))","v":""},"\\",{"$f":"IF(A23=\"\",1,IF(ISERROR(MATCH(R23,Input!L$5:L$24,0)),2,1))","v":1},{"$f":"IF(A23=\"\", \"\", SUMIF($Q$8:$Q$17, \"*\" & LEFT(A23, 11) & \"*\", $S$8:$S$17))","v":""},null,{"$f":"IF(A23=\"\", \"\", SUMIF($Q$8:$Q$17, \"*\" & LEFT(A23, 11) & \"*\", $T$8:$T$17))","v":""},{"$f":"IF(N23=\"SY\", T23, IF(N23=\"Tons\", V23+P23, \"\"))","v":""}]
[null,null,null,null,null,{"$f":"IF($J24=\"\",\"\",INDEX(Input!$A$5:$H$24,MATCH($A24&$J24,Input!$A$5:$A$24&Input!$G$5:$G$24,0),2))","v":""},{"$f":"IF($J24=\"\",\"\",INDEX(Input!$A$5:$H$24,MATCH($A24&$J24,Input!$A$5:$A$24&Input!$G$5:$G$24,0),3))","v":""},{"$f":"IF($J24=\"\",\"\",INDEX(Input!$A$5:$H$24,MATCH($A24&$J24,Input!$A$5:$A$24&Input!$G$5:$G$24,0),4))","v":""},{"$f":"IF($J24=\"\",\"\",INDEX(Input!$A$5:$H$24,MATCH($A24&$J24,Input!$A$5:$A$24&Input!$G$5:$G$24,0),5))","v":""},null,null,null,null,{"$f":"IF($A24=\"\",\"\",OFFSET(Input!F$4,MATCH($A24,Input!$A$5:$A$24,0),0))","v":""},"",null,{"$f":"IF(N24=\"SY\", V24, IF(N24=\"Tons\", O24-P24, \"\"))","v":""},"\\",{"$f":"IF(A24=\"\",1,IF(ISERROR(MATCH(R24,Input!L$5:L$24,0)),2,1))","v":1},"",null,{"$f":"IF(A24=\"\", \"\", SUMIF($Q$8:$Q$17, \"*\" & LEFT(A24, 11) & \"*\", $T$8:$T$17))","v":""},{"$f":"IF(N24=\"SY\", T24, IF(N24=\"Tons\", V24+P24, \"\"))","v":""}]
[null,null,null,null,null,{"$f":"IF($J25=\"\",\"\",INDEX(Input!$A$5:$H$24,MATCH($A25&$J25,Input!$A$5:$A$24&Input!$G$5:$G$24,0),2))","v":""},{"$f":"IF($J25=\"\",\"\",INDEX(Input!$A$5:$H$24,MATCH($A25&$J25,Input!$A$5:$A$24&Input!$G$5:$G$24,0),3))","v":""},{"$f":"IF($J25=\"\",\"\",INDEX(Input!$A$5:$H$24,MATCH($A25&$J25,Input!$A$5:$A$24&Input!$G$5:$G$24,0),4))","v":""},{"$f":"IF($J25=\"\",\"\",INDEX(Input!$A$5:$H$24,MATCH($A25&$J25,Input!$A$5:$A$24&Input!$G$5:$G$24,0),5))","v":""},null,null,null,null,{"$f":"IF($A25=\"\",\"\",OFFSET(Input!F$4,MATCH($A25,Input!$A$5:$A$24,0),0))","v":""},"",null,"","\\",{"$f":"IF(A25=\"\",1,IF(ISERROR(MATCH(R25,Input!L$5:L$24,0)),2,1))","v":1},"",null,"",""]
[null,null,null,null,null,null,null,null,null,null,null,null,null,null,null,null,null,null,null,null,null,"",{"$f":"IF(N26=\"SY\", T26, IF(N26=\"Tons\", V26+P26, \"\"))","v":""},{"$f":"IF(A26=\"\", \"\", SUMIF($Q$8:$Q$17, \"*\" & LEFT(A26, 11) & \"*\", $S$8:$S$17))","v":""},{"$f":"IF(N26=\"SY\",X26,\"\")","v":""},{"$f":"IF(A26=\"\", \"\", SUMIF($Q$8:$Q$17, \"*\" & LEFT(A26, 11) & \"*\", $T$8:$T$17))","v":""}]
["Hot Box Sample",null,null,null,null,null,null,null,null,null,"Mat Temperatures °F"]
[null,"Test A","Test B","Test C","Test D","Test E",null,null,null,null,"Time","Temp"]
[" Hot Box ID Number  ",null,null,null,null,null,null,null,null,null,"7:00"]
["Hot Box Sample Tons: ",null,null,null,null,null,null,null,null,null,"9:00",null,null,null,"Intended Thickness:"]
[" Time: ",null,null,null,null,null,null,null,null,null,"11:00",null,null,null,"Cores Waived?"]
[" Station/MP: ",null,null,null,null,null,null,null,null,null,"1:00",null,null,null,"Small Quantity Statement?"]
["Bar Code ID.:",null,null,null,null,null,null,null,null,null,"3:00",null,null,null,"Scale Check Done?"]
["Compaction Temp. °F: ",null,null,null,null,null,null,null,null,null,"5:00",null,null,null,"Tack Tickets Today?"]
[null,null,null,null,null,null,null,null,null,null,"7:00"]
["The Below Comments should show up on the plant report"]
["Comments:"]
[]
[]
["The Below Notes are for the CPI from the field or Plant Monitor"]
["Notes:"]
[]
[]
["RANDOM CORE LOCATIONS"]
[null,null,null,null,null,null,null,"Core #","Station","Offset,ft","Joint Station","Lane"]
[null,null,null,null,null,null,null,1]
[null,null,null,null,null,null,null,2]
[null,null,null,null,null,null,null,3]
[null,null,null,null,null,null,null,4]
[null,null,null,null,null,null,null,5]
[null,null,null,null,null,null,null,6]
[null,null,null,null,null,null,null,7]
[null,null,null,null,null,null,null,8]
[]
[null,null,null,null,null,null,null,null,null,null,"Joint Sublot Size, ft"]
[null,null,null,null,null,null,null,null,null,null,0]
[]
[]
[]
[]
[]
[]
[]
[]
[]
[]
[]
[]
[]
[]
[]
[]
[]
[]
[]
[]
[]
[]
[]
[]
[]
[]
[]
[]
[]
[]
[]
[]
[]
[]
[]
[]
[]
[]
[]
[]
[false]

{"sheet":"59","index":74,"n_rows":97,"n_cols":26,"rows_kept":97,"cut":false,"hidden":false,"merged":[[50,11,50,13],[51,11,51,13],[52,11,52,13],[44,11,44,13],[45,11,45,13],[46,11,46,13],[47,11,47,13],[48,11,48,13],[49,11,49,13],[43,0,43,16],[25,0,25,1],[26,0,26,5],[26,20,26,23],[26,25,26,27],[34,2,34,4],[35,0,35,5],[36,1,36,14],[37,0,37,14],[39,0,39,5],[40,1,40,14],[41,0,41,14],[23,0,23,1],[23,2,23,4],[23,9,23,12],[24,0,24,1],[24,2,24,4],[24,9,24,12],[21,0,21,1],[21,2,21,4],[21,9,21,12],[22,0,22,1],[22,2,22,4],[22,9,22,12],[19,0,19,1],[19,2,19,4],[19,9,19,12],[20,0,20,1],[20,2,20,4],[20,9,20,12],[18,0,18,16],[6,14,6,15],[7,14,7,15],[8,14,8,15],[9,14,9,15],[10,14,10,15],[11,14,11,15],[12,14,12,15],[13,14,13,15],[14,14,14,15],[15,14,15,15],[16,14,16,15],[1,0,1,16],[4,0,4,15],[5,4,5,5],[5,8,5,9],[5,11,5,12],[5,13,5,15]]}
[]
["Iowa DOT HMA Field Report"]
["Date :"]
["Item No.('s)"]
["PLACEMENT RECORD",null,null,null,null,null,null,null,null,null,null,null,null,null,null,null,null,null,null,null,null,{"$f":"SUBSTITUTE(A21 & \"\\\" & J21,\"\"\"\",\"\")","v":"\\"}]
[null,null,null,null,"Additional width to DEDUCT from Field Voids",null,null,null,"Placed Density (Pounds/CF)=",null,150,"Overwritten on the \"Summary\" Tab",null,"ONLY ONE (1) MIX DESIGN PER DFR OTHERWISE IT WILL NOT IMPORT INTO THE PLANT REPORT PROPERLY",null,null,null,null,null,null,null,{"$f":"SUBSTITUTE(A22 & \"\\\" & J22,\"\"\"\",\"\")","v":"\\"}]
["From Station"," To Station","Lane","ML or Widening Placement Width","Additional Width (ft) ","Thickness (in)","Total Length Placed (FT)","\"Pay\"  Est \"SY\"","Thickness (inches)","Calculated Field Voids Tons","Placed Tons            (Not including Waste)","% Yield","SY to be PAID (If Diff. than Est SY)","Mix Design No.","Bid Item/ Project No.",null,null,null,"This uses the correct SY #, if Green is blank uses Est. SY","Adds up the Tons",null,"\\"]
[null,null,null,null,null,null,{"$f":"IF(OR(A8=\"\",B8=\"\"),0,IF($A$97=TRUE,ABS(B8-A8)*5280,ABS(VALUE(SUBSTITUTE(A8,\"+\",\"\"))-VALUE(SUBSTITUTE(B8,\"+\",\"\")))))","v":0},{"$f":"IF(D8=\"\",\"\",G8*(D8+E8)/9)","v":""},null,{"$f":"IF(I8=\"\",\"\",(G8)*(D8+E8)*I8/12*$K$6/2000)","v":""},null,{"$f":"IF(K8=\"\",\"\",K8/J8*100)","v":""},null,null,null,null,{"$f":"O8 & \"\\\" & N8","v":"\\"},{"$f":"IF(AND(A8=\"\",B8=\"\",C8=\"\",D8=\"\"),1,IF(OR(O8=\"\",N8=\"\"),2,IF(ISERROR(MATCH(Q8,Input!M$5:M$24,0)),2,1)))","v":1},{"$f":"IF(M8<>\"\", M8, H8)","v":""},{"$f":"K8","v":0},null,"\\"]
[null,null,null,null,null,null,{"$f":"IF(OR(A9=\"\",B9=\"\"),0,IF($A$97=TRUE,ABS(B9-A9)*5280,ABS(VALUE(SUBSTITUTE(A9,\"+\",\"\"))-VALUE(SUBSTITUTE(B9,\"+\",\"\")))))","v":0},{"$f":"IF(D9=\"\",\"\",G9*(D9+E9)/9)","v":""},null,"",null,{"$f":"IF(K9=\"\",\"\",K9/J9*100)","v":""},null,null,null,null,{"$f":"O9 & \"\\\" & N9","v":"\\"},{"$f":"IF(AND(A9=\"\",B9=\"\",C9=\"\",D9=\"\"),1,IF(OR(O9=\"\",N9=\"\"),2,IF(ISERROR(MATCH(Q9,Input!M$5:M$24,0)),2,1)))","v":1},{"$f":"IF(M9<>\"\", M9, H9)","v":""},{"$f":"K9","v":0},null,"\\"]
[null,null,null,null,null,null,0,"",null,"",null,"",null,null,null,null,"\\",{"$f":"IF(AND(A10=\"\",B10=\"\",C10=\"\",D10=\"\"),1,IF(OR(O10=\"\",N10=\"\"),2,IF(ISERROR(MATCH(Q10,Input!M$5:M$24,0)),2,1)))","v":1},{"$f":"IF(M10<>\"\", M10, H10)","v":""},0]
[null,null,null,null,null,null,0,"",null,"",null,"",null,null,null,null,"\\",{"$f":"IF(AND(A11=\"\",B11=\"\",C11=\"\",D11=\"\"),1,IF(OR(O11=\"\",N11=\"\"),2,IF(ISERROR(MATCH(Q11,Input!M$5:M$24,0)),2,1)))","v":1},"",0]
[null,null,null,null,null,null,0,"",null,"",null,"",null,null,null,null,"\\",{"$f":"IF(AND(A12=\"\",B12=\"\",C12=\"\",D12=\"\"),1,IF(OR(O12=\"\",N12=\"\"),2,IF(ISERROR(MATCH(Q12,Input!M$5:M$24,0)),2,1)))","v":1},"",0]
[null,null,null,null,null,null,0,"",null,"",null,"",null,null,null,null,"\\",{"$f":"IF(AND(A13=\"\",B13=\"\",C13=\"\",D13=\"\"),1,IF(OR(O13=\"\",N13=\"\"),2,IF(ISERROR(MATCH(Q13,Input!M$5:M$24,0)),2,1)))","v":1},"",0]
[null,null,null,null,null,null,0,"",null,"",null,"",null,null,null,null,"\\",{"$f":"IF(AND(A14=\"\",B14=\"\",C14=\"\",D14=\"\"),1,IF(OR(O14=\"\",N14=\"\"),2,IF(ISERROR(MATCH(Q14,Input!M$5:M$24,0)),2,1)))","v":1},"",0]
[null,null,null,null,null,null,0,"",null,"",null,"",null,null,null,null,"\\",{"$f":"IF(AND(A15=\"\",B15=\"\",C15=\"\",D15=\"\"),1,IF(OR(O15=\"\",N15=\"\"),2,IF(ISERROR(MATCH(Q15,Input!M$5:M$24,0)),2,1)))","v":1},"",0]
[null,null,null,null,null,null,0,"",null,"",null,"",null,null,null,null,"\\",{"$f":"IF(AND(A16=\"\",B16=\"\",C16=\"\",D16=\"\"),1,IF(OR(O16=\"\",N16=\"\"),2,IF(ISERROR(MATCH(Q16,Input!M$5:M$24,0)),2,1)))","v":1},"",0]
[null,null,null,null,null,null,0,"",null,"",null,"",null,null,null,null,"\\",{"$f":"IF(AND(A17=\"\",B17=\"\",C17=\"\",D17=\"\"),1,IF(OR(O17=\"\",N17=\"\"),2,IF(ISERROR(MATCH(Q17,Input!M$5:M$24,0)),2,1)))","v":1},"",0]
[]
["TANK SHEET"]
["Bid Item (In Order of Placement)",null,"Today's Placement",null,null,"Bid Item Plan Quantity","Plan Thickness (in)","Contract Mix Price","Contract Binder Price","Project Number",null,null,null,"Mix Pay Units","Mix Delivered to Road\n(Ton or SY)","Waste On Road (Ton)\nNO waste for SY Items","Tons Placed - Waste",null,null,"This adds up column S as it depends if the Est SY is filled out or the SY",null,"Use this Column for SY for the Q column","Uses this Value for Mix on Road"]
[null,null,null,null,null,{"$f":"IF($J21=\"\",\"\",INDEX(Input!$A$5:$H$24,MATCH($A21&$J21,Input!$A$5:$A$24&Input!$G$5:$G$24,0),2))","v":""},{"$f":"IF($J21=\"\",\"\",INDEX(Input!$A$5:$H$24,MATCH($A21&$J21,Input!$A$5:$A$24&Input!$G$5:$G$24,0),3))","v":""},{"$f":"IF($J21=\"\",\"\",INDEX(Input!$A$5:$H$24,MATCH($A21&$J21,Input!$A$5:$A$24&Input!$G$5:$G$24,0),4))","v":""},{"$f":"IF($J21=\"\",\"\",INDEX(Input!$A$5:$H$24,MATCH($A21&$J21,Input!$A$5:$A$24&Input!$G$5:$G$24,0),5))","v":""},null,null,null,null,{"$f":"IF($A21=\"\",\"\",OFFSET(Input!F$4,MATCH($A21,Input!$A$5:$A$24,0),0))","v":""},{"$f":"IF(N21=\"SY\", T21, IF(N21=\"Tons\", W21, \"\"))","v":""},null,{"$f":"IF(N21=\"SY\", V21, IF(N21=\"Tons\", O21-P21, \"\"))","v":""},{"$f":"SUBSTITUTE(A21 & \"\\\" & J21,\"\"\"\",\"\")","v":"\\"},{"$f":"IF(A21=\"\",1,IF(ISERROR(MATCH(R21,Input!L$5:L$24,0)),2,1))","v":1},{"$f":"IF(A21=\"\", \"\", SUMIF($Q$8:$Q$17, \"*\" & LEFT(A21, 11) & \"*\", $S$8:$S$17))","v":""},null,{"$f":"IF(A21=\"\", \"\", SUMIF($Q$8:$Q$17, \"*\" & LEFT(A21, 11) & \"*\", $T$8:$T$17))","v":""},{"$f":"IF(N21=\"SY\", T21, IF(N21=\"Tons\", V21+P21, \"\"))","v":""}]
[null,null,null,null,null,{"$f":"IF($J22=\"\",\"\",INDEX(Input!$A$5:$H$24,MATCH($A22&$J22,Input!$A$5:$A$24&Input!$G$5:$G$24,0),2))","v":""},{"$f":"IF($J22=\"\",\"\",INDEX(Input!$A$5:$H$24,MATCH($A22&$J22,Input!$A$5:$A$24&Input!$G$5:$G$24,0),3))","v":""},{"$f":"IF($J22=\"\",\"\",INDEX(Input!$A$5:$H$24,MATCH($A22&$J22,Input!$A$5:$A$24&Input!$G$5:$G$24,0),4))","v":""},{"$f":"IF($J22=\"\",\"\",INDEX(Input!$A$5:$H$24,MATCH($A22&$J22,Input!$A$5:$A$24&Input!$G$5:$G$24,0),5))","v":""},null,null,null,null,{"$f":"IF($A22=\"\",\"\",OFFSET(Input!F$4,MATCH($A22,Input!$A$5:$A$24,0),0))","v":""},{"$f":"IF(N22=\"SY\", T22, IF(N22=\"Tons\", W22, \"\"))","v":""},null,{"$f":"IF(N22=\"SY\", V22, IF(N22=\"Tons\", O22-P22, \"\"))","v":""},{"$f":"SUBSTITUTE(A22 & \"\\\" & J22,\"\"\"\",\"\")","v":"\\"},{"$f":"IF(A22=\"\",1,IF(ISERROR(MATCH(R22,Input!L$5:L$24,0)),2,1))","v":1},{"$f":"IF(A22=\"\", \"\", SUMIF($Q$8:$Q$17, \"*\" & LEFT(A22, 11) & \"*\", $S$8:$S$17))","v":""},null,{"$f":"IF(A22=\"\", \"\", SUMIF($Q$8:$Q$17, \"*\" & LEFT(A22, 11) & \"*\", $T$8:$T$17))","v":""},{"$f":"IF(N22=\"SY\", T22, IF(N22=\"Tons\", V22+P22, \"\"))","v":""}]
[null,null,null,null,null,{"$f":"IF($J23=\"\",\"\",INDEX(Input!$A$5:$H$24,MATCH($A23&$J23,Input!$A$5:$A$24&Input!$G$5:$G$24,0),2))","v":""},{"$f":"IF($J23=\"\",\"\",INDEX(Input!$A$5:$H$24,MATCH($A23&$J23,Input!$A$5:$A$24&Input!$G$5:$G$24,0),3))","v":""},{"$f":"IF($J23=\"\",\"\",INDEX(Input!$A$5:$H$24,MATCH($A23&$J23,Input!$A$5:$A$24&Input!$G$5:$G$24,0),4))","v":""},{"$f":"IF($J23=\"\",\"\",INDEX(Input!$A$5:$H$24,MATCH($A23&$J23,Input!$A$5:$A$24&Input!$G$5:$G$24,0),5))","v":""},null,null,null,null,{"$f":"IF($A23=\"\",\"\",OFFSET(Input!F$4,MATCH($A23,Input!$A$5:$A$24,0),0))","v":""},{"$f":"IF(N23=\"SY\", T23, IF(N23=\"Tons\", W23, \"\"))","v":""},null,{"$f":"IF(N23=\"SY\", V23, IF(N23=\"Tons\", O23-P23, \"\"))","v":""},"\\",{"$f":"IF(A23=\"\",1,IF(ISERROR(MATCH(R23,Input!L$5:L$24,0)),2,1))","v":1},{"$f":"IF(A23=\"\", \"\", SUMIF($Q$8:$Q$17, \"*\" & LEFT(A23, 11) & \"*\", $S$8:$S$17))","v":""},null,{"$f":"IF(A23=\"\", \"\", SUMIF($Q$8:$Q$17, \"*\" & LEFT(A23, 11) & \"*\", $T$8:$T$17))","v":""},{"$f":"IF(N23=\"SY\", T23, IF(N23=\"Tons\", V23+P23, \"\"))","v":""}]
[null,null,null,null,null,{"$f":"IF($J24=\"\",\"\",INDEX(Input!$A$5:$H$24,MATCH($A24&$J24,Input!$A$5:$A$24&Input!$G$5:$G$24,0),2))","v":""},{"$f":"IF($J24=\"\",\"\",INDEX(Input!$A$5:$H$24,MATCH($A24&$J24,Input!$A$5:$A$24&Input!$G$5:$G$24,0),3))","v":""},{"$f":"IF($J24=\"\",\"\",INDEX(Input!$A$5:$H$24,MATCH($A24&$J24,Input!$A$5:$A$24&Input!$G$5:$G$24,0),4))","v":""},{"$f":"IF($J24=\"\",\"\",INDEX(Input!$A$5:$H$24,MATCH($A24&$J24,Input!$A$5:$A$24&Input!$G$5:$G$24,0),5))","v":""},null,null,null,null,{"$f":"IF($A24=\"\",\"\",OFFSET(Input!F$4,MATCH($A24,Input!$A$5:$A$24,0),0))","v":""},"",null,{"$f":"IF(N24=\"SY\", V24, IF(N24=\"Tons\", O24-P24, \"\"))","v":""},"\\",{"$f":"IF(A24=\"\",1,IF(ISERROR(MATCH(R24,Input!L$5:L$24,0)),2,1))","v":1},"",null,{"$f":"IF(A24=\"\", \"\", SUMIF($Q$8:$Q$17, \"*\" & LEFT(A24, 11) & \"*\", $T$8:$T$17))","v":""},{"$f":"IF(N24=\"SY\", T24, IF(N24=\"Tons\", V24+P24, \"\"))","v":""}]
[null,null,null,null,null,{"$f":"IF($J25=\"\",\"\",INDEX(Input!$A$5:$H$24,MATCH($A25&$J25,Input!$A$5:$A$24&Input!$G$5:$G$24,0),2))","v":""},{"$f":"IF($J25=\"\",\"\",INDEX(Input!$A$5:$H$24,MATCH($A25&$J25,Input!$A$5:$A$24&Input!$G$5:$G$24,0),3))","v":""},{"$f":"IF($J25=\"\",\"\",INDEX(Input!$A$5:$H$24,MATCH($A25&$J25,Input!$A$5:$A$24&Input!$G$5:$G$24,0),4))","v":""},{"$f":"IF($J25=\"\",\"\",INDEX(Input!$A$5:$H$24,MATCH($A25&$J25,Input!$A$5:$A$24&Input!$G$5:$G$24,0),5))","v":""},null,null,null,null,{"$f":"IF($A25=\"\",\"\",OFFSET(Input!F$4,MATCH($A25,Input!$A$5:$A$24,0),0))","v":""},"",null,"","\\",{"$f":"IF(A25=\"\",1,IF(ISERROR(MATCH(R25,Input!L$5:L$24,0)),2,1))","v":1},"",null,"",""]
[null,null,null,null,null,null,null,null,null,null,null,null,null,null,null,null,null,null,null,null,null,"",{"$f":"IF(N26=\"SY\", T26, IF(N26=\"Tons\", V26+P26, \"\"))","v":""},{"$f":"IF(A26=\"\", \"\", SUMIF($Q$8:$Q$17, \"*\" & LEFT(A26, 11) & \"*\", $S$8:$S$17))","v":""},{"$f":"IF(N26=\"SY\",X26,\"\")","v":""},{"$f":"IF(A26=\"\", \"\", SUMIF($Q$8:$Q$17, \"*\" & LEFT(A26, 11) & \"*\", $T$8:$T$17))","v":""}]
["Hot Box Sample",null,null,null,null,null,null,null,null,null,"Mat Temperatures °F"]
[null,"Test A","Test B","Test C","Test D","Test E",null,null,null,null,"Time","Temp"]
[" Hot Box ID Number  ",null,null,null,null,null,null,null,null,null,"7:00"]
["Hot Box Sample Tons: ",null,null,null,null,null,null,null,null,null,"9:00",null,null,null,"Intended Thickness:"]
[" Time: ",null,null,null,null,null,null,null,null,null,"11:00",null,null,null,"Cores Waived?"]
[" Station/MP: ",null,null,null,null,null,null,null,null,null,"1:00",null,null,null,"Small Quantity Statement?"]
["Bar Code ID.:",null,null,null,null,null,null,null,null,null,"3:00",null,null,null,"Scale Check Done?"]
["Compaction Temp. °F: ",null,null,null,null,null,null,null,null,null,"5:00",null,null,null,"Tack Tickets Today?"]
[null,null,null,null,null,null,null,null,null,null,"7:00"]
["The Below Comments should show up on the plant report"]
["Comments:"]
[]
[]
["The Below Notes are for the CPI from the field or Plant Monitor"]
["Notes:"]
[]
[]
["RANDOM CORE LOCATIONS"]
[null,null,null,null,null,null,null,"Core #","Station","Offset,ft","Joint Station","Lane"]
[null,null,null,null,null,null,null,1]
[null,null,null,null,null,null,null,2]
[null,null,null,null,null,null,null,3]
[null,null,null,null,null,null,null,4]
[null,null,null,null,null,null,null,5]
[null,null,null,null,null,null,null,6]
[null,null,null,null,null,null,null,7]
[null,null,null,null,null,null,null,8]
[]
[null,null,null,null,null,null,null,null,null,null,"Joint Sublot Size, ft"]
[null,null,null,null,null,null,null,null,null,null,0]
[]
[]
[]
[]
[]
[]
[]
[]
[]
[]
[]
[]
[]
[]
[]
[]
[]
[]
[]
[]
[]
[]
[]
[]
[]
[]
[]
[]
[]
[]
[]
[]
[]
[]
[]
[]
[]
[]
[]
[]
[false]

{"sheet":"60","index":75,"n_rows":97,"n_cols":26,"rows_kept":97,"cut":false,"hidden":false,"merged":[[50,11,50,13],[51,11,51,13],[52,11,52,13],[44,11,44,13],[45,11,45,13],[46,11,46,13],[47,11,47,13],[48,11,48,13],[49,11,49,13],[43,0,43,16],[25,0,25,1],[26,0,26,5],[26,20,26,23],[26,25,26,27],[34,2,34,4],[35,0,35,5],[36,1,36,14],[37,0,37,14],[39,0,39,5],[40,1,40,14],[41,0,41,14],[23,0,23,1],[23,2,23,4],[23,9,23,12],[24,0,24,1],[24,2,24,4],[24,9,24,12],[21,0,21,1],[21,2,21,4],[21,9,21,12],[22,0,22,1],[22,2,22,4],[22,9,22,12],[19,0,19,1],[19,2,19,4],[19,9,19,12],[20,0,20,1],[20,2,20,4],[20,9,20,12],[18,0,18,16],[6,14,6,15],[7,14,7,15],[8,14,8,15],[9,14,9,15],[10,14,10,15],[11,14,11,15],[12,14,12,15],[13,14,13,15],[14,14,14,15],[15,14,15,15],[16,14,16,15],[1,0,1,16],[4,0,4,15],[5,4,5,5],[5,8,5,9],[5,11,5,12],[5,13,5,15]]}
[]
["Iowa DOT HMA Field Report"]
["Date :"]
["Item No.('s)"]
["PLACEMENT RECORD",null,null,null,null,null,null,null,null,null,null,null,null,null,null,null,null,null,null,null,null,{"$f":"SUBSTITUTE(A21 & \"\\\" & J21,\"\"\"\",\"\")","v":"\\"}]
[null,null,null,null,"Additional width to DEDUCT from Field Voids",null,null,null,"Placed Density (Pounds/CF)=",null,150,"Overwritten on the \"Summary\" Tab",null,"ONLY ONE (1) MIX DESIGN PER DFR OTHERWISE IT WILL NOT IMPORT INTO THE PLANT REPORT PROPERLY",null,null,null,null,null,null,null,{"$f":"SUBSTITUTE(A22 & \"\\\" & J22,\"\"\"\",\"\")","v":"\\"}]
["From Station"," To Station","Lane","ML or Widening Placement Width","Additional Width (ft) ","Thickness (in)","Total Length Placed (FT)","\"Pay\"  Est \"SY\"","Thickness (inches)","Calculated Field Voids Tons","Placed Tons            (Not including Waste)","% Yield","SY to be PAID (If Diff. than Est SY)","Mix Design No.","Bid Item/ Project No.",null,null,null,"This uses the correct SY #, if Green is blank uses Est. SY","Adds up the Tons",null,"\\"]
[null,null,null,null,null,null,{"$f":"IF(OR(A8=\"\",B8=\"\"),0,IF($A$97=TRUE,ABS(B8-A8)*5280,ABS(VALUE(SUBSTITUTE(A8,\"+\",\"\"))-VALUE(SUBSTITUTE(B8,\"+\",\"\")))))","v":0},{"$f":"IF(D8=\"\",\"\",G8*(D8+E8)/9)","v":""},null,{"$f":"IF(I8=\"\",\"\",(G8)*(D8+E8)*I8/12*$K$6/2000)","v":""},null,{"$f":"IF(K8=\"\",\"\",K8/J8*100)","v":""},null,null,null,null,{"$f":"O8 & \"\\\" & N8","v":"\\"},{"$f":"IF(AND(A8=\"\",B8=\"\",C8=\"\",D8=\"\"),1,IF(OR(O8=\"\",N8=\"\"),2,IF(ISERROR(MATCH(Q8,Input!M$5:M$24,0)),2,1)))","v":1},{"$f":"IF(M8<>\"\", M8, H8)","v":""},{"$f":"K8","v":0},null,"\\"]
[null,null,null,null,null,null,{"$f":"IF(OR(A9=\"\",B9=\"\"),0,IF($A$97=TRUE,ABS(B9-A9)*5280,ABS(VALUE(SUBSTITUTE(A9,\"+\",\"\"))-VALUE(SUBSTITUTE(B9,\"+\",\"\")))))","v":0},{"$f":"IF(D9=\"\",\"\",G9*(D9+E9)/9)","v":""},null,"",null,{"$f":"IF(K9=\"\",\"\",K9/J9*100)","v":""},null,null,null,null,{"$f":"O9 & \"\\\" & N9","v":"\\"},{"$f":"IF(AND(A9=\"\",B9=\"\",C9=\"\",D9=\"\"),1,IF(OR(O9=\"\",N9=\"\"),2,IF(ISERROR(MATCH(Q9,Input!M$5:M$24,0)),2,1)))","v":1},{"$f":"IF(M9<>\"\", M9, H9)","v":""},{"$f":"K9","v":0},null,"\\"]
[null,null,null,null,null,null,0,"",null,"",null,"",null,null,null,null,"\\",{"$f":"IF(AND(A10=\"\",B10=\"\",C10=\"\",D10=\"\"),1,IF(OR(O10=\"\",N10=\"\"),2,IF(ISERROR(MATCH(Q10,Input!M$5:M$24,0)),2,1)))","v":1},{"$f":"IF(M10<>\"\", M10, H10)","v":""},0]
[null,null,null,null,null,null,0,"",null,"",null,"",null,null,null,null,"\\",{"$f":"IF(AND(A11=\"\",B11=\"\",C11=\"\",D11=\"\"),1,IF(OR(O11=\"\",N11=\"\"),2,IF(ISERROR(MATCH(Q11,Input!M$5:M$24,0)),2,1)))","v":1},"",0]
[null,null,null,null,null,null,0,"",null,"",null,"",null,null,null,null,"\\",{"$f":"IF(AND(A12=\"\",B12=\"\",C12=\"\",D12=\"\"),1,IF(OR(O12=\"\",N12=\"\"),2,IF(ISERROR(MATCH(Q12,Input!M$5:M$24,0)),2,1)))","v":1},"",0]
[null,null,null,null,null,null,0,"",null,"",null,"",null,null,null,null,"\\",{"$f":"IF(AND(A13=\"\",B13=\"\",C13=\"\",D13=\"\"),1,IF(OR(O13=\"\",N13=\"\"),2,IF(ISERROR(MATCH(Q13,Input!M$5:M$24,0)),2,1)))","v":1},"",0]
[null,null,null,null,null,null,0,"",null,"",null,"",null,null,null,null,"\\",{"$f":"IF(AND(A14=\"\",B14=\"\",C14=\"\",D14=\"\"),1,IF(OR(O14=\"\",N14=\"\"),2,IF(ISERROR(MATCH(Q14,Input!M$5:M$24,0)),2,1)))","v":1},"",0]
[null,null,null,null,null,null,0,"",null,"",null,"",null,null,null,null,"\\",{"$f":"IF(AND(A15=\"\",B15=\"\",C15=\"\",D15=\"\"),1,IF(OR(O15=\"\",N15=\"\"),2,IF(ISERROR(MATCH(Q15,Input!M$5:M$24,0)),2,1)))","v":1},"",0]
[null,null,null,null,null,null,0,"",null,"",null,"",null,null,null,null,"\\",{"$f":"IF(AND(A16=\"\",B16=\"\",C16=\"\",D16=\"\"),1,IF(OR(O16=\"\",N16=\"\"),2,IF(ISERROR(MATCH(Q16,Input!M$5:M$24,0)),2,1)))","v":1},"",0]
[null,null,null,null,null,null,0,"",null,"",null,"",null,null,null,null,"\\",{"$f":"IF(AND(A17=\"\",B17=\"\",C17=\"\",D17=\"\"),1,IF(OR(O17=\"\",N17=\"\"),2,IF(ISERROR(MATCH(Q17,Input!M$5:M$24,0)),2,1)))","v":1},"",0]
[]
["TANK SHEET"]
["Bid Item (In Order of Placement)",null,"Today's Placement",null,null,"Bid Item Plan Quantity","Plan Thickness (in)","Contract Mix Price","Contract Binder Price","Project Number",null,null,null,"Mix Pay Units","Mix Delivered to Road\n(Ton or SY)","Waste On Road (Ton)\nNO waste for SY Items","Tons Placed - Waste",null,null,"This adds up column S as it depends if the Est SY is filled out or the SY",null,"Use this Column for SY for the Q column","Uses this Value for Mix on Road"]
[null,null,null,null,null,{"$f":"IF($J21=\"\",\"\",INDEX(Input!$A$5:$H$24,MATCH($A21&$J21,Input!$A$5:$A$24&Input!$G$5:$G$24,0),2))","v":""},{"$f":"IF($J21=\"\",\"\",INDEX(Input!$A$5:$H$24,MATCH($A21&$J21,Input!$A$5:$A$24&Input!$G$5:$G$24,0),3))","v":""},{"$f":"IF($J21=\"\",\"\",INDEX(Input!$A$5:$H$24,MATCH($A21&$J21,Input!$A$5:$A$24&Input!$G$5:$G$24,0),4))","v":""},{"$f":"IF($J21=\"\",\"\",INDEX(Input!$A$5:$H$24,MATCH($A21&$J21,Input!$A$5:$A$24&Input!$G$5:$G$24,0),5))","v":""},null,null,null,null,{"$f":"IF($A21=\"\",\"\",OFFSET(Input!F$4,MATCH($A21,Input!$A$5:$A$24,0),0))","v":""},{"$f":"IF(N21=\"SY\", T21, IF(N21=\"Tons\", W21, \"\"))","v":""},null,{"$f":"IF(N21=\"SY\", V21, IF(N21=\"Tons\", O21-P21, \"\"))","v":""},{"$f":"SUBSTITUTE(A21 & \"\\\" & J21,\"\"\"\",\"\")","v":"\\"},{"$f":"IF(A21=\"\",1,IF(ISERROR(MATCH(R21,Input!L$5:L$24,0)),2,1))","v":1},{"$f":"IF(A21=\"\", \"\", SUMIF($Q$8:$Q$17, \"*\" & LEFT(A21, 11) & \"*\", $S$8:$S$17))","v":""},null,{"$f":"IF(A21=\"\", \"\", SUMIF($Q$8:$Q$17, \"*\" & LEFT(A21, 11) & \"*\", $T$8:$T$17))","v":""},{"$f":"IF(N21=\"SY\", T21, IF(N21=\"Tons\", V21+P21, \"\"))","v":""}]
[null,null,null,null,null,{"$f":"IF($J22=\"\",\"\",INDEX(Input!$A$5:$H$24,MATCH($A22&$J22,Input!$A$5:$A$24&Input!$G$5:$G$24,0),2))","v":""},{"$f":"IF($J22=\"\",\"\",INDEX(Input!$A$5:$H$24,MATCH($A22&$J22,Input!$A$5:$A$24&Input!$G$5:$G$24,0),3))","v":""},{"$f":"IF($J22=\"\",\"\",INDEX(Input!$A$5:$H$24,MATCH($A22&$J22,Input!$A$5:$A$24&Input!$G$5:$G$24,0),4))","v":""},{"$f":"IF($J22=\"\",\"\",INDEX(Input!$A$5:$H$24,MATCH($A22&$J22,Input!$A$5:$A$24&Input!$G$5:$G$24,0),5))","v":""},null,null,null,null,{"$f":"IF($A22=\"\",\"\",OFFSET(Input!F$4,MATCH($A22,Input!$A$5:$A$24,0),0))","v":""},{"$f":"IF(N22=\"SY\", T22, IF(N22=\"Tons\", W22, \"\"))","v":""},null,{"$f":"IF(N22=\"SY\", V22, IF(N22=\"Tons\", O22-P22, \"\"))","v":""},{"$f":"SUBSTITUTE(A22 & \"\\\" & J22,\"\"\"\",\"\")","v":"\\"},{"$f":"IF(A22=\"\",1,IF(ISERROR(MATCH(R22,Input!L$5:L$24,0)),2,1))","v":1},{"$f":"IF(A22=\"\", \"\", SUMIF($Q$8:$Q$17, \"*\" & LEFT(A22, 11) & \"*\", $S$8:$S$17))","v":""},null,{"$f":"IF(A22=\"\", \"\", SUMIF($Q$8:$Q$17, \"*\" & LEFT(A22, 11) & \"*\", $T$8:$T$17))","v":""},{"$f":"IF(N22=\"SY\", T22, IF(N22=\"Tons\", V22+P22, \"\"))","v":""}]
[null,null,null,null,null,{"$f":"IF($J23=\"\",\"\",INDEX(Input!$A$5:$H$24,MATCH($A23&$J23,Input!$A$5:$A$24&Input!$G$5:$G$24,0),2))","v":""},{"$f":"IF($J23=\"\",\"\",INDEX(Input!$A$5:$H$24,MATCH($A23&$J23,Input!$A$5:$A$24&Input!$G$5:$G$24,0),3))","v":""},{"$f":"IF($J23=\"\",\"\",INDEX(Input!$A$5:$H$24,MATCH($A23&$J23,Input!$A$5:$A$24&Input!$G$5:$G$24,0),4))","v":""},{"$f":"IF($J23=\"\",\"\",INDEX(Input!$A$5:$H$24,MATCH($A23&$J23,Input!$A$5:$A$24&Input!$G$5:$G$24,0),5))","v":""},null,null,null,null,{"$f":"IF($A23=\"\",\"\",OFFSET(Input!F$4,MATCH($A23,Input!$A$5:$A$24,0),0))","v":""},{"$f":"IF(N23=\"SY\", T23, IF(N23=\"Tons\", W23, \"\"))","v":""},null,{"$f":"IF(N23=\"SY\", V23, IF(N23=\"Tons\", O23-P23, \"\"))","v":""},"\\",{"$f":"IF(A23=\"\",1,IF(ISERROR(MATCH(R23,Input!L$5:L$24,0)),2,1))","v":1},{"$f":"IF(A23=\"\", \"\", SUMIF($Q$8:$Q$17, \"*\" & LEFT(A23, 11) & \"*\", $S$8:$S$17))","v":""},null,{"$f":"IF(A23=\"\", \"\", SUMIF($Q$8:$Q$17, \"*\" & LEFT(A23, 11) & \"*\", $T$8:$T$17))","v":""},{"$f":"IF(N23=\"SY\", T23, IF(N23=\"Tons\", V23+P23, \"\"))","v":""}]
[null,null,null,null,null,{"$f":"IF($J24=\"\",\"\",INDEX(Input!$A$5:$H$24,MATCH($A24&$J24,Input!$A$5:$A$24&Input!$G$5:$G$24,0),2))","v":""},{"$f":"IF($J24=\"\",\"\",INDEX(Input!$A$5:$H$24,MATCH($A24&$J24,Input!$A$5:$A$24&Input!$G$5:$G$24,0),3))","v":""},{"$f":"IF($J24=\"\",\"\",INDEX(Input!$A$5:$H$24,MATCH($A24&$J24,Input!$A$5:$A$24&Input!$G$5:$G$24,0),4))","v":""},{"$f":"IF($J24=\"\",\"\",INDEX(Input!$A$5:$H$24,MATCH($A24&$J24,Input!$A$5:$A$24&Input!$G$5:$G$24,0),5))","v":""},null,null,null,null,{"$f":"IF($A24=\"\",\"\",OFFSET(Input!F$4,MATCH($A24,Input!$A$5:$A$24,0),0))","v":""},"",null,{"$f":"IF(N24=\"SY\", V24, IF(N24=\"Tons\", O24-P24, \"\"))","v":""},"\\",{"$f":"IF(A24=\"\",1,IF(ISERROR(MATCH(R24,Input!L$5:L$24,0)),2,1))","v":1},"",null,{"$f":"IF(A24=\"\", \"\", SUMIF($Q$8:$Q$17, \"*\" & LEFT(A24, 11) & \"*\", $T$8:$T$17))","v":""},{"$f":"IF(N24=\"SY\", T24, IF(N24=\"Tons\", V24+P24, \"\"))","v":""}]
[null,null,null,null,null,{"$f":"IF($J25=\"\",\"\",INDEX(Input!$A$5:$H$24,MATCH($A25&$J25,Input!$A$5:$A$24&Input!$G$5:$G$24,0),2))","v":""},{"$f":"IF($J25=\"\",\"\",INDEX(Input!$A$5:$H$24,MATCH($A25&$J25,Input!$A$5:$A$24&Input!$G$5:$G$24,0),3))","v":""},{"$f":"IF($J25=\"\",\"\",INDEX(Input!$A$5:$H$24,MATCH($A25&$J25,Input!$A$5:$A$24&Input!$G$5:$G$24,0),4))","v":""},{"$f":"IF($J25=\"\",\"\",INDEX(Input!$A$5:$H$24,MATCH($A25&$J25,Input!$A$5:$A$24&Input!$G$5:$G$24,0),5))","v":""},null,null,null,null,{"$f":"IF($A25=\"\",\"\",OFFSET(Input!F$4,MATCH($A25,Input!$A$5:$A$24,0),0))","v":""},"",null,"","\\",{"$f":"IF(A25=\"\",1,IF(ISERROR(MATCH(R25,Input!L$5:L$24,0)),2,1))","v":1},"",null,"",""]
[null,null,null,null,null,null,null,null,null,null,null,null,null,null,null,null,null,null,null,null,null,"",{"$f":"IF(N26=\"SY\", T26, IF(N26=\"Tons\", V26+P26, \"\"))","v":""},{"$f":"IF(A26=\"\", \"\", SUMIF($Q$8:$Q$17, \"*\" & LEFT(A26, 11) & \"*\", $S$8:$S$17))","v":""},{"$f":"IF(N26=\"SY\",X26,\"\")","v":""},{"$f":"IF(A26=\"\", \"\", SUMIF($Q$8:$Q$17, \"*\" & LEFT(A26, 11) & \"*\", $T$8:$T$17))","v":""}]
["Hot Box Sample",null,null,null,null,null,null,null,null,null,"Mat Temperatures °F"]
[null,"Test A","Test B","Test C","Test D","Test E",null,null,null,null,"Time","Temp"]
[" Hot Box ID Number  ",null,null,null,null,null,null,null,null,null,"7:00"]
["Hot Box Sample Tons: ",null,null,null,null,null,null,null,null,null,"9:00",null,null,null,"Intended Thickness:"]
[" Time: ",null,null,null,null,null,null,null,null,null,"11:00",null,null,null,"Cores Waived?"]
[" Station/MP: ",null,null,null,null,null,null,null,null,null,"1:00",null,null,null,"Small Quantity Statement?"]
["Bar Code ID.:",null,null,null,null,null,null,null,null,null,"3:00",null,null,null,"Scale Check Done?"]
["Compaction Temp. °F: ",null,null,null,null,null,null,null,null,null,"5:00",null,null,null,"Tack Tickets Today?"]
[null,null,null,null,null,null,null,null,null,null,"7:00"]
["The Below Comments should show up on the plant report"]
["Comments:"]
[]
[]
["The Below Notes are for the CPI from the field or Plant Monitor"]
["Notes:"]
[]
[]
["RANDOM CORE LOCATIONS"]
[null,null,null,null,null,null,null,"Core #","Station","Offset,ft","Joint Station","Lane"]
[null,null,null,null,null,null,null,1]
[null,null,null,null,null,null,null,2]
[null,null,null,null,null,null,null,3]
[null,null,null,null,null,null,null,4]
[null,null,null,null,null,null,null,5]
[null,null,null,null,null,null,null,6]
[null,null,null,null,null,null,null,7]
[null,null,null,null,null,null,null,8]
[]
[null,null,null,null,null,null,null,null,null,null,"Joint Sublot Size, ft"]
[null,null,null,null,null,null,null,null,null,null,0]
[]
[]
[]
[]
[]
[]
[]
[]
[]
[]
[]
[]
[]
[]
[]
[]
[]
[]
[]
[]
[]
[]
[]
[]
[]
[]
[]
[]
[]
[]
[]
[]
[]
[]
[]
[]
[]
[]
[]
[]
[false]

{"sheet":"61","index":76,"n_rows":97,"n_cols":26,"rows_kept":97,"cut":false,"hidden":false,"merged":[[50,11,50,13],[51,11,51,13],[52,11,52,13],[44,11,44,13],[45,11,45,13],[46,11,46,13],[47,11,47,13],[48,11,48,13],[49,11,49,13],[43,0,43,16],[25,0,25,1],[26,0,26,5],[26,20,26,23],[26,25,26,27],[34,2,34,4],[35,0,35,5],[36,1,36,14],[37,0,37,14],[39,0,39,5],[40,1,40,14],[41,0,41,14],[23,0,23,1],[23,2,23,4],[23,9,23,12],[24,0,24,1],[24,2,24,4],[24,9,24,12],[21,0,21,1],[21,2,21,4],[21,9,21,12],[22,0,22,1],[22,2,22,4],[22,9,22,12],[19,0,19,1],[19,2,19,4],[19,9,19,12],[20,0,20,1],[20,2,20,4],[20,9,20,12],[18,0,18,16],[6,14,6,15],[7,14,7,15],[8,14,8,15],[9,14,9,15],[10,14,10,15],[11,14,11,15],[12,14,12,15],[13,14,13,15],[14,14,14,15],[15,14,15,15],[16,14,16,15],[1,0,1,16],[4,0,4,15],[5,4,5,5],[5,8,5,9],[5,11,5,12],[5,13,5,15]]}
[]
["Iowa DOT HMA Field Report"]
["Date :"]
["Item No.('s)"]
["PLACEMENT RECORD",null,null,null,null,null,null,null,null,null,null,null,null,null,null,null,null,null,null,null,null,{"$f":"SUBSTITUTE(A21 & \"\\\" & J21,\"\"\"\",\"\")","v":"\\"}]
[null,null,null,null,"Additional width to DEDUCT from Field Voids",null,null,null,"Placed Density (Pounds/CF)=",null,150,"Overwritten on the \"Summary\" Tab",null,"ONLY ONE (1) MIX DESIGN PER DFR OTHERWISE IT WILL NOT IMPORT INTO THE PLANT REPORT PROPERLY",null,null,null,null,null,null,null,{"$f":"SUBSTITUTE(A22 & \"\\\" & J22,\"\"\"\",\"\")","v":"\\"}]
["From Station"," To Station","Lane","ML or Widening Placement Width","Additional Width (ft) ","Thickness (in)","Total Length Placed (FT)","\"Pay\"  Est \"SY\"","Thickness (inches)","Calculated Field Voids Tons","Placed Tons            (Not including Waste)","% Yield","SY to be PAID (If Diff. than Est SY)","Mix Design No.","Bid Item/ Project No.",null,null,null,"This uses the correct SY #, if Green is blank uses Est. SY","Adds up the Tons",null,"\\"]
[null,null,null,null,null,null,{"$f":"IF(OR(A8=\"\",B8=\"\"),0,IF($A$97=TRUE,ABS(B8-A8)*5280,ABS(VALUE(SUBSTITUTE(A8,\"+\",\"\"))-VALUE(SUBSTITUTE(B8,\"+\",\"\")))))","v":0},{"$f":"IF(D8=\"\",\"\",G8*(D8+E8)/9)","v":""},null,{"$f":"IF(I8=\"\",\"\",(G8)*(D8+E8)*I8/12*$K$6/2000)","v":""},null,{"$f":"IF(K8=\"\",\"\",K8/J8*100)","v":""},null,null,null,null,{"$f":"O8 & \"\\\" & N8","v":"\\"},{"$f":"IF(AND(A8=\"\",B8=\"\",C8=\"\",D8=\"\"),1,IF(OR(O8=\"\",N8=\"\"),2,IF(ISERROR(MATCH(Q8,Input!M$5:M$24,0)),2,1)))","v":1},{"$f":"IF(M8<>\"\", M8, H8)","v":""},{"$f":"K8","v":0},null,"\\"]
[null,null,null,null,null,null,{"$f":"IF(OR(A9=\"\",B9=\"\"),0,IF($A$97=TRUE,ABS(B9-A9)*5280,ABS(VALUE(SUBSTITUTE(A9,\"+\",\"\"))-VALUE(SUBSTITUTE(B9,\"+\",\"\")))))","v":0},{"$f":"IF(D9=\"\",\"\",G9*(D9+E9)/9)","v":""},null,"",null,{"$f":"IF(K9=\"\",\"\",K9/J9*100)","v":""},null,null,null,null,{"$f":"O9 & \"\\\" & N9","v":"\\"},{"$f":"IF(AND(A9=\"\",B9=\"\",C9=\"\",D9=\"\"),1,IF(OR(O9=\"\",N9=\"\"),2,IF(ISERROR(MATCH(Q9,Input!M$5:M$24,0)),2,1)))","v":1},{"$f":"IF(M9<>\"\", M9, H9)","v":""},{"$f":"K9","v":0},null,"\\"]
[null,null,null,null,null,null,0,"",null,"",null,"",null,null,null,null,"\\",{"$f":"IF(AND(A10=\"\",B10=\"\",C10=\"\",D10=\"\"),1,IF(OR(O10=\"\",N10=\"\"),2,IF(ISERROR(MATCH(Q10,Input!M$5:M$24,0)),2,1)))","v":1},{"$f":"IF(M10<>\"\", M10, H10)","v":""},0]
[null,null,null,null,null,null,0,"",null,"",null,"",null,null,null,null,"\\",{"$f":"IF(AND(A11=\"\",B11=\"\",C11=\"\",D11=\"\"),1,IF(OR(O11=\"\",N11=\"\"),2,IF(ISERROR(MATCH(Q11,Input!M$5:M$24,0)),2,1)))","v":1},"",0]
[null,null,null,null,null,null,0,"",null,"",null,"",null,null,null,null,"\\",{"$f":"IF(AND(A12=\"\",B12=\"\",C12=\"\",D12=\"\"),1,IF(OR(O12=\"\",N12=\"\"),2,IF(ISERROR(MATCH(Q12,Input!M$5:M$24,0)),2,1)))","v":1},"",0]
[null,null,null,null,null,null,0,"",null,"",null,"",null,null,null,null,"\\",{"$f":"IF(AND(A13=\"\",B13=\"\",C13=\"\",D13=\"\"),1,IF(OR(O13=\"\",N13=\"\"),2,IF(ISERROR(MATCH(Q13,Input!M$5:M$24,0)),2,1)))","v":1},"",0]
[null,null,null,null,null,null,0,"",null,"",null,"",null,null,null,null,"\\",{"$f":"IF(AND(A14=\"\",B14=\"\",C14=\"\",D14=\"\"),1,IF(OR(O14=\"\",N14=\"\"),2,IF(ISERROR(MATCH(Q14,Input!M$5:M$24,0)),2,1)))","v":1},"",0]
[null,null,null,null,null,null,0,"",null,"",null,"",null,null,null,null,"\\",{"$f":"IF(AND(A15=\"\",B15=\"\",C15=\"\",D15=\"\"),1,IF(OR(O15=\"\",N15=\"\"),2,IF(ISERROR(MATCH(Q15,Input!M$5:M$24,0)),2,1)))","v":1},"",0]
[null,null,null,null,null,null,0,"",null,"",null,"",null,null,null,null,"\\",{"$f":"IF(AND(A16=\"\",B16=\"\",C16=\"\",D16=\"\"),1,IF(OR(O16=\"\",N16=\"\"),2,IF(ISERROR(MATCH(Q16,Input!M$5:M$24,0)),2,1)))","v":1},"",0]
[null,null,null,null,null,null,0,"",null,"",null,"",null,null,null,null,"\\",{"$f":"IF(AND(A17=\"\",B17=\"\",C17=\"\",D17=\"\"),1,IF(OR(O17=\"\",N17=\"\"),2,IF(ISERROR(MATCH(Q17,Input!M$5:M$24,0)),2,1)))","v":1},"",0]
[]
["TANK SHEET"]
["Bid Item (In Order of Placement)",null,"Today's Placement",null,null,"Bid Item Plan Quantity","Plan Thickness (in)","Contract Mix Price","Contract Binder Price","Project Number",null,null,null,"Mix Pay Units","Mix Delivered to Road\n(Ton or SY)","Waste On Road (Ton)\nNO waste for SY Items","Tons Placed - Waste",null,null,"This adds up column S as it depends if the Est SY is filled out or the SY",null,"Use this Column for SY for the Q column","Uses this Value for Mix on Road"]
[null,null,null,null,null,{"$f":"IF($J21=\"\",\"\",INDEX(Input!$A$5:$H$24,MATCH($A21&$J21,Input!$A$5:$A$24&Input!$G$5:$G$24,0),2))","v":""},{"$f":"IF($J21=\"\",\"\",INDEX(Input!$A$5:$H$24,MATCH($A21&$J21,Input!$A$5:$A$24&Input!$G$5:$G$24,0),3))","v":""},{"$f":"IF($J21=\"\",\"\",INDEX(Input!$A$5:$H$24,MATCH($A21&$J21,Input!$A$5:$A$24&Input!$G$5:$G$24,0),4))","v":""},{"$f":"IF($J21=\"\",\"\",INDEX(Input!$A$5:$H$24,MATCH($A21&$J21,Input!$A$5:$A$24&Input!$G$5:$G$24,0),5))","v":""},null,null,null,null,{"$f":"IF($A21=\"\",\"\",OFFSET(Input!F$4,MATCH($A21,Input!$A$5:$A$24,0),0))","v":""},{"$f":"IF(N21=\"SY\", T21, IF(N21=\"Tons\", W21, \"\"))","v":""},null,{"$f":"IF(N21=\"SY\", V21, IF(N21=\"Tons\", O21-P21, \"\"))","v":""},{"$f":"SUBSTITUTE(A21 & \"\\\" & J21,\"\"\"\",\"\")","v":"\\"},{"$f":"IF(A21=\"\",1,IF(ISERROR(MATCH(R21,Input!L$5:L$24,0)),2,1))","v":1},{"$f":"IF(A21=\"\", \"\", SUMIF($Q$8:$Q$17, \"*\" & LEFT(A21, 11) & \"*\", $S$8:$S$17))","v":""},null,{"$f":"IF(A21=\"\", \"\", SUMIF($Q$8:$Q$17, \"*\" & LEFT(A21, 11) & \"*\", $T$8:$T$17))","v":""},{"$f":"IF(N21=\"SY\", T21, IF(N21=\"Tons\", V21+P21, \"\"))","v":""}]
[null,null,null,null,null,{"$f":"IF($J22=\"\",\"\",INDEX(Input!$A$5:$H$24,MATCH($A22&$J22,Input!$A$5:$A$24&Input!$G$5:$G$24,0),2))","v":""},{"$f":"IF($J22=\"\",\"\",INDEX(Input!$A$5:$H$24,MATCH($A22&$J22,Input!$A$5:$A$24&Input!$G$5:$G$24,0),3))","v":""},{"$f":"IF($J22=\"\",\"\",INDEX(Input!$A$5:$H$24,MATCH($A22&$J22,Input!$A$5:$A$24&Input!$G$5:$G$24,0),4))","v":""},{"$f":"IF($J22=\"\",\"\",INDEX(Input!$A$5:$H$24,MATCH($A22&$J22,Input!$A$5:$A$24&Input!$G$5:$G$24,0),5))","v":""},null,null,null,null,{"$f":"IF($A22=\"\",\"\",OFFSET(Input!F$4,MATCH($A22,Input!$A$5:$A$24,0),0))","v":""},{"$f":"IF(N22=\"SY\", T22, IF(N22=\"Tons\", W22, \"\"))","v":""},null,{"$f":"IF(N22=\"SY\", V22, IF(N22=\"Tons\", O22-P22, \"\"))","v":""},{"$f":"SUBSTITUTE(A22 & \"\\\" & J22,\"\"\"\",\"\")","v":"\\"},{"$f":"IF(A22=\"\",1,IF(ISERROR(MATCH(R22,Input!L$5:L$24,0)),2,1))","v":1},{"$f":"IF(A22=\"\", \"\", SUMIF($Q$8:$Q$17, \"*\" & LEFT(A22, 11) & \"*\", $S$8:$S$17))","v":""},null,{"$f":"IF(A22=\"\", \"\", SUMIF($Q$8:$Q$17, \"*\" & LEFT(A22, 11) & \"*\", $T$8:$T$17))","v":""},{"$f":"IF(N22=\"SY\", T22, IF(N22=\"Tons\", V22+P22, \"\"))","v":""}]
[null,null,null,null,null,{"$f":"IF($J23=\"\",\"\",INDEX(Input!$A$5:$H$24,MATCH($A23&$J23,Input!$A$5:$A$24&Input!$G$5:$G$24,0),2))","v":""},{"$f":"IF($J23=\"\",\"\",INDEX(Input!$A$5:$H$24,MATCH($A23&$J23,Input!$A$5:$A$24&Input!$G$5:$G$24,0),3))","v":""},{"$f":"IF($J23=\"\",\"\",INDEX(Input!$A$5:$H$24,MATCH($A23&$J23,Input!$A$5:$A$24&Input!$G$5:$G$24,0),4))","v":""},{"$f":"IF($J23=\"\",\"\",INDEX(Input!$A$5:$H$24,MATCH($A23&$J23,Input!$A$5:$A$24&Input!$G$5:$G$24,0),5))","v":""},null,null,null,null,{"$f":"IF($A23=\"\",\"\",OFFSET(Input!F$4,MATCH($A23,Input!$A$5:$A$24,0),0))","v":""},{"$f":"IF(N23=\"SY\", T23, IF(N23=\"Tons\", W23, \"\"))","v":""},null,{"$f":"IF(N23=\"SY\", V23, IF(N23=\"Tons\", O23-P23, \"\"))","v":""},"\\",{"$f":"IF(A23=\"\",1,IF(ISERROR(MATCH(R23,Input!L$5:L$24,0)),2,1))","v":1},{"$f":"IF(A23=\"\", \"\", SUMIF($Q$8:$Q$17, \"*\" & LEFT(A23, 11) & \"*\", $S$8:$S$17))","v":""},null,{"$f":"IF(A23=\"\", \"\", SUMIF($Q$8:$Q$17, \"*\" & LEFT(A23, 11) & \"*\", $T$8:$T$17))","v":""},{"$f":"IF(N23=\"SY\", T23, IF(N23=\"Tons\", V23+P23, \"\"))","v":""}]
[null,null,null,null,null,{"$f":"IF($J24=\"\",\"\",INDEX(Input!$A$5:$H$24,MATCH($A24&$J24,Input!$A$5:$A$24&Input!$G$5:$G$24,0),2))","v":""},{"$f":"IF($J24=\"\",\"\",INDEX(Input!$A$5:$H$24,MATCH($A24&$J24,Input!$A$5:$A$24&Input!$G$5:$G$24,0),3))","v":""},{"$f":"IF($J24=\"\",\"\",INDEX(Input!$A$5:$H$24,MATCH($A24&$J24,Input!$A$5:$A$24&Input!$G$5:$G$24,0),4))","v":""},{"$f":"IF($J24=\"\",\"\",INDEX(Input!$A$5:$H$24,MATCH($A24&$J24,Input!$A$5:$A$24&Input!$G$5:$G$24,0),5))","v":""},null,null,null,null,{"$f":"IF($A24=\"\",\"\",OFFSET(Input!F$4,MATCH($A24,Input!$A$5:$A$24,0),0))","v":""},"",null,{"$f":"IF(N24=\"SY\", V24, IF(N24=\"Tons\", O24-P24, \"\"))","v":""},"\\",{"$f":"IF(A24=\"\",1,IF(ISERROR(MATCH(R24,Input!L$5:L$24,0)),2,1))","v":1},"",null,{"$f":"IF(A24=\"\", \"\", SUMIF($Q$8:$Q$17, \"*\" & LEFT(A24, 11) & \"*\", $T$8:$T$17))","v":""},{"$f":"IF(N24=\"SY\", T24, IF(N24=\"Tons\", V24+P24, \"\"))","v":""}]
[null,null,null,null,null,{"$f":"IF($J25=\"\",\"\",INDEX(Input!$A$5:$H$24,MATCH($A25&$J25,Input!$A$5:$A$24&Input!$G$5:$G$24,0),2))","v":""},{"$f":"IF($J25=\"\",\"\",INDEX(Input!$A$5:$H$24,MATCH($A25&$J25,Input!$A$5:$A$24&Input!$G$5:$G$24,0),3))","v":""},{"$f":"IF($J25=\"\",\"\",INDEX(Input!$A$5:$H$24,MATCH($A25&$J25,Input!$A$5:$A$24&Input!$G$5:$G$24,0),4))","v":""},{"$f":"IF($J25=\"\",\"\",INDEX(Input!$A$5:$H$24,MATCH($A25&$J25,Input!$A$5:$A$24&Input!$G$5:$G$24,0),5))","v":""},null,null,null,null,{"$f":"IF($A25=\"\",\"\",OFFSET(Input!F$4,MATCH($A25,Input!$A$5:$A$24,0),0))","v":""},"",null,"","\\",{"$f":"IF(A25=\"\",1,IF(ISERROR(MATCH(R25,Input!L$5:L$24,0)),2,1))","v":1},"",null,"",""]
[null,null,null,null,null,null,null,null,null,null,null,null,null,null,null,null,null,null,null,null,null,"",{"$f":"IF(N26=\"SY\", T26, IF(N26=\"Tons\", V26+P26, \"\"))","v":""},{"$f":"IF(A26=\"\", \"\", SUMIF($Q$8:$Q$17, \"*\" & LEFT(A26, 11) & \"*\", $S$8:$S$17))","v":""},{"$f":"IF(N26=\"SY\",X26,\"\")","v":""},{"$f":"IF(A26=\"\", \"\", SUMIF($Q$8:$Q$17, \"*\" & LEFT(A26, 11) & \"*\", $T$8:$T$17))","v":""}]
["Hot Box Sample",null,null,null,null,null,null,null,null,null,"Mat Temperatures °F"]
[null,"Test A","Test B","Test C","Test D","Test E",null,null,null,null,"Time","Temp"]
[" Hot Box ID Number  ",null,null,null,null,null,null,null,null,null,"7:00"]
["Hot Box Sample Tons: ",null,null,null,null,null,null,null,null,null,"9:00",null,null,null,"Intended Thickness:"]
[" Time: ",null,null,null,null,null,null,null,null,null,"11:00",null,null,null,"Cores Waived?"]
[" Station/MP: ",null,null,null,null,null,null,null,null,null,"1:00",null,null,null,"Small Quantity Statement?"]
["Bar Code ID.:",null,null,null,null,null,null,null,null,null,"3:00",null,null,null,"Scale Check Done?"]
["Compaction Temp. °F: ",null,null,null,null,null,null,null,null,null,"5:00",null,null,null,"Tack Tickets Today?"]
[null,null,null,null,null,null,null,null,null,null,"7:00"]
["The Below Comments should show up on the plant report"]
["Comments:"]
[]
[]
["The Below Notes are for the CPI from the field or Plant Monitor"]
["Notes:"]
[]
[]
["RANDOM CORE LOCATIONS"]
[null,null,null,null,null,null,null,"Core #","Station","Offset,ft","Joint Station","Lane"]
[null,null,null,null,null,null,null,1]
[null,null,null,null,null,null,null,2]
[null,null,null,null,null,null,null,3]
[null,null,null,null,null,null,null,4]
[null,null,null,null,null,null,null,5]
[null,null,null,null,null,null,null,6]
[null,null,null,null,null,null,null,7]
[null,null,null,null,null,null,null,8]
[]
[null,null,null,null,null,null,null,null,null,null,"Joint Sublot Size, ft"]
[null,null,null,null,null,null,null,null,null,null,0]
[]
[]
[]
[]
[]
[]
[]
[]
[]
[]
[]
[]
[]
[]
[]
[]
[]
[]
[]
[]
[]
[]
[]
[]
[]
[]
[]
[]
[]
[]
[]
[]
[]
[]
[]
[]
[]
[]
[]
[]
[false]

{"sheet":"62","index":77,"n_rows":97,"n_cols":26,"rows_kept":97,"cut":false,"hidden":false,"merged":[[50,11,50,13],[51,11,51,13],[52,11,52,13],[44,11,44,13],[45,11,45,13],[46,11,46,13],[47,11,47,13],[48,11,48,13],[49,11,49,13],[43,0,43,16],[25,0,25,1],[26,0,26,5],[26,20,26,23],[26,25,26,27],[34,2,34,4],[35,0,35,5],[36,1,36,14],[37,0,37,14],[39,0,39,5],[40,1,40,14],[41,0,41,14],[23,0,23,1],[23,2,23,4],[23,9,23,12],[24,0,24,1],[24,2,24,4],[24,9,24,12],[21,0,21,1],[21,2,21,4],[21,9,21,12],[22,0,22,1],[22,2,22,4],[22,9,22,12],[19,0,19,1],[19,2,19,4],[19,9,19,12],[20,0,20,1],[20,2,20,4],[20,9,20,12],[18,0,18,16],[6,14,6,15],[7,14,7,15],[8,14,8,15],[9,14,9,15],[10,14,10,15],[11,14,11,15],[12,14,12,15],[13,14,13,15],[14,14,14,15],[15,14,15,15],[16,14,16,15],[1,0,1,16],[4,0,4,15],[5,4,5,5],[5,8,5,9],[5,11,5,12],[5,13,5,15]]}
[]
["Iowa DOT HMA Field Report"]
["Date :"]
["Item No.('s)"]
["PLACEMENT RECORD",null,null,null,null,null,null,null,null,null,null,null,null,null,null,null,null,null,null,null,null,{"$f":"SUBSTITUTE(A21 & \"\\\" & J21,\"\"\"\",\"\")","v":"\\"}]
[null,null,null,null,"Additional width to DEDUCT from Field Voids",null,null,null,"Placed Density (Pounds/CF)=",null,150,"Overwritten on the \"Summary\" Tab",null,"ONLY ONE (1) MIX DESIGN PER DFR OTHERWISE IT WILL NOT IMPORT INTO THE PLANT REPORT PROPERLY",null,null,null,null,null,null,null,{"$f":"SUBSTITUTE(A22 & \"\\\" & J22,\"\"\"\",\"\")","v":"\\"}]
["From Station"," To Station","Lane","ML or Widening Placement Width","Additional Width (ft) ","Thickness (in)","Total Length Placed (FT)","\"Pay\"  Est \"SY\"","Thickness (inches)","Calculated Field Voids Tons","Placed Tons            (Not including Waste)","% Yield","SY to be PAID (If Diff. than Est SY)","Mix Design No.","Bid Item/ Project No.",null,null,null,"This uses the correct SY #, if Green is blank uses Est. SY","Adds up the Tons",null,"\\"]
[null,null,null,null,null,null,{"$f":"IF(OR(A8=\"\",B8=\"\"),0,IF($A$97=TRUE,ABS(B8-A8)*5280,ABS(VALUE(SUBSTITUTE(A8,\"+\",\"\"))-VALUE(SUBSTITUTE(B8,\"+\",\"\")))))","v":0},{"$f":"IF(D8=\"\",\"\",G8*(D8+E8)/9)","v":""},null,{"$f":"IF(I8=\"\",\"\",(G8)*(D8+E8)*I8/12*$K$6/2000)","v":""},null,{"$f":"IF(K8=\"\",\"\",K8/J8*100)","v":""},null,null,null,null,{"$f":"O8 & \"\\\" & N8","v":"\\"},{"$f":"IF(AND(A8=\"\",B8=\"\",C8=\"\",D8=\"\"),1,IF(OR(O8=\"\",N8=\"\"),2,IF(ISERROR(MATCH(Q8,Input!M$5:M$24,0)),2,1)))","v":1},{"$f":"IF(M8<>\"\", M8, H8)","v":""},{"$f":"K8","v":0},null,"\\"]
[null,null,null,null,null,null,{"$f":"IF(OR(A9=\"\",B9=\"\"),0,IF($A$97=TRUE,ABS(B9-A9)*5280,ABS(VALUE(SUBSTITUTE(A9,\"+\",\"\"))-VALUE(SUBSTITUTE(B9,\"+\",\"\")))))","v":0},{"$f":"IF(D9=\"\",\"\",G9*(D9+E9)/9)","v":""},null,"",null,{"$f":"IF(K9=\"\",\"\",K9/J9*100)","v":""},null,null,null,null,{"$f":"O9 & \"\\\" & N9","v":"\\"},{"$f":"IF(AND(A9=\"\",B9=\"\",C9=\"\",D9=\"\"),1,IF(OR(O9=\"\",N9=\"\"),2,IF(ISERROR(MATCH(Q9,Input!M$5:M$24,0)),2,1)))","v":1},{"$f":"IF(M9<>\"\", M9, H9)","v":""},{"$f":"K9","v":0},null,"\\"]
[null,null,null,null,null,null,0,"",null,"",null,"",null,null,null,null,"\\",{"$f":"IF(AND(A10=\"\",B10=\"\",C10=\"\",D10=\"\"),1,IF(OR(O10=\"\",N10=\"\"),2,IF(ISERROR(MATCH(Q10,Input!M$5:M$24,0)),2,1)))","v":1},{"$f":"IF(M10<>\"\", M10, H10)","v":""},0]
[null,null,null,null,null,null,0,"",null,"",null,"",null,null,null,null,"\\",{"$f":"IF(AND(A11=\"\",B11=\"\",C11=\"\",D11=\"\"),1,IF(OR(O11=\"\",N11=\"\"),2,IF(ISERROR(MATCH(Q11,Input!M$5:M$24,0)),2,1)))","v":1},"",0]
[null,null,null,null,null,null,0,"",null,"",null,"",null,null,null,null,"\\",{"$f":"IF(AND(A12=\"\",B12=\"\",C12=\"\",D12=\"\"),1,IF(OR(O12=\"\",N12=\"\"),2,IF(ISERROR(MATCH(Q12,Input!M$5:M$24,0)),2,1)))","v":1},"",0]
[null,null,null,null,null,null,0,"",null,"",null,"",null,null,null,null,"\\",{"$f":"IF(AND(A13=\"\",B13=\"\",C13=\"\",D13=\"\"),1,IF(OR(O13=\"\",N13=\"\"),2,IF(ISERROR(MATCH(Q13,Input!M$5:M$24,0)),2,1)))","v":1},"",0]
[null,null,null,null,null,null,0,"",null,"",null,"",null,null,null,null,"\\",{"$f":"IF(AND(A14=\"\",B14=\"\",C14=\"\",D14=\"\"),1,IF(OR(O14=\"\",N14=\"\"),2,IF(ISERROR(MATCH(Q14,Input!M$5:M$24,0)),2,1)))","v":1},"",0]
[null,null,null,null,null,null,0,"",null,"",null,"",null,null,null,null,"\\",{"$f":"IF(AND(A15=\"\",B15=\"\",C15=\"\",D15=\"\"),1,IF(OR(O15=\"\",N15=\"\"),2,IF(ISERROR(MATCH(Q15,Input!M$5:M$24,0)),2,1)))","v":1},"",0]
[null,null,null,null,null,null,0,"",null,"",null,"",null,null,null,null,"\\",{"$f":"IF(AND(A16=\"\",B16=\"\",C16=\"\",D16=\"\"),1,IF(OR(O16=\"\",N16=\"\"),2,IF(ISERROR(MATCH(Q16,Input!M$5:M$24,0)),2,1)))","v":1},"",0]
[null,null,null,null,null,null,0,"",null,"",null,"",null,null,null,null,"\\",{"$f":"IF(AND(A17=\"\",B17=\"\",C17=\"\",D17=\"\"),1,IF(OR(O17=\"\",N17=\"\"),2,IF(ISERROR(MATCH(Q17,Input!M$5:M$24,0)),2,1)))","v":1},"",0]
[]
["TANK SHEET"]
["Bid Item (In Order of Placement)",null,"Today's Placement",null,null,"Bid Item Plan Quantity","Plan Thickness (in)","Contract Mix Price","Contract Binder Price","Project Number",null,null,null,"Mix Pay Units","Mix Delivered to Road\n(Ton or SY)","Waste On Road (Ton)\nNO waste for SY Items","Tons Placed - Waste",null,null,"This adds up column S as it depends if the Est SY is filled out or the SY",null,"Use this Column for SY for the Q column","Uses this Value for Mix on Road"]
[null,null,null,null,null,{"$f":"IF($J21=\"\",\"\",INDEX(Input!$A$5:$H$24,MATCH($A21&$J21,Input!$A$5:$A$24&Input!$G$5:$G$24,0),2))","v":""},{"$f":"IF($J21=\"\",\"\",INDEX(Input!$A$5:$H$24,MATCH($A21&$J21,Input!$A$5:$A$24&Input!$G$5:$G$24,0),3))","v":""},{"$f":"IF($J21=\"\",\"\",INDEX(Input!$A$5:$H$24,MATCH($A21&$J21,Input!$A$5:$A$24&Input!$G$5:$G$24,0),4))","v":""},{"$f":"IF($J21=\"\",\"\",INDEX(Input!$A$5:$H$24,MATCH($A21&$J21,Input!$A$5:$A$24&Input!$G$5:$G$24,0),5))","v":""},null,null,null,null,{"$f":"IF($A21=\"\",\"\",OFFSET(Input!F$4,MATCH($A21,Input!$A$5:$A$24,0),0))","v":""},{"$f":"IF(N21=\"SY\", T21, IF(N21=\"Tons\", W21, \"\"))","v":""},null,{"$f":"IF(N21=\"SY\", V21, IF(N21=\"Tons\", O21-P21, \"\"))","v":""},{"$f":"SUBSTITUTE(A21 & \"\\\" & J21,\"\"\"\",\"\")","v":"\\"},{"$f":"IF(A21=\"\",1,IF(ISERROR(MATCH(R21,Input!L$5:L$24,0)),2,1))","v":1},{"$f":"IF(A21=\"\", \"\", SUMIF($Q$8:$Q$17, \"*\" & LEFT(A21, 11) & \"*\", $S$8:$S$17))","v":""},null,{"$f":"IF(A21=\"\", \"\", SUMIF($Q$8:$Q$17, \"*\" & LEFT(A21, 11) & \"*\", $T$8:$T$17))","v":""},{"$f":"IF(N21=\"SY\", T21, IF(N21=\"Tons\", V21+P21, \"\"))","v":""}]
[null,null,null,null,null,{"$f":"IF($J22=\"\",\"\",INDEX(Input!$A$5:$H$24,MATCH($A22&$J22,Input!$A$5:$A$24&Input!$G$5:$G$24,0),2))","v":""},{"$f":"IF($J22=\"\",\"\",INDEX(Input!$A$5:$H$24,MATCH($A22&$J22,Input!$A$5:$A$24&Input!$G$5:$G$24,0),3))","v":""},{"$f":"IF($J22=\"\",\"\",INDEX(Input!$A$5:$H$24,MATCH($A22&$J22,Input!$A$5:$A$24&Input!$G$5:$G$24,0),4))","v":""},{"$f":"IF($J22=\"\",\"\",INDEX(Input!$A$5:$H$24,MATCH($A22&$J22,Input!$A$5:$A$24&Input!$G$5:$G$24,0),5))","v":""},null,null,null,null,{"$f":"IF($A22=\"\",\"\",OFFSET(Input!F$4,MATCH($A22,Input!$A$5:$A$24,0),0))","v":""},{"$f":"IF(N22=\"SY\", T22, IF(N22=\"Tons\", W22, \"\"))","v":""},null,{"$f":"IF(N22=\"SY\", V22, IF(N22=\"Tons\", O22-P22, \"\"))","v":""},{"$f":"SUBSTITUTE(A22 & \"\\\" & J22,\"\"\"\",\"\")","v":"\\"},{"$f":"IF(A22=\"\",1,IF(ISERROR(MATCH(R22,Input!L$5:L$24,0)),2,1))","v":1},{"$f":"IF(A22=\"\", \"\", SUMIF($Q$8:$Q$17, \"*\" & LEFT(A22, 11) & \"*\", $S$8:$S$17))","v":""},null,{"$f":"IF(A22=\"\", \"\", SUMIF($Q$8:$Q$17, \"*\" & LEFT(A22, 11) & \"*\", $T$8:$T$17))","v":""},{"$f":"IF(N22=\"SY\", T22, IF(N22=\"Tons\", V22+P22, \"\"))","v":""}]
[null,null,null,null,null,{"$f":"IF($J23=\"\",\"\",INDEX(Input!$A$5:$H$24,MATCH($A23&$J23,Input!$A$5:$A$24&Input!$G$5:$G$24,0),2))","v":""},{"$f":"IF($J23=\"\",\"\",INDEX(Input!$A$5:$H$24,MATCH($A23&$J23,Input!$A$5:$A$24&Input!$G$5:$G$24,0),3))","v":""},{"$f":"IF($J23=\"\",\"\",INDEX(Input!$A$5:$H$24,MATCH($A23&$J23,Input!$A$5:$A$24&Input!$G$5:$G$24,0),4))","v":""},{"$f":"IF($J23=\"\",\"\",INDEX(Input!$A$5:$H$24,MATCH($A23&$J23,Input!$A$5:$A$24&Input!$G$5:$G$24,0),5))","v":""},null,null,null,null,{"$f":"IF($A23=\"\",\"\",OFFSET(Input!F$4,MATCH($A23,Input!$A$5:$A$24,0),0))","v":""},{"$f":"IF(N23=\"SY\", T23, IF(N23=\"Tons\", W23, \"\"))","v":""},null,{"$f":"IF(N23=\"SY\", V23, IF(N23=\"Tons\", O23-P23, \"\"))","v":""},"\\",{"$f":"IF(A23=\"\",1,IF(ISERROR(MATCH(R23,Input!L$5:L$24,0)),2,1))","v":1},{"$f":"IF(A23=\"\", \"\", SUMIF($Q$8:$Q$17, \"*\" & LEFT(A23, 11) & \"*\", $S$8:$S$17))","v":""},null,{"$f":"IF(A23=\"\", \"\", SUMIF($Q$8:$Q$17, \"*\" & LEFT(A23, 11) & \"*\", $T$8:$T$17))","v":""},{"$f":"IF(N23=\"SY\", T23, IF(N23=\"Tons\", V23+P23, \"\"))","v":""}]
[null,null,null,null,null,{"$f":"IF($J24=\"\",\"\",INDEX(Input!$A$5:$H$24,MATCH($A24&$J24,Input!$A$5:$A$24&Input!$G$5:$G$24,0),2))","v":""},{"$f":"IF($J24=\"\",\"\",INDEX(Input!$A$5:$H$24,MATCH($A24&$J24,Input!$A$5:$A$24&Input!$G$5:$G$24,0),3))","v":""},{"$f":"IF($J24=\"\",\"\",INDEX(Input!$A$5:$H$24,MATCH($A24&$J24,Input!$A$5:$A$24&Input!$G$5:$G$24,0),4))","v":""},{"$f":"IF($J24=\"\",\"\",INDEX(Input!$A$5:$H$24,MATCH($A24&$J24,Input!$A$5:$A$24&Input!$G$5:$G$24,0),5))","v":""},null,null,null,null,{"$f":"IF($A24=\"\",\"\",OFFSET(Input!F$4,MATCH($A24,Input!$A$5:$A$24,0),0))","v":""},"",null,{"$f":"IF(N24=\"SY\", V24, IF(N24=\"Tons\", O24-P24, \"\"))","v":""},"\\",{"$f":"IF(A24=\"\",1,IF(ISERROR(MATCH(R24,Input!L$5:L$24,0)),2,1))","v":1},"",null,{"$f":"IF(A24=\"\", \"\", SUMIF($Q$8:$Q$17, \"*\" & LEFT(A24, 11) & \"*\", $T$8:$T$17))","v":""},{"$f":"IF(N24=\"SY\", T24, IF(N24=\"Tons\", V24+P24, \"\"))","v":""}]
[null,null,null,null,null,{"$f":"IF($J25=\"\",\"\",INDEX(Input!$A$5:$H$24,MATCH($A25&$J25,Input!$A$5:$A$24&Input!$G$5:$G$24,0),2))","v":""},{"$f":"IF($J25=\"\",\"\",INDEX(Input!$A$5:$H$24,MATCH($A25&$J25,Input!$A$5:$A$24&Input!$G$5:$G$24,0),3))","v":""},{"$f":"IF($J25=\"\",\"\",INDEX(Input!$A$5:$H$24,MATCH($A25&$J25,Input!$A$5:$A$24&Input!$G$5:$G$24,0),4))","v":""},{"$f":"IF($J25=\"\",\"\",INDEX(Input!$A$5:$H$24,MATCH($A25&$J25,Input!$A$5:$A$24&Input!$G$5:$G$24,0),5))","v":""},null,null,null,null,{"$f":"IF($A25=\"\",\"\",OFFSET(Input!F$4,MATCH($A25,Input!$A$5:$A$24,0),0))","v":""},"",null,"","\\",{"$f":"IF(A25=\"\",1,IF(ISERROR(MATCH(R25,Input!L$5:L$24,0)),2,1))","v":1},"",null,"",""]
[null,null,null,null,null,null,null,null,null,null,null,null,null,null,null,null,null,null,null,null,null,"",{"$f":"IF(N26=\"SY\", T26, IF(N26=\"Tons\", V26+P26, \"\"))","v":""},{"$f":"IF(A26=\"\", \"\", SUMIF($Q$8:$Q$17, \"*\" & LEFT(A26, 11) & \"*\", $S$8:$S$17))","v":""},{"$f":"IF(N26=\"SY\",X26,\"\")","v":""},{"$f":"IF(A26=\"\", \"\", SUMIF($Q$8:$Q$17, \"*\" & LEFT(A26, 11) & \"*\", $T$8:$T$17))","v":""}]
["Hot Box Sample",null,null,null,null,null,null,null,null,null,"Mat Temperatures °F"]
[null,"Test A","Test B","Test C","Test D","Test E",null,null,null,null,"Time","Temp"]
[" Hot Box ID Number  ",null,null,null,null,null,null,null,null,null,"7:00"]
["Hot Box Sample Tons: ",null,null,null,null,null,null,null,null,null,"9:00",null,null,null,"Intended Thickness:"]
[" Time: ",null,null,null,null,null,null,null,null,null,"11:00",null,null,null,"Cores Waived?"]
[" Station/MP: ",null,null,null,null,null,null,null,null,null,"1:00",null,null,null,"Small Quantity Statement?"]
["Bar Code ID.:",null,null,null,null,null,null,null,null,null,"3:00",null,null,null,"Scale Check Done?"]
["Compaction Temp. °F: ",null,null,null,null,null,null,null,null,null,"5:00",null,null,null,"Tack Tickets Today?"]
[null,null,null,null,null,null,null,null,null,null,"7:00"]
["The Below Comments should show up on the plant report"]
["Comments:"]
[]
[]
["The Below Notes are for the CPI from the field or Plant Monitor"]
["Notes:"]
[]
[]
["RANDOM CORE LOCATIONS"]
[null,null,null,null,null,null,null,"Core #","Station","Offset,ft","Joint Station","Lane"]
[null,null,null,null,null,null,null,1]
[null,null,null,null,null,null,null,2]
[null,null,null,null,null,null,null,3]
[null,null,null,null,null,null,null,4]
[null,null,null,null,null,null,null,5]
[null,null,null,null,null,null,null,6]
[null,null,null,null,null,null,null,7]
[null,null,null,null,null,null,null,8]
[]
[null,null,null,null,null,null,null,null,null,null,"Joint Sublot Size, ft"]
[null,null,null,null,null,null,null,null,null,null,0]
[]
[]
[]
[]
[]
[]
[]
[]
[]
[]
[]
[]
[]
[]
[]
[]
[]
[]
[]
[]
[]
[]
[]
[]
[]
[]
[]
[]
[]
[]
[]
[]
[]
[]
[]
[]
[]
[]
[]
[]
[false]

{"sheet":"63","index":78,"n_rows":97,"n_cols":26,"rows_kept":97,"cut":false,"hidden":false,"merged":[[50,11,50,13],[51,11,51,13],[52,11,52,13],[44,11,44,13],[45,11,45,13],[46,11,46,13],[47,11,47,13],[48,11,48,13],[49,11,49,13],[43,0,43,16],[25,0,25,1],[26,0,26,5],[26,20,26,23],[26,25,26,27],[34,2,34,4],[35,0,35,5],[36,1,36,14],[37,0,37,14],[39,0,39,5],[40,1,40,14],[41,0,41,14],[23,0,23,1],[23,2,23,4],[23,9,23,12],[24,0,24,1],[24,2,24,4],[24,9,24,12],[21,0,21,1],[21,2,21,4],[21,9,21,12],[22,0,22,1],[22,2,22,4],[22,9,22,12],[19,0,19,1],[19,2,19,4],[19,9,19,12],[20,0,20,1],[20,2,20,4],[20,9,20,12],[18,0,18,16],[6,14,6,15],[7,14,7,15],[8,14,8,15],[9,14,9,15],[10,14,10,15],[11,14,11,15],[12,14,12,15],[13,14,13,15],[14,14,14,15],[15,14,15,15],[16,14,16,15],[1,0,1,16],[4,0,4,15],[5,4,5,5],[5,8,5,9],[5,11,5,12],[5,13,5,15]]}
[]
["Iowa DOT HMA Field Report"]
["Date :"]
["Item No.('s)"]
["PLACEMENT RECORD",null,null,null,null,null,null,null,null,null,null,null,null,null,null,null,null,null,null,null,null,{"$f":"SUBSTITUTE(A21 & \"\\\" & J21,\"\"\"\",\"\")","v":"\\"}]
[null,null,null,null,"Additional width to DEDUCT from Field Voids",null,null,null,"Placed Density (Pounds/CF)=",null,150,"Overwritten on the \"Summary\" Tab",null,"ONLY ONE (1) MIX DESIGN PER DFR OTHERWISE IT WILL NOT IMPORT INTO THE PLANT REPORT PROPERLY",null,null,null,null,null,null,null,{"$f":"SUBSTITUTE(A22 & \"\\\" & J22,\"\"\"\",\"\")","v":"\\"}]
["From Station"," To Station","Lane","ML or Widening Placement Width","Additional Width (ft) ","Thickness (in)","Total Length Placed (FT)","\"Pay\"  Est \"SY\"","Thickness (inches)","Calculated Field Voids Tons","Placed Tons            (Not including Waste)","% Yield","SY to be PAID (If Diff. than Est SY)","Mix Design No.","Bid Item/ Project No.",null,null,null,"This uses the correct SY #, if Green is blank uses Est. SY","Adds up the Tons",null,"\\"]
[null,null,null,null,null,null,{"$f":"IF(OR(A8=\"\",B8=\"\"),0,IF($A$97=TRUE,ABS(B8-A8)*5280,ABS(VALUE(SUBSTITUTE(A8,\"+\",\"\"))-VALUE(SUBSTITUTE(B8,\"+\",\"\")))))","v":0},{"$f":"IF(D8=\"\",\"\",G8*(D8+E8)/9)","v":""},null,{"$f":"IF(I8=\"\",\"\",(G8)*(D8+E8)*I8/12*$K$6/2000)","v":""},null,{"$f":"IF(K8=\"\",\"\",K8/J8*100)","v":""},null,null,null,null,{"$f":"O8 & \"\\\" & N8","v":"\\"},{"$f":"IF(AND(A8=\"\",B8=\"\",C8=\"\",D8=\"\"),1,IF(OR(O8=\"\",N8=\"\"),2,IF(ISERROR(MATCH(Q8,Input!M$5:M$24,0)),2,1)))","v":1},{"$f":"IF(M8<>\"\", M8, H8)","v":""},{"$f":"K8","v":0},null,"\\"]
[null,null,null,null,null,null,{"$f":"IF(OR(A9=\"\",B9=\"\"),0,IF($A$97=TRUE,ABS(B9-A9)*5280,ABS(VALUE(SUBSTITUTE(A9,\"+\",\"\"))-VALUE(SUBSTITUTE(B9,\"+\",\"\")))))","v":0},{"$f":"IF(D9=\"\",\"\",G9*(D9+E9)/9)","v":""},null,"",null,{"$f":"IF(K9=\"\",\"\",K9/J9*100)","v":""},null,null,null,null,{"$f":"O9 & \"\\\" & N9","v":"\\"},{"$f":"IF(AND(A9=\"\",B9=\"\",C9=\"\",D9=\"\"),1,IF(OR(O9=\"\",N9=\"\"),2,IF(ISERROR(MATCH(Q9,Input!M$5:M$24,0)),2,1)))","v":1},{"$f":"IF(M9<>\"\", M9, H9)","v":""},{"$f":"K9","v":0},null,"\\"]
[null,null,null,null,null,null,0,"",null,"",null,"",null,null,null,null,"\\",{"$f":"IF(AND(A10=\"\",B10=\"\",C10=\"\",D10=\"\"),1,IF(OR(O10=\"\",N10=\"\"),2,IF(ISERROR(MATCH(Q10,Input!M$5:M$24,0)),2,1)))","v":1},{"$f":"IF(M10<>\"\", M10, H10)","v":""},0]
[null,null,null,null,null,null,0,"",null,"",null,"",null,null,null,null,"\\",{"$f":"IF(AND(A11=\"\",B11=\"\",C11=\"\",D11=\"\"),1,IF(OR(O11=\"\",N11=\"\"),2,IF(ISERROR(MATCH(Q11,Input!M$5:M$24,0)),2,1)))","v":1},"",0]
[null,null,null,null,null,null,0,"",null,"",null,"",null,null,null,null,"\\",{"$f":"IF(AND(A12=\"\",B12=\"\",C12=\"\",D12=\"\"),1,IF(OR(O12=\"\",N12=\"\"),2,IF(ISERROR(MATCH(Q12,Input!M$5:M$24,0)),2,1)))","v":1},"",0]
[null,null,null,null,null,null,0,"",null,"",null,"",null,null,null,null,"\\",{"$f":"IF(AND(A13=\"\",B13=\"\",C13=\"\",D13=\"\"),1,IF(OR(O13=\"\",N13=\"\"),2,IF(ISERROR(MATCH(Q13,Input!M$5:M$24,0)),2,1)))","v":1},"",0]
[null,null,null,null,null,null,0,"",null,"",null,"",null,null,null,null,"\\",{"$f":"IF(AND(A14=\"\",B14=\"\",C14=\"\",D14=\"\"),1,IF(OR(O14=\"\",N14=\"\"),2,IF(ISERROR(MATCH(Q14,Input!M$5:M$24,0)),2,1)))","v":1},"",0]
[null,null,null,null,null,null,0,"",null,"",null,"",null,null,null,null,"\\",{"$f":"IF(AND(A15=\"\",B15=\"\",C15=\"\",D15=\"\"),1,IF(OR(O15=\"\",N15=\"\"),2,IF(ISERROR(MATCH(Q15,Input!M$5:M$24,0)),2,1)))","v":1},"",0]
[null,null,null,null,null,null,0,"",null,"",null,"",null,null,null,null,"\\",{"$f":"IF(AND(A16=\"\",B16=\"\",C16=\"\",D16=\"\"),1,IF(OR(O16=\"\",N16=\"\"),2,IF(ISERROR(MATCH(Q16,Input!M$5:M$24,0)),2,1)))","v":1},"",0]
[null,null,null,null,null,null,0,"",null,"",null,"",null,null,null,null,"\\",{"$f":"IF(AND(A17=\"\",B17=\"\",C17=\"\",D17=\"\"),1,IF(OR(O17=\"\",N17=\"\"),2,IF(ISERROR(MATCH(Q17,Input!M$5:M$24,0)),2,1)))","v":1},"",0]
[]
["TANK SHEET"]
["Bid Item (In Order of Placement)",null,"Today's Placement",null,null,"Bid Item Plan Quantity","Plan Thickness (in)","Contract Mix Price","Contract Binder Price","Project Number",null,null,null,"Mix Pay Units","Mix Delivered to Road\n(Ton or SY)","Waste On Road (Ton)\nNO waste for SY Items","Tons Placed - Waste",null,null,"This adds up column S as it depends if the Est SY is filled out or the SY",null,"Use this Column for SY for the Q column","Uses this Value for Mix on Road"]
[null,null,null,null,null,{"$f":"IF($J21=\"\",\"\",INDEX(Input!$A$5:$H$24,MATCH($A21&$J21,Input!$A$5:$A$24&Input!$G$5:$G$24,0),2))","v":""},{"$f":"IF($J21=\"\",\"\",INDEX(Input!$A$5:$H$24,MATCH($A21&$J21,Input!$A$5:$A$24&Input!$G$5:$G$24,0),3))","v":""},{"$f":"IF($J21=\"\",\"\",INDEX(Input!$A$5:$H$24,MATCH($A21&$J21,Input!$A$5:$A$24&Input!$G$5:$G$24,0),4))","v":""},{"$f":"IF($J21=\"\",\"\",INDEX(Input!$A$5:$H$24,MATCH($A21&$J21,Input!$A$5:$A$24&Input!$G$5:$G$24,0),5))","v":""},null,null,null,null,{"$f":"IF($A21=\"\",\"\",OFFSET(Input!F$4,MATCH($A21,Input!$A$5:$A$24,0),0))","v":""},{"$f":"IF(N21=\"SY\", T21, IF(N21=\"Tons\", W21, \"\"))","v":""},null,{"$f":"IF(N21=\"SY\", V21, IF(N21=\"Tons\", O21-P21, \"\"))","v":""},{"$f":"SUBSTITUTE(A21 & \"\\\" & J21,\"\"\"\",\"\")","v":"\\"},{"$f":"IF(A21=\"\",1,IF(ISERROR(MATCH(R21,Input!L$5:L$24,0)),2,1))","v":1},{"$f":"IF(A21=\"\", \"\", SUMIF($Q$8:$Q$17, \"*\" & LEFT(A21, 11) & \"*\", $S$8:$S$17))","v":""},null,{"$f":"IF(A21=\"\", \"\", SUMIF($Q$8:$Q$17, \"*\" & LEFT(A21, 11) & \"*\", $T$8:$T$17))","v":""},{"$f":"IF(N21=\"SY\", T21, IF(N21=\"Tons\", V21+P21, \"\"))","v":""}]
[null,null,null,null,null,{"$f":"IF($J22=\"\",\"\",INDEX(Input!$A$5:$H$24,MATCH($A22&$J22,Input!$A$5:$A$24&Input!$G$5:$G$24,0),2))","v":""},{"$f":"IF($J22=\"\",\"\",INDEX(Input!$A$5:$H$24,MATCH($A22&$J22,Input!$A$5:$A$24&Input!$G$5:$G$24,0),3))","v":""},{"$f":"IF($J22=\"\",\"\",INDEX(Input!$A$5:$H$24,MATCH($A22&$J22,Input!$A$5:$A$24&Input!$G$5:$G$24,0),4))","v":""},{"$f":"IF($J22=\"\",\"\",INDEX(Input!$A$5:$H$24,MATCH($A22&$J22,Input!$A$5:$A$24&Input!$G$5:$G$24,0),5))","v":""},null,null,null,null,{"$f":"IF($A22=\"\",\"\",OFFSET(Input!F$4,MATCH($A22,Input!$A$5:$A$24,0),0))","v":""},{"$f":"IF(N22=\"SY\", T22, IF(N22=\"Tons\", W22, \"\"))","v":""},null,{"$f":"IF(N22=\"SY\", V22, IF(N22=\"Tons\", O22-P22, \"\"))","v":""},{"$f":"SUBSTITUTE(A22 & \"\\\" & J22,\"\"\"\",\"\")","v":"\\"},{"$f":"IF(A22=\"\",1,IF(ISERROR(MATCH(R22,Input!L$5:L$24,0)),2,1))","v":1},{"$f":"IF(A22=\"\", \"\", SUMIF($Q$8:$Q$17, \"*\" & LEFT(A22, 11) & \"*\", $S$8:$S$17))","v":""},null,{"$f":"IF(A22=\"\", \"\", SUMIF($Q$8:$Q$17, \"*\" & LEFT(A22, 11) & \"*\", $T$8:$T$17))","v":""},{"$f":"IF(N22=\"SY\", T22, IF(N22=\"Tons\", V22+P22, \"\"))","v":""}]
[null,null,null,null,null,{"$f":"IF($J23=\"\",\"\",INDEX(Input!$A$5:$H$24,MATCH($A23&$J23,Input!$A$5:$A$24&Input!$G$5:$G$24,0),2))","v":""},{"$f":"IF($J23=\"\",\"\",INDEX(Input!$A$5:$H$24,MATCH($A23&$J23,Input!$A$5:$A$24&Input!$G$5:$G$24,0),3))","v":""},{"$f":"IF($J23=\"\",\"\",INDEX(Input!$A$5:$H$24,MATCH($A23&$J23,Input!$A$5:$A$24&Input!$G$5:$G$24,0),4))","v":""},{"$f":"IF($J23=\"\",\"\",INDEX(Input!$A$5:$H$24,MATCH($A23&$J23,Input!$A$5:$A$24&Input!$G$5:$G$24,0),5))","v":""},null,null,null,null,{"$f":"IF($A23=\"\",\"\",OFFSET(Input!F$4,MATCH($A23,Input!$A$5:$A$24,0),0))","v":""},{"$f":"IF(N23=\"SY\", T23, IF(N23=\"Tons\", W23, \"\"))","v":""},null,{"$f":"IF(N23=\"SY\", V23, IF(N23=\"Tons\", O23-P23, \"\"))","v":""},"\\",{"$f":"IF(A23=\"\",1,IF(ISERROR(MATCH(R23,Input!L$5:L$24,0)),2,1))","v":1},{"$f":"IF(A23=\"\", \"\", SUMIF($Q$8:$Q$17, \"*\" & LEFT(A23, 11) & \"*\", $S$8:$S$17))","v":""},null,{"$f":"IF(A23=\"\", \"\", SUMIF($Q$8:$Q$17, \"*\" & LEFT(A23, 11) & \"*\", $T$8:$T$17))","v":""},{"$f":"IF(N23=\"SY\", T23, IF(N23=\"Tons\", V23+P23, \"\"))","v":""}]
[null,null,null,null,null,{"$f":"IF($J24=\"\",\"\",INDEX(Input!$A$5:$H$24,MATCH($A24&$J24,Input!$A$5:$A$24&Input!$G$5:$G$24,0),2))","v":""},{"$f":"IF($J24=\"\",\"\",INDEX(Input!$A$5:$H$24,MATCH($A24&$J24,Input!$A$5:$A$24&Input!$G$5:$G$24,0),3))","v":""},{"$f":"IF($J24=\"\",\"\",INDEX(Input!$A$5:$H$24,MATCH($A24&$J24,Input!$A$5:$A$24&Input!$G$5:$G$24,0),4))","v":""},{"$f":"IF($J24=\"\",\"\",INDEX(Input!$A$5:$H$24,MATCH($A24&$J24,Input!$A$5:$A$24&Input!$G$5:$G$24,0),5))","v":""},null,null,null,null,{"$f":"IF($A24=\"\",\"\",OFFSET(Input!F$4,MATCH($A24,Input!$A$5:$A$24,0),0))","v":""},"",null,{"$f":"IF(N24=\"SY\", V24, IF(N24=\"Tons\", O24-P24, \"\"))","v":""},"\\",{"$f":"IF(A24=\"\",1,IF(ISERROR(MATCH(R24,Input!L$5:L$24,0)),2,1))","v":1},"",null,{"$f":"IF(A24=\"\", \"\", SUMIF($Q$8:$Q$17, \"*\" & LEFT(A24, 11) & \"*\", $T$8:$T$17))","v":""},{"$f":"IF(N24=\"SY\", T24, IF(N24=\"Tons\", V24+P24, \"\"))","v":""}]
[null,null,null,null,null,{"$f":"IF($J25=\"\",\"\",INDEX(Input!$A$5:$H$24,MATCH($A25&$J25,Input!$A$5:$A$24&Input!$G$5:$G$24,0),2))","v":""},{"$f":"IF($J25=\"\",\"\",INDEX(Input!$A$5:$H$24,MATCH($A25&$J25,Input!$A$5:$A$24&Input!$G$5:$G$24,0),3))","v":""},{"$f":"IF($J25=\"\",\"\",INDEX(Input!$A$5:$H$24,MATCH($A25&$J25,Input!$A$5:$A$24&Input!$G$5:$G$24,0),4))","v":""},{"$f":"IF($J25=\"\",\"\",INDEX(Input!$A$5:$H$24,MATCH($A25&$J25,Input!$A$5:$A$24&Input!$G$5:$G$24,0),5))","v":""},null,null,null,null,{"$f":"IF($A25=\"\",\"\",OFFSET(Input!F$4,MATCH($A25,Input!$A$5:$A$24,0),0))","v":""},"",null,"","\\",{"$f":"IF(A25=\"\",1,IF(ISERROR(MATCH(R25,Input!L$5:L$24,0)),2,1))","v":1},"",null,"",""]
[null,null,null,null,null,null,null,null,null,null,null,null,null,null,null,null,null,null,null,null,null,"",{"$f":"IF(N26=\"SY\", T26, IF(N26=\"Tons\", V26+P26, \"\"))","v":""},{"$f":"IF(A26=\"\", \"\", SUMIF($Q$8:$Q$17, \"*\" & LEFT(A26, 11) & \"*\", $S$8:$S$17))","v":""},{"$f":"IF(N26=\"SY\",X26,\"\")","v":""},{"$f":"IF(A26=\"\", \"\", SUMIF($Q$8:$Q$17, \"*\" & LEFT(A26, 11) & \"*\", $T$8:$T$17))","v":""}]
["Hot Box Sample",null,null,null,null,null,null,null,null,null,"Mat Temperatures °F"]
[null,"Test A","Test B","Test C","Test D","Test E",null,null,null,null,"Time","Temp"]
[" Hot Box ID Number  ",null,null,null,null,null,null,null,null,null,"7:00"]
["Hot Box Sample Tons: ",null,null,null,null,null,null,null,null,null,"9:00",null,null,null,"Intended Thickness:"]
[" Time: ",null,null,null,null,null,null,null,null,null,"11:00",null,null,null,"Cores Waived?"]
[" Station/MP: ",null,null,null,null,null,null,null,null,null,"1:00",null,null,null,"Small Quantity Statement?"]
["Bar Code ID.:",null,null,null,null,null,null,null,null,null,"3:00",null,null,null,"Scale Check Done?"]
["Compaction Temp. °F: ",null,null,null,null,null,null,null,null,null,"5:00",null,null,null,"Tack Tickets Today?"]
[null,null,null,null,null,null,null,null,null,null,"7:00"]
["The Below Comments should show up on the plant report"]
["Comments:"]
[]
[]
["The Below Notes are for the CPI from the field or Plant Monitor"]
["Notes:"]
[]
[]
["RANDOM CORE LOCATIONS"]
[null,null,null,null,null,null,null,"Core #","Station","Offset,ft","Joint Station","Lane"]
[null,null,null,null,null,null,null,1]
[null,null,null,null,null,null,null,2]
[null,null,null,null,null,null,null,3]
[null,null,null,null,null,null,null,4]
[null,null,null,null,null,null,null,5]
[null,null,null,null,null,null,null,6]
[null,null,null,null,null,null,null,7]
[null,null,null,null,null,null,null,8]
[]
[null,null,null,null,null,null,null,null,null,null,"Joint Sublot Size, ft"]
[null,null,null,null,null,null,null,null,null,null,0]
[]
[]
[]
[]
[]
[]
[]
[]
[]
[]
[]
[]
[]
[]
[]
[]
[]
[]
[]
[]
[]
[]
[]
[]
[]
[]
[]
[]
[]
[]
[]
[]
[]
[]
[]
[]
[]
[]
[]
[]
[false]

{"sheet":"64","index":79,"n_rows":97,"n_cols":26,"rows_kept":97,"cut":false,"hidden":false,"merged":[[50,11,50,13],[51,11,51,13],[52,11,52,13],[44,11,44,13],[45,11,45,13],[46,11,46,13],[47,11,47,13],[48,11,48,13],[49,11,49,13],[43,0,43,16],[25,0,25,1],[26,0,26,5],[26,20,26,23],[26,25,26,27],[34,2,34,4],[35,0,35,5],[36,1,36,14],[37,0,37,14],[39,0,39,5],[40,1,40,14],[41,0,41,14],[23,0,23,1],[23,2,23,4],[23,9,23,12],[24,0,24,1],[24,2,24,4],[24,9,24,12],[21,0,21,1],[21,2,21,4],[21,9,21,12],[22,0,22,1],[22,2,22,4],[22,9,22,12],[19,0,19,1],[19,2,19,4],[19,9,19,12],[20,0,20,1],[20,2,20,4],[20,9,20,12],[18,0,18,16],[6,14,6,15],[7,14,7,15],[8,14,8,15],[9,14,9,15],[10,14,10,15],[11,14,11,15],[12,14,12,15],[13,14,13,15],[14,14,14,15],[15,14,15,15],[16,14,16,15],[1,0,1,16],[4,0,4,15],[5,4,5,5],[5,8,5,9],[5,11,5,12],[5,13,5,15]]}
[]
["Iowa DOT HMA Field Report"]
["Date :"]
["Item No.('s)"]
["PLACEMENT RECORD",null,null,null,null,null,null,null,null,null,null,null,null,null,null,null,null,null,null,null,null,{"$f":"SUBSTITUTE(A21 & \"\\\" & J21,\"\"\"\",\"\")","v":"\\"}]
[null,null,null,null,"Additional width to DEDUCT from Field Voids",null,null,null,"Placed Density (Pounds/CF)=",null,150,"Overwritten on the \"Summary\" Tab",null,"ONLY ONE (1) MIX DESIGN PER DFR OTHERWISE IT WILL NOT IMPORT INTO THE PLANT REPORT PROPERLY",null,null,null,null,null,null,null,{"$f":"SUBSTITUTE(A22 & \"\\\" & J22,\"\"\"\",\"\")","v":"\\"}]
["From Station"," To Station","Lane","ML or Widening Placement Width","Additional Width (ft) ","Thickness (in)","Total Length Placed (FT)","\"Pay\"  Est \"SY\"","Thickness (inches)","Calculated Field Voids Tons","Placed Tons            (Not including Waste)","% Yield","SY to be PAID (If Diff. than Est SY)","Mix Design No.","Bid Item/ Project No.",null,null,null,"This uses the correct SY #, if Green is blank uses Est. SY","Adds up the Tons",null,"\\"]
[null,null,null,null,null,null,{"$f":"IF(OR(A8=\"\",B8=\"\"),0,IF($A$97=TRUE,ABS(B8-A8)*5280,ABS(VALUE(SUBSTITUTE(A8,\"+\",\"\"))-VALUE(SUBSTITUTE(B8,\"+\",\"\")))))","v":0},{"$f":"IF(D8=\"\",\"\",G8*(D8+E8)/9)","v":""},null,{"$f":"IF(I8=\"\",\"\",(G8)*(D8+E8)*I8/12*$K$6/2000)","v":""},null,{"$f":"IF(K8=\"\",\"\",K8/J8*100)","v":""},null,null,null,null,{"$f":"O8 & \"\\\" & N8","v":"\\"},{"$f":"IF(AND(A8=\"\",B8=\"\",C8=\"\",D8=\"\"),1,IF(OR(O8=\"\",N8=\"\"),2,IF(ISERROR(MATCH(Q8,Input!M$5:M$24,0)),2,1)))","v":1},{"$f":"IF(M8<>\"\", M8, H8)","v":""},{"$f":"K8","v":0},null,"\\"]
[null,null,null,null,null,null,{"$f":"IF(OR(A9=\"\",B9=\"\"),0,IF($A$97=TRUE,ABS(B9-A9)*5280,ABS(VALUE(SUBSTITUTE(A9,\"+\",\"\"))-VALUE(SUBSTITUTE(B9,\"+\",\"\")))))","v":0},{"$f":"IF(D9=\"\",\"\",G9*(D9+E9)/9)","v":""},null,"",null,{"$f":"IF(K9=\"\",\"\",K9/J9*100)","v":""},null,null,null,null,{"$f":"O9 & \"\\\" & N9","v":"\\"},{"$f":"IF(AND(A9=\"\",B9=\"\",C9=\"\",D9=\"\"),1,IF(OR(O9=\"\",N9=\"\"),2,IF(ISERROR(MATCH(Q9,Input!M$5:M$24,0)),2,1)))","v":1},{"$f":"IF(M9<>\"\", M9, H9)","v":""},{"$f":"K9","v":0},null,"\\"]
[null,null,null,null,null,null,0,"",null,"",null,"",null,null,null,null,"\\",{"$f":"IF(AND(A10=\"\",B10=\"\",C10=\"\",D10=\"\"),1,IF(OR(O10=\"\",N10=\"\"),2,IF(ISERROR(MATCH(Q10,Input!M$5:M$24,0)),2,1)))","v":1},{"$f":"IF(M10<>\"\", M10, H10)","v":""},0]
[null,null,null,null,null,null,0,"",null,"",null,"",null,null,null,null,"\\",{"$f":"IF(AND(A11=\"\",B11=\"\",C11=\"\",D11=\"\"),1,IF(OR(O11=\"\",N11=\"\"),2,IF(ISERROR(MATCH(Q11,Input!M$5:M$24,0)),2,1)))","v":1},"",0]
[null,null,null,null,null,null,0,"",null,"",null,"",null,null,null,null,"\\",{"$f":"IF(AND(A12=\"\",B12=\"\",C12=\"\",D12=\"\"),1,IF(OR(O12=\"\",N12=\"\"),2,IF(ISERROR(MATCH(Q12,Input!M$5:M$24,0)),2,1)))","v":1},"",0]
[null,null,null,null,null,null,0,"",null,"",null,"",null,null,null,null,"\\",{"$f":"IF(AND(A13=\"\",B13=\"\",C13=\"\",D13=\"\"),1,IF(OR(O13=\"\",N13=\"\"),2,IF(ISERROR(MATCH(Q13,Input!M$5:M$24,0)),2,1)))","v":1},"",0]
[null,null,null,null,null,null,0,"",null,"",null,"",null,null,null,null,"\\",{"$f":"IF(AND(A14=\"\",B14=\"\",C14=\"\",D14=\"\"),1,IF(OR(O14=\"\",N14=\"\"),2,IF(ISERROR(MATCH(Q14,Input!M$5:M$24,0)),2,1)))","v":1},"",0]
[null,null,null,null,null,null,0,"",null,"",null,"",null,null,null,null,"\\",{"$f":"IF(AND(A15=\"\",B15=\"\",C15=\"\",D15=\"\"),1,IF(OR(O15=\"\",N15=\"\"),2,IF(ISERROR(MATCH(Q15,Input!M$5:M$24,0)),2,1)))","v":1},"",0]
[null,null,null,null,null,null,0,"",null,"",null,"",null,null,null,null,"\\",{"$f":"IF(AND(A16=\"\",B16=\"\",C16=\"\",D16=\"\"),1,IF(OR(O16=\"\",N16=\"\"),2,IF(ISERROR(MATCH(Q16,Input!M$5:M$24,0)),2,1)))","v":1},"",0]
[null,null,null,null,null,null,0,"",null,"",null,"",null,null,null,null,"\\",{"$f":"IF(AND(A17=\"\",B17=\"\",C17=\"\",D17=\"\"),1,IF(OR(O17=\"\",N17=\"\"),2,IF(ISERROR(MATCH(Q17,Input!M$5:M$24,0)),2,1)))","v":1},"",0]
[]
["TANK SHEET"]
["Bid Item (In Order of Placement)",null,"Today's Placement",null,null,"Bid Item Plan Quantity","Plan Thickness (in)","Contract Mix Price","Contract Binder Price","Project Number",null,null,null,"Mix Pay Units","Mix Delivered to Road\n(Ton or SY)","Waste On Road (Ton)\nNO waste for SY Items","Tons Placed - Waste",null,null,"This adds up column S as it depends if the Est SY is filled out or the SY",null,"Use this Column for SY for the Q column","Uses this Value for Mix on Road"]
[null,null,null,null,null,{"$f":"IF($J21=\"\",\"\",INDEX(Input!$A$5:$H$24,MATCH($A21&$J21,Input!$A$5:$A$24&Input!$G$5:$G$24,0),2))","v":""},{"$f":"IF($J21=\"\",\"\",INDEX(Input!$A$5:$H$24,MATCH($A21&$J21,Input!$A$5:$A$24&Input!$G$5:$G$24,0),3))","v":""},{"$f":"IF($J21=\"\",\"\",INDEX(Input!$A$5:$H$24,MATCH($A21&$J21,Input!$A$5:$A$24&Input!$G$5:$G$24,0),4))","v":""},{"$f":"IF($J21=\"\",\"\",INDEX(Input!$A$5:$H$24,MATCH($A21&$J21,Input!$A$5:$A$24&Input!$G$5:$G$24,0),5))","v":""},null,null,null,null,{"$f":"IF($A21=\"\",\"\",OFFSET(Input!F$4,MATCH($A21,Input!$A$5:$A$24,0),0))","v":""},{"$f":"IF(N21=\"SY\", T21, IF(N21=\"Tons\", W21, \"\"))","v":""},null,{"$f":"IF(N21=\"SY\", V21, IF(N21=\"Tons\", O21-P21, \"\"))","v":""},{"$f":"SUBSTITUTE(A21 & \"\\\" & J21,\"\"\"\",\"\")","v":"\\"},{"$f":"IF(A21=\"\",1,IF(ISERROR(MATCH(R21,Input!L$5:L$24,0)),2,1))","v":1},{"$f":"IF(A21=\"\", \"\", SUMIF($Q$8:$Q$17, \"*\" & LEFT(A21, 11) & \"*\", $S$8:$S$17))","v":""},null,{"$f":"IF(A21=\"\", \"\", SUMIF($Q$8:$Q$17, \"*\" & LEFT(A21, 11) & \"*\", $T$8:$T$17))","v":""},{"$f":"IF(N21=\"SY\", T21, IF(N21=\"Tons\", V21+P21, \"\"))","v":""}]
[null,null,null,null,null,{"$f":"IF($J22=\"\",\"\",INDEX(Input!$A$5:$H$24,MATCH($A22&$J22,Input!$A$5:$A$24&Input!$G$5:$G$24,0),2))","v":""},{"$f":"IF($J22=\"\",\"\",INDEX(Input!$A$5:$H$24,MATCH($A22&$J22,Input!$A$5:$A$24&Input!$G$5:$G$24,0),3))","v":""},{"$f":"IF($J22=\"\",\"\",INDEX(Input!$A$5:$H$24,MATCH($A22&$J22,Input!$A$5:$A$24&Input!$G$5:$G$24,0),4))","v":""},{"$f":"IF($J22=\"\",\"\",INDEX(Input!$A$5:$H$24,MATCH($A22&$J22,Input!$A$5:$A$24&Input!$G$5:$G$24,0),5))","v":""},null,null,null,null,{"$f":"IF($A22=\"\",\"\",OFFSET(Input!F$4,MATCH($A22,Input!$A$5:$A$24,0),0))","v":""},{"$f":"IF(N22=\"SY\", T22, IF(N22=\"Tons\", W22, \"\"))","v":""},null,{"$f":"IF(N22=\"SY\", V22, IF(N22=\"Tons\", O22-P22, \"\"))","v":""},{"$f":"SUBSTITUTE(A22 & \"\\\" & J22,\"\"\"\",\"\")","v":"\\"},{"$f":"IF(A22=\"\",1,IF(ISERROR(MATCH(R22,Input!L$5:L$24,0)),2,1))","v":1},{"$f":"IF(A22=\"\", \"\", SUMIF($Q$8:$Q$17, \"*\" & LEFT(A22, 11) & \"*\", $S$8:$S$17))","v":""},null,{"$f":"IF(A22=\"\", \"\", SUMIF($Q$8:$Q$17, \"*\" & LEFT(A22, 11) & \"*\", $T$8:$T$17))","v":""},{"$f":"IF(N22=\"SY\", T22, IF(N22=\"Tons\", V22+P22, \"\"))","v":""}]
[null,null,null,null,null,{"$f":"IF($J23=\"\",\"\",INDEX(Input!$A$5:$H$24,MATCH($A23&$J23,Input!$A$5:$A$24&Input!$G$5:$G$24,0),2))","v":""},{"$f":"IF($J23=\"\",\"\",INDEX(Input!$A$5:$H$24,MATCH($A23&$J23,Input!$A$5:$A$24&Input!$G$5:$G$24,0),3))","v":""},{"$f":"IF($J23=\"\",\"\",INDEX(Input!$A$5:$H$24,MATCH($A23&$J23,Input!$A$5:$A$24&Input!$G$5:$G$24,0),4))","v":""},{"$f":"IF($J23=\"\",\"\",INDEX(Input!$A$5:$H$24,MATCH($A23&$J23,Input!$A$5:$A$24&Input!$G$5:$G$24,0),5))","v":""},null,null,null,null,{"$f":"IF($A23=\"\",\"\",OFFSET(Input!F$4,MATCH($A23,Input!$A$5:$A$24,0),0))","v":""},{"$f":"IF(N23=\"SY\", T23, IF(N23=\"Tons\", W23, \"\"))","v":""},null,{"$f":"IF(N23=\"SY\", V23, IF(N23=\"Tons\", O23-P23, \"\"))","v":""},"\\",{"$f":"IF(A23=\"\",1,IF(ISERROR(MATCH(R23,Input!L$5:L$24,0)),2,1))","v":1},{"$f":"IF(A23=\"\", \"\", SUMIF($Q$8:$Q$17, \"*\" & LEFT(A23, 11) & \"*\", $S$8:$S$17))","v":""},null,{"$f":"IF(A23=\"\", \"\", SUMIF($Q$8:$Q$17, \"*\" & LEFT(A23, 11) & \"*\", $T$8:$T$17))","v":""},{"$f":"IF(N23=\"SY\", T23, IF(N23=\"Tons\", V23+P23, \"\"))","v":""}]
[null,null,null,null,null,{"$f":"IF($J24=\"\",\"\",INDEX(Input!$A$5:$H$24,MATCH($A24&$J24,Input!$A$5:$A$24&Input!$G$5:$G$24,0),2))","v":""},{"$f":"IF($J24=\"\",\"\",INDEX(Input!$A$5:$H$24,MATCH($A24&$J24,Input!$A$5:$A$24&Input!$G$5:$G$24,0),3))","v":""},{"$f":"IF($J24=\"\",\"\",INDEX(Input!$A$5:$H$24,MATCH($A24&$J24,Input!$A$5:$A$24&Input!$G$5:$G$24,0),4))","v":""},{"$f":"IF($J24=\"\",\"\",INDEX(Input!$A$5:$H$24,MATCH($A24&$J24,Input!$A$5:$A$24&Input!$G$5:$G$24,0),5))","v":""},null,null,null,null,{"$f":"IF($A24=\"\",\"\",OFFSET(Input!F$4,MATCH($A24,Input!$A$5:$A$24,0),0))","v":""},"",null,{"$f":"IF(N24=\"SY\", V24, IF(N24=\"Tons\", O24-P24, \"\"))","v":""},"\\",{"$f":"IF(A24=\"\",1,IF(ISERROR(MATCH(R24,Input!L$5:L$24,0)),2,1))","v":1},"",null,{"$f":"IF(A24=\"\", \"\", SUMIF($Q$8:$Q$17, \"*\" & LEFT(A24, 11) & \"*\", $T$8:$T$17))","v":""},{"$f":"IF(N24=\"SY\", T24, IF(N24=\"Tons\", V24+P24, \"\"))","v":""}]
[null,null,null,null,null,{"$f":"IF($J25=\"\",\"\",INDEX(Input!$A$5:$H$24,MATCH($A25&$J25,Input!$A$5:$A$24&Input!$G$5:$G$24,0),2))","v":""},{"$f":"IF($J25=\"\",\"\",INDEX(Input!$A$5:$H$24,MATCH($A25&$J25,Input!$A$5:$A$24&Input!$G$5:$G$24,0),3))","v":""},{"$f":"IF($J25=\"\",\"\",INDEX(Input!$A$5:$H$24,MATCH($A25&$J25,Input!$A$5:$A$24&Input!$G$5:$G$24,0),4))","v":""},{"$f":"IF($J25=\"\",\"\",INDEX(Input!$A$5:$H$24,MATCH($A25&$J25,Input!$A$5:$A$24&Input!$G$5:$G$24,0),5))","v":""},null,null,null,null,{"$f":"IF($A25=\"\",\"\",OFFSET(Input!F$4,MATCH($A25,Input!$A$5:$A$24,0),0))","v":""},"",null,"","\\",{"$f":"IF(A25=\"\",1,IF(ISERROR(MATCH(R25,Input!L$5:L$24,0)),2,1))","v":1},"",null,"",""]
[null,null,null,null,null,null,null,null,null,null,null,null,null,null,null,null,null,null,null,null,null,"",{"$f":"IF(N26=\"SY\", T26, IF(N26=\"Tons\", V26+P26, \"\"))","v":""},{"$f":"IF(A26=\"\", \"\", SUMIF($Q$8:$Q$17, \"*\" & LEFT(A26, 11) & \"*\", $S$8:$S$17))","v":""},{"$f":"IF(N26=\"SY\",X26,\"\")","v":""},{"$f":"IF(A26=\"\", \"\", SUMIF($Q$8:$Q$17, \"*\" & LEFT(A26, 11) & \"*\", $T$8:$T$17))","v":""}]
["Hot Box Sample",null,null,null,null,null,null,null,null,null,"Mat Temperatures °F"]
[null,"Test A","Test B","Test C","Test D","Test E",null,null,null,null,"Time","Temp"]
[" Hot Box ID Number  ",null,null,null,null,null,null,null,null,null,"7:00"]
["Hot Box Sample Tons: ",null,null,null,null,null,null,null,null,null,"9:00",null,null,null,"Intended Thickness:"]
[" Time: ",null,null,null,null,null,null,null,null,null,"11:00",null,null,null,"Cores Waived?"]
[" Station/MP: ",null,null,null,null,null,null,null,null,null,"1:00",null,null,null,"Small Quantity Statement?"]
["Bar Code ID.:",null,null,null,null,null,null,null,null,null,"3:00",null,null,null,"Scale Check Done?"]
["Compaction Temp. °F: ",null,null,null,null,null,null,null,null,null,"5:00",null,null,null,"Tack Tickets Today?"]
[null,null,null,null,null,null,null,null,null,null,"7:00"]
["The Below Comments should show up on the plant report"]
["Comments:"]
[]
[]
["The Below Notes are for the CPI from the field or Plant Monitor"]
["Notes:"]
[]
[]
["RANDOM CORE LOCATIONS"]
[null,null,null,null,null,null,null,"Core #","Station","Offset,ft","Joint Station","Lane"]
[null,null,null,null,null,null,null,1]
[null,null,null,null,null,null,null,2]
[null,null,null,null,null,null,null,3]
[null,null,null,null,null,null,null,4]
[null,null,null,null,null,null,null,5]
[null,null,null,null,null,null,null,6]
[null,null,null,null,null,null,null,7]
[null,null,null,null,null,null,null,8]
[]
[null,null,null,null,null,null,null,null,null,null,"Joint Sublot Size, ft"]
[null,null,null,null,null,null,null,null,null,null,0]
[]
[]
[]
[]
[]
[]
[]
[]
[]
[]
[]
[]
[]
[]
[]
[]
[]
[]
[]
[]
[]
[]
[]
[]
[]
[]
[]
[]
[]
[]
[]
[]
[]
[]
[]
[]
[]
[]
[]
[]
[false]

{"sheet":"65","index":80,"n_rows":97,"n_cols":26,"rows_kept":97,"cut":false,"hidden":false,"merged":[[50,11,50,13],[51,11,51,13],[52,11,52,13],[44,11,44,13],[45,11,45,13],[46,11,46,13],[47,11,47,13],[48,11,48,13],[49,11,49,13],[43,0,43,16],[25,0,25,1],[26,0,26,5],[26,20,26,23],[26,25,26,27],[34,2,34,4],[35,0,35,5],[36,1,36,14],[37,0,37,14],[39,0,39,5],[40,1,40,14],[41,0,41,14],[23,0,23,1],[23,2,23,4],[23,9,23,12],[24,0,24,1],[24,2,24,4],[24,9,24,12],[21,0,21,1],[21,2,21,4],[21,9,21,12],[22,0,22,1],[22,2,22,4],[22,9,22,12],[19,0,19,1],[19,2,19,4],[19,9,19,12],[20,0,20,1],[20,2,20,4],[20,9,20,12],[18,0,18,16],[6,14,6,15],[7,14,7,15],[8,14,8,15],[9,14,9,15],[10,14,10,15],[11,14,11,15],[12,14,12,15],[13,14,13,15],[14,14,14,15],[15,14,15,15],[16,14,16,15],[1,0,1,16],[4,0,4,15],[5,4,5,5],[5,8,5,9],[5,11,5,12],[5,13,5,15]]}
[]
["Iowa DOT HMA Field Report"]
["Date :"]
["Item No.('s)"]
["PLACEMENT RECORD",null,null,null,null,null,null,null,null,null,null,null,null,null,null,null,null,null,null,null,null,{"$f":"SUBSTITUTE(A21 & \"\\\" & J21,\"\"\"\",\"\")","v":"\\"}]
[null,null,null,null,"Additional width to DEDUCT from Field Voids",null,null,null,"Placed Density (Pounds/CF)=",null,150,"Overwritten on the \"Summary\" Tab",null,"ONLY ONE (1) MIX DESIGN PER DFR OTHERWISE IT WILL NOT IMPORT INTO THE PLANT REPORT PROPERLY",null,null,null,null,null,null,null,{"$f":"SUBSTITUTE(A22 & \"\\\" & J22,\"\"\"\",\"\")","v":"\\"}]
["From Station"," To Station","Lane","ML or Widening Placement Width","Additional Width (ft) ","Thickness (in)","Total Length Placed (FT)","\"Pay\"  Est \"SY\"","Thickness (inches)","Calculated Field Voids Tons","Placed Tons            (Not including Waste)","% Yield","SY to be PAID (If Diff. than Est SY)","Mix Design No.","Bid Item/ Project No.",null,null,null,"This uses the correct SY #, if Green is blank uses Est. SY","Adds up the Tons",null,"\\"]
[null,null,null,null,null,null,{"$f":"IF(OR(A8=\"\",B8=\"\"),0,IF($A$97=TRUE,ABS(B8-A8)*5280,ABS(VALUE(SUBSTITUTE(A8,\"+\",\"\"))-VALUE(SUBSTITUTE(B8,\"+\",\"\")))))","v":0},{"$f":"IF(D8=\"\",\"\",G8*(D8+E8)/9)","v":""},null,{"$f":"IF(I8=\"\",\"\",(G8)*(D8+E8)*I8/12*$K$6/2000)","v":""},null,{"$f":"IF(K8=\"\",\"\",K8/J8*100)","v":""},null,null,null,null,{"$f":"O8 & \"\\\" & N8","v":"\\"},{"$f":"IF(AND(A8=\"\",B8=\"\",C8=\"\",D8=\"\"),1,IF(OR(O8=\"\",N8=\"\"),2,IF(ISERROR(MATCH(Q8,Input!M$5:M$24,0)),2,1)))","v":1},{"$f":"IF(M8<>\"\", M8, H8)","v":""},{"$f":"K8","v":0},null,"\\"]
[null,null,null,null,null,null,{"$f":"IF(OR(A9=\"\",B9=\"\"),0,IF($A$97=TRUE,ABS(B9-A9)*5280,ABS(VALUE(SUBSTITUTE(A9,\"+\",\"\"))-VALUE(SUBSTITUTE(B9,\"+\",\"\")))))","v":0},{"$f":"IF(D9=\"\",\"\",G9*(D9+E9)/9)","v":""},null,"",null,{"$f":"IF(K9=\"\",\"\",K9/J9*100)","v":""},null,null,null,null,{"$f":"O9 & \"\\\" & N9","v":"\\"},{"$f":"IF(AND(A9=\"\",B9=\"\",C9=\"\",D9=\"\"),1,IF(OR(O9=\"\",N9=\"\"),2,IF(ISERROR(MATCH(Q9,Input!M$5:M$24,0)),2,1)))","v":1},{"$f":"IF(M9<>\"\", M9, H9)","v":""},{"$f":"K9","v":0},null,"\\"]
[null,null,null,null,null,null,0,"",null,"",null,"",null,null,null,null,"\\",{"$f":"IF(AND(A10=\"\",B10=\"\",C10=\"\",D10=\"\"),1,IF(OR(O10=\"\",N10=\"\"),2,IF(ISERROR(MATCH(Q10,Input!M$5:M$24,0)),2,1)))","v":1},{"$f":"IF(M10<>\"\", M10, H10)","v":""},0]
[null,null,null,null,null,null,0,"",null,"",null,"",null,null,null,null,"\\",{"$f":"IF(AND(A11=\"\",B11=\"\",C11=\"\",D11=\"\"),1,IF(OR(O11=\"\",N11=\"\"),2,IF(ISERROR(MATCH(Q11,Input!M$5:M$24,0)),2,1)))","v":1},"",0]
[null,null,null,null,null,null,0,"",null,"",null,"",null,null,null,null,"\\",{"$f":"IF(AND(A12=\"\",B12=\"\",C12=\"\",D12=\"\"),1,IF(OR(O12=\"\",N12=\"\"),2,IF(ISERROR(MATCH(Q12,Input!M$5:M$24,0)),2,1)))","v":1},"",0]
[null,null,null,null,null,null,0,"",null,"",null,"",null,null,null,null,"\\",{"$f":"IF(AND(A13=\"\",B13=\"\",C13=\"\",D13=\"\"),1,IF(OR(O13=\"\",N13=\"\"),2,IF(ISERROR(MATCH(Q13,Input!M$5:M$24,0)),2,1)))","v":1},"",0]
[null,null,null,null,null,null,0,"",null,"",null,"",null,null,null,null,"\\",{"$f":"IF(AND(A14=\"\",B14=\"\",C14=\"\",D14=\"\"),1,IF(OR(O14=\"\",N14=\"\"),2,IF(ISERROR(MATCH(Q14,Input!M$5:M$24,0)),2,1)))","v":1},"",0]
[null,null,null,null,null,null,0,"",null,"",null,"",null,null,null,null,"\\",{"$f":"IF(AND(A15=\"\",B15=\"\",C15=\"\",D15=\"\"),1,IF(OR(O15=\"\",N15=\"\"),2,IF(ISERROR(MATCH(Q15,Input!M$5:M$24,0)),2,1)))","v":1},"",0]
[null,null,null,null,null,null,0,"",null,"",null,"",null,null,null,null,"\\",{"$f":"IF(AND(A16=\"\",B16=\"\",C16=\"\",D16=\"\"),1,IF(OR(O16=\"\",N16=\"\"),2,IF(ISERROR(MATCH(Q16,Input!M$5:M$24,0)),2,1)))","v":1},"",0]
[null,null,null,null,null,null,0,"",null,"",null,"",null,null,null,null,"\\",{"$f":"IF(AND(A17=\"\",B17=\"\",C17=\"\",D17=\"\"),1,IF(OR(O17=\"\",N17=\"\"),2,IF(ISERROR(MATCH(Q17,Input!M$5:M$24,0)),2,1)))","v":1},"",0]
[]
["TANK SHEET"]
["Bid Item (In Order of Placement)",null,"Today's Placement",null,null,"Bid Item Plan Quantity","Plan Thickness (in)","Contract Mix Price","Contract Binder Price","Project Number",null,null,null,"Mix Pay Units","Mix Delivered to Road\n(Ton or SY)","Waste On Road (Ton)\nNO waste for SY Items","Tons Placed - Waste",null,null,"This adds up column S as it depends if the Est SY is filled out or the SY",null,"Use this Column for SY for the Q column","Uses this Value for Mix on Road"]
[null,null,null,null,null,{"$f":"IF($J21=\"\",\"\",INDEX(Input!$A$5:$H$24,MATCH($A21&$J21,Input!$A$5:$A$24&Input!$G$5:$G$24,0),2))","v":""},{"$f":"IF($J21=\"\",\"\",INDEX(Input!$A$5:$H$24,MATCH($A21&$J21,Input!$A$5:$A$24&Input!$G$5:$G$24,0),3))","v":""},{"$f":"IF($J21=\"\",\"\",INDEX(Input!$A$5:$H$24,MATCH($A21&$J21,Input!$A$5:$A$24&Input!$G$5:$G$24,0),4))","v":""},{"$f":"IF($J21=\"\",\"\",INDEX(Input!$A$5:$H$24,MATCH($A21&$J21,Input!$A$5:$A$24&Input!$G$5:$G$24,0),5))","v":""},null,null,null,null,{"$f":"IF($A21=\"\",\"\",OFFSET(Input!F$4,MATCH($A21,Input!$A$5:$A$24,0),0))","v":""},{"$f":"IF(N21=\"SY\", T21, IF(N21=\"Tons\", W21, \"\"))","v":""},null,{"$f":"IF(N21=\"SY\", V21, IF(N21=\"Tons\", O21-P21, \"\"))","v":""},{"$f":"SUBSTITUTE(A21 & \"\\\" & J21,\"\"\"\",\"\")","v":"\\"},{"$f":"IF(A21=\"\",1,IF(ISERROR(MATCH(R21,Input!L$5:L$24,0)),2,1))","v":1},{"$f":"IF(A21=\"\", \"\", SUMIF($Q$8:$Q$17, \"*\" & LEFT(A21, 11) & \"*\", $S$8:$S$17))","v":""},null,{"$f":"IF(A21=\"\", \"\", SUMIF($Q$8:$Q$17, \"*\" & LEFT(A21, 11) & \"*\", $T$8:$T$17))","v":""},{"$f":"IF(N21=\"SY\", T21, IF(N21=\"Tons\", V21+P21, \"\"))","v":""}]
[null,null,null,null,null,{"$f":"IF($J22=\"\",\"\",INDEX(Input!$A$5:$H$24,MATCH($A22&$J22,Input!$A$5:$A$24&Input!$G$5:$G$24,0),2))","v":""},{"$f":"IF($J22=\"\",\"\",INDEX(Input!$A$5:$H$24,MATCH($A22&$J22,Input!$A$5:$A$24&Input!$G$5:$G$24,0),3))","v":""},{"$f":"IF($J22=\"\",\"\",INDEX(Input!$A$5:$H$24,MATCH($A22&$J22,Input!$A$5:$A$24&Input!$G$5:$G$24,0),4))","v":""},{"$f":"IF($J22=\"\",\"\",INDEX(Input!$A$5:$H$24,MATCH($A22&$J22,Input!$A$5:$A$24&Input!$G$5:$G$24,0),5))","v":""},null,null,null,null,{"$f":"IF($A22=\"\",\"\",OFFSET(Input!F$4,MATCH($A22,Input!$A$5:$A$24,0),0))","v":""},{"$f":"IF(N22=\"SY\", T22, IF(N22=\"Tons\", W22, \"\"))","v":""},null,{"$f":"IF(N22=\"SY\", V22, IF(N22=\"Tons\", O22-P22, \"\"))","v":""},{"$f":"SUBSTITUTE(A22 & \"\\\" & J22,\"\"\"\",\"\")","v":"\\"},{"$f":"IF(A22=\"\",1,IF(ISERROR(MATCH(R22,Input!L$5:L$24,0)),2,1))","v":1},{"$f":"IF(A22=\"\", \"\", SUMIF($Q$8:$Q$17, \"*\" & LEFT(A22, 11) & \"*\", $S$8:$S$17))","v":""},null,{"$f":"IF(A22=\"\", \"\", SUMIF($Q$8:$Q$17, \"*\" & LEFT(A22, 11) & \"*\", $T$8:$T$17))","v":""},{"$f":"IF(N22=\"SY\", T22, IF(N22=\"Tons\", V22+P22, \"\"))","v":""}]
[null,null,null,null,null,{"$f":"IF($J23=\"\",\"\",INDEX(Input!$A$5:$H$24,MATCH($A23&$J23,Input!$A$5:$A$24&Input!$G$5:$G$24,0),2))","v":""},{"$f":"IF($J23=\"\",\"\",INDEX(Input!$A$5:$H$24,MATCH($A23&$J23,Input!$A$5:$A$24&Input!$G$5:$G$24,0),3))","v":""},{"$f":"IF($J23=\"\",\"\",INDEX(Input!$A$5:$H$24,MATCH($A23&$J23,Input!$A$5:$A$24&Input!$G$5:$G$24,0),4))","v":""},{"$f":"IF($J23=\"\",\"\",INDEX(Input!$A$5:$H$24,MATCH($A23&$J23,Input!$A$5:$A$24&Input!$G$5:$G$24,0),5))","v":""},null,null,null,null,{"$f":"IF($A23=\"\",\"\",OFFSET(Input!F$4,MATCH($A23,Input!$A$5:$A$24,0),0))","v":""},{"$f":"IF(N23=\"SY\", T23, IF(N23=\"Tons\", W23, \"\"))","v":""},null,{"$f":"IF(N23=\"SY\", V23, IF(N23=\"Tons\", O23-P23, \"\"))","v":""},"\\",{"$f":"IF(A23=\"\",1,IF(ISERROR(MATCH(R23,Input!L$5:L$24,0)),2,1))","v":1},{"$f":"IF(A23=\"\", \"\", SUMIF($Q$8:$Q$17, \"*\" & LEFT(A23, 11) & \"*\", $S$8:$S$17))","v":""},null,{"$f":"IF(A23=\"\", \"\", SUMIF($Q$8:$Q$17, \"*\" & LEFT(A23, 11) & \"*\", $T$8:$T$17))","v":""},{"$f":"IF(N23=\"SY\", T23, IF(N23=\"Tons\", V23+P23, \"\"))","v":""}]
[null,null,null,null,null,{"$f":"IF($J24=\"\",\"\",INDEX(Input!$A$5:$H$24,MATCH($A24&$J24,Input!$A$5:$A$24&Input!$G$5:$G$24,0),2))","v":""},{"$f":"IF($J24=\"\",\"\",INDEX(Input!$A$5:$H$24,MATCH($A24&$J24,Input!$A$5:$A$24&Input!$G$5:$G$24,0),3))","v":""},{"$f":"IF($J24=\"\",\"\",INDEX(Input!$A$5:$H$24,MATCH($A24&$J24,Input!$A$5:$A$24&Input!$G$5:$G$24,0),4))","v":""},{"$f":"IF($J24=\"\",\"\",INDEX(Input!$A$5:$H$24,MATCH($A24&$J24,Input!$A$5:$A$24&Input!$G$5:$G$24,0),5))","v":""},null,null,null,null,{"$f":"IF($A24=\"\",\"\",OFFSET(Input!F$4,MATCH($A24,Input!$A$5:$A$24,0),0))","v":""},"",null,{"$f":"IF(N24=\"SY\", V24, IF(N24=\"Tons\", O24-P24, \"\"))","v":""},"\\",{"$f":"IF(A24=\"\",1,IF(ISERROR(MATCH(R24,Input!L$5:L$24,0)),2,1))","v":1},"",null,{"$f":"IF(A24=\"\", \"\", SUMIF($Q$8:$Q$17, \"*\" & LEFT(A24, 11) & \"*\", $T$8:$T$17))","v":""},{"$f":"IF(N24=\"SY\", T24, IF(N24=\"Tons\", V24+P24, \"\"))","v":""}]
[null,null,null,null,null,{"$f":"IF($J25=\"\",\"\",INDEX(Input!$A$5:$H$24,MATCH($A25&$J25,Input!$A$5:$A$24&Input!$G$5:$G$24,0),2))","v":""},{"$f":"IF($J25=\"\",\"\",INDEX(Input!$A$5:$H$24,MATCH($A25&$J25,Input!$A$5:$A$24&Input!$G$5:$G$24,0),3))","v":""},{"$f":"IF($J25=\"\",\"\",INDEX(Input!$A$5:$H$24,MATCH($A25&$J25,Input!$A$5:$A$24&Input!$G$5:$G$24,0),4))","v":""},{"$f":"IF($J25=\"\",\"\",INDEX(Input!$A$5:$H$24,MATCH($A25&$J25,Input!$A$5:$A$24&Input!$G$5:$G$24,0),5))","v":""},null,null,null,null,{"$f":"IF($A25=\"\",\"\",OFFSET(Input!F$4,MATCH($A25,Input!$A$5:$A$24,0),0))","v":""},"",null,"","\\",{"$f":"IF(A25=\"\",1,IF(ISERROR(MATCH(R25,Input!L$5:L$24,0)),2,1))","v":1},"",null,"",""]
[null,null,null,null,null,null,null,null,null,null,null,null,null,null,null,null,null,null,null,null,null,"",{"$f":"IF(N26=\"SY\", T26, IF(N26=\"Tons\", V26+P26, \"\"))","v":""},{"$f":"IF(A26=\"\", \"\", SUMIF($Q$8:$Q$17, \"*\" & LEFT(A26, 11) & \"*\", $S$8:$S$17))","v":""},{"$f":"IF(N26=\"SY\",X26,\"\")","v":""},{"$f":"IF(A26=\"\", \"\", SUMIF($Q$8:$Q$17, \"*\" & LEFT(A26, 11) & \"*\", $T$8:$T$17))","v":""}]
["Hot Box Sample",null,null,null,null,null,null,null,null,null,"Mat Temperatures °F"]
[null,"Test A","Test B","Test C","Test D","Test E",null,null,null,null,"Time","Temp"]
[" Hot Box ID Number  ",null,null,null,null,null,null,null,null,null,"7:00"]
["Hot Box Sample Tons: ",null,null,null,null,null,null,null,null,null,"9:00",null,null,null,"Intended Thickness:"]
[" Time: ",null,null,null,null,null,null,null,null,null,"11:00",null,null,null,"Cores Waived?"]
[" Station/MP: ",null,null,null,null,null,null,null,null,null,"1:00",null,null,null,"Small Quantity Statement?"]
["Bar Code ID.:",null,null,null,null,null,null,null,null,null,"3:00",null,null,null,"Scale Check Done?"]
["Compaction Temp. °F: ",null,null,null,null,null,null,null,null,null,"5:00",null,null,null,"Tack Tickets Today?"]
[null,null,null,null,null,null,null,null,null,null,"7:00"]
["The Below Comments should show up on the plant report"]
["Comments:"]
[]
[]
["The Below Notes are for the CPI from the field or Plant Monitor"]
["Notes:"]
[]
[]
["RANDOM CORE LOCATIONS"]
[null,null,null,null,null,null,null,"Core #","Station","Offset,ft","Joint Station","Lane"]
[null,null,null,null,null,null,null,1]
[null,null,null,null,null,null,null,2]
[null,null,null,null,null,null,null,3]
[null,null,null,null,null,null,null,4]
[null,null,null,null,null,null,null,5]
[null,null,null,null,null,null,null,6]
[null,null,null,null,null,null,null,7]
[null,null,null,null,null,null,null,8]
[]
[null,null,null,null,null,null,null,null,null,null,"Joint Sublot Size, ft"]
[null,null,null,null,null,null,null,null,null,null,0]
[]
[]
[]
[]
[]
[]
[]
[]
[]
[]
[]
[]
[]
[]
[]
[]
[]
[]
[]
[]
[]
[]
[]
[]
[]
[]
[]
[]
[]
[]
[]
[]
[]
[]
[]
[]
[]
[]
[]
[]
[false]

{"sheet":"66","index":81,"n_rows":97,"n_cols":26,"rows_kept":97,"cut":false,"hidden":false,"merged":[[50,11,50,13],[51,11,51,13],[52,11,52,13],[44,11,44,13],[45,11,45,13],[46,11,46,13],[47,11,47,13],[48,11,48,13],[49,11,49,13],[43,0,43,16],[25,0,25,1],[26,0,26,5],[26,20,26,23],[26,25,26,27],[34,2,34,4],[35,0,35,5],[36,1,36,14],[37,0,37,14],[39,0,39,5],[40,1,40,14],[41,0,41,14],[23,0,23,1],[23,2,23,4],[23,9,23,12],[24,0,24,1],[24,2,24,4],[24,9,24,12],[21,0,21,1],[21,2,21,4],[21,9,21,12],[22,0,22,1],[22,2,22,4],[22,9,22,12],[19,0,19,1],[19,2,19,4],[19,9,19,12],[20,0,20,1],[20,2,20,4],[20,9,20,12],[18,0,18,16],[6,14,6,15],[7,14,7,15],[8,14,8,15],[9,14,9,15],[10,14,10,15],[11,14,11,15],[12,14,12,15],[13,14,13,15],[14,14,14,15],[15,14,15,15],[16,14,16,15],[1,0,1,16],[4,0,4,15],[5,4,5,5],[5,8,5,9],[5,11,5,12],[5,13,5,15]]}
[]
["Iowa DOT HMA Field Report"]
["Date :"]
["Item No.('s)"]
["PLACEMENT RECORD",null,null,null,null,null,null,null,null,null,null,null,null,null,null,null,null,null,null,null,null,{"$f":"SUBSTITUTE(A21 & \"\\\" & J21,\"\"\"\",\"\")","v":"\\"}]
[null,null,null,null,"Additional width to DEDUCT from Field Voids",null,null,null,"Placed Density (Pounds/CF)=",null,150,"Overwritten on the \"Summary\" Tab",null,"ONLY ONE (1) MIX DESIGN PER DFR OTHERWISE IT WILL NOT IMPORT INTO THE PLANT REPORT PROPERLY",null,null,null,null,null,null,null,{"$f":"SUBSTITUTE(A22 & \"\\\" & J22,\"\"\"\",\"\")","v":"\\"}]
["From Station"," To Station","Lane","ML or Widening Placement Width","Additional Width (ft) ","Thickness (in)","Total Length Placed (FT)","\"Pay\"  Est \"SY\"","Thickness (inches)","Calculated Field Voids Tons","Placed Tons            (Not including Waste)","% Yield","SY to be PAID (If Diff. than Est SY)","Mix Design No.","Bid Item/ Project No.",null,null,null,"This uses the correct SY #, if Green is blank uses Est. SY","Adds up the Tons",null,"\\"]
[null,null,null,null,null,null,{"$f":"IF(OR(A8=\"\",B8=\"\"),0,IF($A$97=TRUE,ABS(B8-A8)*5280,ABS(VALUE(SUBSTITUTE(A8,\"+\",\"\"))-VALUE(SUBSTITUTE(B8,\"+\",\"\")))))","v":0},{"$f":"IF(D8=\"\",\"\",G8*(D8+E8)/9)","v":""},null,{"$f":"IF(I8=\"\",\"\",(G8)*(D8+E8)*I8/12*$K$6/2000)","v":""},null,{"$f":"IF(K8=\"\",\"\",K8/J8*100)","v":""},null,null,null,null,{"$f":"O8 & \"\\\" & N8","v":"\\"},{"$f":"IF(AND(A8=\"\",B8=\"\",C8=\"\",D8=\"\"),1,IF(OR(O8=\"\",N8=\"\"),2,IF(ISERROR(MATCH(Q8,Input!M$5:M$24,0)),2,1)))","v":1},{"$f":"IF(M8<>\"\", M8, H8)","v":""},{"$f":"K8","v":0},null,"\\"]
[null,null,null,null,null,null,{"$f":"IF(OR(A9=\"\",B9=\"\"),0,IF($A$97=TRUE,ABS(B9-A9)*5280,ABS(VALUE(SUBSTITUTE(A9,\"+\",\"\"))-VALUE(SUBSTITUTE(B9,\"+\",\"\")))))","v":0},{"$f":"IF(D9=\"\",\"\",G9*(D9+E9)/9)","v":""},null,"",null,{"$f":"IF(K9=\"\",\"\",K9/J9*100)","v":""},null,null,null,null,{"$f":"O9 & \"\\\" & N9","v":"\\"},{"$f":"IF(AND(A9=\"\",B9=\"\",C9=\"\",D9=\"\"),1,IF(OR(O9=\"\",N9=\"\"),2,IF(ISERROR(MATCH(Q9,Input!M$5:M$24,0)),2,1)))","v":1},{"$f":"IF(M9<>\"\", M9, H9)","v":""},{"$f":"K9","v":0},null,"\\"]
[null,null,null,null,null,null,0,"",null,"",null,"",null,null,null,null,"\\",{"$f":"IF(AND(A10=\"\",B10=\"\",C10=\"\",D10=\"\"),1,IF(OR(O10=\"\",N10=\"\"),2,IF(ISERROR(MATCH(Q10,Input!M$5:M$24,0)),2,1)))","v":1},{"$f":"IF(M10<>\"\", M10, H10)","v":""},0]
[null,null,null,null,null,null,0,"",null,"",null,"",null,null,null,null,"\\",{"$f":"IF(AND(A11=\"\",B11=\"\",C11=\"\",D11=\"\"),1,IF(OR(O11=\"\",N11=\"\"),2,IF(ISERROR(MATCH(Q11,Input!M$5:M$24,0)),2,1)))","v":1},"",0]
[null,null,null,null,null,null,0,"",null,"",null,"",null,null,null,null,"\\",{"$f":"IF(AND(A12=\"\",B12=\"\",C12=\"\",D12=\"\"),1,IF(OR(O12=\"\",N12=\"\"),2,IF(ISERROR(MATCH(Q12,Input!M$5:M$24,0)),2,1)))","v":1},"",0]
[null,null,null,null,null,null,0,"",null,"",null,"",null,null,null,null,"\\",{"$f":"IF(AND(A13=\"\",B13=\"\",C13=\"\",D13=\"\"),1,IF(OR(O13=\"\",N13=\"\"),2,IF(ISERROR(MATCH(Q13,Input!M$5:M$24,0)),2,1)))","v":1},"",0]
[null,null,null,null,null,null,0,"",null,"",null,"",null,null,null,null,"\\",{"$f":"IF(AND(A14=\"\",B14=\"\",C14=\"\",D14=\"\"),1,IF(OR(O14=\"\",N14=\"\"),2,IF(ISERROR(MATCH(Q14,Input!M$5:M$24,0)),2,1)))","v":1},"",0]
[null,null,null,null,null,null,0,"",null,"",null,"",null,null,null,null,"\\",{"$f":"IF(AND(A15=\"\",B15=\"\",C15=\"\",D15=\"\"),1,IF(OR(O15=\"\",N15=\"\"),2,IF(ISERROR(MATCH(Q15,Input!M$5:M$24,0)),2,1)))","v":1},"",0]
[null,null,null,null,null,null,0,"",null,"",null,"",null,null,null,null,"\\",{"$f":"IF(AND(A16=\"\",B16=\"\",C16=\"\",D16=\"\"),1,IF(OR(O16=\"\",N16=\"\"),2,IF(ISERROR(MATCH(Q16,Input!M$5:M$24,0)),2,1)))","v":1},"",0]
[null,null,null,null,null,null,0,"",null,"",null,"",null,null,null,null,"\\",{"$f":"IF(AND(A17=\"\",B17=\"\",C17=\"\",D17=\"\"),1,IF(OR(O17=\"\",N17=\"\"),2,IF(ISERROR(MATCH(Q17,Input!M$5:M$24,0)),2,1)))","v":1},"",0]
[]
["TANK SHEET"]
["Bid Item (In Order of Placement)",null,"Today's Placement",null,null,"Bid Item Plan Quantity","Plan Thickness (in)","Contract Mix Price","Contract Binder Price","Project Number",null,null,null,"Mix Pay Units","Mix Delivered to Road\n(Ton or SY)","Waste On Road (Ton)\nNO waste for SY Items","Tons Placed - Waste",null,null,"This adds up column S as it depends if the Est SY is filled out or the SY",null,"Use this Column for SY for the Q column","Uses this Value for Mix on Road"]
[null,null,null,null,null,{"$f":"IF($J21=\"\",\"\",INDEX(Input!$A$5:$H$24,MATCH($A21&$J21,Input!$A$5:$A$24&Input!$G$5:$G$24,0),2))","v":""},{"$f":"IF($J21=\"\",\"\",INDEX(Input!$A$5:$H$24,MATCH($A21&$J21,Input!$A$5:$A$24&Input!$G$5:$G$24,0),3))","v":""},{"$f":"IF($J21=\"\",\"\",INDEX(Input!$A$5:$H$24,MATCH($A21&$J21,Input!$A$5:$A$24&Input!$G$5:$G$24,0),4))","v":""},{"$f":"IF($J21=\"\",\"\",INDEX(Input!$A$5:$H$24,MATCH($A21&$J21,Input!$A$5:$A$24&Input!$G$5:$G$24,0),5))","v":""},null,null,null,null,{"$f":"IF($A21=\"\",\"\",OFFSET(Input!F$4,MATCH($A21,Input!$A$5:$A$24,0),0))","v":""},{"$f":"IF(N21=\"SY\", T21, IF(N21=\"Tons\", W21, \"\"))","v":""},null,{"$f":"IF(N21=\"SY\", V21, IF(N21=\"Tons\", O21-P21, \"\"))","v":""},{"$f":"SUBSTITUTE(A21 & \"\\\" & J21,\"\"\"\",\"\")","v":"\\"},{"$f":"IF(A21=\"\",1,IF(ISERROR(MATCH(R21,Input!L$5:L$24,0)),2,1))","v":1},{"$f":"IF(A21=\"\", \"\", SUMIF($Q$8:$Q$17, \"*\" & LEFT(A21, 11) & \"*\", $S$8:$S$17))","v":""},null,{"$f":"IF(A21=\"\", \"\", SUMIF($Q$8:$Q$17, \"*\" & LEFT(A21, 11) & \"*\", $T$8:$T$17))","v":""},{"$f":"IF(N21=\"SY\", T21, IF(N21=\"Tons\", V21+P21, \"\"))","v":""}]
[null,null,null,null,null,{"$f":"IF($J22=\"\",\"\",INDEX(Input!$A$5:$H$24,MATCH($A22&$J22,Input!$A$5:$A$24&Input!$G$5:$G$24,0),2))","v":""},{"$f":"IF($J22=\"\",\"\",INDEX(Input!$A$5:$H$24,MATCH($A22&$J22,Input!$A$5:$A$24&Input!$G$5:$G$24,0),3))","v":""},{"$f":"IF($J22=\"\",\"\",INDEX(Input!$A$5:$H$24,MATCH($A22&$J22,Input!$A$5:$A$24&Input!$G$5:$G$24,0),4))","v":""},{"$f":"IF($J22=\"\",\"\",INDEX(Input!$A$5:$H$24,MATCH($A22&$J22,Input!$A$5:$A$24&Input!$G$5:$G$24,0),5))","v":""},null,null,null,null,{"$f":"IF($A22=\"\",\"\",OFFSET(Input!F$4,MATCH($A22,Input!$A$5:$A$24,0),0))","v":""},{"$f":"IF(N22=\"SY\", T22, IF(N22=\"Tons\", W22, \"\"))","v":""},null,{"$f":"IF(N22=\"SY\", V22, IF(N22=\"Tons\", O22-P22, \"\"))","v":""},{"$f":"SUBSTITUTE(A22 & \"\\\" & J22,\"\"\"\",\"\")","v":"\\"},{"$f":"IF(A22=\"\",1,IF(ISERROR(MATCH(R22,Input!L$5:L$24,0)),2,1))","v":1},{"$f":"IF(A22=\"\", \"\", SUMIF($Q$8:$Q$17, \"*\" & LEFT(A22, 11) & \"*\", $S$8:$S$17))","v":""},null,{"$f":"IF(A22=\"\", \"\", SUMIF($Q$8:$Q$17, \"*\" & LEFT(A22, 11) & \"*\", $T$8:$T$17))","v":""},{"$f":"IF(N22=\"SY\", T22, IF(N22=\"Tons\", V22+P22, \"\"))","v":""}]
[null,null,null,null,null,{"$f":"IF($J23=\"\",\"\",INDEX(Input!$A$5:$H$24,MATCH($A23&$J23,Input!$A$5:$A$24&Input!$G$5:$G$24,0),2))","v":""},{"$f":"IF($J23=\"\",\"\",INDEX(Input!$A$5:$H$24,MATCH($A23&$J23,Input!$A$5:$A$24&Input!$G$5:$G$24,0),3))","v":""},{"$f":"IF($J23=\"\",\"\",INDEX(Input!$A$5:$H$24,MATCH($A23&$J23,Input!$A$5:$A$24&Input!$G$5:$G$24,0),4))","v":""},{"$f":"IF($J23=\"\",\"\",INDEX(Input!$A$5:$H$24,MATCH($A23&$J23,Input!$A$5:$A$24&Input!$G$5:$G$24,0),5))","v":""},null,null,null,null,{"$f":"IF($A23=\"\",\"\",OFFSET(Input!F$4,MATCH($A23,Input!$A$5:$A$24,0),0))","v":""},{"$f":"IF(N23=\"SY\", T23, IF(N23=\"Tons\", W23, \"\"))","v":""},null,{"$f":"IF(N23=\"SY\", V23, IF(N23=\"Tons\", O23-P23, \"\"))","v":""},"\\",{"$f":"IF(A23=\"\",1,IF(ISERROR(MATCH(R23,Input!L$5:L$24,0)),2,1))","v":1},{"$f":"IF(A23=\"\", \"\", SUMIF($Q$8:$Q$17, \"*\" & LEFT(A23, 11) & \"*\", $S$8:$S$17))","v":""},null,{"$f":"IF(A23=\"\", \"\", SUMIF($Q$8:$Q$17, \"*\" & LEFT(A23, 11) & \"*\", $T$8:$T$17))","v":""},{"$f":"IF(N23=\"SY\", T23, IF(N23=\"Tons\", V23+P23, \"\"))","v":""}]
[null,null,null,null,null,{"$f":"IF($J24=\"\",\"\",INDEX(Input!$A$5:$H$24,MATCH($A24&$J24,Input!$A$5:$A$24&Input!$G$5:$G$24,0),2))","v":""},{"$f":"IF($J24=\"\",\"\",INDEX(Input!$A$5:$H$24,MATCH($A24&$J24,Input!$A$5:$A$24&Input!$G$5:$G$24,0),3))","v":""},{"$f":"IF($J24=\"\",\"\",INDEX(Input!$A$5:$H$24,MATCH($A24&$J24,Input!$A$5:$A$24&Input!$G$5:$G$24,0),4))","v":""},{"$f":"IF($J24=\"\",\"\",INDEX(Input!$A$5:$H$24,MATCH($A24&$J24,Input!$A$5:$A$24&Input!$G$5:$G$24,0),5))","v":""},null,null,null,null,{"$f":"IF($A24=\"\",\"\",OFFSET(Input!F$4,MATCH($A24,Input!$A$5:$A$24,0),0))","v":""},"",null,{"$f":"IF(N24=\"SY\", V24, IF(N24=\"Tons\", O24-P24, \"\"))","v":""},"\\",{"$f":"IF(A24=\"\",1,IF(ISERROR(MATCH(R24,Input!L$5:L$24,0)),2,1))","v":1},"",null,{"$f":"IF(A24=\"\", \"\", SUMIF($Q$8:$Q$17, \"*\" & LEFT(A24, 11) & \"*\", $T$8:$T$17))","v":""},{"$f":"IF(N24=\"SY\", T24, IF(N24=\"Tons\", V24+P24, \"\"))","v":""}]
[null,null,null,null,null,{"$f":"IF($J25=\"\",\"\",INDEX(Input!$A$5:$H$24,MATCH($A25&$J25,Input!$A$5:$A$24&Input!$G$5:$G$24,0),2))","v":""},{"$f":"IF($J25=\"\",\"\",INDEX(Input!$A$5:$H$24,MATCH($A25&$J25,Input!$A$5:$A$24&Input!$G$5:$G$24,0),3))","v":""},{"$f":"IF($J25=\"\",\"\",INDEX(Input!$A$5:$H$24,MATCH($A25&$J25,Input!$A$5:$A$24&Input!$G$5:$G$24,0),4))","v":""},{"$f":"IF($J25=\"\",\"\",INDEX(Input!$A$5:$H$24,MATCH($A25&$J25,Input!$A$5:$A$24&Input!$G$5:$G$24,0),5))","v":""},null,null,null,null,{"$f":"IF($A25=\"\",\"\",OFFSET(Input!F$4,MATCH($A25,Input!$A$5:$A$24,0),0))","v":""},"",null,"","\\",{"$f":"IF(A25=\"\",1,IF(ISERROR(MATCH(R25,Input!L$5:L$24,0)),2,1))","v":1},"",null,"",""]
[null,null,null,null,null,null,null,null,null,null,null,null,null,null,null,null,null,null,null,null,null,"",{"$f":"IF(N26=\"SY\", T26, IF(N26=\"Tons\", V26+P26, \"\"))","v":""},{"$f":"IF(A26=\"\", \"\", SUMIF($Q$8:$Q$17, \"*\" & LEFT(A26, 11) & \"*\", $S$8:$S$17))","v":""},{"$f":"IF(N26=\"SY\",X26,\"\")","v":""},{"$f":"IF(A26=\"\", \"\", SUMIF($Q$8:$Q$17, \"*\" & LEFT(A26, 11) & \"*\", $T$8:$T$17))","v":""}]
["Hot Box Sample",null,null,null,null,null,null,null,null,null,"Mat Temperatures °F"]
[null,"Test A","Test B","Test C","Test D","Test E",null,null,null,null,"Time","Temp"]
[" Hot Box ID Number  ",null,null,null,null,null,null,null,null,null,"7:00"]
["Hot Box Sample Tons: ",null,null,null,null,null,null,null,null,null,"9:00",null,null,null,"Intended Thickness:"]
[" Time: ",null,null,null,null,null,null,null,null,null,"11:00",null,null,null,"Cores Waived?"]
[" Station/MP: ",null,null,null,null,null,null,null,null,null,"1:00",null,null,null,"Small Quantity Statement?"]
["Bar Code ID.:",null,null,null,null,null,null,null,null,null,"3:00",null,null,null,"Scale Check Done?"]
["Compaction Temp. °F: ",null,null,null,null,null,null,null,null,null,"5:00",null,null,null,"Tack Tickets Today?"]
[null,null,null,null,null,null,null,null,null,null,"7:00"]
["The Below Comments should show up on the plant report"]
["Comments:"]
[]
[]
["The Below Notes are for the CPI from the field or Plant Monitor"]
["Notes:"]
[]
[]
["RANDOM CORE LOCATIONS"]
[null,null,null,null,null,null,null,"Core #","Station","Offset,ft","Joint Station","Lane"]
[null,null,null,null,null,null,null,1]
[null,null,null,null,null,null,null,2]
[null,null,null,null,null,null,null,3]
[null,null,null,null,null,null,null,4]
[null,null,null,null,null,null,null,5]
[null,null,null,null,null,null,null,6]
[null,null,null,null,null,null,null,7]
[null,null,null,null,null,null,null,8]
[]
[null,null,null,null,null,null,null,null,null,null,"Joint Sublot Size, ft"]
[null,null,null,null,null,null,null,null,null,null,0]
[]
[]
[]
[]
[]
[]
[]
[]
[]
[]
[]
[]
[]
[]
[]
[]
[]
[]
[]
[]
[]
[]
[]
[]
[]
[]
[]
[]
[]
[]
[]
[]
[]
[]
[]
[]
[]
[]
[]
[]
[false]

{"sheet":"67","index":82,"n_rows":97,"n_cols":26,"rows_kept":97,"cut":false,"hidden":false,"merged":[[50,11,50,13],[51,11,51,13],[52,11,52,13],[44,11,44,13],[45,11,45,13],[46,11,46,13],[47,11,47,13],[48,11,48,13],[49,11,49,13],[43,0,43,16],[25,0,25,1],[26,0,26,5],[26,20,26,23],[26,25,26,27],[34,2,34,4],[35,0,35,5],[36,1,36,14],[37,0,37,14],[39,0,39,5],[40,1,40,14],[41,0,41,14],[23,0,23,1],[23,2,23,4],[23,9,23,12],[24,0,24,1],[24,2,24,4],[24,9,24,12],[21,0,21,1],[21,2,21,4],[21,9,21,12],[22,0,22,1],[22,2,22,4],[22,9,22,12],[19,0,19,1],[19,2,19,4],[19,9,19,12],[20,0,20,1],[20,2,20,4],[20,9,20,12],[18,0,18,16],[6,14,6,15],[7,14,7,15],[8,14,8,15],[9,14,9,15],[10,14,10,15],[11,14,11,15],[12,14,12,15],[13,14,13,15],[14,14,14,15],[15,14,15,15],[16,14,16,15],[1,0,1,16],[4,0,4,15],[5,4,5,5],[5,8,5,9],[5,11,5,12],[5,13,5,15]]}
[]
["Iowa DOT HMA Field Report"]
["Date :"]
["Item No.('s)"]
["PLACEMENT RECORD",null,null,null,null,null,null,null,null,null,null,null,null,null,null,null,null,null,null,null,null,{"$f":"SUBSTITUTE(A21 & \"\\\" & J21,\"\"\"\",\"\")","v":"\\"}]
[null,null,null,null,"Additional width to DEDUCT from Field Voids",null,null,null,"Placed Density (Pounds/CF)=",null,150,"Overwritten on the \"Summary\" Tab",null,"ONLY ONE (1) MIX DESIGN PER DFR OTHERWISE IT WILL NOT IMPORT INTO THE PLANT REPORT PROPERLY",null,null,null,null,null,null,null,{"$f":"SUBSTITUTE(A22 & \"\\\" & J22,\"\"\"\",\"\")","v":"\\"}]
["From Station"," To Station","Lane","ML or Widening Placement Width","Additional Width (ft) ","Thickness (in)","Total Length Placed (FT)","\"Pay\"  Est \"SY\"","Thickness (inches)","Calculated Field Voids Tons","Placed Tons            (Not including Waste)","% Yield","SY to be PAID (If Diff. than Est SY)","Mix Design No.","Bid Item/ Project No.",null,null,null,"This uses the correct SY #, if Green is blank uses Est. SY","Adds up the Tons",null,"\\"]
[null,null,null,null,null,null,{"$f":"IF(OR(A8=\"\",B8=\"\"),0,IF($A$97=TRUE,ABS(B8-A8)*5280,ABS(VALUE(SUBSTITUTE(A8,\"+\",\"\"))-VALUE(SUBSTITUTE(B8,\"+\",\"\")))))","v":0},{"$f":"IF(D8=\"\",\"\",G8*(D8+E8)/9)","v":""},null,{"$f":"IF(I8=\"\",\"\",(G8)*(D8+E8)*I8/12*$K$6/2000)","v":""},null,{"$f":"IF(K8=\"\",\"\",K8/J8*100)","v":""},null,null,null,null,{"$f":"O8 & \"\\\" & N8","v":"\\"},{"$f":"IF(AND(A8=\"\",B8=\"\",C8=\"\",D8=\"\"),1,IF(OR(O8=\"\",N8=\"\"),2,IF(ISERROR(MATCH(Q8,Input!M$5:M$24,0)),2,1)))","v":1},{"$f":"IF(M8<>\"\", M8, H8)","v":""},{"$f":"K8","v":0},null,"\\"]
[null,null,null,null,null,null,{"$f":"IF(OR(A9=\"\",B9=\"\"),0,IF($A$97=TRUE,ABS(B9-A9)*5280,ABS(VALUE(SUBSTITUTE(A9,\"+\",\"\"))-VALUE(SUBSTITUTE(B9,\"+\",\"\")))))","v":0},{"$f":"IF(D9=\"\",\"\",G9*(D9+E9)/9)","v":""},null,"",null,{"$f":"IF(K9=\"\",\"\",K9/J9*100)","v":""},null,null,null,null,{"$f":"O9 & \"\\\" & N9","v":"\\"},{"$f":"IF(AND(A9=\"\",B9=\"\",C9=\"\",D9=\"\"),1,IF(OR(O9=\"\",N9=\"\"),2,IF(ISERROR(MATCH(Q9,Input!M$5:M$24,0)),2,1)))","v":1},{"$f":"IF(M9<>\"\", M9, H9)","v":""},{"$f":"K9","v":0},null,"\\"]
[null,null,null,null,null,null,0,"",null,"",null,"",null,null,null,null,"\\",{"$f":"IF(AND(A10=\"\",B10=\"\",C10=\"\",D10=\"\"),1,IF(OR(O10=\"\",N10=\"\"),2,IF(ISERROR(MATCH(Q10,Input!M$5:M$24,0)),2,1)))","v":1},{"$f":"IF(M10<>\"\", M10, H10)","v":""},0]
[null,null,null,null,null,null,0,"",null,"",null,"",null,null,null,null,"\\",{"$f":"IF(AND(A11=\"\",B11=\"\",C11=\"\",D11=\"\"),1,IF(OR(O11=\"\",N11=\"\"),2,IF(ISERROR(MATCH(Q11,Input!M$5:M$24,0)),2,1)))","v":1},"",0]
[null,null,null,null,null,null,0,"",null,"",null,"",null,null,null,null,"\\",{"$f":"IF(AND(A12=\"\",B12=\"\",C12=\"\",D12=\"\"),1,IF(OR(O12=\"\",N12=\"\"),2,IF(ISERROR(MATCH(Q12,Input!M$5:M$24,0)),2,1)))","v":1},"",0]
[null,null,null,null,null,null,0,"",null,"",null,"",null,null,null,null,"\\",{"$f":"IF(AND(A13=\"\",B13=\"\",C13=\"\",D13=\"\"),1,IF(OR(O13=\"\",N13=\"\"),2,IF(ISERROR(MATCH(Q13,Input!M$5:M$24,0)),2,1)))","v":1},"",0]
[null,null,null,null,null,null,0,"",null,"",null,"",null,null,null,null,"\\",{"$f":"IF(AND(A14=\"\",B14=\"\",C14=\"\",D14=\"\"),1,IF(OR(O14=\"\",N14=\"\"),2,IF(ISERROR(MATCH(Q14,Input!M$5:M$24,0)),2,1)))","v":1},"",0]
[null,null,null,null,null,null,0,"",null,"",null,"",null,null,null,null,"\\",{"$f":"IF(AND(A15=\"\",B15=\"\",C15=\"\",D15=\"\"),1,IF(OR(O15=\"\",N15=\"\"),2,IF(ISERROR(MATCH(Q15,Input!M$5:M$24,0)),2,1)))","v":1},"",0]
[null,null,null,null,null,null,0,"",null,"",null,"",null,null,null,null,"\\",{"$f":"IF(AND(A16=\"\",B16=\"\",C16=\"\",D16=\"\"),1,IF(OR(O16=\"\",N16=\"\"),2,IF(ISERROR(MATCH(Q16,Input!M$5:M$24,0)),2,1)))","v":1},"",0]
[null,null,null,null,null,null,0,"",null,"",null,"",null,null,null,null,"\\",{"$f":"IF(AND(A17=\"\",B17=\"\",C17=\"\",D17=\"\"),1,IF(OR(O17=\"\",N17=\"\"),2,IF(ISERROR(MATCH(Q17,Input!M$5:M$24,0)),2,1)))","v":1},"",0]
[]
["TANK SHEET"]
["Bid Item (In Order of Placement)",null,"Today's Placement",null,null,"Bid Item Plan Quantity","Plan Thickness (in)","Contract Mix Price","Contract Binder Price","Project Number",null,null,null,"Mix Pay Units","Mix Delivered to Road\n(Ton or SY)","Waste On Road (Ton)\nNO waste for SY Items","Tons Placed - Waste",null,null,"This adds up column S as it depends if the Est SY is filled out or the SY",null,"Use this Column for SY for the Q column","Uses this Value for Mix on Road"]
[null,null,null,null,null,{"$f":"IF($J21=\"\",\"\",INDEX(Input!$A$5:$H$24,MATCH($A21&$J21,Input!$A$5:$A$24&Input!$G$5:$G$24,0),2))","v":""},{"$f":"IF($J21=\"\",\"\",INDEX(Input!$A$5:$H$24,MATCH($A21&$J21,Input!$A$5:$A$24&Input!$G$5:$G$24,0),3))","v":""},{"$f":"IF($J21=\"\",\"\",INDEX(Input!$A$5:$H$24,MATCH($A21&$J21,Input!$A$5:$A$24&Input!$G$5:$G$24,0),4))","v":""},{"$f":"IF($J21=\"\",\"\",INDEX(Input!$A$5:$H$24,MATCH($A21&$J21,Input!$A$5:$A$24&Input!$G$5:$G$24,0),5))","v":""},null,null,null,null,{"$f":"IF($A21=\"\",\"\",OFFSET(Input!F$4,MATCH($A21,Input!$A$5:$A$24,0),0))","v":""},{"$f":"IF(N21=\"SY\", T21, IF(N21=\"Tons\", W21, \"\"))","v":""},null,{"$f":"IF(N21=\"SY\", V21, IF(N21=\"Tons\", O21-P21, \"\"))","v":""},{"$f":"SUBSTITUTE(A21 & \"\\\" & J21,\"\"\"\",\"\")","v":"\\"},{"$f":"IF(A21=\"\",1,IF(ISERROR(MATCH(R21,Input!L$5:L$24,0)),2,1))","v":1},{"$f":"IF(A21=\"\", \"\", SUMIF($Q$8:$Q$17, \"*\" & LEFT(A21, 11) & \"*\", $S$8:$S$17))","v":""},null,{"$f":"IF(A21=\"\", \"\", SUMIF($Q$8:$Q$17, \"*\" & LEFT(A21, 11) & \"*\", $T$8:$T$17))","v":""},{"$f":"IF(N21=\"SY\", T21, IF(N21=\"Tons\", V21+P21, \"\"))","v":""}]
[null,null,null,null,null,{"$f":"IF($J22=\"\",\"\",INDEX(Input!$A$5:$H$24,MATCH($A22&$J22,Input!$A$5:$A$24&Input!$G$5:$G$24,0),2))","v":""},{"$f":"IF($J22=\"\",\"\",INDEX(Input!$A$5:$H$24,MATCH($A22&$J22,Input!$A$5:$A$24&Input!$G$5:$G$24,0),3))","v":""},{"$f":"IF($J22=\"\",\"\",INDEX(Input!$A$5:$H$24,MATCH($A22&$J22,Input!$A$5:$A$24&Input!$G$5:$G$24,0),4))","v":""},{"$f":"IF($J22=\"\",\"\",INDEX(Input!$A$5:$H$24,MATCH($A22&$J22,Input!$A$5:$A$24&Input!$G$5:$G$24,0),5))","v":""},null,null,null,null,{"$f":"IF($A22=\"\",\"\",OFFSET(Input!F$4,MATCH($A22,Input!$A$5:$A$24,0),0))","v":""},{"$f":"IF(N22=\"SY\", T22, IF(N22=\"Tons\", W22, \"\"))","v":""},null,{"$f":"IF(N22=\"SY\", V22, IF(N22=\"Tons\", O22-P22, \"\"))","v":""},{"$f":"SUBSTITUTE(A22 & \"\\\" & J22,\"\"\"\",\"\")","v":"\\"},{"$f":"IF(A22=\"\",1,IF(ISERROR(MATCH(R22,Input!L$5:L$24,0)),2,1))","v":1},{"$f":"IF(A22=\"\", \"\", SUMIF($Q$8:$Q$17, \"*\" & LEFT(A22, 11) & \"*\", $S$8:$S$17))","v":""},null,{"$f":"IF(A22=\"\", \"\", SUMIF($Q$8:$Q$17, \"*\" & LEFT(A22, 11) & \"*\", $T$8:$T$17))","v":""},{"$f":"IF(N22=\"SY\", T22, IF(N22=\"Tons\", V22+P22, \"\"))","v":""}]
[null,null,null,null,null,{"$f":"IF($J23=\"\",\"\",INDEX(Input!$A$5:$H$24,MATCH($A23&$J23,Input!$A$5:$A$24&Input!$G$5:$G$24,0),2))","v":""},{"$f":"IF($J23=\"\",\"\",INDEX(Input!$A$5:$H$24,MATCH($A23&$J23,Input!$A$5:$A$24&Input!$G$5:$G$24,0),3))","v":""},{"$f":"IF($J23=\"\",\"\",INDEX(Input!$A$5:$H$24,MATCH($A23&$J23,Input!$A$5:$A$24&Input!$G$5:$G$24,0),4))","v":""},{"$f":"IF($J23=\"\",\"\",INDEX(Input!$A$5:$H$24,MATCH($A23&$J23,Input!$A$5:$A$24&Input!$G$5:$G$24,0),5))","v":""},null,null,null,null,{"$f":"IF($A23=\"\",\"\",OFFSET(Input!F$4,MATCH($A23,Input!$A$5:$A$24,0),0))","v":""},{"$f":"IF(N23=\"SY\", T23, IF(N23=\"Tons\", W23, \"\"))","v":""},null,{"$f":"IF(N23=\"SY\", V23, IF(N23=\"Tons\", O23-P23, \"\"))","v":""},"\\",{"$f":"IF(A23=\"\",1,IF(ISERROR(MATCH(R23,Input!L$5:L$24,0)),2,1))","v":1},{"$f":"IF(A23=\"\", \"\", SUMIF($Q$8:$Q$17, \"*\" & LEFT(A23, 11) & \"*\", $S$8:$S$17))","v":""},null,{"$f":"IF(A23=\"\", \"\", SUMIF($Q$8:$Q$17, \"*\" & LEFT(A23, 11) & \"*\", $T$8:$T$17))","v":""},{"$f":"IF(N23=\"SY\", T23, IF(N23=\"Tons\", V23+P23, \"\"))","v":""}]
[null,null,null,null,null,{"$f":"IF($J24=\"\",\"\",INDEX(Input!$A$5:$H$24,MATCH($A24&$J24,Input!$A$5:$A$24&Input!$G$5:$G$24,0),2))","v":""},{"$f":"IF($J24=\"\",\"\",INDEX(Input!$A$5:$H$24,MATCH($A24&$J24,Input!$A$5:$A$24&Input!$G$5:$G$24,0),3))","v":""},{"$f":"IF($J24=\"\",\"\",INDEX(Input!$A$5:$H$24,MATCH($A24&$J24,Input!$A$5:$A$24&Input!$G$5:$G$24,0),4))","v":""},{"$f":"IF($J24=\"\",\"\",INDEX(Input!$A$5:$H$24,MATCH($A24&$J24,Input!$A$5:$A$24&Input!$G$5:$G$24,0),5))","v":""},null,null,null,null,{"$f":"IF($A24=\"\",\"\",OFFSET(Input!F$4,MATCH($A24,Input!$A$5:$A$24,0),0))","v":""},"",null,{"$f":"IF(N24=\"SY\", V24, IF(N24=\"Tons\", O24-P24, \"\"))","v":""},"\\",{"$f":"IF(A24=\"\",1,IF(ISERROR(MATCH(R24,Input!L$5:L$24,0)),2,1))","v":1},"",null,{"$f":"IF(A24=\"\", \"\", SUMIF($Q$8:$Q$17, \"*\" & LEFT(A24, 11) & \"*\", $T$8:$T$17))","v":""},{"$f":"IF(N24=\"SY\", T24, IF(N24=\"Tons\", V24+P24, \"\"))","v":""}]
[null,null,null,null,null,{"$f":"IF($J25=\"\",\"\",INDEX(Input!$A$5:$H$24,MATCH($A25&$J25,Input!$A$5:$A$24&Input!$G$5:$G$24,0),2))","v":""},{"$f":"IF($J25=\"\",\"\",INDEX(Input!$A$5:$H$24,MATCH($A25&$J25,Input!$A$5:$A$24&Input!$G$5:$G$24,0),3))","v":""},{"$f":"IF($J25=\"\",\"\",INDEX(Input!$A$5:$H$24,MATCH($A25&$J25,Input!$A$5:$A$24&Input!$G$5:$G$24,0),4))","v":""},{"$f":"IF($J25=\"\",\"\",INDEX(Input!$A$5:$H$24,MATCH($A25&$J25,Input!$A$5:$A$24&Input!$G$5:$G$24,0),5))","v":""},null,null,null,null,{"$f":"IF($A25=\"\",\"\",OFFSET(Input!F$4,MATCH($A25,Input!$A$5:$A$24,0),0))","v":""},"",null,"","\\",{"$f":"IF(A25=\"\",1,IF(ISERROR(MATCH(R25,Input!L$5:L$24,0)),2,1))","v":1},"",null,"",""]
[null,null,null,null,null,null,null,null,null,null,null,null,null,null,null,null,null,null,null,null,null,"",{"$f":"IF(N26=\"SY\", T26, IF(N26=\"Tons\", V26+P26, \"\"))","v":""},{"$f":"IF(A26=\"\", \"\", SUMIF($Q$8:$Q$17, \"*\" & LEFT(A26, 11) & \"*\", $S$8:$S$17))","v":""},{"$f":"IF(N26=\"SY\",X26,\"\")","v":""},{"$f":"IF(A26=\"\", \"\", SUMIF($Q$8:$Q$17, \"*\" & LEFT(A26, 11) & \"*\", $T$8:$T$17))","v":""}]
["Hot Box Sample",null,null,null,null,null,null,null,null,null,"Mat Temperatures °F"]
[null,"Test A","Test B","Test C","Test D","Test E",null,null,null,null,"Time","Temp"]
[" Hot Box ID Number  ",null,null,null,null,null,null,null,null,null,"7:00"]
["Hot Box Sample Tons: ",null,null,null,null,null,null,null,null,null,"9:00",null,null,null,"Intended Thickness:"]
[" Time: ",null,null,null,null,null,null,null,null,null,"11:00",null,null,null,"Cores Waived?"]
[" Station/MP: ",null,null,null,null,null,null,null,null,null,"1:00",null,null,null,"Small Quantity Statement?"]
["Bar Code ID.:",null,null,null,null,null,null,null,null,null,"3:00",null,null,null,"Scale Check Done?"]
["Compaction Temp. °F: ",null,null,null,null,null,null,null,null,null,"5:00",null,null,null,"Tack Tickets Today?"]
[null,null,null,null,null,null,null,null,null,null,"7:00"]
["The Below Comments should show up on the plant report"]
["Comments:"]
[]
[]
["The Below Notes are for the CPI from the field or Plant Monitor"]
["Notes:"]
[]
[]
["RANDOM CORE LOCATIONS"]
[null,null,null,null,null,null,null,"Core #","Station","Offset,ft","Joint Station","Lane"]
[null,null,null,null,null,null,null,1]
[null,null,null,null,null,null,null,2]
[null,null,null,null,null,null,null,3]
[null,null,null,null,null,null,null,4]
[null,null,null,null,null,null,null,5]
[null,null,null,null,null,null,null,6]
[null,null,null,null,null,null,null,7]
[null,null,null,null,null,null,null,8]
[]
[null,null,null,null,null,null,null,null,null,null,"Joint Sublot Size, ft"]
[null,null,null,null,null,null,null,null,null,null,0]
[]
[]
[]
[]
[]
[]
[]
[]
[]
[]
[]
[]
[]
[]
[]
[]
[]
[]
[]
[]
[]
[]
[]
[]
[]
[]
[]
[]
[]
[]
[]
[]
[]
[]
[]
[]
[]
[]
[]
[]
[false]

{"sheet":"68","index":83,"n_rows":97,"n_cols":26,"rows_kept":97,"cut":false,"hidden":false,"merged":[[50,11,50,13],[51,11,51,13],[52,11,52,13],[44,11,44,13],[45,11,45,13],[46,11,46,13],[47,11,47,13],[48,11,48,13],[49,11,49,13],[43,0,43,16],[25,0,25,1],[26,0,26,5],[26,20,26,23],[26,25,26,27],[34,2,34,4],[35,0,35,5],[36,1,36,14],[37,0,37,14],[39,0,39,5],[40,1,40,14],[41,0,41,14],[23,0,23,1],[23,2,23,4],[23,9,23,12],[24,0,24,1],[24,2,24,4],[24,9,24,12],[21,0,21,1],[21,2,21,4],[21,9,21,12],[22,0,22,1],[22,2,22,4],[22,9,22,12],[19,0,19,1],[19,2,19,4],[19,9,19,12],[20,0,20,1],[20,2,20,4],[20,9,20,12],[18,0,18,16],[6,14,6,15],[7,14,7,15],[8,14,8,15],[9,14,9,15],[10,14,10,15],[11,14,11,15],[12,14,12,15],[13,14,13,15],[14,14,14,15],[15,14,15,15],[16,14,16,15],[1,0,1,16],[4,0,4,15],[5,4,5,5],[5,8,5,9],[5,11,5,12],[5,13,5,15]]}
[]
["Iowa DOT HMA Field Report"]
["Date :"]
["Item No.('s)"]
["PLACEMENT RECORD",null,null,null,null,null,null,null,null,null,null,null,null,null,null,null,null,null,null,null,null,{"$f":"SUBSTITUTE(A21 & \"\\\" & J21,\"\"\"\",\"\")","v":"\\"}]
[null,null,null,null,"Additional width to DEDUCT from Field Voids",null,null,null,"Placed Density (Pounds/CF)=",null,150,"Overwritten on the \"Summary\" Tab",null,"ONLY ONE (1) MIX DESIGN PER DFR OTHERWISE IT WILL NOT IMPORT INTO THE PLANT REPORT PROPERLY",null,null,null,null,null,null,null,{"$f":"SUBSTITUTE(A22 & \"\\\" & J22,\"\"\"\",\"\")","v":"\\"}]
["From Station"," To Station","Lane","ML or Widening Placement Width","Additional Width (ft) ","Thickness (in)","Total Length Placed (FT)","\"Pay\"  Est \"SY\"","Thickness (inches)","Calculated Field Voids Tons","Placed Tons            (Not including Waste)","% Yield","SY to be PAID (If Diff. than Est SY)","Mix Design No.","Bid Item/ Project No.",null,null,null,"This uses the correct SY #, if Green is blank uses Est. SY","Adds up the Tons",null,"\\"]
[null,null,null,null,null,null,{"$f":"IF(OR(A8=\"\",B8=\"\"),0,IF($A$97=TRUE,ABS(B8-A8)*5280,ABS(VALUE(SUBSTITUTE(A8,\"+\",\"\"))-VALUE(SUBSTITUTE(B8,\"+\",\"\")))))","v":0},{"$f":"IF(D8=\"\",\"\",G8*(D8+E8)/9)","v":""},null,{"$f":"IF(I8=\"\",\"\",(G8)*(D8+E8)*I8/12*$K$6/2000)","v":""},null,{"$f":"IF(K8=\"\",\"\",K8/J8*100)","v":""},null,null,null,null,{"$f":"O8 & \"\\\" & N8","v":"\\"},{"$f":"IF(AND(A8=\"\",B8=\"\",C8=\"\",D8=\"\"),1,IF(OR(O8=\"\",N8=\"\"),2,IF(ISERROR(MATCH(Q8,Input!M$5:M$24,0)),2,1)))","v":1},{"$f":"IF(M8<>\"\", M8, H8)","v":""},{"$f":"K8","v":0},null,"\\"]
[null,null,null,null,null,null,{"$f":"IF(OR(A9=\"\",B9=\"\"),0,IF($A$97=TRUE,ABS(B9-A9)*5280,ABS(VALUE(SUBSTITUTE(A9,\"+\",\"\"))-VALUE(SUBSTITUTE(B9,\"+\",\"\")))))","v":0},{"$f":"IF(D9=\"\",\"\",G9*(D9+E9)/9)","v":""},null,"",null,{"$f":"IF(K9=\"\",\"\",K9/J9*100)","v":""},null,null,null,null,{"$f":"O9 & \"\\\" & N9","v":"\\"},{"$f":"IF(AND(A9=\"\",B9=\"\",C9=\"\",D9=\"\"),1,IF(OR(O9=\"\",N9=\"\"),2,IF(ISERROR(MATCH(Q9,Input!M$5:M$24,0)),2,1)))","v":1},{"$f":"IF(M9<>\"\", M9, H9)","v":""},{"$f":"K9","v":0},null,"\\"]
[null,null,null,null,null,null,0,"",null,"",null,"",null,null,null,null,"\\",{"$f":"IF(AND(A10=\"\",B10=\"\",C10=\"\",D10=\"\"),1,IF(OR(O10=\"\",N10=\"\"),2,IF(ISERROR(MATCH(Q10,Input!M$5:M$24,0)),2,1)))","v":1},{"$f":"IF(M10<>\"\", M10, H10)","v":""},0]
[null,null,null,null,null,null,0,"",null,"",null,"",null,null,null,null,"\\",{"$f":"IF(AND(A11=\"\",B11=\"\",C11=\"\",D11=\"\"),1,IF(OR(O11=\"\",N11=\"\"),2,IF(ISERROR(MATCH(Q11,Input!M$5:M$24,0)),2,1)))","v":1},"",0]
[null,null,null,null,null,null,0,"",null,"",null,"",null,null,null,null,"\\",{"$f":"IF(AND(A12=\"\",B12=\"\",C12=\"\",D12=\"\"),1,IF(OR(O12=\"\",N12=\"\"),2,IF(ISERROR(MATCH(Q12,Input!M$5:M$24,0)),2,1)))","v":1},"",0]
[null,null,null,null,null,null,0,"",null,"",null,"",null,null,null,null,"\\",{"$f":"IF(AND(A13=\"\",B13=\"\",C13=\"\",D13=\"\"),1,IF(OR(O13=\"\",N13=\"\"),2,IF(ISERROR(MATCH(Q13,Input!M$5:M$24,0)),2,1)))","v":1},"",0]
[null,null,null,null,null,null,0,"",null,"",null,"",null,null,null,null,"\\",{"$f":"IF(AND(A14=\"\",B14=\"\",C14=\"\",D14=\"\"),1,IF(OR(O14=\"\",N14=\"\"),2,IF(ISERROR(MATCH(Q14,Input!M$5:M$24,0)),2,1)))","v":1},"",0]
[null,null,null,null,null,null,0,"",null,"",null,"",null,null,null,null,"\\",{"$f":"IF(AND(A15=\"\",B15=\"\",C15=\"\",D15=\"\"),1,IF(OR(O15=\"\",N15=\"\"),2,IF(ISERROR(MATCH(Q15,Input!M$5:M$24,0)),2,1)))","v":1},"",0]
[null,null,null,null,null,null,0,"",null,"",null,"",null,null,null,null,"\\",{"$f":"IF(AND(A16=\"\",B16=\"\",C16=\"\",D16=\"\"),1,IF(OR(O16=\"\",N16=\"\"),2,IF(ISERROR(MATCH(Q16,Input!M$5:M$24,0)),2,1)))","v":1},"",0]
[null,null,null,null,null,null,0,"",null,"",null,"",null,null,null,null,"\\",{"$f":"IF(AND(A17=\"\",B17=\"\",C17=\"\",D17=\"\"),1,IF(OR(O17=\"\",N17=\"\"),2,IF(ISERROR(MATCH(Q17,Input!M$5:M$24,0)),2,1)))","v":1},"",0]
[]
["TANK SHEET"]
["Bid Item (In Order of Placement)",null,"Today's Placement",null,null,"Bid Item Plan Quantity","Plan Thickness (in)","Contract Mix Price","Contract Binder Price","Project Number",null,null,null,"Mix Pay Units","Mix Delivered to Road\n(Ton or SY)","Waste On Road (Ton)\nNO waste for SY Items","Tons Placed - Waste",null,null,"This adds up column S as it depends if the Est SY is filled out or the SY",null,"Use this Column for SY for the Q column","Uses this Value for Mix on Road"]
[null,null,null,null,null,{"$f":"IF($J21=\"\",\"\",INDEX(Input!$A$5:$H$24,MATCH($A21&$J21,Input!$A$5:$A$24&Input!$G$5:$G$24,0),2))","v":""},{"$f":"IF($J21=\"\",\"\",INDEX(Input!$A$5:$H$24,MATCH($A21&$J21,Input!$A$5:$A$24&Input!$G$5:$G$24,0),3))","v":""},{"$f":"IF($J21=\"\",\"\",INDEX(Input!$A$5:$H$24,MATCH($A21&$J21,Input!$A$5:$A$24&Input!$G$5:$G$24,0),4))","v":""},{"$f":"IF($J21=\"\",\"\",INDEX(Input!$A$5:$H$24,MATCH($A21&$J21,Input!$A$5:$A$24&Input!$G$5:$G$24,0),5))","v":""},null,null,null,null,{"$f":"IF($A21=\"\",\"\",OFFSET(Input!F$4,MATCH($A21,Input!$A$5:$A$24,0),0))","v":""},{"$f":"IF(N21=\"SY\", T21, IF(N21=\"Tons\", W21, \"\"))","v":""},null,{"$f":"IF(N21=\"SY\", V21, IF(N21=\"Tons\", O21-P21, \"\"))","v":""},{"$f":"SUBSTITUTE(A21 & \"\\\" & J21,\"\"\"\",\"\")","v":"\\"},{"$f":"IF(A21=\"\",1,IF(ISERROR(MATCH(R21,Input!L$5:L$24,0)),2,1))","v":1},{"$f":"IF(A21=\"\", \"\", SUMIF($Q$8:$Q$17, \"*\" & LEFT(A21, 11) & \"*\", $S$8:$S$17))","v":""},null,{"$f":"IF(A21=\"\", \"\", SUMIF($Q$8:$Q$17, \"*\" & LEFT(A21, 11) & \"*\", $T$8:$T$17))","v":""},{"$f":"IF(N21=\"SY\", T21, IF(N21=\"Tons\", V21+P21, \"\"))","v":""}]
[null,null,null,null,null,{"$f":"IF($J22=\"\",\"\",INDEX(Input!$A$5:$H$24,MATCH($A22&$J22,Input!$A$5:$A$24&Input!$G$5:$G$24,0),2))","v":""},{"$f":"IF($J22=\"\",\"\",INDEX(Input!$A$5:$H$24,MATCH($A22&$J22,Input!$A$5:$A$24&Input!$G$5:$G$24,0),3))","v":""},{"$f":"IF($J22=\"\",\"\",INDEX(Input!$A$5:$H$24,MATCH($A22&$J22,Input!$A$5:$A$24&Input!$G$5:$G$24,0),4))","v":""},{"$f":"IF($J22=\"\",\"\",INDEX(Input!$A$5:$H$24,MATCH($A22&$J22,Input!$A$5:$A$24&Input!$G$5:$G$24,0),5))","v":""},null,null,null,null,{"$f":"IF($A22=\"\",\"\",OFFSET(Input!F$4,MATCH($A22,Input!$A$5:$A$24,0),0))","v":""},{"$f":"IF(N22=\"SY\", T22, IF(N22=\"Tons\", W22, \"\"))","v":""},null,{"$f":"IF(N22=\"SY\", V22, IF(N22=\"Tons\", O22-P22, \"\"))","v":""},{"$f":"SUBSTITUTE(A22 & \"\\\" & J22,\"\"\"\",\"\")","v":"\\"},{"$f":"IF(A22=\"\",1,IF(ISERROR(MATCH(R22,Input!L$5:L$24,0)),2,1))","v":1},{"$f":"IF(A22=\"\", \"\", SUMIF($Q$8:$Q$17, \"*\" & LEFT(A22, 11) & \"*\", $S$8:$S$17))","v":""},null,{"$f":"IF(A22=\"\", \"\", SUMIF($Q$8:$Q$17, \"*\" & LEFT(A22, 11) & \"*\", $T$8:$T$17))","v":""},{"$f":"IF(N22=\"SY\", T22, IF(N22=\"Tons\", V22+P22, \"\"))","v":""}]
[null,null,null,null,null,{"$f":"IF($J23=\"\",\"\",INDEX(Input!$A$5:$H$24,MATCH($A23&$J23,Input!$A$5:$A$24&Input!$G$5:$G$24,0),2))","v":""},{"$f":"IF($J23=\"\",\"\",INDEX(Input!$A$5:$H$24,MATCH($A23&$J23,Input!$A$5:$A$24&Input!$G$5:$G$24,0),3))","v":""},{"$f":"IF($J23=\"\",\"\",INDEX(Input!$A$5:$H$24,MATCH($A23&$J23,Input!$A$5:$A$24&Input!$G$5:$G$24,0),4))","v":""},{"$f":"IF($J23=\"\",\"\",INDEX(Input!$A$5:$H$24,MATCH($A23&$J23,Input!$A$5:$A$24&Input!$G$5:$G$24,0),5))","v":""},null,null,null,null,{"$f":"IF($A23=\"\",\"\",OFFSET(Input!F$4,MATCH($A23,Input!$A$5:$A$24,0),0))","v":""},{"$f":"IF(N23=\"SY\", T23, IF(N23=\"Tons\", W23, \"\"))","v":""},null,{"$f":"IF(N23=\"SY\", V23, IF(N23=\"Tons\", O23-P23, \"\"))","v":""},"\\",{"$f":"IF(A23=\"\",1,IF(ISERROR(MATCH(R23,Input!L$5:L$24,0)),2,1))","v":1},{"$f":"IF(A23=\"\", \"\", SUMIF($Q$8:$Q$17, \"*\" & LEFT(A23, 11) & \"*\", $S$8:$S$17))","v":""},null,{"$f":"IF(A23=\"\", \"\", SUMIF($Q$8:$Q$17, \"*\" & LEFT(A23, 11) & \"*\", $T$8:$T$17))","v":""},{"$f":"IF(N23=\"SY\", T23, IF(N23=\"Tons\", V23+P23, \"\"))","v":""}]
[null,null,null,null,null,{"$f":"IF($J24=\"\",\"\",INDEX(Input!$A$5:$H$24,MATCH($A24&$J24,Input!$A$5:$A$24&Input!$G$5:$G$24,0),2))","v":""},{"$f":"IF($J24=\"\",\"\",INDEX(Input!$A$5:$H$24,MATCH($A24&$J24,Input!$A$5:$A$24&Input!$G$5:$G$24,0),3))","v":""},{"$f":"IF($J24=\"\",\"\",INDEX(Input!$A$5:$H$24,MATCH($A24&$J24,Input!$A$5:$A$24&Input!$G$5:$G$24,0),4))","v":""},{"$f":"IF($J24=\"\",\"\",INDEX(Input!$A$5:$H$24,MATCH($A24&$J24,Input!$A$5:$A$24&Input!$G$5:$G$24,0),5))","v":""},null,null,null,null,{"$f":"IF($A24=\"\",\"\",OFFSET(Input!F$4,MATCH($A24,Input!$A$5:$A$24,0),0))","v":""},"",null,{"$f":"IF(N24=\"SY\", V24, IF(N24=\"Tons\", O24-P24, \"\"))","v":""},"\\",{"$f":"IF(A24=\"\",1,IF(ISERROR(MATCH(R24,Input!L$5:L$24,0)),2,1))","v":1},"",null,{"$f":"IF(A24=\"\", \"\", SUMIF($Q$8:$Q$17, \"*\" & LEFT(A24, 11) & \"*\", $T$8:$T$17))","v":""},{"$f":"IF(N24=\"SY\", T24, IF(N24=\"Tons\", V24+P24, \"\"))","v":""}]
[null,null,null,null,null,{"$f":"IF($J25=\"\",\"\",INDEX(Input!$A$5:$H$24,MATCH($A25&$J25,Input!$A$5:$A$24&Input!$G$5:$G$24,0),2))","v":""},{"$f":"IF($J25=\"\",\"\",INDEX(Input!$A$5:$H$24,MATCH($A25&$J25,Input!$A$5:$A$24&Input!$G$5:$G$24,0),3))","v":""},{"$f":"IF($J25=\"\",\"\",INDEX(Input!$A$5:$H$24,MATCH($A25&$J25,Input!$A$5:$A$24&Input!$G$5:$G$24,0),4))","v":""},{"$f":"IF($J25=\"\",\"\",INDEX(Input!$A$5:$H$24,MATCH($A25&$J25,Input!$A$5:$A$24&Input!$G$5:$G$24,0),5))","v":""},null,null,null,null,{"$f":"IF($A25=\"\",\"\",OFFSET(Input!F$4,MATCH($A25,Input!$A$5:$A$24,0),0))","v":""},"",null,"","\\",{"$f":"IF(A25=\"\",1,IF(ISERROR(MATCH(R25,Input!L$5:L$24,0)),2,1))","v":1},"",null,"",""]
[null,null,null,null,null,null,null,null,null,null,null,null,null,null,null,null,null,null,null,null,null,"",{"$f":"IF(N26=\"SY\", T26, IF(N26=\"Tons\", V26+P26, \"\"))","v":""},{"$f":"IF(A26=\"\", \"\", SUMIF($Q$8:$Q$17, \"*\" & LEFT(A26, 11) & \"*\", $S$8:$S$17))","v":""},{"$f":"IF(N26=\"SY\",X26,\"\")","v":""},{"$f":"IF(A26=\"\", \"\", SUMIF($Q$8:$Q$17, \"*\" & LEFT(A26, 11) & \"*\", $T$8:$T$17))","v":""}]
["Hot Box Sample",null,null,null,null,null,null,null,null,null,"Mat Temperatures °F"]
[null,"Test A","Test B","Test C","Test D","Test E",null,null,null,null,"Time","Temp"]
[" Hot Box ID Number  ",null,null,null,null,null,null,null,null,null,"7:00"]
["Hot Box Sample Tons: ",null,null,null,null,null,null,null,null,null,"9:00",null,null,null,"Intended Thickness:"]
[" Time: ",null,null,null,null,null,null,null,null,null,"11:00",null,null,null,"Cores Waived?"]
[" Station/MP: ",null,null,null,null,null,null,null,null,null,"1:00",null,null,null,"Small Quantity Statement?"]
["Bar Code ID.:",null,null,null,null,null,null,null,null,null,"3:00",null,null,null,"Scale Check Done?"]
["Compaction Temp. °F: ",null,null,null,null,null,null,null,null,null,"5:00",null,null,null,"Tack Tickets Today?"]
[null,null,null,null,null,null,null,null,null,null,"7:00"]
["The Below Comments should show up on the plant report"]
["Comments:"]
[]
[]
["The Below Notes are for the CPI from the field or Plant Monitor"]
["Notes:"]
[]
[]
["RANDOM CORE LOCATIONS"]
[null,null,null,null,null,null,null,"Core #","Station","Offset,ft","Joint Station","Lane"]
[null,null,null,null,null,null,null,1]
[null,null,null,null,null,null,null,2]
[null,null,null,null,null,null,null,3]
[null,null,null,null,null,null,null,4]
[null,null,null,null,null,null,null,5]
[null,null,null,null,null,null,null,6]
[null,null,null,null,null,null,null,7]
[null,null,null,null,null,null,null,8]
[]
[null,null,null,null,null,null,null,null,null,null,"Joint Sublot Size, ft"]
[null,null,null,null,null,null,null,null,null,null,0]
[]
[]
[]
[]
[]
[]
[]
[]
[]
[]
[]
[]
[]
[]
[]
[]
[]
[]
[]
[]
[]
[]
[]
[]
[]
[]
[]
[]
[]
[]
[]
[]
[]
[]
[]
[]
[]
[]
[]
[]
[false]

{"sheet":"69","index":84,"n_rows":97,"n_cols":26,"rows_kept":97,"cut":false,"hidden":false,"merged":[[50,11,50,13],[51,11,51,13],[52,11,52,13],[44,11,44,13],[45,11,45,13],[46,11,46,13],[47,11,47,13],[48,11,48,13],[49,11,49,13],[43,0,43,16],[25,0,25,1],[26,0,26,5],[26,20,26,23],[26,25,26,27],[34,2,34,4],[35,0,35,5],[36,1,36,14],[37,0,37,14],[39,0,39,5],[40,1,40,14],[41,0,41,14],[23,0,23,1],[23,2,23,4],[23,9,23,12],[24,0,24,1],[24,2,24,4],[24,9,24,12],[21,0,21,1],[21,2,21,4],[21,9,21,12],[22,0,22,1],[22,2,22,4],[22,9,22,12],[19,0,19,1],[19,2,19,4],[19,9,19,12],[20,0,20,1],[20,2,20,4],[20,9,20,12],[18,0,18,16],[6,14,6,15],[7,14,7,15],[8,14,8,15],[9,14,9,15],[10,14,10,15],[11,14,11,15],[12,14,12,15],[13,14,13,15],[14,14,14,15],[15,14,15,15],[16,14,16,15],[1,0,1,16],[4,0,4,15],[5,4,5,5],[5,8,5,9],[5,11,5,12],[5,13,5,15]]}
[]
["Iowa DOT HMA Field Report"]
["Date :"]
["Item No.('s)"]
["PLACEMENT RECORD",null,null,null,null,null,null,null,null,null,null,null,null,null,null,null,null,null,null,null,null,{"$f":"SUBSTITUTE(A21 & \"\\\" & J21,\"\"\"\",\"\")","v":"\\"}]
[null,null,null,null,"Additional width to DEDUCT from Field Voids",null,null,null,"Placed Density (Pounds/CF)=",null,150,"Overwritten on the \"Summary\" Tab",null,"ONLY ONE (1) MIX DESIGN PER DFR OTHERWISE IT WILL NOT IMPORT INTO THE PLANT REPORT PROPERLY",null,null,null,null,null,null,null,{"$f":"SUBSTITUTE(A22 & \"\\\" & J22,\"\"\"\",\"\")","v":"\\"}]
["From Station"," To Station","Lane","ML or Widening Placement Width","Additional Width (ft) ","Thickness (in)","Total Length Placed (FT)","\"Pay\"  Est \"SY\"","Thickness (inches)","Calculated Field Voids Tons","Placed Tons            (Not including Waste)","% Yield","SY to be PAID (If Diff. than Est SY)","Mix Design No.","Bid Item/ Project No.",null,null,null,"This uses the correct SY #, if Green is blank uses Est. SY","Adds up the Tons",null,"\\"]
[null,null,null,null,null,null,{"$f":"IF(OR(A8=\"\",B8=\"\"),0,IF($A$97=TRUE,ABS(B8-A8)*5280,ABS(VALUE(SUBSTITUTE(A8,\"+\",\"\"))-VALUE(SUBSTITUTE(B8,\"+\",\"\")))))","v":0},{"$f":"IF(D8=\"\",\"\",G8*(D8+E8)/9)","v":""},null,{"$f":"IF(I8=\"\",\"\",(G8)*(D8+E8)*I8/12*$K$6/2000)","v":""},null,{"$f":"IF(K8=\"\",\"\",K8/J8*100)","v":""},null,null,null,null,{"$f":"O8 & \"\\\" & N8","v":"\\"},{"$f":"IF(AND(A8=\"\",B8=\"\",C8=\"\",D8=\"\"),1,IF(OR(O8=\"\",N8=\"\"),2,IF(ISERROR(MATCH(Q8,Input!M$5:M$24,0)),2,1)))","v":1},{"$f":"IF(M8<>\"\", M8, H8)","v":""},{"$f":"K8","v":0},null,"\\"]
[null,null,null,null,null,null,{"$f":"IF(OR(A9=\"\",B9=\"\"),0,IF($A$97=TRUE,ABS(B9-A9)*5280,ABS(VALUE(SUBSTITUTE(A9,\"+\",\"\"))-VALUE(SUBSTITUTE(B9,\"+\",\"\")))))","v":0},{"$f":"IF(D9=\"\",\"\",G9*(D9+E9)/9)","v":""},null,"",null,{"$f":"IF(K9=\"\",\"\",K9/J9*100)","v":""},null,null,null,null,{"$f":"O9 & \"\\\" & N9","v":"\\"},{"$f":"IF(AND(A9=\"\",B9=\"\",C9=\"\",D9=\"\"),1,IF(OR(O9=\"\",N9=\"\"),2,IF(ISERROR(MATCH(Q9,Input!M$5:M$24,0)),2,1)))","v":1},{"$f":"IF(M9<>\"\", M9, H9)","v":""},{"$f":"K9","v":0},null,"\\"]
[null,null,null,null,null,null,0,"",null,"",null,"",null,null,null,null,"\\",{"$f":"IF(AND(A10=\"\",B10=\"\",C10=\"\",D10=\"\"),1,IF(OR(O10=\"\",N10=\"\"),2,IF(ISERROR(MATCH(Q10,Input!M$5:M$24,0)),2,1)))","v":1},{"$f":"IF(M10<>\"\", M10, H10)","v":""},0]
[null,null,null,null,null,null,0,"",null,"",null,"",null,null,null,null,"\\",{"$f":"IF(AND(A11=\"\",B11=\"\",C11=\"\",D11=\"\"),1,IF(OR(O11=\"\",N11=\"\"),2,IF(ISERROR(MATCH(Q11,Input!M$5:M$24,0)),2,1)))","v":1},"",0]
[null,null,null,null,null,null,0,"",null,"",null,"",null,null,null,null,"\\",{"$f":"IF(AND(A12=\"\",B12=\"\",C12=\"\",D12=\"\"),1,IF(OR(O12=\"\",N12=\"\"),2,IF(ISERROR(MATCH(Q12,Input!M$5:M$24,0)),2,1)))","v":1},"",0]
[null,null,null,null,null,null,0,"",null,"",null,"",null,null,null,null,"\\",{"$f":"IF(AND(A13=\"\",B13=\"\",C13=\"\",D13=\"\"),1,IF(OR(O13=\"\",N13=\"\"),2,IF(ISERROR(MATCH(Q13,Input!M$5:M$24,0)),2,1)))","v":1},"",0]
[null,null,null,null,null,null,0,"",null,"",null,"",null,null,null,null,"\\",{"$f":"IF(AND(A14=\"\",B14=\"\",C14=\"\",D14=\"\"),1,IF(OR(O14=\"\",N14=\"\"),2,IF(ISERROR(MATCH(Q14,Input!M$5:M$24,0)),2,1)))","v":1},"",0]
[null,null,null,null,null,null,0,"",null,"",null,"",null,null,null,null,"\\",{"$f":"IF(AND(A15=\"\",B15=\"\",C15=\"\",D15=\"\"),1,IF(OR(O15=\"\",N15=\"\"),2,IF(ISERROR(MATCH(Q15,Input!M$5:M$24,0)),2,1)))","v":1},"",0]
[null,null,null,null,null,null,0,"",null,"",null,"",null,null,null,null,"\\",{"$f":"IF(AND(A16=\"\",B16=\"\",C16=\"\",D16=\"\"),1,IF(OR(O16=\"\",N16=\"\"),2,IF(ISERROR(MATCH(Q16,Input!M$5:M$24,0)),2,1)))","v":1},"",0]
[null,null,null,null,null,null,0,"",null,"",null,"",null,null,null,null,"\\",{"$f":"IF(AND(A17=\"\",B17=\"\",C17=\"\",D17=\"\"),1,IF(OR(O17=\"\",N17=\"\"),2,IF(ISERROR(MATCH(Q17,Input!M$5:M$24,0)),2,1)))","v":1},"",0]
[]
["TANK SHEET"]
["Bid Item (In Order of Placement)",null,"Today's Placement",null,null,"Bid Item Plan Quantity","Plan Thickness (in)","Contract Mix Price","Contract Binder Price","Project Number",null,null,null,"Mix Pay Units","Mix Delivered to Road\n(Ton or SY)","Waste On Road (Ton)\nNO waste for SY Items","Tons Placed - Waste",null,null,"This adds up column S as it depends if the Est SY is filled out or the SY",null,"Use this Column for SY for the Q column","Uses this Value for Mix on Road"]
[null,null,null,null,null,{"$f":"IF($J21=\"\",\"\",INDEX(Input!$A$5:$H$24,MATCH($A21&$J21,Input!$A$5:$A$24&Input!$G$5:$G$24,0),2))","v":""},{"$f":"IF($J21=\"\",\"\",INDEX(Input!$A$5:$H$24,MATCH($A21&$J21,Input!$A$5:$A$24&Input!$G$5:$G$24,0),3))","v":""},{"$f":"IF($J21=\"\",\"\",INDEX(Input!$A$5:$H$24,MATCH($A21&$J21,Input!$A$5:$A$24&Input!$G$5:$G$24,0),4))","v":""},{"$f":"IF($J21=\"\",\"\",INDEX(Input!$A$5:$H$24,MATCH($A21&$J21,Input!$A$5:$A$24&Input!$G$5:$G$24,0),5))","v":""},null,null,null,null,{"$f":"IF($A21=\"\",\"\",OFFSET(Input!F$4,MATCH($A21,Input!$A$5:$A$24,0),0))","v":""},{"$f":"IF(N21=\"SY\", T21, IF(N21=\"Tons\", W21, \"\"))","v":""},null,{"$f":"IF(N21=\"SY\", V21, IF(N21=\"Tons\", O21-P21, \"\"))","v":""},{"$f":"SUBSTITUTE(A21 & \"\\\" & J21,\"\"\"\",\"\")","v":"\\"},{"$f":"IF(A21=\"\",1,IF(ISERROR(MATCH(R21,Input!L$5:L$24,0)),2,1))","v":1},{"$f":"IF(A21=\"\", \"\", SUMIF($Q$8:$Q$17, \"*\" & LEFT(A21, 11) & \"*\", $S$8:$S$17))","v":""},null,{"$f":"IF(A21=\"\", \"\", SUMIF($Q$8:$Q$17, \"*\" & LEFT(A21, 11) & \"*\", $T$8:$T$17))","v":""},{"$f":"IF(N21=\"SY\", T21, IF(N21=\"Tons\", V21+P21, \"\"))","v":""}]
[null,null,null,null,null,{"$f":"IF($J22=\"\",\"\",INDEX(Input!$A$5:$H$24,MATCH($A22&$J22,Input!$A$5:$A$24&Input!$G$5:$G$24,0),2))","v":""},{"$f":"IF($J22=\"\",\"\",INDEX(Input!$A$5:$H$24,MATCH($A22&$J22,Input!$A$5:$A$24&Input!$G$5:$G$24,0),3))","v":""},{"$f":"IF($J22=\"\",\"\",INDEX(Input!$A$5:$H$24,MATCH($A22&$J22,Input!$A$5:$A$24&Input!$G$5:$G$24,0),4))","v":""},{"$f":"IF($J22=\"\",\"\",INDEX(Input!$A$5:$H$24,MATCH($A22&$J22,Input!$A$5:$A$24&Input!$G$5:$G$24,0),5))","v":""},null,null,null,null,{"$f":"IF($A22=\"\",\"\",OFFSET(Input!F$4,MATCH($A22,Input!$A$5:$A$24,0),0))","v":""},{"$f":"IF(N22=\"SY\", T22, IF(N22=\"Tons\", W22, \"\"))","v":""},null,{"$f":"IF(N22=\"SY\", V22, IF(N22=\"Tons\", O22-P22, \"\"))","v":""},{"$f":"SUBSTITUTE(A22 & \"\\\" & J22,\"\"\"\",\"\")","v":"\\"},{"$f":"IF(A22=\"\",1,IF(ISERROR(MATCH(R22,Input!L$5:L$24,0)),2,1))","v":1},{"$f":"IF(A22=\"\", \"\", SUMIF($Q$8:$Q$17, \"*\" & LEFT(A22, 11) & \"*\", $S$8:$S$17))","v":""},null,{"$f":"IF(A22=\"\", \"\", SUMIF($Q$8:$Q$17, \"*\" & LEFT(A22, 11) & \"*\", $T$8:$T$17))","v":""},{"$f":"IF(N22=\"SY\", T22, IF(N22=\"Tons\", V22+P22, \"\"))","v":""}]
[null,null,null,null,null,{"$f":"IF($J23=\"\",\"\",INDEX(Input!$A$5:$H$24,MATCH($A23&$J23,Input!$A$5:$A$24&Input!$G$5:$G$24,0),2))","v":""},{"$f":"IF($J23=\"\",\"\",INDEX(Input!$A$5:$H$24,MATCH($A23&$J23,Input!$A$5:$A$24&Input!$G$5:$G$24,0),3))","v":""},{"$f":"IF($J23=\"\",\"\",INDEX(Input!$A$5:$H$24,MATCH($A23&$J23,Input!$A$5:$A$24&Input!$G$5:$G$24,0),4))","v":""},{"$f":"IF($J23=\"\",\"\",INDEX(Input!$A$5:$H$24,MATCH($A23&$J23,Input!$A$5:$A$24&Input!$G$5:$G$24,0),5))","v":""},null,null,null,null,{"$f":"IF($A23=\"\",\"\",OFFSET(Input!F$4,MATCH($A23,Input!$A$5:$A$24,0),0))","v":""},{"$f":"IF(N23=\"SY\", T23, IF(N23=\"Tons\", W23, \"\"))","v":""},null,{"$f":"IF(N23=\"SY\", V23, IF(N23=\"Tons\", O23-P23, \"\"))","v":""},"\\",{"$f":"IF(A23=\"\",1,IF(ISERROR(MATCH(R23,Input!L$5:L$24,0)),2,1))","v":1},{"$f":"IF(A23=\"\", \"\", SUMIF($Q$8:$Q$17, \"*\" & LEFT(A23, 11) & \"*\", $S$8:$S$17))","v":""},null,{"$f":"IF(A23=\"\", \"\", SUMIF($Q$8:$Q$17, \"*\" & LEFT(A23, 11) & \"*\", $T$8:$T$17))","v":""},{"$f":"IF(N23=\"SY\", T23, IF(N23=\"Tons\", V23+P23, \"\"))","v":""}]
[null,null,null,null,null,{"$f":"IF($J24=\"\",\"\",INDEX(Input!$A$5:$H$24,MATCH($A24&$J24,Input!$A$5:$A$24&Input!$G$5:$G$24,0),2))","v":""},{"$f":"IF($J24=\"\",\"\",INDEX(Input!$A$5:$H$24,MATCH($A24&$J24,Input!$A$5:$A$24&Input!$G$5:$G$24,0),3))","v":""},{"$f":"IF($J24=\"\",\"\",INDEX(Input!$A$5:$H$24,MATCH($A24&$J24,Input!$A$5:$A$24&Input!$G$5:$G$24,0),4))","v":""},{"$f":"IF($J24=\"\",\"\",INDEX(Input!$A$5:$H$24,MATCH($A24&$J24,Input!$A$5:$A$24&Input!$G$5:$G$24,0),5))","v":""},null,null,null,null,{"$f":"IF($A24=\"\",\"\",OFFSET(Input!F$4,MATCH($A24,Input!$A$5:$A$24,0),0))","v":""},"",null,{"$f":"IF(N24=\"SY\", V24, IF(N24=\"Tons\", O24-P24, \"\"))","v":""},"\\",{"$f":"IF(A24=\"\",1,IF(ISERROR(MATCH(R24,Input!L$5:L$24,0)),2,1))","v":1},"",null,{"$f":"IF(A24=\"\", \"\", SUMIF($Q$8:$Q$17, \"*\" & LEFT(A24, 11) & \"*\", $T$8:$T$17))","v":""},{"$f":"IF(N24=\"SY\", T24, IF(N24=\"Tons\", V24+P24, \"\"))","v":""}]
[null,null,null,null,null,{"$f":"IF($J25=\"\",\"\",INDEX(Input!$A$5:$H$24,MATCH($A25&$J25,Input!$A$5:$A$24&Input!$G$5:$G$24,0),2))","v":""},{"$f":"IF($J25=\"\",\"\",INDEX(Input!$A$5:$H$24,MATCH($A25&$J25,Input!$A$5:$A$24&Input!$G$5:$G$24,0),3))","v":""},{"$f":"IF($J25=\"\",\"\",INDEX(Input!$A$5:$H$24,MATCH($A25&$J25,Input!$A$5:$A$24&Input!$G$5:$G$24,0),4))","v":""},{"$f":"IF($J25=\"\",\"\",INDEX(Input!$A$5:$H$24,MATCH($A25&$J25,Input!$A$5:$A$24&Input!$G$5:$G$24,0),5))","v":""},null,null,null,null,{"$f":"IF($A25=\"\",\"\",OFFSET(Input!F$4,MATCH($A25,Input!$A$5:$A$24,0),0))","v":""},"",null,"","\\",{"$f":"IF(A25=\"\",1,IF(ISERROR(MATCH(R25,Input!L$5:L$24,0)),2,1))","v":1},"",null,"",""]
[null,null,null,null,null,null,null,null,null,null,null,null,null,null,null,null,null,null,null,null,null,"",{"$f":"IF(N26=\"SY\", T26, IF(N26=\"Tons\", V26+P26, \"\"))","v":""},{"$f":"IF(A26=\"\", \"\", SUMIF($Q$8:$Q$17, \"*\" & LEFT(A26, 11) & \"*\", $S$8:$S$17))","v":""},{"$f":"IF(N26=\"SY\",X26,\"\")","v":""},{"$f":"IF(A26=\"\", \"\", SUMIF($Q$8:$Q$17, \"*\" & LEFT(A26, 11) & \"*\", $T$8:$T$17))","v":""}]
["Hot Box Sample",null,null,null,null,null,null,null,null,null,"Mat Temperatures °F"]
[null,"Test A","Test B","Test C","Test D","Test E",null,null,null,null,"Time","Temp"]
[" Hot Box ID Number  ",null,null,null,null,null,null,null,null,null,"7:00"]
["Hot Box Sample Tons: ",null,null,null,null,null,null,null,null,null,"9:00",null,null,null,"Intended Thickness:"]
[" Time: ",null,null,null,null,null,null,null,null,null,"11:00",null,null,null,"Cores Waived?"]
[" Station/MP: ",null,null,null,null,null,null,null,null,null,"1:00",null,null,null,"Small Quantity Statement?"]
["Bar Code ID.:",null,null,null,null,null,null,null,null,null,"3:00",null,null,null,"Scale Check Done?"]
["Compaction Temp. °F: ",null,null,null,null,null,null,null,null,null,"5:00",null,null,null,"Tack Tickets Today?"]
[null,null,null,null,null,null,null,null,null,null,"7:00"]
["The Below Comments should show up on the plant report"]
["Comments:"]
[]
[]
["The Below Notes are for the CPI from the field or Plant Monitor"]
["Notes:"]
[]
[]
["RANDOM CORE LOCATIONS"]
[null,null,null,null,null,null,null,"Core #","Station","Offset,ft","Joint Station","Lane"]
[null,null,null,null,null,null,null,1]
[null,null,null,null,null,null,null,2]
[null,null,null,null,null,null,null,3]
[null,null,null,null,null,null,null,4]
[null,null,null,null,null,null,null,5]
[null,null,null,null,null,null,null,6]
[null,null,null,null,null,null,null,7]
[null,null,null,null,null,null,null,8]
[]
[null,null,null,null,null,null,null,null,null,null,"Joint Sublot Size, ft"]
[null,null,null,null,null,null,null,null,null,null,0]
[]
[]
[]
[]
[]
[]
[]
[]
[]
[]
[]
[]
[]
[]
[]
[]
[]
[]
[]
[]
[]
[]
[]
[]
[]
[]
[]
[]
[]
[]
[]
[]
[]
[]
[]
[]
[]
[]
[]
[]
[false]

{"sheet":"70","index":85,"n_rows":97,"n_cols":26,"rows_kept":97,"cut":false,"hidden":false,"merged":[[50,11,50,13],[51,11,51,13],[52,11,52,13],[44,11,44,13],[45,11,45,13],[46,11,46,13],[47,11,47,13],[48,11,48,13],[49,11,49,13],[43,0,43,16],[25,0,25,1],[26,0,26,5],[26,20,26,23],[26,25,26,27],[34,2,34,4],[35,0,35,5],[36,1,36,14],[37,0,37,14],[39,0,39,5],[40,1,40,14],[41,0,41,14],[23,0,23,1],[23,2,23,4],[23,9,23,12],[24,0,24,1],[24,2,24,4],[24,9,24,12],[21,0,21,1],[21,2,21,4],[21,9,21,12],[22,0,22,1],[22,2,22,4],[22,9,22,12],[19,0,19,1],[19,2,19,4],[19,9,19,12],[20,0,20,1],[20,2,20,4],[20,9,20,12],[18,0,18,16],[6,14,6,15],[7,14,7,15],[8,14,8,15],[9,14,9,15],[10,14,10,15],[11,14,11,15],[12,14,12,15],[13,14,13,15],[14,14,14,15],[15,14,15,15],[16,14,16,15],[1,0,1,16],[4,0,4,15],[5,4,5,5],[5,8,5,9],[5,11,5,12],[5,13,5,15]]}
[]
["Iowa DOT HMA Field Report"]
["Date :"]
["Item No.('s)"]
["PLACEMENT RECORD",null,null,null,null,null,null,null,null,null,null,null,null,null,null,null,null,null,null,null,null,{"$f":"SUBSTITUTE(A21 & \"\\\" & J21,\"\"\"\",\"\")","v":"\\"}]
[null,null,null,null,"Additional width to DEDUCT from Field Voids",null,null,null,"Placed Density (Pounds/CF)=",null,150,"Overwritten on the \"Summary\" Tab",null,"ONLY ONE (1) MIX DESIGN PER DFR OTHERWISE IT WILL NOT IMPORT INTO THE PLANT REPORT PROPERLY",null,null,null,null,null,null,null,{"$f":"SUBSTITUTE(A22 & \"\\\" & J22,\"\"\"\",\"\")","v":"\\"}]
["From Station"," To Station","Lane","ML or Widening Placement Width","Additional Width (ft) ","Thickness (in)","Total Length Placed (FT)","\"Pay\"  Est \"SY\"","Thickness (inches)","Calculated Field Voids Tons","Placed Tons            (Not including Waste)","% Yield","SY to be PAID (If Diff. than Est SY)","Mix Design No.","Bid Item/ Project No.",null,null,null,"This uses the correct SY #, if Green is blank uses Est. SY","Adds up the Tons",null,"\\"]
[null,null,null,null,null,null,{"$f":"IF(OR(A8=\"\",B8=\"\"),0,IF($A$97=TRUE,ABS(B8-A8)*5280,ABS(VALUE(SUBSTITUTE(A8,\"+\",\"\"))-VALUE(SUBSTITUTE(B8,\"+\",\"\")))))","v":0},{"$f":"IF(D8=\"\",\"\",G8*(D8+E8)/9)","v":""},null,{"$f":"IF(I8=\"\",\"\",(G8)*(D8+E8)*I8/12*$K$6/2000)","v":""},null,{"$f":"IF(K8=\"\",\"\",K8/J8*100)","v":""},null,null,null,null,{"$f":"O8 & \"\\\" & N8","v":"\\"},{"$f":"IF(AND(A8=\"\",B8=\"\",C8=\"\",D8=\"\"),1,IF(OR(O8=\"\",N8=\"\"),2,IF(ISERROR(MATCH(Q8,Input!M$5:M$24,0)),2,1)))","v":1},{"$f":"IF(M8<>\"\", M8, H8)","v":""},{"$f":"K8","v":0},null,"\\"]
[null,null,null,null,null,null,{"$f":"IF(OR(A9=\"\",B9=\"\"),0,IF($A$97=TRUE,ABS(B9-A9)*5280,ABS(VALUE(SUBSTITUTE(A9,\"+\",\"\"))-VALUE(SUBSTITUTE(B9,\"+\",\"\")))))","v":0},{"$f":"IF(D9=\"\",\"\",G9*(D9+E9)/9)","v":""},null,"",null,{"$f":"IF(K9=\"\",\"\",K9/J9*100)","v":""},null,null,null,null,{"$f":"O9 & \"\\\" & N9","v":"\\"},{"$f":"IF(AND(A9=\"\",B9=\"\",C9=\"\",D9=\"\"),1,IF(OR(O9=\"\",N9=\"\"),2,IF(ISERROR(MATCH(Q9,Input!M$5:M$24,0)),2,1)))","v":1},{"$f":"IF(M9<>\"\", M9, H9)","v":""},{"$f":"K9","v":0},null,"\\"]
[null,null,null,null,null,null,0,"",null,"",null,"",null,null,null,null,"\\",{"$f":"IF(AND(A10=\"\",B10=\"\",C10=\"\",D10=\"\"),1,IF(OR(O10=\"\",N10=\"\"),2,IF(ISERROR(MATCH(Q10,Input!M$5:M$24,0)),2,1)))","v":1},{"$f":"IF(M10<>\"\", M10, H10)","v":""},0]
[null,null,null,null,null,null,0,"",null,"",null,"",null,null,null,null,"\\",{"$f":"IF(AND(A11=\"\",B11=\"\",C11=\"\",D11=\"\"),1,IF(OR(O11=\"\",N11=\"\"),2,IF(ISERROR(MATCH(Q11,Input!M$5:M$24,0)),2,1)))","v":1},"",0]
[null,null,null,null,null,null,0,"",null,"",null,"",null,null,null,null,"\\",{"$f":"IF(AND(A12=\"\",B12=\"\",C12=\"\",D12=\"\"),1,IF(OR(O12=\"\",N12=\"\"),2,IF(ISERROR(MATCH(Q12,Input!M$5:M$24,0)),2,1)))","v":1},"",0]
[null,null,null,null,null,null,0,"",null,"",null,"",null,null,null,null,"\\",{"$f":"IF(AND(A13=\"\",B13=\"\",C13=\"\",D13=\"\"),1,IF(OR(O13=\"\",N13=\"\"),2,IF(ISERROR(MATCH(Q13,Input!M$5:M$24,0)),2,1)))","v":1},"",0]
[null,null,null,null,null,null,0,"",null,"",null,"",null,null,null,null,"\\",{"$f":"IF(AND(A14=\"\",B14=\"\",C14=\"\",D14=\"\"),1,IF(OR(O14=\"\",N14=\"\"),2,IF(ISERROR(MATCH(Q14,Input!M$5:M$24,0)),2,1)))","v":1},"",0]
[null,null,null,null,null,null,0,"",null,"",null,"",null,null,null,null,"\\",{"$f":"IF(AND(A15=\"\",B15=\"\",C15=\"\",D15=\"\"),1,IF(OR(O15=\"\",N15=\"\"),2,IF(ISERROR(MATCH(Q15,Input!M$5:M$24,0)),2,1)))","v":1},"",0]
[null,null,null,null,null,null,0,"",null,"",null,"",null,null,null,null,"\\",{"$f":"IF(AND(A16=\"\",B16=\"\",C16=\"\",D16=\"\"),1,IF(OR(O16=\"\",N16=\"\"),2,IF(ISERROR(MATCH(Q16,Input!M$5:M$24,0)),2,1)))","v":1},"",0]
[null,null,null,null,null,null,0,"",null,"",null,"",null,null,null,null,"\\",{"$f":"IF(AND(A17=\"\",B17=\"\",C17=\"\",D17=\"\"),1,IF(OR(O17=\"\",N17=\"\"),2,IF(ISERROR(MATCH(Q17,Input!M$5:M$24,0)),2,1)))","v":1},"",0]
[]
["TANK SHEET"]
["Bid Item (In Order of Placement)",null,"Today's Placement",null,null,"Bid Item Plan Quantity","Plan Thickness (in)","Contract Mix Price","Contract Binder Price","Project Number",null,null,null,"Mix Pay Units","Mix Delivered to Road\n(Ton or SY)","Waste On Road (Ton)\nNO waste for SY Items","Tons Placed - Waste",null,null,"This adds up column S as it depends if the Est SY is filled out or the SY",null,"Use this Column for SY for the Q column","Uses this Value for Mix on Road"]
[null,null,null,null,null,{"$f":"IF($J21=\"\",\"\",INDEX(Input!$A$5:$H$24,MATCH($A21&$J21,Input!$A$5:$A$24&Input!$G$5:$G$24,0),2))","v":""},{"$f":"IF($J21=\"\",\"\",INDEX(Input!$A$5:$H$24,MATCH($A21&$J21,Input!$A$5:$A$24&Input!$G$5:$G$24,0),3))","v":""},{"$f":"IF($J21=\"\",\"\",INDEX(Input!$A$5:$H$24,MATCH($A21&$J21,Input!$A$5:$A$24&Input!$G$5:$G$24,0),4))","v":""},{"$f":"IF($J21=\"\",\"\",INDEX(Input!$A$5:$H$24,MATCH($A21&$J21,Input!$A$5:$A$24&Input!$G$5:$G$24,0),5))","v":""},null,null,null,null,{"$f":"IF($A21=\"\",\"\",OFFSET(Input!F$4,MATCH($A21,Input!$A$5:$A$24,0),0))","v":""},{"$f":"IF(N21=\"SY\", T21, IF(N21=\"Tons\", W21, \"\"))","v":""},null,{"$f":"IF(N21=\"SY\", V21, IF(N21=\"Tons\", O21-P21, \"\"))","v":""},{"$f":"SUBSTITUTE(A21 & \"\\\" & J21,\"\"\"\",\"\")","v":"\\"},{"$f":"IF(A21=\"\",1,IF(ISERROR(MATCH(R21,Input!L$5:L$24,0)),2,1))","v":1},{"$f":"IF(A21=\"\", \"\", SUMIF($Q$8:$Q$17, \"*\" & LEFT(A21, 11) & \"*\", $S$8:$S$17))","v":""},null,{"$f":"IF(A21=\"\", \"\", SUMIF($Q$8:$Q$17, \"*\" & LEFT(A21, 11) & \"*\", $T$8:$T$17))","v":""},{"$f":"IF(N21=\"SY\", T21, IF(N21=\"Tons\", V21+P21, \"\"))","v":""}]
[null,null,null,null,null,{"$f":"IF($J22=\"\",\"\",INDEX(Input!$A$5:$H$24,MATCH($A22&$J22,Input!$A$5:$A$24&Input!$G$5:$G$24,0),2))","v":""},{"$f":"IF($J22=\"\",\"\",INDEX(Input!$A$5:$H$24,MATCH($A22&$J22,Input!$A$5:$A$24&Input!$G$5:$G$24,0),3))","v":""},{"$f":"IF($J22=\"\",\"\",INDEX(Input!$A$5:$H$24,MATCH($A22&$J22,Input!$A$5:$A$24&Input!$G$5:$G$24,0),4))","v":""},{"$f":"IF($J22=\"\",\"\",INDEX(Input!$A$5:$H$24,MATCH($A22&$J22,Input!$A$5:$A$24&Input!$G$5:$G$24,0),5))","v":""},null,null,null,null,{"$f":"IF($A22=\"\",\"\",OFFSET(Input!F$4,MATCH($A22,Input!$A$5:$A$24,0),0))","v":""},{"$f":"IF(N22=\"SY\", T22, IF(N22=\"Tons\", W22, \"\"))","v":""},null,{"$f":"IF(N22=\"SY\", V22, IF(N22=\"Tons\", O22-P22, \"\"))","v":""},{"$f":"SUBSTITUTE(A22 & \"\\\" & J22,\"\"\"\",\"\")","v":"\\"},{"$f":"IF(A22=\"\",1,IF(ISERROR(MATCH(R22,Input!L$5:L$24,0)),2,1))","v":1},{"$f":"IF(A22=\"\", \"\", SUMIF($Q$8:$Q$17, \"*\" & LEFT(A22, 11) & \"*\", $S$8:$S$17))","v":""},null,{"$f":"IF(A22=\"\", \"\", SUMIF($Q$8:$Q$17, \"*\" & LEFT(A22, 11) & \"*\", $T$8:$T$17))","v":""},{"$f":"IF(N22=\"SY\", T22, IF(N22=\"Tons\", V22+P22, \"\"))","v":""}]
[null,null,null,null,null,{"$f":"IF($J23=\"\",\"\",INDEX(Input!$A$5:$H$24,MATCH($A23&$J23,Input!$A$5:$A$24&Input!$G$5:$G$24,0),2))","v":""},{"$f":"IF($J23=\"\",\"\",INDEX(Input!$A$5:$H$24,MATCH($A23&$J23,Input!$A$5:$A$24&Input!$G$5:$G$24,0),3))","v":""},{"$f":"IF($J23=\"\",\"\",INDEX(Input!$A$5:$H$24,MATCH($A23&$J23,Input!$A$5:$A$24&Input!$G$5:$G$24,0),4))","v":""},{"$f":"IF($J23=\"\",\"\",INDEX(Input!$A$5:$H$24,MATCH($A23&$J23,Input!$A$5:$A$24&Input!$G$5:$G$24,0),5))","v":""},null,null,null,null,{"$f":"IF($A23=\"\",\"\",OFFSET(Input!F$4,MATCH($A23,Input!$A$5:$A$24,0),0))","v":""},{"$f":"IF(N23=\"SY\", T23, IF(N23=\"Tons\", W23, \"\"))","v":""},null,{"$f":"IF(N23=\"SY\", V23, IF(N23=\"Tons\", O23-P23, \"\"))","v":""},"\\",{"$f":"IF(A23=\"\",1,IF(ISERROR(MATCH(R23,Input!L$5:L$24,0)),2,1))","v":1},{"$f":"IF(A23=\"\", \"\", SUMIF($Q$8:$Q$17, \"*\" & LEFT(A23, 11) & \"*\", $S$8:$S$17))","v":""},null,{"$f":"IF(A23=\"\", \"\", SUMIF($Q$8:$Q$17, \"*\" & LEFT(A23, 11) & \"*\", $T$8:$T$17))","v":""},{"$f":"IF(N23=\"SY\", T23, IF(N23=\"Tons\", V23+P23, \"\"))","v":""}]
[null,null,null,null,null,{"$f":"IF($J24=\"\",\"\",INDEX(Input!$A$5:$H$24,MATCH($A24&$J24,Input!$A$5:$A$24&Input!$G$5:$G$24,0),2))","v":""},{"$f":"IF($J24=\"\",\"\",INDEX(Input!$A$5:$H$24,MATCH($A24&$J24,Input!$A$5:$A$24&Input!$G$5:$G$24,0),3))","v":""},{"$f":"IF($J24=\"\",\"\",INDEX(Input!$A$5:$H$24,MATCH($A24&$J24,Input!$A$5:$A$24&Input!$G$5:$G$24,0),4))","v":""},{"$f":"IF($J24=\"\",\"\",INDEX(Input!$A$5:$H$24,MATCH($A24&$J24,Input!$A$5:$A$24&Input!$G$5:$G$24,0),5))","v":""},null,null,null,null,{"$f":"IF($A24=\"\",\"\",OFFSET(Input!F$4,MATCH($A24,Input!$A$5:$A$24,0),0))","v":""},"",null,{"$f":"IF(N24=\"SY\", V24, IF(N24=\"Tons\", O24-P24, \"\"))","v":""},"\\",{"$f":"IF(A24=\"\",1,IF(ISERROR(MATCH(R24,Input!L$5:L$24,0)),2,1))","v":1},"",null,{"$f":"IF(A24=\"\", \"\", SUMIF($Q$8:$Q$17, \"*\" & LEFT(A24, 11) & \"*\", $T$8:$T$17))","v":""},{"$f":"IF(N24=\"SY\", T24, IF(N24=\"Tons\", V24+P24, \"\"))","v":""}]
[null,null,null,null,null,{"$f":"IF($J25=\"\",\"\",INDEX(Input!$A$5:$H$24,MATCH($A25&$J25,Input!$A$5:$A$24&Input!$G$5:$G$24,0),2))","v":""},{"$f":"IF($J25=\"\",\"\",INDEX(Input!$A$5:$H$24,MATCH($A25&$J25,Input!$A$5:$A$24&Input!$G$5:$G$24,0),3))","v":""},{"$f":"IF($J25=\"\",\"\",INDEX(Input!$A$5:$H$24,MATCH($A25&$J25,Input!$A$5:$A$24&Input!$G$5:$G$24,0),4))","v":""},{"$f":"IF($J25=\"\",\"\",INDEX(Input!$A$5:$H$24,MATCH($A25&$J25,Input!$A$5:$A$24&Input!$G$5:$G$24,0),5))","v":""},null,null,null,null,{"$f":"IF($A25=\"\",\"\",OFFSET(Input!F$4,MATCH($A25,Input!$A$5:$A$24,0),0))","v":""},"",null,"","\\",{"$f":"IF(A25=\"\",1,IF(ISERROR(MATCH(R25,Input!L$5:L$24,0)),2,1))","v":1},"",null,"",""]
[null,null,null,null,null,null,null,null,null,null,null,null,null,null,null,null,null,null,null,null,null,"",{"$f":"IF(N26=\"SY\", T26, IF(N26=\"Tons\", V26+P26, \"\"))","v":""},{"$f":"IF(A26=\"\", \"\", SUMIF($Q$8:$Q$17, \"*\" & LEFT(A26, 11) & \"*\", $S$8:$S$17))","v":""},{"$f":"IF(N26=\"SY\",X26,\"\")","v":""},{"$f":"IF(A26=\"\", \"\", SUMIF($Q$8:$Q$17, \"*\" & LEFT(A26, 11) & \"*\", $T$8:$T$17))","v":""}]
["Hot Box Sample",null,null,null,null,null,null,null,null,null,"Mat Temperatures °F"]
[null,"Test A","Test B","Test C","Test D","Test E",null,null,null,null,"Time","Temp"]
[" Hot Box ID Number  ",null,null,null,null,null,null,null,null,null,"7:00"]
["Hot Box Sample Tons: ",null,null,null,null,null,null,null,null,null,"9:00",null,null,null,"Intended Thickness:"]
[" Time: ",null,null,null,null,null,null,null,null,null,"11:00",null,null,null,"Cores Waived?"]
[" Station/MP: ",null,null,null,null,null,null,null,null,null,"1:00",null,null,null,"Small Quantity Statement?"]
["Bar Code ID.:",null,null,null,null,null,null,null,null,null,"3:00",null,null,null,"Scale Check Done?"]
["Compaction Temp. °F: ",null,null,null,null,null,null,null,null,null,"5:00",null,null,null,"Tack Tickets Today?"]
[null,null,null,null,null,null,null,null,null,null,"7:00"]
["The Below Comments should show up on the plant report"]
["Comments:"]
[]
[]
["The Below Notes are for the CPI from the field or Plant Monitor"]
["Notes:"]
[]
[]
["RANDOM CORE LOCATIONS"]
[null,null,null,null,null,null,null,"Core #","Station","Offset,ft","Joint Station","Lane"]
[null,null,null,null,null,null,null,1]
[null,null,null,null,null,null,null,2]
[null,null,null,null,null,null,null,3]
[null,null,null,null,null,null,null,4]
[null,null,null,null,null,null,null,5]
[null,null,null,null,null,null,null,6]
[null,null,null,null,null,null,null,7]
[null,null,null,null,null,null,null,8]
[]
[null,null,null,null,null,null,null,null,null,null,"Joint Sublot Size, ft"]
[null,null,null,null,null,null,null,null,null,null,0]
[]
[]
[]
[]
[]
[]
[]
[]
[]
[]
[]
[]
[]
[]
[]
[]
[]
[]
[]
[]
[]
[]
[]
[]
[]
[]
[]
[]
[]
[]
[]
[]
[]
[]
[]
[]
[]
[]
[]
[]
[false]

{"sheet":"71","index":86,"n_rows":97,"n_cols":26,"rows_kept":97,"cut":false,"hidden":false,"merged":[[50,11,50,13],[51,11,51,13],[52,11,52,13],[44,11,44,13],[45,11,45,13],[46,11,46,13],[47,11,47,13],[48,11,48,13],[49,11,49,13],[43,0,43,16],[25,0,25,1],[26,0,26,5],[26,20,26,23],[26,25,26,27],[34,2,34,4],[35,0,35,5],[36,1,36,14],[37,0,37,14],[39,0,39,5],[40,1,40,14],[41,0,41,14],[23,0,23,1],[23,2,23,4],[23,9,23,12],[24,0,24,1],[24,2,24,4],[24,9,24,12],[21,0,21,1],[21,2,21,4],[21,9,21,12],[22,0,22,1],[22,2,22,4],[22,9,22,12],[19,0,19,1],[19,2,19,4],[19,9,19,12],[20,0,20,1],[20,2,20,4],[20,9,20,12],[18,0,18,16],[6,14,6,15],[7,14,7,15],[8,14,8,15],[9,14,9,15],[10,14,10,15],[11,14,11,15],[12,14,12,15],[13,14,13,15],[14,14,14,15],[15,14,15,15],[16,14,16,15],[1,0,1,16],[4,0,4,15],[5,4,5,5],[5,8,5,9],[5,11,5,12],[5,13,5,15]]}
[]
["Iowa DOT HMA Field Report"]
["Date :"]
["Item No.('s)"]
["PLACEMENT RECORD",null,null,null,null,null,null,null,null,null,null,null,null,null,null,null,null,null,null,null,null,{"$f":"SUBSTITUTE(A21 & \"\\\" & J21,\"\"\"\",\"\")","v":"\\"}]
[null,null,null,null,"Additional width to DEDUCT from Field Voids",null,null,null,"Placed Density (Pounds/CF)=",null,150,"Overwritten on the \"Summary\" Tab",null,"ONLY ONE (1) MIX DESIGN PER DFR OTHERWISE IT WILL NOT IMPORT INTO THE PLANT REPORT PROPERLY",null,null,null,null,null,null,null,{"$f":"SUBSTITUTE(A22 & \"\\\" & J22,\"\"\"\",\"\")","v":"\\"}]
["From Station"," To Station","Lane","ML or Widening Placement Width","Additional Width (ft) ","Thickness (in)","Total Length Placed (FT)","\"Pay\"  Est \"SY\"","Thickness (inches)","Calculated Field Voids Tons","Placed Tons            (Not including Waste)","% Yield","SY to be PAID (If Diff. than Est SY)","Mix Design No.","Bid Item/ Project No.",null,null,null,"This uses the correct SY #, if Green is blank uses Est. SY","Adds up the Tons",null,"\\"]
[null,null,null,null,null,null,{"$f":"IF(OR(A8=\"\",B8=\"\"),0,IF($A$97=TRUE,ABS(B8-A8)*5280,ABS(VALUE(SUBSTITUTE(A8,\"+\",\"\"))-VALUE(SUBSTITUTE(B8,\"+\",\"\")))))","v":0},{"$f":"IF(D8=\"\",\"\",G8*(D8+E8)/9)","v":""},null,{"$f":"IF(I8=\"\",\"\",(G8)*(D8+E8)*I8/12*$K$6/2000)","v":""},null,{"$f":"IF(K8=\"\",\"\",K8/J8*100)","v":""},null,null,null,null,{"$f":"O8 & \"\\\" & N8","v":"\\"},{"$f":"IF(AND(A8=\"\",B8=\"\",C8=\"\",D8=\"\"),1,IF(OR(O8=\"\",N8=\"\"),2,IF(ISERROR(MATCH(Q8,Input!M$5:M$24,0)),2,1)))","v":1},{"$f":"IF(M8<>\"\", M8, H8)","v":""},{"$f":"K8","v":0},null,"\\"]
[null,null,null,null,null,null,{"$f":"IF(OR(A9=\"\",B9=\"\"),0,IF($A$97=TRUE,ABS(B9-A9)*5280,ABS(VALUE(SUBSTITUTE(A9,\"+\",\"\"))-VALUE(SUBSTITUTE(B9,\"+\",\"\")))))","v":0},{"$f":"IF(D9=\"\",\"\",G9*(D9+E9)/9)","v":""},null,"",null,{"$f":"IF(K9=\"\",\"\",K9/J9*100)","v":""},null,null,null,null,{"$f":"O9 & \"\\\" & N9","v":"\\"},{"$f":"IF(AND(A9=\"\",B9=\"\",C9=\"\",D9=\"\"),1,IF(OR(O9=\"\",N9=\"\"),2,IF(ISERROR(MATCH(Q9,Input!M$5:M$24,0)),2,1)))","v":1},{"$f":"IF(M9<>\"\", M9, H9)","v":""},{"$f":"K9","v":0},null,"\\"]
[null,null,null,null,null,null,0,"",null,"",null,"",null,null,null,null,"\\",{"$f":"IF(AND(A10=\"\",B10=\"\",C10=\"\",D10=\"\"),1,IF(OR(O10=\"\",N10=\"\"),2,IF(ISERROR(MATCH(Q10,Input!M$5:M$24,0)),2,1)))","v":1},{"$f":"IF(M10<>\"\", M10, H10)","v":""},0]
[null,null,null,null,null,null,0,"",null,"",null,"",null,null,null,null,"\\",{"$f":"IF(AND(A11=\"\",B11=\"\",C11=\"\",D11=\"\"),1,IF(OR(O11=\"\",N11=\"\"),2,IF(ISERROR(MATCH(Q11,Input!M$5:M$24,0)),2,1)))","v":1},"",0]
[null,null,null,null,null,null,0,"",null,"",null,"",null,null,null,null,"\\",{"$f":"IF(AND(A12=\"\",B12=\"\",C12=\"\",D12=\"\"),1,IF(OR(O12=\"\",N12=\"\"),2,IF(ISERROR(MATCH(Q12,Input!M$5:M$24,0)),2,1)))","v":1},"",0]
[null,null,null,null,null,null,0,"",null,"",null,"",null,null,null,null,"\\",{"$f":"IF(AND(A13=\"\",B13=\"\",C13=\"\",D13=\"\"),1,IF(OR(O13=\"\",N13=\"\"),2,IF(ISERROR(MATCH(Q13,Input!M$5:M$24,0)),2,1)))","v":1},"",0]
[null,null,null,null,null,null,0,"",null,"",null,"",null,null,null,null,"\\",{"$f":"IF(AND(A14=\"\",B14=\"\",C14=\"\",D14=\"\"),1,IF(OR(O14=\"\",N14=\"\"),2,IF(ISERROR(MATCH(Q14,Input!M$5:M$24,0)),2,1)))","v":1},"",0]
[null,null,null,null,null,null,0,"",null,"",null,"",null,null,null,null,"\\",{"$f":"IF(AND(A15=\"\",B15=\"\",C15=\"\",D15=\"\"),1,IF(OR(O15=\"\",N15=\"\"),2,IF(ISERROR(MATCH(Q15,Input!M$5:M$24,0)),2,1)))","v":1},"",0]
[null,null,null,null,null,null,0,"",null,"",null,"",null,null,null,null,"\\",{"$f":"IF(AND(A16=\"\",B16=\"\",C16=\"\",D16=\"\"),1,IF(OR(O16=\"\",N16=\"\"),2,IF(ISERROR(MATCH(Q16,Input!M$5:M$24,0)),2,1)))","v":1},"",0]
[null,null,null,null,null,null,0,"",null,"",null,"",null,null,null,null,"\\",{"$f":"IF(AND(A17=\"\",B17=\"\",C17=\"\",D17=\"\"),1,IF(OR(O17=\"\",N17=\"\"),2,IF(ISERROR(MATCH(Q17,Input!M$5:M$24,0)),2,1)))","v":1},"",0]
[]
["TANK SHEET"]
["Bid Item (In Order of Placement)",null,"Today's Placement",null,null,"Bid Item Plan Quantity","Plan Thickness (in)","Contract Mix Price","Contract Binder Price","Project Number",null,null,null,"Mix Pay Units","Mix Delivered to Road\n(Ton or SY)","Waste On Road (Ton)\nNO waste for SY Items","Tons Placed - Waste",null,null,"This adds up column S as it depends if the Est SY is filled out or the SY",null,"Use this Column for SY for the Q column","Uses this Value for Mix on Road"]
[null,null,null,null,null,{"$f":"IF($J21=\"\",\"\",INDEX(Input!$A$5:$H$24,MATCH($A21&$J21,Input!$A$5:$A$24&Input!$G$5:$G$24,0),2))","v":""},{"$f":"IF($J21=\"\",\"\",INDEX(Input!$A$5:$H$24,MATCH($A21&$J21,Input!$A$5:$A$24&Input!$G$5:$G$24,0),3))","v":""},{"$f":"IF($J21=\"\",\"\",INDEX(Input!$A$5:$H$24,MATCH($A21&$J21,Input!$A$5:$A$24&Input!$G$5:$G$24,0),4))","v":""},{"$f":"IF($J21=\"\",\"\",INDEX(Input!$A$5:$H$24,MATCH($A21&$J21,Input!$A$5:$A$24&Input!$G$5:$G$24,0),5))","v":""},null,null,null,null,{"$f":"IF($A21=\"\",\"\",OFFSET(Input!F$4,MATCH($A21,Input!$A$5:$A$24,0),0))","v":""},{"$f":"IF(N21=\"SY\", T21, IF(N21=\"Tons\", W21, \"\"))","v":""},null,{"$f":"IF(N21=\"SY\", V21, IF(N21=\"Tons\", O21-P21, \"\"))","v":""},{"$f":"SUBSTITUTE(A21 & \"\\\" & J21,\"\"\"\",\"\")","v":"\\"},{"$f":"IF(A21=\"\",1,IF(ISERROR(MATCH(R21,Input!L$5:L$24,0)),2,1))","v":1},{"$f":"IF(A21=\"\", \"\", SUMIF($Q$8:$Q$17, \"*\" & LEFT(A21, 11) & \"*\", $S$8:$S$17))","v":""},null,{"$f":"IF(A21=\"\", \"\", SUMIF($Q$8:$Q$17, \"*\" & LEFT(A21, 11) & \"*\", $T$8:$T$17))","v":""},{"$f":"IF(N21=\"SY\", T21, IF(N21=\"Tons\", V21+P21, \"\"))","v":""}]
[null,null,null,null,null,{"$f":"IF($J22=\"\",\"\",INDEX(Input!$A$5:$H$24,MATCH($A22&$J22,Input!$A$5:$A$24&Input!$G$5:$G$24,0),2))","v":""},{"$f":"IF($J22=\"\",\"\",INDEX(Input!$A$5:$H$24,MATCH($A22&$J22,Input!$A$5:$A$24&Input!$G$5:$G$24,0),3))","v":""},{"$f":"IF($J22=\"\",\"\",INDEX(Input!$A$5:$H$24,MATCH($A22&$J22,Input!$A$5:$A$24&Input!$G$5:$G$24,0),4))","v":""},{"$f":"IF($J22=\"\",\"\",INDEX(Input!$A$5:$H$24,MATCH($A22&$J22,Input!$A$5:$A$24&Input!$G$5:$G$24,0),5))","v":""},null,null,null,null,{"$f":"IF($A22=\"\",\"\",OFFSET(Input!F$4,MATCH($A22,Input!$A$5:$A$24,0),0))","v":""},{"$f":"IF(N22=\"SY\", T22, IF(N22=\"Tons\", W22, \"\"))","v":""},null,{"$f":"IF(N22=\"SY\", V22, IF(N22=\"Tons\", O22-P22, \"\"))","v":""},{"$f":"SUBSTITUTE(A22 & \"\\\" & J22,\"\"\"\",\"\")","v":"\\"},{"$f":"IF(A22=\"\",1,IF(ISERROR(MATCH(R22,Input!L$5:L$24,0)),2,1))","v":1},{"$f":"IF(A22=\"\", \"\", SUMIF($Q$8:$Q$17, \"*\" & LEFT(A22, 11) & \"*\", $S$8:$S$17))","v":""},null,{"$f":"IF(A22=\"\", \"\", SUMIF($Q$8:$Q$17, \"*\" & LEFT(A22, 11) & \"*\", $T$8:$T$17))","v":""},{"$f":"IF(N22=\"SY\", T22, IF(N22=\"Tons\", V22+P22, \"\"))","v":""}]
[null,null,null,null,null,{"$f":"IF($J23=\"\",\"\",INDEX(Input!$A$5:$H$24,MATCH($A23&$J23,Input!$A$5:$A$24&Input!$G$5:$G$24,0),2))","v":""},{"$f":"IF($J23=\"\",\"\",INDEX(Input!$A$5:$H$24,MATCH($A23&$J23,Input!$A$5:$A$24&Input!$G$5:$G$24,0),3))","v":""},{"$f":"IF($J23=\"\",\"\",INDEX(Input!$A$5:$H$24,MATCH($A23&$J23,Input!$A$5:$A$24&Input!$G$5:$G$24,0),4))","v":""},{"$f":"IF($J23=\"\",\"\",INDEX(Input!$A$5:$H$24,MATCH($A23&$J23,Input!$A$5:$A$24&Input!$G$5:$G$24,0),5))","v":""},null,null,null,null,{"$f":"IF($A23=\"\",\"\",OFFSET(Input!F$4,MATCH($A23,Input!$A$5:$A$24,0),0))","v":""},{"$f":"IF(N23=\"SY\", T23, IF(N23=\"Tons\", W23, \"\"))","v":""},null,{"$f":"IF(N23=\"SY\", V23, IF(N23=\"Tons\", O23-P23, \"\"))","v":""},"\\",{"$f":"IF(A23=\"\",1,IF(ISERROR(MATCH(R23,Input!L$5:L$24,0)),2,1))","v":1},{"$f":"IF(A23=\"\", \"\", SUMIF($Q$8:$Q$17, \"*\" & LEFT(A23, 11) & \"*\", $S$8:$S$17))","v":""},null,{"$f":"IF(A23=\"\", \"\", SUMIF($Q$8:$Q$17, \"*\" & LEFT(A23, 11) & \"*\", $T$8:$T$17))","v":""},{"$f":"IF(N23=\"SY\", T23, IF(N23=\"Tons\", V23+P23, \"\"))","v":""}]
[null,null,null,null,null,{"$f":"IF($J24=\"\",\"\",INDEX(Input!$A$5:$H$24,MATCH($A24&$J24,Input!$A$5:$A$24&Input!$G$5:$G$24,0),2))","v":""},{"$f":"IF($J24=\"\",\"\",INDEX(Input!$A$5:$H$24,MATCH($A24&$J24,Input!$A$5:$A$24&Input!$G$5:$G$24,0),3))","v":""},{"$f":"IF($J24=\"\",\"\",INDEX(Input!$A$5:$H$24,MATCH($A24&$J24,Input!$A$5:$A$24&Input!$G$5:$G$24,0),4))","v":""},{"$f":"IF($J24=\"\",\"\",INDEX(Input!$A$5:$H$24,MATCH($A24&$J24,Input!$A$5:$A$24&Input!$G$5:$G$24,0),5))","v":""},null,null,null,null,{"$f":"IF($A24=\"\",\"\",OFFSET(Input!F$4,MATCH($A24,Input!$A$5:$A$24,0),0))","v":""},"",null,{"$f":"IF(N24=\"SY\", V24, IF(N24=\"Tons\", O24-P24, \"\"))","v":""},"\\",{"$f":"IF(A24=\"\",1,IF(ISERROR(MATCH(R24,Input!L$5:L$24,0)),2,1))","v":1},"",null,{"$f":"IF(A24=\"\", \"\", SUMIF($Q$8:$Q$17, \"*\" & LEFT(A24, 11) & \"*\", $T$8:$T$17))","v":""},{"$f":"IF(N24=\"SY\", T24, IF(N24=\"Tons\", V24+P24, \"\"))","v":""}]
[null,null,null,null,null,{"$f":"IF($J25=\"\",\"\",INDEX(Input!$A$5:$H$24,MATCH($A25&$J25,Input!$A$5:$A$24&Input!$G$5:$G$24,0),2))","v":""},{"$f":"IF($J25=\"\",\"\",INDEX(Input!$A$5:$H$24,MATCH($A25&$J25,Input!$A$5:$A$24&Input!$G$5:$G$24,0),3))","v":""},{"$f":"IF($J25=\"\",\"\",INDEX(Input!$A$5:$H$24,MATCH($A25&$J25,Input!$A$5:$A$24&Input!$G$5:$G$24,0),4))","v":""},{"$f":"IF($J25=\"\",\"\",INDEX(Input!$A$5:$H$24,MATCH($A25&$J25,Input!$A$5:$A$24&Input!$G$5:$G$24,0),5))","v":""},null,null,null,null,{"$f":"IF($A25=\"\",\"\",OFFSET(Input!F$4,MATCH($A25,Input!$A$5:$A$24,0),0))","v":""},"",null,"","\\",{"$f":"IF(A25=\"\",1,IF(ISERROR(MATCH(R25,Input!L$5:L$24,0)),2,1))","v":1},"",null,"",""]
[null,null,null,null,null,null,null,null,null,null,null,null,null,null,null,null,null,null,null,null,null,"",{"$f":"IF(N26=\"SY\", T26, IF(N26=\"Tons\", V26+P26, \"\"))","v":""},{"$f":"IF(A26=\"\", \"\", SUMIF($Q$8:$Q$17, \"*\" & LEFT(A26, 11) & \"*\", $S$8:$S$17))","v":""},{"$f":"IF(N26=\"SY\",X26,\"\")","v":""},{"$f":"IF(A26=\"\", \"\", SUMIF($Q$8:$Q$17, \"*\" & LEFT(A26, 11) & \"*\", $T$8:$T$17))","v":""}]
["Hot Box Sample",null,null,null,null,null,null,null,null,null,"Mat Temperatures °F"]
[null,"Test A","Test B","Test C","Test D","Test E",null,null,null,null,"Time","Temp"]
[" Hot Box ID Number  ",null,null,null,null,null,null,null,null,null,"7:00"]
["Hot Box Sample Tons: ",null,null,null,null,null,null,null,null,null,"9:00",null,null,null,"Intended Thickness:"]
[" Time: ",null,null,null,null,null,null,null,null,null,"11:00",null,null,null,"Cores Waived?"]
[" Station/MP: ",null,null,null,null,null,null,null,null,null,"1:00",null,null,null,"Small Quantity Statement?"]
["Bar Code ID.:",null,null,null,null,null,null,null,null,null,"3:00",null,null,null,"Scale Check Done?"]
["Compaction Temp. °F: ",null,null,null,null,null,null,null,null,null,"5:00",null,null,null,"Tack Tickets Today?"]
[null,null,null,null,null,null,null,null,null,null,"7:00"]
["The Below Comments should show up on the plant report"]
["Comments:"]
[]
[]
["The Below Notes are for the CPI from the field or Plant Monitor"]
["Notes:"]
[]
[]
["RANDOM CORE LOCATIONS"]
[null,null,null,null,null,null,null,"Core #","Station","Offset,ft","Joint Station","Lane"]
[null,null,null,null,null,null,null,1]
[null,null,null,null,null,null,null,2]
[null,null,null,null,null,null,null,3]
[null,null,null,null,null,null,null,4]
[null,null,null,null,null,null,null,5]
[null,null,null,null,null,null,null,6]
[null,null,null,null,null,null,null,7]
[null,null,null,null,null,null,null,8]
[]
[null,null,null,null,null,null,null,null,null,null,"Joint Sublot Size, ft"]
[null,null,null,null,null,null,null,null,null,null,0]
[]
[]
[]
[]
[]
[]
[]
[]
[]
[]
[]
[]
[]
[]
[]
[]
[]
[]
[]
[]
[]
[]
[]
[]
[]
[]
[]
[]
[]
[]
[]
[]
[]
[]
[]
[]
[]
[]
[]
[]
[false]

{"sheet":"72","index":87,"n_rows":97,"n_cols":26,"rows_kept":97,"cut":false,"hidden":false,"merged":[[50,11,50,13],[51,11,51,13],[52,11,52,13],[44,11,44,13],[45,11,45,13],[46,11,46,13],[47,11,47,13],[48,11,48,13],[49,11,49,13],[43,0,43,16],[25,0,25,1],[26,0,26,5],[26,20,26,23],[26,25,26,27],[34,2,34,4],[35,0,35,5],[36,1,36,14],[37,0,37,14],[39,0,39,5],[40,1,40,14],[41,0,41,14],[23,0,23,1],[23,2,23,4],[23,9,23,12],[24,0,24,1],[24,2,24,4],[24,9,24,12],[21,0,21,1],[21,2,21,4],[21,9,21,12],[22,0,22,1],[22,2,22,4],[22,9,22,12],[19,0,19,1],[19,2,19,4],[19,9,19,12],[20,0,20,1],[20,2,20,4],[20,9,20,12],[18,0,18,16],[6,14,6,15],[7,14,7,15],[8,14,8,15],[9,14,9,15],[10,14,10,15],[11,14,11,15],[12,14,12,15],[13,14,13,15],[14,14,14,15],[15,14,15,15],[16,14,16,15],[1,0,1,16],[4,0,4,15],[5,4,5,5],[5,8,5,9],[5,11,5,12],[5,13,5,15]]}
[]
["Iowa DOT HMA Field Report"]
["Date :"]
["Item No.('s)"]
["PLACEMENT RECORD",null,null,null,null,null,null,null,null,null,null,null,null,null,null,null,null,null,null,null,null,{"$f":"SUBSTITUTE(A21 & \"\\\" & J21,\"\"\"\",\"\")","v":"\\"}]
[null,null,null,null,"Additional width to DEDUCT from Field Voids",null,null,null,"Placed Density (Pounds/CF)=",null,150,"Overwritten on the \"Summary\" Tab",null,"ONLY ONE (1) MIX DESIGN PER DFR OTHERWISE IT WILL NOT IMPORT INTO THE PLANT REPORT PROPERLY",null,null,null,null,null,null,null,{"$f":"SUBSTITUTE(A22 & \"\\\" & J22,\"\"\"\",\"\")","v":"\\"}]
["From Station"," To Station","Lane","ML or Widening Placement Width","Additional Width (ft) ","Thickness (in)","Total Length Placed (FT)","\"Pay\"  Est \"SY\"","Thickness (inches)","Calculated Field Voids Tons","Placed Tons            (Not including Waste)","% Yield","SY to be PAID (If Diff. than Est SY)","Mix Design No.","Bid Item/ Project No.",null,null,null,"This uses the correct SY #, if Green is blank uses Est. SY","Adds up the Tons",null,"\\"]
[null,null,null,null,null,null,{"$f":"IF(OR(A8=\"\",B8=\"\"),0,IF($A$97=TRUE,ABS(B8-A8)*5280,ABS(VALUE(SUBSTITUTE(A8,\"+\",\"\"))-VALUE(SUBSTITUTE(B8,\"+\",\"\")))))","v":0},{"$f":"IF(D8=\"\",\"\",G8*(D8+E8)/9)","v":""},null,{"$f":"IF(I8=\"\",\"\",(G8)*(D8+E8)*I8/12*$K$6/2000)","v":""},null,{"$f":"IF(K8=\"\",\"\",K8/J8*100)","v":""},null,null,null,null,{"$f":"O8 & \"\\\" & N8","v":"\\"},{"$f":"IF(AND(A8=\"\",B8=\"\",C8=\"\",D8=\"\"),1,IF(OR(O8=\"\",N8=\"\"),2,IF(ISERROR(MATCH(Q8,Input!M$5:M$24,0)),2,1)))","v":1},{"$f":"IF(M8<>\"\", M8, H8)","v":""},{"$f":"K8","v":0},null,"\\"]
[null,null,null,null,null,null,{"$f":"IF(OR(A9=\"\",B9=\"\"),0,IF($A$97=TRUE,ABS(B9-A9)*5280,ABS(VALUE(SUBSTITUTE(A9,\"+\",\"\"))-VALUE(SUBSTITUTE(B9,\"+\",\"\")))))","v":0},{"$f":"IF(D9=\"\",\"\",G9*(D9+E9)/9)","v":""},null,"",null,{"$f":"IF(K9=\"\",\"\",K9/J9*100)","v":""},null,null,null,null,{"$f":"O9 & \"\\\" & N9","v":"\\"},{"$f":"IF(AND(A9=\"\",B9=\"\",C9=\"\",D9=\"\"),1,IF(OR(O9=\"\",N9=\"\"),2,IF(ISERROR(MATCH(Q9,Input!M$5:M$24,0)),2,1)))","v":1},{"$f":"IF(M9<>\"\", M9, H9)","v":""},{"$f":"K9","v":0},null,"\\"]
[null,null,null,null,null,null,0,"",null,"",null,"",null,null,null,null,"\\",{"$f":"IF(AND(A10=\"\",B10=\"\",C10=\"\",D10=\"\"),1,IF(OR(O10=\"\",N10=\"\"),2,IF(ISERROR(MATCH(Q10,Input!M$5:M$24,0)),2,1)))","v":1},{"$f":"IF(M10<>\"\", M10, H10)","v":""},0]
[null,null,null,null,null,null,0,"",null,"",null,"",null,null,null,null,"\\",{"$f":"IF(AND(A11=\"\",B11=\"\",C11=\"\",D11=\"\"),1,IF(OR(O11=\"\",N11=\"\"),2,IF(ISERROR(MATCH(Q11,Input!M$5:M$24,0)),2,1)))","v":1},"",0]
[null,null,null,null,null,null,0,"",null,"",null,"",null,null,null,null,"\\",{"$f":"IF(AND(A12=\"\",B12=\"\",C12=\"\",D12=\"\"),1,IF(OR(O12=\"\",N12=\"\"),2,IF(ISERROR(MATCH(Q12,Input!M$5:M$24,0)),2,1)))","v":1},"",0]
[null,null,null,null,null,null,0,"",null,"",null,"",null,null,null,null,"\\",{"$f":"IF(AND(A13=\"\",B13=\"\",C13=\"\",D13=\"\"),1,IF(OR(O13=\"\",N13=\"\"),2,IF(ISERROR(MATCH(Q13,Input!M$5:M$24,0)),2,1)))","v":1},"",0]
[null,null,null,null,null,null,0,"",null,"",null,"",null,null,null,null,"\\",{"$f":"IF(AND(A14=\"\",B14=\"\",C14=\"\",D14=\"\"),1,IF(OR(O14=\"\",N14=\"\"),2,IF(ISERROR(MATCH(Q14,Input!M$5:M$24,0)),2,1)))","v":1},"",0]
[null,null,null,null,null,null,0,"",null,"",null,"",null,null,null,null,"\\",{"$f":"IF(AND(A15=\"\",B15=\"\",C15=\"\",D15=\"\"),1,IF(OR(O15=\"\",N15=\"\"),2,IF(ISERROR(MATCH(Q15,Input!M$5:M$24,0)),2,1)))","v":1},"",0]
[null,null,null,null,null,null,0,"",null,"",null,"",null,null,null,null,"\\",{"$f":"IF(AND(A16=\"\",B16=\"\",C16=\"\",D16=\"\"),1,IF(OR(O16=\"\",N16=\"\"),2,IF(ISERROR(MATCH(Q16,Input!M$5:M$24,0)),2,1)))","v":1},"",0]
[null,null,null,null,null,null,0,"",null,"",null,"",null,null,null,null,"\\",{"$f":"IF(AND(A17=\"\",B17=\"\",C17=\"\",D17=\"\"),1,IF(OR(O17=\"\",N17=\"\"),2,IF(ISERROR(MATCH(Q17,Input!M$5:M$24,0)),2,1)))","v":1},"",0]
[]
["TANK SHEET"]
["Bid Item (In Order of Placement)",null,"Today's Placement",null,null,"Bid Item Plan Quantity","Plan Thickness (in)","Contract Mix Price","Contract Binder Price","Project Number",null,null,null,"Mix Pay Units","Mix Delivered to Road\n(Ton or SY)","Waste On Road (Ton)\nNO waste for SY Items","Tons Placed - Waste",null,null,"This adds up column S as it depends if the Est SY is filled out or the SY",null,"Use this Column for SY for the Q column","Uses this Value for Mix on Road"]
[null,null,null,null,null,{"$f":"IF($J21=\"\",\"\",INDEX(Input!$A$5:$H$24,MATCH($A21&$J21,Input!$A$5:$A$24&Input!$G$5:$G$24,0),2))","v":""},{"$f":"IF($J21=\"\",\"\",INDEX(Input!$A$5:$H$24,MATCH($A21&$J21,Input!$A$5:$A$24&Input!$G$5:$G$24,0),3))","v":""},{"$f":"IF($J21=\"\",\"\",INDEX(Input!$A$5:$H$24,MATCH($A21&$J21,Input!$A$5:$A$24&Input!$G$5:$G$24,0),4))","v":""},{"$f":"IF($J21=\"\",\"\",INDEX(Input!$A$5:$H$24,MATCH($A21&$J21,Input!$A$5:$A$24&Input!$G$5:$G$24,0),5))","v":""},null,null,null,null,{"$f":"IF($A21=\"\",\"\",OFFSET(Input!F$4,MATCH($A21,Input!$A$5:$A$24,0),0))","v":""},{"$f":"IF(N21=\"SY\", T21, IF(N21=\"Tons\", W21, \"\"))","v":""},null,{"$f":"IF(N21=\"SY\", V21, IF(N21=\"Tons\", O21-P21, \"\"))","v":""},{"$f":"SUBSTITUTE(A21 & \"\\\" & J21,\"\"\"\",\"\")","v":"\\"},{"$f":"IF(A21=\"\",1,IF(ISERROR(MATCH(R21,Input!L$5:L$24,0)),2,1))","v":1},{"$f":"IF(A21=\"\", \"\", SUMIF($Q$8:$Q$17, \"*\" & LEFT(A21, 11) & \"*\", $S$8:$S$17))","v":""},null,{"$f":"IF(A21=\"\", \"\", SUMIF($Q$8:$Q$17, \"*\" & LEFT(A21, 11) & \"*\", $T$8:$T$17))","v":""},{"$f":"IF(N21=\"SY\", T21, IF(N21=\"Tons\", V21+P21, \"\"))","v":""}]
[null,null,null,null,null,{"$f":"IF($J22=\"\",\"\",INDEX(Input!$A$5:$H$24,MATCH($A22&$J22,Input!$A$5:$A$24&Input!$G$5:$G$24,0),2))","v":""},{"$f":"IF($J22=\"\",\"\",INDEX(Input!$A$5:$H$24,MATCH($A22&$J22,Input!$A$5:$A$24&Input!$G$5:$G$24,0),3))","v":""},{"$f":"IF($J22=\"\",\"\",INDEX(Input!$A$5:$H$24,MATCH($A22&$J22,Input!$A$5:$A$24&Input!$G$5:$G$24,0),4))","v":""},{"$f":"IF($J22=\"\",\"\",INDEX(Input!$A$5:$H$24,MATCH($A22&$J22,Input!$A$5:$A$24&Input!$G$5:$G$24,0),5))","v":""},null,null,null,null,{"$f":"IF($A22=\"\",\"\",OFFSET(Input!F$4,MATCH($A22,Input!$A$5:$A$24,0),0))","v":""},{"$f":"IF(N22=\"SY\", T22, IF(N22=\"Tons\", W22, \"\"))","v":""},null,{"$f":"IF(N22=\"SY\", V22, IF(N22=\"Tons\", O22-P22, \"\"))","v":""},{"$f":"SUBSTITUTE(A22 & \"\\\" & J22,\"\"\"\",\"\")","v":"\\"},{"$f":"IF(A22=\"\",1,IF(ISERROR(MATCH(R22,Input!L$5:L$24,0)),2,1))","v":1},{"$f":"IF(A22=\"\", \"\", SUMIF($Q$8:$Q$17, \"*\" & LEFT(A22, 11) & \"*\", $S$8:$S$17))","v":""},null,{"$f":"IF(A22=\"\", \"\", SUMIF($Q$8:$Q$17, \"*\" & LEFT(A22, 11) & \"*\", $T$8:$T$17))","v":""},{"$f":"IF(N22=\"SY\", T22, IF(N22=\"Tons\", V22+P22, \"\"))","v":""}]
[null,null,null,null,null,{"$f":"IF($J23=\"\",\"\",INDEX(Input!$A$5:$H$24,MATCH($A23&$J23,Input!$A$5:$A$24&Input!$G$5:$G$24,0),2))","v":""},{"$f":"IF($J23=\"\",\"\",INDEX(Input!$A$5:$H$24,MATCH($A23&$J23,Input!$A$5:$A$24&Input!$G$5:$G$24,0),3))","v":""},{"$f":"IF($J23=\"\",\"\",INDEX(Input!$A$5:$H$24,MATCH($A23&$J23,Input!$A$5:$A$24&Input!$G$5:$G$24,0),4))","v":""},{"$f":"IF($J23=\"\",\"\",INDEX(Input!$A$5:$H$24,MATCH($A23&$J23,Input!$A$5:$A$24&Input!$G$5:$G$24,0),5))","v":""},null,null,null,null,{"$f":"IF($A23=\"\",\"\",OFFSET(Input!F$4,MATCH($A23,Input!$A$5:$A$24,0),0))","v":""},{"$f":"IF(N23=\"SY\", T23, IF(N23=\"Tons\", W23, \"\"))","v":""},null,{"$f":"IF(N23=\"SY\", V23, IF(N23=\"Tons\", O23-P23, \"\"))","v":""},"\\",{"$f":"IF(A23=\"\",1,IF(ISERROR(MATCH(R23,Input!L$5:L$24,0)),2,1))","v":1},{"$f":"IF(A23=\"\", \"\", SUMIF($Q$8:$Q$17, \"*\" & LEFT(A23, 11) & \"*\", $S$8:$S$17))","v":""},null,{"$f":"IF(A23=\"\", \"\", SUMIF($Q$8:$Q$17, \"*\" & LEFT(A23, 11) & \"*\", $T$8:$T$17))","v":""},{"$f":"IF(N23=\"SY\", T23, IF(N23=\"Tons\", V23+P23, \"\"))","v":""}]
[null,null,null,null,null,{"$f":"IF($J24=\"\",\"\",INDEX(Input!$A$5:$H$24,MATCH($A24&$J24,Input!$A$5:$A$24&Input!$G$5:$G$24,0),2))","v":""},{"$f":"IF($J24=\"\",\"\",INDEX(Input!$A$5:$H$24,MATCH($A24&$J24,Input!$A$5:$A$24&Input!$G$5:$G$24,0),3))","v":""},{"$f":"IF($J24=\"\",\"\",INDEX(Input!$A$5:$H$24,MATCH($A24&$J24,Input!$A$5:$A$24&Input!$G$5:$G$24,0),4))","v":""},{"$f":"IF($J24=\"\",\"\",INDEX(Input!$A$5:$H$24,MATCH($A24&$J24,Input!$A$5:$A$24&Input!$G$5:$G$24,0),5))","v":""},null,null,null,null,{"$f":"IF($A24=\"\",\"\",OFFSET(Input!F$4,MATCH($A24,Input!$A$5:$A$24,0),0))","v":""},"",null,{"$f":"IF(N24=\"SY\", V24, IF(N24=\"Tons\", O24-P24, \"\"))","v":""},"\\",{"$f":"IF(A24=\"\",1,IF(ISERROR(MATCH(R24,Input!L$5:L$24,0)),2,1))","v":1},"",null,{"$f":"IF(A24=\"\", \"\", SUMIF($Q$8:$Q$17, \"*\" & LEFT(A24, 11) & \"*\", $T$8:$T$17))","v":""},{"$f":"IF(N24=\"SY\", T24, IF(N24=\"Tons\", V24+P24, \"\"))","v":""}]
[null,null,null,null,null,{"$f":"IF($J25=\"\",\"\",INDEX(Input!$A$5:$H$24,MATCH($A25&$J25,Input!$A$5:$A$24&Input!$G$5:$G$24,0),2))","v":""},{"$f":"IF($J25=\"\",\"\",INDEX(Input!$A$5:$H$24,MATCH($A25&$J25,Input!$A$5:$A$24&Input!$G$5:$G$24,0),3))","v":""},{"$f":"IF($J25=\"\",\"\",INDEX(Input!$A$5:$H$24,MATCH($A25&$J25,Input!$A$5:$A$24&Input!$G$5:$G$24,0),4))","v":""},{"$f":"IF($J25=\"\",\"\",INDEX(Input!$A$5:$H$24,MATCH($A25&$J25,Input!$A$5:$A$24&Input!$G$5:$G$24,0),5))","v":""},null,null,null,null,{"$f":"IF($A25=\"\",\"\",OFFSET(Input!F$4,MATCH($A25,Input!$A$5:$A$24,0),0))","v":""},"",null,"","\\",{"$f":"IF(A25=\"\",1,IF(ISERROR(MATCH(R25,Input!L$5:L$24,0)),2,1))","v":1},"",null,"",""]
[null,null,null,null,null,null,null,null,null,null,null,null,null,null,null,null,null,null,null,null,null,"",{"$f":"IF(N26=\"SY\", T26, IF(N26=\"Tons\", V26+P26, \"\"))","v":""},{"$f":"IF(A26=\"\", \"\", SUMIF($Q$8:$Q$17, \"*\" & LEFT(A26, 11) & \"*\", $S$8:$S$17))","v":""},{"$f":"IF(N26=\"SY\",X26,\"\")","v":""},{"$f":"IF(A26=\"\", \"\", SUMIF($Q$8:$Q$17, \"*\" & LEFT(A26, 11) & \"*\", $T$8:$T$17))","v":""}]
["Hot Box Sample",null,null,null,null,null,null,null,null,null,"Mat Temperatures °F"]
[null,"Test A","Test B","Test C","Test D","Test E",null,null,null,null,"Time","Temp"]
[" Hot Box ID Number  ",null,null,null,null,null,null,null,null,null,"7:00"]
["Hot Box Sample Tons: ",null,null,null,null,null,null,null,null,null,"9:00",null,null,null,"Intended Thickness:"]
[" Time: ",null,null,null,null,null,null,null,null,null,"11:00",null,null,null,"Cores Waived?"]
[" Station/MP: ",null,null,null,null,null,null,null,null,null,"1:00",null,null,null,"Small Quantity Statement?"]
["Bar Code ID.:",null,null,null,null,null,null,null,null,null,"3:00",null,null,null,"Scale Check Done?"]
["Compaction Temp. °F: ",null,null,null,null,null,null,null,null,null,"5:00",null,null,null,"Tack Tickets Today?"]
[null,null,null,null,null,null,null,null,null,null,"7:00"]
["The Below Comments should show up on the plant report"]
["Comments:"]
[]
[]
["The Below Notes are for the CPI from the field or Plant Monitor"]
["Notes:"]
[]
[]
["RANDOM CORE LOCATIONS"]
[null,null,null,null,null,null,null,"Core #","Station","Offset,ft","Joint Station","Lane"]
[null,null,null,null,null,null,null,1]
[null,null,null,null,null,null,null,2]
[null,null,null,null,null,null,null,3]
[null,null,null,null,null,null,null,4]
[null,null,null,null,null,null,null,5]
[null,null,null,null,null,null,null,6]
[null,null,null,null,null,null,null,7]
[null,null,null,null,null,null,null,8]
[]
[null,null,null,null,null,null,null,null,null,null,"Joint Sublot Size, ft"]
[null,null,null,null,null,null,null,null,null,null,0]
[]
[]
[]
[]
[]
[]
[]
[]
[]
[]
[]
[]
[]
[]
[]
[]
[]
[]
[]
[]
[]
[]
[]
[]
[]
[]
[]
[]
[]
[]
[]
[]
[]
[]
[]
[]
[]
[]
[]
[]
[false]

{"sheet":"73","index":88,"n_rows":97,"n_cols":26,"rows_kept":97,"cut":false,"hidden":false,"merged":[[50,11,50,13],[51,11,51,13],[52,11,52,13],[44,11,44,13],[45,11,45,13],[46,11,46,13],[47,11,47,13],[48,11,48,13],[49,11,49,13],[43,0,43,16],[25,0,25,1],[26,0,26,5],[26,20,26,23],[26,25,26,27],[34,2,34,4],[35,0,35,5],[36,1,36,14],[37,0,37,14],[39,0,39,5],[40,1,40,14],[41,0,41,14],[23,0,23,1],[23,2,23,4],[23,9,23,12],[24,0,24,1],[24,2,24,4],[24,9,24,12],[21,0,21,1],[21,2,21,4],[21,9,21,12],[22,0,22,1],[22,2,22,4],[22,9,22,12],[19,0,19,1],[19,2,19,4],[19,9,19,12],[20,0,20,1],[20,2,20,4],[20,9,20,12],[18,0,18,16],[6,14,6,15],[7,14,7,15],[8,14,8,15],[9,14,9,15],[10,14,10,15],[11,14,11,15],[12,14,12,15],[13,14,13,15],[14,14,14,15],[15,14,15,15],[16,14,16,15],[1,0,1,16],[4,0,4,15],[5,4,5,5],[5,8,5,9],[5,11,5,12],[5,13,5,15]]}
[]
["Iowa DOT HMA Field Report"]
["Date :"]
["Item No.('s)"]
["PLACEMENT RECORD",null,null,null,null,null,null,null,null,null,null,null,null,null,null,null,null,null,null,null,null,{"$f":"SUBSTITUTE(A21 & \"\\\" & J21,\"\"\"\",\"\")","v":"\\"}]
[null,null,null,null,"Additional width to DEDUCT from Field Voids",null,null,null,"Placed Density (Pounds/CF)=",null,150,"Overwritten on the \"Summary\" Tab",null,"ONLY ONE (1) MIX DESIGN PER DFR OTHERWISE IT WILL NOT IMPORT INTO THE PLANT REPORT PROPERLY",null,null,null,null,null,null,null,{"$f":"SUBSTITUTE(A22 & \"\\\" & J22,\"\"\"\",\"\")","v":"\\"}]
["From Station"," To Station","Lane","ML or Widening Placement Width","Additional Width (ft) ","Thickness (in)","Total Length Placed (FT)","\"Pay\"  Est \"SY\"","Thickness (inches)","Calculated Field Voids Tons","Placed Tons            (Not including Waste)","% Yield","SY to be PAID (If Diff. than Est SY)","Mix Design No.","Bid Item/ Project No.",null,null,null,"This uses the correct SY #, if Green is blank uses Est. SY","Adds up the Tons",null,"\\"]
[null,null,null,null,null,null,{"$f":"IF(OR(A8=\"\",B8=\"\"),0,IF($A$97=TRUE,ABS(B8-A8)*5280,ABS(VALUE(SUBSTITUTE(A8,\"+\",\"\"))-VALUE(SUBSTITUTE(B8,\"+\",\"\")))))","v":0},{"$f":"IF(D8=\"\",\"\",G8*(D8+E8)/9)","v":""},null,{"$f":"IF(I8=\"\",\"\",(G8)*(D8+E8)*I8/12*$K$6/2000)","v":""},null,{"$f":"IF(K8=\"\",\"\",K8/J8*100)","v":""},null,null,null,null,{"$f":"O8 & \"\\\" & N8","v":"\\"},{"$f":"IF(AND(A8=\"\",B8=\"\",C8=\"\",D8=\"\"),1,IF(OR(O8=\"\",N8=\"\"),2,IF(ISERROR(MATCH(Q8,Input!M$5:M$24,0)),2,1)))","v":1},{"$f":"IF(M8<>\"\", M8, H8)","v":""},{"$f":"K8","v":0},null,"\\"]
[null,null,null,null,null,null,{"$f":"IF(OR(A9=\"\",B9=\"\"),0,IF($A$97=TRUE,ABS(B9-A9)*5280,ABS(VALUE(SUBSTITUTE(A9,\"+\",\"\"))-VALUE(SUBSTITUTE(B9,\"+\",\"\")))))","v":0},{"$f":"IF(D9=\"\",\"\",G9*(D9+E9)/9)","v":""},null,"",null,{"$f":"IF(K9=\"\",\"\",K9/J9*100)","v":""},null,null,null,null,{"$f":"O9 & \"\\\" & N9","v":"\\"},{"$f":"IF(AND(A9=\"\",B9=\"\",C9=\"\",D9=\"\"),1,IF(OR(O9=\"\",N9=\"\"),2,IF(ISERROR(MATCH(Q9,Input!M$5:M$24,0)),2,1)))","v":1},{"$f":"IF(M9<>\"\", M9, H9)","v":""},{"$f":"K9","v":0},null,"\\"]
[null,null,null,null,null,null,0,"",null,"",null,"",null,null,null,null,"\\",{"$f":"IF(AND(A10=\"\",B10=\"\",C10=\"\",D10=\"\"),1,IF(OR(O10=\"\",N10=\"\"),2,IF(ISERROR(MATCH(Q10,Input!M$5:M$24,0)),2,1)))","v":1},{"$f":"IF(M10<>\"\", M10, H10)","v":""},0]
[null,null,null,null,null,null,0,"",null,"",null,"",null,null,null,null,"\\",{"$f":"IF(AND(A11=\"\",B11=\"\",C11=\"\",D11=\"\"),1,IF(OR(O11=\"\",N11=\"\"),2,IF(ISERROR(MATCH(Q11,Input!M$5:M$24,0)),2,1)))","v":1},"",0]
[null,null,null,null,null,null,0,"",null,"",null,"",null,null,null,null,"\\",{"$f":"IF(AND(A12=\"\",B12=\"\",C12=\"\",D12=\"\"),1,IF(OR(O12=\"\",N12=\"\"),2,IF(ISERROR(MATCH(Q12,Input!M$5:M$24,0)),2,1)))","v":1},"",0]
[null,null,null,null,null,null,0,"",null,"",null,"",null,null,null,null,"\\",{"$f":"IF(AND(A13=\"\",B13=\"\",C13=\"\",D13=\"\"),1,IF(OR(O13=\"\",N13=\"\"),2,IF(ISERROR(MATCH(Q13,Input!M$5:M$24,0)),2,1)))","v":1},"",0]
[null,null,null,null,null,null,0,"",null,"",null,"",null,null,null,null,"\\",{"$f":"IF(AND(A14=\"\",B14=\"\",C14=\"\",D14=\"\"),1,IF(OR(O14=\"\",N14=\"\"),2,IF(ISERROR(MATCH(Q14,Input!M$5:M$24,0)),2,1)))","v":1},"",0]
[null,null,null,null,null,null,0,"",null,"",null,"",null,null,null,null,"\\",{"$f":"IF(AND(A15=\"\",B15=\"\",C15=\"\",D15=\"\"),1,IF(OR(O15=\"\",N15=\"\"),2,IF(ISERROR(MATCH(Q15,Input!M$5:M$24,0)),2,1)))","v":1},"",0]
[null,null,null,null,null,null,0,"",null,"",null,"",null,null,null,null,"\\",{"$f":"IF(AND(A16=\"\",B16=\"\",C16=\"\",D16=\"\"),1,IF(OR(O16=\"\",N16=\"\"),2,IF(ISERROR(MATCH(Q16,Input!M$5:M$24,0)),2,1)))","v":1},"",0]
[null,null,null,null,null,null,0,"",null,"",null,"",null,null,null,null,"\\",{"$f":"IF(AND(A17=\"\",B17=\"\",C17=\"\",D17=\"\"),1,IF(OR(O17=\"\",N17=\"\"),2,IF(ISERROR(MATCH(Q17,Input!M$5:M$24,0)),2,1)))","v":1},"",0]
[]
["TANK SHEET"]
["Bid Item (In Order of Placement)",null,"Today's Placement",null,null,"Bid Item Plan Quantity","Plan Thickness (in)","Contract Mix Price","Contract Binder Price","Project Number",null,null,null,"Mix Pay Units","Mix Delivered to Road\n(Ton or SY)","Waste On Road (Ton)\nNO waste for SY Items","Tons Placed - Waste",null,null,"This adds up column S as it depends if the Est SY is filled out or the SY",null,"Use this Column for SY for the Q column","Uses this Value for Mix on Road"]
[null,null,null,null,null,{"$f":"IF($J21=\"\",\"\",INDEX(Input!$A$5:$H$24,MATCH($A21&$J21,Input!$A$5:$A$24&Input!$G$5:$G$24,0),2))","v":""},{"$f":"IF($J21=\"\",\"\",INDEX(Input!$A$5:$H$24,MATCH($A21&$J21,Input!$A$5:$A$24&Input!$G$5:$G$24,0),3))","v":""},{"$f":"IF($J21=\"\",\"\",INDEX(Input!$A$5:$H$24,MATCH($A21&$J21,Input!$A$5:$A$24&Input!$G$5:$G$24,0),4))","v":""},{"$f":"IF($J21=\"\",\"\",INDEX(Input!$A$5:$H$24,MATCH($A21&$J21,Input!$A$5:$A$24&Input!$G$5:$G$24,0),5))","v":""},null,null,null,null,{"$f":"IF($A21=\"\",\"\",OFFSET(Input!F$4,MATCH($A21,Input!$A$5:$A$24,0),0))","v":""},{"$f":"IF(N21=\"SY\", T21, IF(N21=\"Tons\", W21, \"\"))","v":""},null,{"$f":"IF(N21=\"SY\", V21, IF(N21=\"Tons\", O21-P21, \"\"))","v":""},{"$f":"SUBSTITUTE(A21 & \"\\\" & J21,\"\"\"\",\"\")","v":"\\"},{"$f":"IF(A21=\"\",1,IF(ISERROR(MATCH(R21,Input!L$5:L$24,0)),2,1))","v":1},{"$f":"IF(A21=\"\", \"\", SUMIF($Q$8:$Q$17, \"*\" & LEFT(A21, 11) & \"*\", $S$8:$S$17))","v":""},null,{"$f":"IF(A21=\"\", \"\", SUMIF($Q$8:$Q$17, \"*\" & LEFT(A21, 11) & \"*\", $T$8:$T$17))","v":""},{"$f":"IF(N21=\"SY\", T21, IF(N21=\"Tons\", V21+P21, \"\"))","v":""}]
[null,null,null,null,null,{"$f":"IF($J22=\"\",\"\",INDEX(Input!$A$5:$H$24,MATCH($A22&$J22,Input!$A$5:$A$24&Input!$G$5:$G$24,0),2))","v":""},{"$f":"IF($J22=\"\",\"\",INDEX(Input!$A$5:$H$24,MATCH($A22&$J22,Input!$A$5:$A$24&Input!$G$5:$G$24,0),3))","v":""},{"$f":"IF($J22=\"\",\"\",INDEX(Input!$A$5:$H$24,MATCH($A22&$J22,Input!$A$5:$A$24&Input!$G$5:$G$24,0),4))","v":""},{"$f":"IF($J22=\"\",\"\",INDEX(Input!$A$5:$H$24,MATCH($A22&$J22,Input!$A$5:$A$24&Input!$G$5:$G$24,0),5))","v":""},null,null,null,null,{"$f":"IF($A22=\"\",\"\",OFFSET(Input!F$4,MATCH($A22,Input!$A$5:$A$24,0),0))","v":""},{"$f":"IF(N22=\"SY\", T22, IF(N22=\"Tons\", W22, \"\"))","v":""},null,{"$f":"IF(N22=\"SY\", V22, IF(N22=\"Tons\", O22-P22, \"\"))","v":""},{"$f":"SUBSTITUTE(A22 & \"\\\" & J22,\"\"\"\",\"\")","v":"\\"},{"$f":"IF(A22=\"\",1,IF(ISERROR(MATCH(R22,Input!L$5:L$24,0)),2,1))","v":1},{"$f":"IF(A22=\"\", \"\", SUMIF($Q$8:$Q$17, \"*\" & LEFT(A22, 11) & \"*\", $S$8:$S$17))","v":""},null,{"$f":"IF(A22=\"\", \"\", SUMIF($Q$8:$Q$17, \"*\" & LEFT(A22, 11) & \"*\", $T$8:$T$17))","v":""},{"$f":"IF(N22=\"SY\", T22, IF(N22=\"Tons\", V22+P22, \"\"))","v":""}]
[null,null,null,null,null,{"$f":"IF($J23=\"\",\"\",INDEX(Input!$A$5:$H$24,MATCH($A23&$J23,Input!$A$5:$A$24&Input!$G$5:$G$24,0),2))","v":""},{"$f":"IF($J23=\"\",\"\",INDEX(Input!$A$5:$H$24,MATCH($A23&$J23,Input!$A$5:$A$24&Input!$G$5:$G$24,0),3))","v":""},{"$f":"IF($J23=\"\",\"\",INDEX(Input!$A$5:$H$24,MATCH($A23&$J23,Input!$A$5:$A$24&Input!$G$5:$G$24,0),4))","v":""},{"$f":"IF($J23=\"\",\"\",INDEX(Input!$A$5:$H$24,MATCH($A23&$J23,Input!$A$5:$A$24&Input!$G$5:$G$24,0),5))","v":""},null,null,null,null,{"$f":"IF($A23=\"\",\"\",OFFSET(Input!F$4,MATCH($A23,Input!$A$5:$A$24,0),0))","v":""},{"$f":"IF(N23=\"SY\", T23, IF(N23=\"Tons\", W23, \"\"))","v":""},null,{"$f":"IF(N23=\"SY\", V23, IF(N23=\"Tons\", O23-P23, \"\"))","v":""},"\\",{"$f":"IF(A23=\"\",1,IF(ISERROR(MATCH(R23,Input!L$5:L$24,0)),2,1))","v":1},{"$f":"IF(A23=\"\", \"\", SUMIF($Q$8:$Q$17, \"*\" & LEFT(A23, 11) & \"*\", $S$8:$S$17))","v":""},null,{"$f":"IF(A23=\"\", \"\", SUMIF($Q$8:$Q$17, \"*\" & LEFT(A23, 11) & \"*\", $T$8:$T$17))","v":""},{"$f":"IF(N23=\"SY\", T23, IF(N23=\"Tons\", V23+P23, \"\"))","v":""}]
[null,null,null,null,null,{"$f":"IF($J24=\"\",\"\",INDEX(Input!$A$5:$H$24,MATCH($A24&$J24,Input!$A$5:$A$24&Input!$G$5:$G$24,0),2))","v":""},{"$f":"IF($J24=\"\",\"\",INDEX(Input!$A$5:$H$24,MATCH($A24&$J24,Input!$A$5:$A$24&Input!$G$5:$G$24,0),3))","v":""},{"$f":"IF($J24=\"\",\"\",INDEX(Input!$A$5:$H$24,MATCH($A24&$J24,Input!$A$5:$A$24&Input!$G$5:$G$24,0),4))","v":""},{"$f":"IF($J24=\"\",\"\",INDEX(Input!$A$5:$H$24,MATCH($A24&$J24,Input!$A$5:$A$24&Input!$G$5:$G$24,0),5))","v":""},null,null,null,null,{"$f":"IF($A24=\"\",\"\",OFFSET(Input!F$4,MATCH($A24,Input!$A$5:$A$24,0),0))","v":""},"",null,{"$f":"IF(N24=\"SY\", V24, IF(N24=\"Tons\", O24-P24, \"\"))","v":""},"\\",{"$f":"IF(A24=\"\",1,IF(ISERROR(MATCH(R24,Input!L$5:L$24,0)),2,1))","v":1},"",null,{"$f":"IF(A24=\"\", \"\", SUMIF($Q$8:$Q$17, \"*\" & LEFT(A24, 11) & \"*\", $T$8:$T$17))","v":""},{"$f":"IF(N24=\"SY\", T24, IF(N24=\"Tons\", V24+P24, \"\"))","v":""}]
[null,null,null,null,null,{"$f":"IF($J25=\"\",\"\",INDEX(Input!$A$5:$H$24,MATCH($A25&$J25,Input!$A$5:$A$24&Input!$G$5:$G$24,0),2))","v":""},{"$f":"IF($J25=\"\",\"\",INDEX(Input!$A$5:$H$24,MATCH($A25&$J25,Input!$A$5:$A$24&Input!$G$5:$G$24,0),3))","v":""},{"$f":"IF($J25=\"\",\"\",INDEX(Input!$A$5:$H$24,MATCH($A25&$J25,Input!$A$5:$A$24&Input!$G$5:$G$24,0),4))","v":""},{"$f":"IF($J25=\"\",\"\",INDEX(Input!$A$5:$H$24,MATCH($A25&$J25,Input!$A$5:$A$24&Input!$G$5:$G$24,0),5))","v":""},null,null,null,null,{"$f":"IF($A25=\"\",\"\",OFFSET(Input!F$4,MATCH($A25,Input!$A$5:$A$24,0),0))","v":""},"",null,"","\\",{"$f":"IF(A25=\"\",1,IF(ISERROR(MATCH(R25,Input!L$5:L$24,0)),2,1))","v":1},"",null,"",""]
[null,null,null,null,null,null,null,null,null,null,null,null,null,null,null,null,null,null,null,null,null,"",{"$f":"IF(N26=\"SY\", T26, IF(N26=\"Tons\", V26+P26, \"\"))","v":""},{"$f":"IF(A26=\"\", \"\", SUMIF($Q$8:$Q$17, \"*\" & LEFT(A26, 11) & \"*\", $S$8:$S$17))","v":""},{"$f":"IF(N26=\"SY\",X26,\"\")","v":""},{"$f":"IF(A26=\"\", \"\", SUMIF($Q$8:$Q$17, \"*\" & LEFT(A26, 11) & \"*\", $T$8:$T$17))","v":""}]
["Hot Box Sample",null,null,null,null,null,null,null,null,null,"Mat Temperatures °F"]
[null,"Test A","Test B","Test C","Test D","Test E",null,null,null,null,"Time","Temp"]
[" Hot Box ID Number  ",null,null,null,null,null,null,null,null,null,"7:00"]
["Hot Box Sample Tons: ",null,null,null,null,null,null,null,null,null,"9:00",null,null,null,"Intended Thickness:"]
[" Time: ",null,null,null,null,null,null,null,null,null,"11:00",null,null,null,"Cores Waived?"]
[" Station/MP: ",null,null,null,null,null,null,null,null,null,"1:00",null,null,null,"Small Quantity Statement?"]
["Bar Code ID.:",null,null,null,null,null,null,null,null,null,"3:00",null,null,null,"Scale Check Done?"]
["Compaction Temp. °F: ",null,null,null,null,null,null,null,null,null,"5:00",null,null,null,"Tack Tickets Today?"]
[null,null,null,null,null,null,null,null,null,null,"7:00"]
["The Below Comments should show up on the plant report"]
["Comments:"]
[]
[]
["The Below Notes are for the CPI from the field or Plant Monitor"]
["Notes:"]
[]
[]
["RANDOM CORE LOCATIONS"]
[null,null,null,null,null,null,null,"Core #","Station","Offset,ft","Joint Station","Lane"]
[null,null,null,null,null,null,null,1]
[null,null,null,null,null,null,null,2]
[null,null,null,null,null,null,null,3]
[null,null,null,null,null,null,null,4]
[null,null,null,null,null,null,null,5]
[null,null,null,null,null,null,null,6]
[null,null,null,null,null,null,null,7]
[null,null,null,null,null,null,null,8]
[]
[null,null,null,null,null,null,null,null,null,null,"Joint Sublot Size, ft"]
[null,null,null,null,null,null,null,null,null,null,0]
[]
[]
[]
[]
[]
[]
[]
[]
[]
[]
[]
[]
[]
[]
[]
[]
[]
[]
[]
[]
[]
[]
[]
[]
[]
[]
[]
[]
[]
[]
[]
[]
[]
[]
[]
[]
[]
[]
[]
[]
[false]

{"sheet":"74","index":89,"n_rows":97,"n_cols":26,"rows_kept":97,"cut":false,"hidden":false,"merged":[[50,11,50,13],[51,11,51,13],[52,11,52,13],[44,11,44,13],[45,11,45,13],[46,11,46,13],[47,11,47,13],[48,11,48,13],[49,11,49,13],[43,0,43,16],[25,0,25,1],[26,0,26,5],[26,20,26,23],[26,25,26,27],[34,2,34,4],[35,0,35,5],[36,1,36,14],[37,0,37,14],[39,0,39,5],[40,1,40,14],[41,0,41,14],[23,0,23,1],[23,2,23,4],[23,9,23,12],[24,0,24,1],[24,2,24,4],[24,9,24,12],[21,0,21,1],[21,2,21,4],[21,9,21,12],[22,0,22,1],[22,2,22,4],[22,9,22,12],[19,0,19,1],[19,2,19,4],[19,9,19,12],[20,0,20,1],[20,2,20,4],[20,9,20,12],[18,0,18,16],[6,14,6,15],[7,14,7,15],[8,14,8,15],[9,14,9,15],[10,14,10,15],[11,14,11,15],[12,14,12,15],[13,14,13,15],[14,14,14,15],[15,14,15,15],[16,14,16,15],[1,0,1,16],[4,0,4,15],[5,4,5,5],[5,8,5,9],[5,11,5,12],[5,13,5,15]]}
[]
["Iowa DOT HMA Field Report"]
["Date :"]
["Item No.('s)"]
["PLACEMENT RECORD",null,null,null,null,null,null,null,null,null,null,null,null,null,null,null,null,null,null,null,null,{"$f":"SUBSTITUTE(A21 & \"\\\" & J21,\"\"\"\",\"\")","v":"\\"}]
[null,null,null,null,"Additional width to DEDUCT from Field Voids",null,null,null,"Placed Density (Pounds/CF)=",null,150,"Overwritten on the \"Summary\" Tab",null,"ONLY ONE (1) MIX DESIGN PER DFR OTHERWISE IT WILL NOT IMPORT INTO THE PLANT REPORT PROPERLY",null,null,null,null,null,null,null,{"$f":"SUBSTITUTE(A22 & \"\\\" & J22,\"\"\"\",\"\")","v":"\\"}]
["From Station"," To Station","Lane","ML or Widening Placement Width","Additional Width (ft) ","Thickness (in)","Total Length Placed (FT)","\"Pay\"  Est \"SY\"","Thickness (inches)","Calculated Field Voids Tons","Placed Tons            (Not including Waste)","% Yield","SY to be PAID (If Diff. than Est SY)","Mix Design No.","Bid Item/ Project No.",null,null,null,"This uses the correct SY #, if Green is blank uses Est. SY","Adds up the Tons",null,"\\"]
[null,null,null,null,null,null,{"$f":"IF(OR(A8=\"\",B8=\"\"),0,IF($A$97=TRUE,ABS(B8-A8)*5280,ABS(VALUE(SUBSTITUTE(A8,\"+\",\"\"))-VALUE(SUBSTITUTE(B8,\"+\",\"\")))))","v":0},{"$f":"IF(D8=\"\",\"\",G8*(D8+E8)/9)","v":""},null,{"$f":"IF(I8=\"\",\"\",(G8)*(D8+E8)*I8/12*$K$6/2000)","v":""},null,{"$f":"IF(K8=\"\",\"\",K8/J8*100)","v":""},null,null,null,null,{"$f":"O8 & \"\\\" & N8","v":"\\"},{"$f":"IF(AND(A8=\"\",B8=\"\",C8=\"\",D8=\"\"),1,IF(OR(O8=\"\",N8=\"\"),2,IF(ISERROR(MATCH(Q8,Input!M$5:M$24,0)),2,1)))","v":1},{"$f":"IF(M8<>\"\", M8, H8)","v":""},{"$f":"K8","v":0},null,"\\"]
[null,null,null,null,null,null,{"$f":"IF(OR(A9=\"\",B9=\"\"),0,IF($A$97=TRUE,ABS(B9-A9)*5280,ABS(VALUE(SUBSTITUTE(A9,\"+\",\"\"))-VALUE(SUBSTITUTE(B9,\"+\",\"\")))))","v":0},{"$f":"IF(D9=\"\",\"\",G9*(D9+E9)/9)","v":""},null,"",null,{"$f":"IF(K9=\"\",\"\",K9/J9*100)","v":""},null,null,null,null,{"$f":"O9 & \"\\\" & N9","v":"\\"},{"$f":"IF(AND(A9=\"\",B9=\"\",C9=\"\",D9=\"\"),1,IF(OR(O9=\"\",N9=\"\"),2,IF(ISERROR(MATCH(Q9,Input!M$5:M$24,0)),2,1)))","v":1},{"$f":"IF(M9<>\"\", M9, H9)","v":""},{"$f":"K9","v":0},null,"\\"]
[null,null,null,null,null,null,0,"",null,"",null,"",null,null,null,null,"\\",{"$f":"IF(AND(A10=\"\",B10=\"\",C10=\"\",D10=\"\"),1,IF(OR(O10=\"\",N10=\"\"),2,IF(ISERROR(MATCH(Q10,Input!M$5:M$24,0)),2,1)))","v":1},{"$f":"IF(M10<>\"\", M10, H10)","v":""},0]
[null,null,null,null,null,null,0,"",null,"",null,"",null,null,null,null,"\\",{"$f":"IF(AND(A11=\"\",B11=\"\",C11=\"\",D11=\"\"),1,IF(OR(O11=\"\",N11=\"\"),2,IF(ISERROR(MATCH(Q11,Input!M$5:M$24,0)),2,1)))","v":1},"",0]
[null,null,null,null,null,null,0,"",null,"",null,"",null,null,null,null,"\\",{"$f":"IF(AND(A12=\"\",B12=\"\",C12=\"\",D12=\"\"),1,IF(OR(O12=\"\",N12=\"\"),2,IF(ISERROR(MATCH(Q12,Input!M$5:M$24,0)),2,1)))","v":1},"",0]
[null,null,null,null,null,null,0,"",null,"",null,"",null,null,null,null,"\\",{"$f":"IF(AND(A13=\"\",B13=\"\",C13=\"\",D13=\"\"),1,IF(OR(O13=\"\",N13=\"\"),2,IF(ISERROR(MATCH(Q13,Input!M$5:M$24,0)),2,1)))","v":1},"",0]
[null,null,null,null,null,null,0,"",null,"",null,"",null,null,null,null,"\\",{"$f":"IF(AND(A14=\"\",B14=\"\",C14=\"\",D14=\"\"),1,IF(OR(O14=\"\",N14=\"\"),2,IF(ISERROR(MATCH(Q14,Input!M$5:M$24,0)),2,1)))","v":1},"",0]
[null,null,null,null,null,null,0,"",null,"",null,"",null,null,null,null,"\\",{"$f":"IF(AND(A15=\"\",B15=\"\",C15=\"\",D15=\"\"),1,IF(OR(O15=\"\",N15=\"\"),2,IF(ISERROR(MATCH(Q15,Input!M$5:M$24,0)),2,1)))","v":1},"",0]
[null,null,null,null,null,null,0,"",null,"",null,"",null,null,null,null,"\\",{"$f":"IF(AND(A16=\"\",B16=\"\",C16=\"\",D16=\"\"),1,IF(OR(O16=\"\",N16=\"\"),2,IF(ISERROR(MATCH(Q16,Input!M$5:M$24,0)),2,1)))","v":1},"",0]
[null,null,null,null,null,null,0,"",null,"",null,"",null,null,null,null,"\\",{"$f":"IF(AND(A17=\"\",B17=\"\",C17=\"\",D17=\"\"),1,IF(OR(O17=\"\",N17=\"\"),2,IF(ISERROR(MATCH(Q17,Input!M$5:M$24,0)),2,1)))","v":1},"",0]
[]
["TANK SHEET"]
["Bid Item (In Order of Placement)",null,"Today's Placement",null,null,"Bid Item Plan Quantity","Plan Thickness (in)","Contract Mix Price","Contract Binder Price","Project Number",null,null,null,"Mix Pay Units","Mix Delivered to Road\n(Ton or SY)","Waste On Road (Ton)\nNO waste for SY Items","Tons Placed - Waste",null,null,"This adds up column S as it depends if the Est SY is filled out or the SY",null,"Use this Column for SY for the Q column","Uses this Value for Mix on Road"]
[null,null,null,null,null,{"$f":"IF($J21=\"\",\"\",INDEX(Input!$A$5:$H$24,MATCH($A21&$J21,Input!$A$5:$A$24&Input!$G$5:$G$24,0),2))","v":""},{"$f":"IF($J21=\"\",\"\",INDEX(Input!$A$5:$H$24,MATCH($A21&$J21,Input!$A$5:$A$24&Input!$G$5:$G$24,0),3))","v":""},{"$f":"IF($J21=\"\",\"\",INDEX(Input!$A$5:$H$24,MATCH($A21&$J21,Input!$A$5:$A$24&Input!$G$5:$G$24,0),4))","v":""},{"$f":"IF($J21=\"\",\"\",INDEX(Input!$A$5:$H$24,MATCH($A21&$J21,Input!$A$5:$A$24&Input!$G$5:$G$24,0),5))","v":""},null,null,null,null,{"$f":"IF($A21=\"\",\"\",OFFSET(Input!F$4,MATCH($A21,Input!$A$5:$A$24,0),0))","v":""},{"$f":"IF(N21=\"SY\", T21, IF(N21=\"Tons\", W21, \"\"))","v":""},null,{"$f":"IF(N21=\"SY\", V21, IF(N21=\"Tons\", O21-P21, \"\"))","v":""},{"$f":"SUBSTITUTE(A21 & \"\\\" & J21,\"\"\"\",\"\")","v":"\\"},{"$f":"IF(A21=\"\",1,IF(ISERROR(MATCH(R21,Input!L$5:L$24,0)),2,1))","v":1},{"$f":"IF(A21=\"\", \"\", SUMIF($Q$8:$Q$17, \"*\" & LEFT(A21, 11) & \"*\", $S$8:$S$17))","v":""},null,{"$f":"IF(A21=\"\", \"\", SUMIF($Q$8:$Q$17, \"*\" & LEFT(A21, 11) & \"*\", $T$8:$T$17))","v":""},{"$f":"IF(N21=\"SY\", T21, IF(N21=\"Tons\", V21+P21, \"\"))","v":""}]
[null,null,null,null,null,{"$f":"IF($J22=\"\",\"\",INDEX(Input!$A$5:$H$24,MATCH($A22&$J22,Input!$A$5:$A$24&Input!$G$5:$G$24,0),2))","v":""},{"$f":"IF($J22=\"\",\"\",INDEX(Input!$A$5:$H$24,MATCH($A22&$J22,Input!$A$5:$A$24&Input!$G$5:$G$24,0),3))","v":""},{"$f":"IF($J22=\"\",\"\",INDEX(Input!$A$5:$H$24,MATCH($A22&$J22,Input!$A$5:$A$24&Input!$G$5:$G$24,0),4))","v":""},{"$f":"IF($J22=\"\",\"\",INDEX(Input!$A$5:$H$24,MATCH($A22&$J22,Input!$A$5:$A$24&Input!$G$5:$G$24,0),5))","v":""},null,null,null,null,{"$f":"IF($A22=\"\",\"\",OFFSET(Input!F$4,MATCH($A22,Input!$A$5:$A$24,0),0))","v":""},{"$f":"IF(N22=\"SY\", T22, IF(N22=\"Tons\", W22, \"\"))","v":""},null,{"$f":"IF(N22=\"SY\", V22, IF(N22=\"Tons\", O22-P22, \"\"))","v":""},{"$f":"SUBSTITUTE(A22 & \"\\\" & J22,\"\"\"\",\"\")","v":"\\"},{"$f":"IF(A22=\"\",1,IF(ISERROR(MATCH(R22,Input!L$5:L$24,0)),2,1))","v":1},{"$f":"IF(A22=\"\", \"\", SUMIF($Q$8:$Q$17, \"*\" & LEFT(A22, 11) & \"*\", $S$8:$S$17))","v":""},null,{"$f":"IF(A22=\"\", \"\", SUMIF($Q$8:$Q$17, \"*\" & LEFT(A22, 11) & \"*\", $T$8:$T$17))","v":""},{"$f":"IF(N22=\"SY\", T22, IF(N22=\"Tons\", V22+P22, \"\"))","v":""}]
[null,null,null,null,null,{"$f":"IF($J23=\"\",\"\",INDEX(Input!$A$5:$H$24,MATCH($A23&$J23,Input!$A$5:$A$24&Input!$G$5:$G$24,0),2))","v":""},{"$f":"IF($J23=\"\",\"\",INDEX(Input!$A$5:$H$24,MATCH($A23&$J23,Input!$A$5:$A$24&Input!$G$5:$G$24,0),3))","v":""},{"$f":"IF($J23=\"\",\"\",INDEX(Input!$A$5:$H$24,MATCH($A23&$J23,Input!$A$5:$A$24&Input!$G$5:$G$24,0),4))","v":""},{"$f":"IF($J23=\"\",\"\",INDEX(Input!$A$5:$H$24,MATCH($A23&$J23,Input!$A$5:$A$24&Input!$G$5:$G$24,0),5))","v":""},null,null,null,null,{"$f":"IF($A23=\"\",\"\",OFFSET(Input!F$4,MATCH($A23,Input!$A$5:$A$24,0),0))","v":""},{"$f":"IF(N23=\"SY\", T23, IF(N23=\"Tons\", W23, \"\"))","v":""},null,{"$f":"IF(N23=\"SY\", V23, IF(N23=\"Tons\", O23-P23, \"\"))","v":""},"\\",{"$f":"IF(A23=\"\",1,IF(ISERROR(MATCH(R23,Input!L$5:L$24,0)),2,1))","v":1},{"$f":"IF(A23=\"\", \"\", SUMIF($Q$8:$Q$17, \"*\" & LEFT(A23, 11) & \"*\", $S$8:$S$17))","v":""},null,{"$f":"IF(A23=\"\", \"\", SUMIF($Q$8:$Q$17, \"*\" & LEFT(A23, 11) & \"*\", $T$8:$T$17))","v":""},{"$f":"IF(N23=\"SY\", T23, IF(N23=\"Tons\", V23+P23, \"\"))","v":""}]
[null,null,null,null,null,{"$f":"IF($J24=\"\",\"\",INDEX(Input!$A$5:$H$24,MATCH($A24&$J24,Input!$A$5:$A$24&Input!$G$5:$G$24,0),2))","v":""},{"$f":"IF($J24=\"\",\"\",INDEX(Input!$A$5:$H$24,MATCH($A24&$J24,Input!$A$5:$A$24&Input!$G$5:$G$24,0),3))","v":""},{"$f":"IF($J24=\"\",\"\",INDEX(Input!$A$5:$H$24,MATCH($A24&$J24,Input!$A$5:$A$24&Input!$G$5:$G$24,0),4))","v":""},{"$f":"IF($J24=\"\",\"\",INDEX(Input!$A$5:$H$24,MATCH($A24&$J24,Input!$A$5:$A$24&Input!$G$5:$G$24,0),5))","v":""},null,null,null,null,{"$f":"IF($A24=\"\",\"\",OFFSET(Input!F$4,MATCH($A24,Input!$A$5:$A$24,0),0))","v":""},"",null,{"$f":"IF(N24=\"SY\", V24, IF(N24=\"Tons\", O24-P24, \"\"))","v":""},"\\",{"$f":"IF(A24=\"\",1,IF(ISERROR(MATCH(R24,Input!L$5:L$24,0)),2,1))","v":1},"",null,{"$f":"IF(A24=\"\", \"\", SUMIF($Q$8:$Q$17, \"*\" & LEFT(A24, 11) & \"*\", $T$8:$T$17))","v":""},{"$f":"IF(N24=\"SY\", T24, IF(N24=\"Tons\", V24+P24, \"\"))","v":""}]
[null,null,null,null,null,{"$f":"IF($J25=\"\",\"\",INDEX(Input!$A$5:$H$24,MATCH($A25&$J25,Input!$A$5:$A$24&Input!$G$5:$G$24,0),2))","v":""},{"$f":"IF($J25=\"\",\"\",INDEX(Input!$A$5:$H$24,MATCH($A25&$J25,Input!$A$5:$A$24&Input!$G$5:$G$24,0),3))","v":""},{"$f":"IF($J25=\"\",\"\",INDEX(Input!$A$5:$H$24,MATCH($A25&$J25,Input!$A$5:$A$24&Input!$G$5:$G$24,0),4))","v":""},{"$f":"IF($J25=\"\",\"\",INDEX(Input!$A$5:$H$24,MATCH($A25&$J25,Input!$A$5:$A$24&Input!$G$5:$G$24,0),5))","v":""},null,null,null,null,{"$f":"IF($A25=\"\",\"\",OFFSET(Input!F$4,MATCH($A25,Input!$A$5:$A$24,0),0))","v":""},"",null,"","\\",{"$f":"IF(A25=\"\",1,IF(ISERROR(MATCH(R25,Input!L$5:L$24,0)),2,1))","v":1},"",null,"",""]
[null,null,null,null,null,null,null,null,null,null,null,null,null,null,null,null,null,null,null,null,null,"",{"$f":"IF(N26=\"SY\", T26, IF(N26=\"Tons\", V26+P26, \"\"))","v":""},{"$f":"IF(A26=\"\", \"\", SUMIF($Q$8:$Q$17, \"*\" & LEFT(A26, 11) & \"*\", $S$8:$S$17))","v":""},{"$f":"IF(N26=\"SY\",X26,\"\")","v":""},{"$f":"IF(A26=\"\", \"\", SUMIF($Q$8:$Q$17, \"*\" & LEFT(A26, 11) & \"*\", $T$8:$T$17))","v":""}]
["Hot Box Sample",null,null,null,null,null,null,null,null,null,"Mat Temperatures °F"]
[null,"Test A","Test B","Test C","Test D","Test E",null,null,null,null,"Time","Temp"]
[" Hot Box ID Number  ",null,null,null,null,null,null,null,null,null,"7:00"]
["Hot Box Sample Tons: ",null,null,null,null,null,null,null,null,null,"9:00",null,null,null,"Intended Thickness:"]
[" Time: ",null,null,null,null,null,null,null,null,null,"11:00",null,null,null,"Cores Waived?"]
[" Station/MP: ",null,null,null,null,null,null,null,null,null,"1:00",null,null,null,"Small Quantity Statement?"]
["Bar Code ID.:",null,null,null,null,null,null,null,null,null,"3:00",null,null,null,"Scale Check Done?"]
["Compaction Temp. °F: ",null,null,null,null,null,null,null,null,null,"5:00",null,null,null,"Tack Tickets Today?"]
[null,null,null,null,null,null,null,null,null,null,"7:00"]
["The Below Comments should show up on the plant report"]
["Comments:"]
[]
[]
["The Below Notes are for the CPI from the field or Plant Monitor"]
["Notes:"]
[]
[]
["RANDOM CORE LOCATIONS"]
[null,null,null,null,null,null,null,"Core #","Station","Offset,ft","Joint Station","Lane"]
[null,null,null,null,null,null,null,1]
[null,null,null,null,null,null,null,2]
[null,null,null,null,null,null,null,3]
[null,null,null,null,null,null,null,4]
[null,null,null,null,null,null,null,5]
[null,null,null,null,null,null,null,6]
[null,null,null,null,null,null,null,7]
[null,null,null,null,null,null,null,8]
[]
[null,null,null,null,null,null,null,null,null,null,"Joint Sublot Size, ft"]
[null,null,null,null,null,null,null,null,null,null,0]
[]
[]
[]
[]
[]
[]
[]
[]
[]
[]
[]
[]
[]
[]
[]
[]
[]
[]
[]
[]
[]
[]
[]
[]
[]
[]
[]
[]
[]
[]
[]
[]
[]
[]
[]
[]
[]
[]
[]
[]
[false]

{"sheet":"75","index":90,"n_rows":97,"n_cols":26,"rows_kept":97,"cut":false,"hidden":false,"merged":[[50,11,50,13],[51,11,51,13],[52,11,52,13],[44,11,44,13],[45,11,45,13],[46,11,46,13],[47,11,47,13],[48,11,48,13],[49,11,49,13],[43,0,43,16],[25,0,25,1],[26,0,26,5],[26,20,26,23],[26,25,26,27],[34,2,34,4],[35,0,35,5],[36,1,36,14],[37,0,37,14],[39,0,39,5],[40,1,40,14],[41,0,41,14],[23,0,23,1],[23,2,23,4],[23,9,23,12],[24,0,24,1],[24,2,24,4],[24,9,24,12],[21,0,21,1],[21,2,21,4],[21,9,21,12],[22,0,22,1],[22,2,22,4],[22,9,22,12],[19,0,19,1],[19,2,19,4],[19,9,19,12],[20,0,20,1],[20,2,20,4],[20,9,20,12],[18,0,18,16],[6,14,6,15],[7,14,7,15],[8,14,8,15],[9,14,9,15],[10,14,10,15],[11,14,11,15],[12,14,12,15],[13,14,13,15],[14,14,14,15],[15,14,15,15],[16,14,16,15],[1,0,1,16],[4,0,4,15],[5,4,5,5],[5,8,5,9],[5,11,5,12],[5,13,5,15]]}
[]
["Iowa DOT HMA Field Report"]
["Date :"]
["Item No.('s)"]
["PLACEMENT RECORD",null,null,null,null,null,null,null,null,null,null,null,null,null,null,null,null,null,null,null,null,{"$f":"SUBSTITUTE(A21 & \"\\\" & J21,\"\"\"\",\"\")","v":"\\"}]
[null,null,null,null,"Additional width to DEDUCT from Field Voids",null,null,null,"Placed Density (Pounds/CF)=",null,150,"Overwritten on the \"Summary\" Tab",null,"ONLY ONE (1) MIX DESIGN PER DFR OTHERWISE IT WILL NOT IMPORT INTO THE PLANT REPORT PROPERLY",null,null,null,null,null,null,null,{"$f":"SUBSTITUTE(A22 & \"\\\" & J22,\"\"\"\",\"\")","v":"\\"}]
["From Station"," To Station","Lane","ML or Widening Placement Width","Additional Width (ft) ","Thickness (in)","Total Length Placed (FT)","\"Pay\"  Est \"SY\"","Thickness (inches)","Calculated Field Voids Tons","Placed Tons            (Not including Waste)","% Yield","SY to be PAID (If Diff. than Est SY)","Mix Design No.","Bid Item/ Project No.",null,null,null,"This uses the correct SY #, if Green is blank uses Est. SY","Adds up the Tons",null,"\\"]
[null,null,null,null,null,null,{"$f":"IF(OR(A8=\"\",B8=\"\"),0,IF($A$97=TRUE,ABS(B8-A8)*5280,ABS(VALUE(SUBSTITUTE(A8,\"+\",\"\"))-VALUE(SUBSTITUTE(B8,\"+\",\"\")))))","v":0},{"$f":"IF(D8=\"\",\"\",G8*(D8+E8)/9)","v":""},null,{"$f":"IF(I8=\"\",\"\",(G8)*(D8+E8)*I8/12*$K$6/2000)","v":""},null,{"$f":"IF(K8=\"\",\"\",K8/J8*100)","v":""},null,null,null,null,{"$f":"O8 & \"\\\" & N8","v":"\\"},{"$f":"IF(AND(A8=\"\",B8=\"\",C8=\"\",D8=\"\"),1,IF(OR(O8=\"\",N8=\"\"),2,IF(ISERROR(MATCH(Q8,Input!M$5:M$24,0)),2,1)))","v":1},{"$f":"IF(M8<>\"\", M8, H8)","v":""},{"$f":"K8","v":0},null,"\\"]
[null,null,null,null,null,null,{"$f":"IF(OR(A9=\"\",B9=\"\"),0,IF($A$97=TRUE,ABS(B9-A9)*5280,ABS(VALUE(SUBSTITUTE(A9,\"+\",\"\"))-VALUE(SUBSTITUTE(B9,\"+\",\"\")))))","v":0},{"$f":"IF(D9=\"\",\"\",G9*(D9+E9)/9)","v":""},null,"",null,{"$f":"IF(K9=\"\",\"\",K9/J9*100)","v":""},null,null,null,null,{"$f":"O9 & \"\\\" & N9","v":"\\"},{"$f":"IF(AND(A9=\"\",B9=\"\",C9=\"\",D9=\"\"),1,IF(OR(O9=\"\",N9=\"\"),2,IF(ISERROR(MATCH(Q9,Input!M$5:M$24,0)),2,1)))","v":1},{"$f":"IF(M9<>\"\", M9, H9)","v":""},{"$f":"K9","v":0},null,"\\"]
[null,null,null,null,null,null,0,"",null,"",null,"",null,null,null,null,"\\",{"$f":"IF(AND(A10=\"\",B10=\"\",C10=\"\",D10=\"\"),1,IF(OR(O10=\"\",N10=\"\"),2,IF(ISERROR(MATCH(Q10,Input!M$5:M$24,0)),2,1)))","v":1},{"$f":"IF(M10<>\"\", M10, H10)","v":""},0]
[null,null,null,null,null,null,0,"",null,"",null,"",null,null,null,null,"\\",{"$f":"IF(AND(A11=\"\",B11=\"\",C11=\"\",D11=\"\"),1,IF(OR(O11=\"\",N11=\"\"),2,IF(ISERROR(MATCH(Q11,Input!M$5:M$24,0)),2,1)))","v":1},"",0]
[null,null,null,null,null,null,0,"",null,"",null,"",null,null,null,null,"\\",{"$f":"IF(AND(A12=\"\",B12=\"\",C12=\"\",D12=\"\"),1,IF(OR(O12=\"\",N12=\"\"),2,IF(ISERROR(MATCH(Q12,Input!M$5:M$24,0)),2,1)))","v":1},"",0]
[null,null,null,null,null,null,0,"",null,"",null,"",null,null,null,null,"\\",{"$f":"IF(AND(A13=\"\",B13=\"\",C13=\"\",D13=\"\"),1,IF(OR(O13=\"\",N13=\"\"),2,IF(ISERROR(MATCH(Q13,Input!M$5:M$24,0)),2,1)))","v":1},"",0]
[null,null,null,null,null,null,0,"",null,"",null,"",null,null,null,null,"\\",{"$f":"IF(AND(A14=\"\",B14=\"\",C14=\"\",D14=\"\"),1,IF(OR(O14=\"\",N14=\"\"),2,IF(ISERROR(MATCH(Q14,Input!M$5:M$24,0)),2,1)))","v":1},"",0]
[null,null,null,null,null,null,0,"",null,"",null,"",null,null,null,null,"\\",{"$f":"IF(AND(A15=\"\",B15=\"\",C15=\"\",D15=\"\"),1,IF(OR(O15=\"\",N15=\"\"),2,IF(ISERROR(MATCH(Q15,Input!M$5:M$24,0)),2,1)))","v":1},"",0]
[null,null,null,null,null,null,0,"",null,"",null,"",null,null,null,null,"\\",{"$f":"IF(AND(A16=\"\",B16=\"\",C16=\"\",D16=\"\"),1,IF(OR(O16=\"\",N16=\"\"),2,IF(ISERROR(MATCH(Q16,Input!M$5:M$24,0)),2,1)))","v":1},"",0]
[null,null,null,null,null,null,0,"",null,"",null,"",null,null,null,null,"\\",{"$f":"IF(AND(A17=\"\",B17=\"\",C17=\"\",D17=\"\"),1,IF(OR(O17=\"\",N17=\"\"),2,IF(ISERROR(MATCH(Q17,Input!M$5:M$24,0)),2,1)))","v":1},"",0]
[]
["TANK SHEET"]
["Bid Item (In Order of Placement)",null,"Today's Placement",null,null,"Bid Item Plan Quantity","Plan Thickness (in)","Contract Mix Price","Contract Binder Price","Project Number",null,null,null,"Mix Pay Units","Mix Delivered to Road\n(Ton or SY)","Waste On Road (Ton)\nNO waste for SY Items","Tons Placed - Waste",null,null,"This adds up column S as it depends if the Est SY is filled out or the SY",null,"Use this Column for SY for the Q column","Uses this Value for Mix on Road"]
[null,null,null,null,null,{"$f":"IF($J21=\"\",\"\",INDEX(Input!$A$5:$H$24,MATCH($A21&$J21,Input!$A$5:$A$24&Input!$G$5:$G$24,0),2))","v":""},{"$f":"IF($J21=\"\",\"\",INDEX(Input!$A$5:$H$24,MATCH($A21&$J21,Input!$A$5:$A$24&Input!$G$5:$G$24,0),3))","v":""},{"$f":"IF($J21=\"\",\"\",INDEX(Input!$A$5:$H$24,MATCH($A21&$J21,Input!$A$5:$A$24&Input!$G$5:$G$24,0),4))","v":""},{"$f":"IF($J21=\"\",\"\",INDEX(Input!$A$5:$H$24,MATCH($A21&$J21,Input!$A$5:$A$24&Input!$G$5:$G$24,0),5))","v":""},null,null,null,null,{"$f":"IF($A21=\"\",\"\",OFFSET(Input!F$4,MATCH($A21,Input!$A$5:$A$24,0),0))","v":""},{"$f":"IF(N21=\"SY\", T21, IF(N21=\"Tons\", W21, \"\"))","v":""},null,{"$f":"IF(N21=\"SY\", V21, IF(N21=\"Tons\", O21-P21, \"\"))","v":""},{"$f":"SUBSTITUTE(A21 & \"\\\" & J21,\"\"\"\",\"\")","v":"\\"},{"$f":"IF(A21=\"\",1,IF(ISERROR(MATCH(R21,Input!L$5:L$24,0)),2,1))","v":1},{"$f":"IF(A21=\"\", \"\", SUMIF($Q$8:$Q$17, \"*\" & LEFT(A21, 11) & \"*\", $S$8:$S$17))","v":""},null,{"$f":"IF(A21=\"\", \"\", SUMIF($Q$8:$Q$17, \"*\" & LEFT(A21, 11) & \"*\", $T$8:$T$17))","v":""},{"$f":"IF(N21=\"SY\", T21, IF(N21=\"Tons\", V21+P21, \"\"))","v":""}]
[null,null,null,null,null,{"$f":"IF($J22=\"\",\"\",INDEX(Input!$A$5:$H$24,MATCH($A22&$J22,Input!$A$5:$A$24&Input!$G$5:$G$24,0),2))","v":""},{"$f":"IF($J22=\"\",\"\",INDEX(Input!$A$5:$H$24,MATCH($A22&$J22,Input!$A$5:$A$24&Input!$G$5:$G$24,0),3))","v":""},{"$f":"IF($J22=\"\",\"\",INDEX(Input!$A$5:$H$24,MATCH($A22&$J22,Input!$A$5:$A$24&Input!$G$5:$G$24,0),4))","v":""},{"$f":"IF($J22=\"\",\"\",INDEX(Input!$A$5:$H$24,MATCH($A22&$J22,Input!$A$5:$A$24&Input!$G$5:$G$24,0),5))","v":""},null,null,null,null,{"$f":"IF($A22=\"\",\"\",OFFSET(Input!F$4,MATCH($A22,Input!$A$5:$A$24,0),0))","v":""},{"$f":"IF(N22=\"SY\", T22, IF(N22=\"Tons\", W22, \"\"))","v":""},null,{"$f":"IF(N22=\"SY\", V22, IF(N22=\"Tons\", O22-P22, \"\"))","v":""},{"$f":"SUBSTITUTE(A22 & \"\\\" & J22,\"\"\"\",\"\")","v":"\\"},{"$f":"IF(A22=\"\",1,IF(ISERROR(MATCH(R22,Input!L$5:L$24,0)),2,1))","v":1},{"$f":"IF(A22=\"\", \"\", SUMIF($Q$8:$Q$17, \"*\" & LEFT(A22, 11) & \"*\", $S$8:$S$17))","v":""},null,{"$f":"IF(A22=\"\", \"\", SUMIF($Q$8:$Q$17, \"*\" & LEFT(A22, 11) & \"*\", $T$8:$T$17))","v":""},{"$f":"IF(N22=\"SY\", T22, IF(N22=\"Tons\", V22+P22, \"\"))","v":""}]
[null,null,null,null,null,{"$f":"IF($J23=\"\",\"\",INDEX(Input!$A$5:$H$24,MATCH($A23&$J23,Input!$A$5:$A$24&Input!$G$5:$G$24,0),2))","v":""},{"$f":"IF($J23=\"\",\"\",INDEX(Input!$A$5:$H$24,MATCH($A23&$J23,Input!$A$5:$A$24&Input!$G$5:$G$24,0),3))","v":""},{"$f":"IF($J23=\"\",\"\",INDEX(Input!$A$5:$H$24,MATCH($A23&$J23,Input!$A$5:$A$24&Input!$G$5:$G$24,0),4))","v":""},{"$f":"IF($J23=\"\",\"\",INDEX(Input!$A$5:$H$24,MATCH($A23&$J23,Input!$A$5:$A$24&Input!$G$5:$G$24,0),5))","v":""},null,null,null,null,{"$f":"IF($A23=\"\",\"\",OFFSET(Input!F$4,MATCH($A23,Input!$A$5:$A$24,0),0))","v":""},{"$f":"IF(N23=\"SY\", T23, IF(N23=\"Tons\", W23, \"\"))","v":""},null,{"$f":"IF(N23=\"SY\", V23, IF(N23=\"Tons\", O23-P23, \"\"))","v":""},"\\",{"$f":"IF(A23=\"\",1,IF(ISERROR(MATCH(R23,Input!L$5:L$24,0)),2,1))","v":1},{"$f":"IF(A23=\"\", \"\", SUMIF($Q$8:$Q$17, \"*\" & LEFT(A23, 11) & \"*\", $S$8:$S$17))","v":""},null,{"$f":"IF(A23=\"\", \"\", SUMIF($Q$8:$Q$17, \"*\" & LEFT(A23, 11) & \"*\", $T$8:$T$17))","v":""},{"$f":"IF(N23=\"SY\", T23, IF(N23=\"Tons\", V23+P23, \"\"))","v":""}]
[null,null,null,null,null,{"$f":"IF($J24=\"\",\"\",INDEX(Input!$A$5:$H$24,MATCH($A24&$J24,Input!$A$5:$A$24&Input!$G$5:$G$24,0),2))","v":""},{"$f":"IF($J24=\"\",\"\",INDEX(Input!$A$5:$H$24,MATCH($A24&$J24,Input!$A$5:$A$24&Input!$G$5:$G$24,0),3))","v":""},{"$f":"IF($J24=\"\",\"\",INDEX(Input!$A$5:$H$24,MATCH($A24&$J24,Input!$A$5:$A$24&Input!$G$5:$G$24,0),4))","v":""},{"$f":"IF($J24=\"\",\"\",INDEX(Input!$A$5:$H$24,MATCH($A24&$J24,Input!$A$5:$A$24&Input!$G$5:$G$24,0),5))","v":""},null,null,null,null,{"$f":"IF($A24=\"\",\"\",OFFSET(Input!F$4,MATCH($A24,Input!$A$5:$A$24,0),0))","v":""},"",null,{"$f":"IF(N24=\"SY\", V24, IF(N24=\"Tons\", O24-P24, \"\"))","v":""},"\\",{"$f":"IF(A24=\"\",1,IF(ISERROR(MATCH(R24,Input!L$5:L$24,0)),2,1))","v":1},"",null,{"$f":"IF(A24=\"\", \"\", SUMIF($Q$8:$Q$17, \"*\" & LEFT(A24, 11) & \"*\", $T$8:$T$17))","v":""},{"$f":"IF(N24=\"SY\", T24, IF(N24=\"Tons\", V24+P24, \"\"))","v":""}]
[null,null,null,null,null,{"$f":"IF($J25=\"\",\"\",INDEX(Input!$A$5:$H$24,MATCH($A25&$J25,Input!$A$5:$A$24&Input!$G$5:$G$24,0),2))","v":""},{"$f":"IF($J25=\"\",\"\",INDEX(Input!$A$5:$H$24,MATCH($A25&$J25,Input!$A$5:$A$24&Input!$G$5:$G$24,0),3))","v":""},{"$f":"IF($J25=\"\",\"\",INDEX(Input!$A$5:$H$24,MATCH($A25&$J25,Input!$A$5:$A$24&Input!$G$5:$G$24,0),4))","v":""},{"$f":"IF($J25=\"\",\"\",INDEX(Input!$A$5:$H$24,MATCH($A25&$J25,Input!$A$5:$A$24&Input!$G$5:$G$24,0),5))","v":""},null,null,null,null,{"$f":"IF($A25=\"\",\"\",OFFSET(Input!F$4,MATCH($A25,Input!$A$5:$A$24,0),0))","v":""},"",null,"","\\",{"$f":"IF(A25=\"\",1,IF(ISERROR(MATCH(R25,Input!L$5:L$24,0)),2,1))","v":1},"",null,"",""]
[null,null,null,null,null,null,null,null,null,null,null,null,null,null,null,null,null,null,null,null,null,"",{"$f":"IF(N26=\"SY\", T26, IF(N26=\"Tons\", V26+P26, \"\"))","v":""},{"$f":"IF(A26=\"\", \"\", SUMIF($Q$8:$Q$17, \"*\" & LEFT(A26, 11) & \"*\", $S$8:$S$17))","v":""},{"$f":"IF(N26=\"SY\",X26,\"\")","v":""},{"$f":"IF(A26=\"\", \"\", SUMIF($Q$8:$Q$17, \"*\" & LEFT(A26, 11) & \"*\", $T$8:$T$17))","v":""}]
["Hot Box Sample",null,null,null,null,null,null,null,null,null,"Mat Temperatures °F"]
[null,"Test A","Test B","Test C","Test D","Test E",null,null,null,null,"Time","Temp"]
[" Hot Box ID Number  ",null,null,null,null,null,null,null,null,null,"7:00"]
["Hot Box Sample Tons: ",null,null,null,null,null,null,null,null,null,"9:00",null,null,null,"Intended Thickness:"]
[" Time: ",null,null,null,null,null,null,null,null,null,"11:00",null,null,null,"Cores Waived?"]
[" Station/MP: ",null,null,null,null,null,null,null,null,null,"1:00",null,null,null,"Small Quantity Statement?"]
["Bar Code ID.:",null,null,null,null,null,null,null,null,null,"3:00",null,null,null,"Scale Check Done?"]
["Compaction Temp. °F: ",null,null,null,null,null,null,null,null,null,"5:00",null,null,null,"Tack Tickets Today?"]
[null,null,null,null,null,null,null,null,null,null,"7:00"]
["The Below Comments should show up on the plant report"]
["Comments:"]
[]
[]
["The Below Notes are for the CPI from the field or Plant Monitor"]
["Notes:"]
[]
[]
["RANDOM CORE LOCATIONS"]
[null,null,null,null,null,null,null,"Core #","Station","Offset,ft","Joint Station","Lane"]
[null,null,null,null,null,null,null,1]
[null,null,null,null,null,null,null,2]
[null,null,null,null,null,null,null,3]
[null,null,null,null,null,null,null,4]
[null,null,null,null,null,null,null,5]
[null,null,null,null,null,null,null,6]
[null,null,null,null,null,null,null,7]
[null,null,null,null,null,null,null,8]
[]
[null,null,null,null,null,null,null,null,null,null,"Joint Sublot Size, ft"]
[null,null,null,null,null,null,null,null,null,null,0]
[]
[]
[]
[]
[]
[]
[]
[]
[]
[]
[]
[]
[]
[]
[]
[]
[]
[]
[]
[]
[]
[]
[]
[]
[]
[]
[]
[]
[]
[]
[]
[]
[]
[]
[]
[]
[]
[]
[]
[]
[false]

{"sheet":"76","index":91,"n_rows":97,"n_cols":26,"rows_kept":97,"cut":false,"hidden":false,"merged":[[50,11,50,13],[51,11,51,13],[52,11,52,13],[44,11,44,13],[45,11,45,13],[46,11,46,13],[47,11,47,13],[48,11,48,13],[49,11,49,13],[43,0,43,16],[25,0,25,1],[26,0,26,5],[26,20,26,23],[26,25,26,27],[34,2,34,4],[35,0,35,5],[36,1,36,14],[37,0,37,14],[39,0,39,5],[40,1,40,14],[41,0,41,14],[23,0,23,1],[23,2,23,4],[23,9,23,12],[24,0,24,1],[24,2,24,4],[24,9,24,12],[21,0,21,1],[21,2,21,4],[21,9,21,12],[22,0,22,1],[22,2,22,4],[22,9,22,12],[19,0,19,1],[19,2,19,4],[19,9,19,12],[20,0,20,1],[20,2,20,4],[20,9,20,12],[18,0,18,16],[6,14,6,15],[7,14,7,15],[8,14,8,15],[9,14,9,15],[10,14,10,15],[11,14,11,15],[12,14,12,15],[13,14,13,15],[14,14,14,15],[15,14,15,15],[16,14,16,15],[1,0,1,16],[4,0,4,15],[5,4,5,5],[5,8,5,9],[5,11,5,12],[5,13,5,15]]}
[]
["Iowa DOT HMA Field Report"]
["Date :"]
["Item No.('s)"]
["PLACEMENT RECORD",null,null,null,null,null,null,null,null,null,null,null,null,null,null,null,null,null,null,null,null,{"$f":"SUBSTITUTE(A21 & \"\\\" & J21,\"\"\"\",\"\")","v":"\\"}]
[null,null,null,null,"Additional width to DEDUCT from Field Voids",null,null,null,"Placed Density (Pounds/CF)=",null,150,"Overwritten on the \"Summary\" Tab",null,"ONLY ONE (1) MIX DESIGN PER DFR OTHERWISE IT WILL NOT IMPORT INTO THE PLANT REPORT PROPERLY",null,null,null,null,null,null,null,{"$f":"SUBSTITUTE(A22 & \"\\\" & J22,\"\"\"\",\"\")","v":"\\"}]
["From Station"," To Station","Lane","ML or Widening Placement Width","Additional Width (ft) ","Thickness (in)","Total Length Placed (FT)","\"Pay\"  Est \"SY\"","Thickness (inches)","Calculated Field Voids Tons","Placed Tons            (Not including Waste)","% Yield","SY to be PAID (If Diff. than Est SY)","Mix Design No.","Bid Item/ Project No.",null,null,null,"This uses the correct SY #, if Green is blank uses Est. SY","Adds up the Tons",null,"\\"]
[null,null,null,null,null,null,{"$f":"IF(OR(A8=\"\",B8=\"\"),0,IF($A$97=TRUE,ABS(B8-A8)*5280,ABS(VALUE(SUBSTITUTE(A8,\"+\",\"\"))-VALUE(SUBSTITUTE(B8,\"+\",\"\")))))","v":0},{"$f":"IF(D8=\"\",\"\",G8*(D8+E8)/9)","v":""},null,{"$f":"IF(I8=\"\",\"\",(G8)*(D8+E8)*I8/12*$K$6/2000)","v":""},null,{"$f":"IF(K8=\"\",\"\",K8/J8*100)","v":""},null,null,null,null,{"$f":"O8 & \"\\\" & N8","v":"\\"},{"$f":"IF(AND(A8=\"\",B8=\"\",C8=\"\",D8=\"\"),1,IF(OR(O8=\"\",N8=\"\"),2,IF(ISERROR(MATCH(Q8,Input!M$5:M$24,0)),2,1)))","v":1},{"$f":"IF(M8<>\"\", M8, H8)","v":""},{"$f":"K8","v":0},null,"\\"]
[null,null,null,null,null,null,{"$f":"IF(OR(A9=\"\",B9=\"\"),0,IF($A$97=TRUE,ABS(B9-A9)*5280,ABS(VALUE(SUBSTITUTE(A9,\"+\",\"\"))-VALUE(SUBSTITUTE(B9,\"+\",\"\")))))","v":0},{"$f":"IF(D9=\"\",\"\",G9*(D9+E9)/9)","v":""},null,"",null,{"$f":"IF(K9=\"\",\"\",K9/J9*100)","v":""},null,null,null,null,{"$f":"O9 & \"\\\" & N9","v":"\\"},{"$f":"IF(AND(A9=\"\",B9=\"\",C9=\"\",D9=\"\"),1,IF(OR(O9=\"\",N9=\"\"),2,IF(ISERROR(MATCH(Q9,Input!M$5:M$24,0)),2,1)))","v":1},{"$f":"IF(M9<>\"\", M9, H9)","v":""},{"$f":"K9","v":0},null,"\\"]
[null,null,null,null,null,null,0,"",null,"",null,"",null,null,null,null,"\\",{"$f":"IF(AND(A10=\"\",B10=\"\",C10=\"\",D10=\"\"),1,IF(OR(O10=\"\",N10=\"\"),2,IF(ISERROR(MATCH(Q10,Input!M$5:M$24,0)),2,1)))","v":1},{"$f":"IF(M10<>\"\", M10, H10)","v":""},0]
[null,null,null,null,null,null,0,"",null,"",null,"",null,null,null,null,"\\",{"$f":"IF(AND(A11=\"\",B11=\"\",C11=\"\",D11=\"\"),1,IF(OR(O11=\"\",N11=\"\"),2,IF(ISERROR(MATCH(Q11,Input!M$5:M$24,0)),2,1)))","v":1},"",0]
[null,null,null,null,null,null,0,"",null,"",null,"",null,null,null,null,"\\",{"$f":"IF(AND(A12=\"\",B12=\"\",C12=\"\",D12=\"\"),1,IF(OR(O12=\"\",N12=\"\"),2,IF(ISERROR(MATCH(Q12,Input!M$5:M$24,0)),2,1)))","v":1},"",0]
[null,null,null,null,null,null,0,"",null,"",null,"",null,null,null,null,"\\",{"$f":"IF(AND(A13=\"\",B13=\"\",C13=\"\",D13=\"\"),1,IF(OR(O13=\"\",N13=\"\"),2,IF(ISERROR(MATCH(Q13,Input!M$5:M$24,0)),2,1)))","v":1},"",0]
[null,null,null,null,null,null,0,"",null,"",null,"",null,null,null,null,"\\",{"$f":"IF(AND(A14=\"\",B14=\"\",C14=\"\",D14=\"\"),1,IF(OR(O14=\"\",N14=\"\"),2,IF(ISERROR(MATCH(Q14,Input!M$5:M$24,0)),2,1)))","v":1},"",0]
[null,null,null,null,null,null,0,"",null,"",null,"",null,null,null,null,"\\",{"$f":"IF(AND(A15=\"\",B15=\"\",C15=\"\",D15=\"\"),1,IF(OR(O15=\"\",N15=\"\"),2,IF(ISERROR(MATCH(Q15,Input!M$5:M$24,0)),2,1)))","v":1},"",0]
[null,null,null,null,null,null,0,"",null,"",null,"",null,null,null,null,"\\",{"$f":"IF(AND(A16=\"\",B16=\"\",C16=\"\",D16=\"\"),1,IF(OR(O16=\"\",N16=\"\"),2,IF(ISERROR(MATCH(Q16,Input!M$5:M$24,0)),2,1)))","v":1},"",0]
[null,null,null,null,null,null,0,"",null,"",null,"",null,null,null,null,"\\",{"$f":"IF(AND(A17=\"\",B17=\"\",C17=\"\",D17=\"\"),1,IF(OR(O17=\"\",N17=\"\"),2,IF(ISERROR(MATCH(Q17,Input!M$5:M$24,0)),2,1)))","v":1},"",0]
[]
["TANK SHEET"]
["Bid Item (In Order of Placement)",null,"Today's Placement",null,null,"Bid Item Plan Quantity","Plan Thickness (in)","Contract Mix Price","Contract Binder Price","Project Number",null,null,null,"Mix Pay Units","Mix Delivered to Road\n(Ton or SY)","Waste On Road (Ton)\nNO waste for SY Items","Tons Placed - Waste",null,null,"This adds up column S as it depends if the Est SY is filled out or the SY",null,"Use this Column for SY for the Q column","Uses this Value for Mix on Road"]
[null,null,null,null,null,{"$f":"IF($J21=\"\",\"\",INDEX(Input!$A$5:$H$24,MATCH($A21&$J21,Input!$A$5:$A$24&Input!$G$5:$G$24,0),2))","v":""},{"$f":"IF($J21=\"\",\"\",INDEX(Input!$A$5:$H$24,MATCH($A21&$J21,Input!$A$5:$A$24&Input!$G$5:$G$24,0),3))","v":""},{"$f":"IF($J21=\"\",\"\",INDEX(Input!$A$5:$H$24,MATCH($A21&$J21,Input!$A$5:$A$24&Input!$G$5:$G$24,0),4))","v":""},{"$f":"IF($J21=\"\",\"\",INDEX(Input!$A$5:$H$24,MATCH($A21&$J21,Input!$A$5:$A$24&Input!$G$5:$G$24,0),5))","v":""},null,null,null,null,{"$f":"IF($A21=\"\",\"\",OFFSET(Input!F$4,MATCH($A21,Input!$A$5:$A$24,0),0))","v":""},{"$f":"IF(N21=\"SY\", T21, IF(N21=\"Tons\", W21, \"\"))","v":""},null,{"$f":"IF(N21=\"SY\", V21, IF(N21=\"Tons\", O21-P21, \"\"))","v":""},{"$f":"SUBSTITUTE(A21 & \"\\\" & J21,\"\"\"\",\"\")","v":"\\"},{"$f":"IF(A21=\"\",1,IF(ISERROR(MATCH(R21,Input!L$5:L$24,0)),2,1))","v":1},{"$f":"IF(A21=\"\", \"\", SUMIF($Q$8:$Q$17, \"*\" & LEFT(A21, 11) & \"*\", $S$8:$S$17))","v":""},null,{"$f":"IF(A21=\"\", \"\", SUMIF($Q$8:$Q$17, \"*\" & LEFT(A21, 11) & \"*\", $T$8:$T$17))","v":""},{"$f":"IF(N21=\"SY\", T21, IF(N21=\"Tons\", V21+P21, \"\"))","v":""}]
[null,null,null,null,null,{"$f":"IF($J22=\"\",\"\",INDEX(Input!$A$5:$H$24,MATCH($A22&$J22,Input!$A$5:$A$24&Input!$G$5:$G$24,0),2))","v":""},{"$f":"IF($J22=\"\",\"\",INDEX(Input!$A$5:$H$24,MATCH($A22&$J22,Input!$A$5:$A$24&Input!$G$5:$G$24,0),3))","v":""},{"$f":"IF($J22=\"\",\"\",INDEX(Input!$A$5:$H$24,MATCH($A22&$J22,Input!$A$5:$A$24&Input!$G$5:$G$24,0),4))","v":""},{"$f":"IF($J22=\"\",\"\",INDEX(Input!$A$5:$H$24,MATCH($A22&$J22,Input!$A$5:$A$24&Input!$G$5:$G$24,0),5))","v":""},null,null,null,null,{"$f":"IF($A22=\"\",\"\",OFFSET(Input!F$4,MATCH($A22,Input!$A$5:$A$24,0),0))","v":""},{"$f":"IF(N22=\"SY\", T22, IF(N22=\"Tons\", W22, \"\"))","v":""},null,{"$f":"IF(N22=\"SY\", V22, IF(N22=\"Tons\", O22-P22, \"\"))","v":""},{"$f":"SUBSTITUTE(A22 & \"\\\" & J22,\"\"\"\",\"\")","v":"\\"},{"$f":"IF(A22=\"\",1,IF(ISERROR(MATCH(R22,Input!L$5:L$24,0)),2,1))","v":1},{"$f":"IF(A22=\"\", \"\", SUMIF($Q$8:$Q$17, \"*\" & LEFT(A22, 11) & \"*\", $S$8:$S$17))","v":""},null,{"$f":"IF(A22=\"\", \"\", SUMIF($Q$8:$Q$17, \"*\" & LEFT(A22, 11) & \"*\", $T$8:$T$17))","v":""},{"$f":"IF(N22=\"SY\", T22, IF(N22=\"Tons\", V22+P22, \"\"))","v":""}]
[null,null,null,null,null,{"$f":"IF($J23=\"\",\"\",INDEX(Input!$A$5:$H$24,MATCH($A23&$J23,Input!$A$5:$A$24&Input!$G$5:$G$24,0),2))","v":""},{"$f":"IF($J23=\"\",\"\",INDEX(Input!$A$5:$H$24,MATCH($A23&$J23,Input!$A$5:$A$24&Input!$G$5:$G$24,0),3))","v":""},{"$f":"IF($J23=\"\",\"\",INDEX(Input!$A$5:$H$24,MATCH($A23&$J23,Input!$A$5:$A$24&Input!$G$5:$G$24,0),4))","v":""},{"$f":"IF($J23=\"\",\"\",INDEX(Input!$A$5:$H$24,MATCH($A23&$J23,Input!$A$5:$A$24&Input!$G$5:$G$24,0),5))","v":""},null,null,null,null,{"$f":"IF($A23=\"\",\"\",OFFSET(Input!F$4,MATCH($A23,Input!$A$5:$A$24,0),0))","v":""},{"$f":"IF(N23=\"SY\", T23, IF(N23=\"Tons\", W23, \"\"))","v":""},null,{"$f":"IF(N23=\"SY\", V23, IF(N23=\"Tons\", O23-P23, \"\"))","v":""},"\\",{"$f":"IF(A23=\"\",1,IF(ISERROR(MATCH(R23,Input!L$5:L$24,0)),2,1))","v":1},{"$f":"IF(A23=\"\", \"\", SUMIF($Q$8:$Q$17, \"*\" & LEFT(A23, 11) & \"*\", $S$8:$S$17))","v":""},null,{"$f":"IF(A23=\"\", \"\", SUMIF($Q$8:$Q$17, \"*\" & LEFT(A23, 11) & \"*\", $T$8:$T$17))","v":""},{"$f":"IF(N23=\"SY\", T23, IF(N23=\"Tons\", V23+P23, \"\"))","v":""}]
[null,null,null,null,null,{"$f":"IF($J24=\"\",\"\",INDEX(Input!$A$5:$H$24,MATCH($A24&$J24,Input!$A$5:$A$24&Input!$G$5:$G$24,0),2))","v":""},{"$f":"IF($J24=\"\",\"\",INDEX(Input!$A$5:$H$24,MATCH($A24&$J24,Input!$A$5:$A$24&Input!$G$5:$G$24,0),3))","v":""},{"$f":"IF($J24=\"\",\"\",INDEX(Input!$A$5:$H$24,MATCH($A24&$J24,Input!$A$5:$A$24&Input!$G$5:$G$24,0),4))","v":""},{"$f":"IF($J24=\"\",\"\",INDEX(Input!$A$5:$H$24,MATCH($A24&$J24,Input!$A$5:$A$24&Input!$G$5:$G$24,0),5))","v":""},null,null,null,null,{"$f":"IF($A24=\"\",\"\",OFFSET(Input!F$4,MATCH($A24,Input!$A$5:$A$24,0),0))","v":""},"",null,{"$f":"IF(N24=\"SY\", V24, IF(N24=\"Tons\", O24-P24, \"\"))","v":""},"\\",{"$f":"IF(A24=\"\",1,IF(ISERROR(MATCH(R24,Input!L$5:L$24,0)),2,1))","v":1},"",null,{"$f":"IF(A24=\"\", \"\", SUMIF($Q$8:$Q$17, \"*\" & LEFT(A24, 11) & \"*\", $T$8:$T$17))","v":""},{"$f":"IF(N24=\"SY\", T24, IF(N24=\"Tons\", V24+P24, \"\"))","v":""}]
[null,null,null,null,null,{"$f":"IF($J25=\"\",\"\",INDEX(Input!$A$5:$H$24,MATCH($A25&$J25,Input!$A$5:$A$24&Input!$G$5:$G$24,0),2))","v":""},{"$f":"IF($J25=\"\",\"\",INDEX(Input!$A$5:$H$24,MATCH($A25&$J25,Input!$A$5:$A$24&Input!$G$5:$G$24,0),3))","v":""},{"$f":"IF($J25=\"\",\"\",INDEX(Input!$A$5:$H$24,MATCH($A25&$J25,Input!$A$5:$A$24&Input!$G$5:$G$24,0),4))","v":""},{"$f":"IF($J25=\"\",\"\",INDEX(Input!$A$5:$H$24,MATCH($A25&$J25,Input!$A$5:$A$24&Input!$G$5:$G$24,0),5))","v":""},null,null,null,null,{"$f":"IF($A25=\"\",\"\",OFFSET(Input!F$4,MATCH($A25,Input!$A$5:$A$24,0),0))","v":""},"",null,"","\\",{"$f":"IF(A25=\"\",1,IF(ISERROR(MATCH(R25,Input!L$5:L$24,0)),2,1))","v":1},"",null,"",""]
[null,null,null,null,null,null,null,null,null,null,null,null,null,null,null,null,null,null,null,null,null,"",{"$f":"IF(N26=\"SY\", T26, IF(N26=\"Tons\", V26+P26, \"\"))","v":""},{"$f":"IF(A26=\"\", \"\", SUMIF($Q$8:$Q$17, \"*\" & LEFT(A26, 11) & \"*\", $S$8:$S$17))","v":""},{"$f":"IF(N26=\"SY\",X26,\"\")","v":""},{"$f":"IF(A26=\"\", \"\", SUMIF($Q$8:$Q$17, \"*\" & LEFT(A26, 11) & \"*\", $T$8:$T$17))","v":""}]
["Hot Box Sample",null,null,null,null,null,null,null,null,null,"Mat Temperatures °F"]
[null,"Test A","Test B","Test C","Test D","Test E",null,null,null,null,"Time","Temp"]
[" Hot Box ID Number  ",null,null,null,null,null,null,null,null,null,"7:00"]
["Hot Box Sample Tons: ",null,null,null,null,null,null,null,null,null,"9:00",null,null,null,"Intended Thickness:"]
[" Time: ",null,null,null,null,null,null,null,null,null,"11:00",null,null,null,"Cores Waived?"]
[" Station/MP: ",null,null,null,null,null,null,null,null,null,"1:00",null,null,null,"Small Quantity Statement?"]
["Bar Code ID.:",null,null,null,null,null,null,null,null,null,"3:00",null,null,null,"Scale Check Done?"]
["Compaction Temp. °F: ",null,null,null,null,null,null,null,null,null,"5:00",null,null,null,"Tack Tickets Today?"]
[null,null,null,null,null,null,null,null,null,null,"7:00"]
["The Below Comments should show up on the plant report"]
["Comments:"]
[]
[]
["The Below Notes are for the CPI from the field or Plant Monitor"]
["Notes:"]
[]
[]
["RANDOM CORE LOCATIONS"]
[null,null,null,null,null,null,null,"Core #","Station","Offset,ft","Joint Station","Lane"]
[null,null,null,null,null,null,null,1]
[null,null,null,null,null,null,null,2]
[null,null,null,null,null,null,null,3]
[null,null,null,null,null,null,null,4]
[null,null,null,null,null,null,null,5]
[null,null,null,null,null,null,null,6]
[null,null,null,null,null,null,null,7]
[null,null,null,null,null,null,null,8]
[]
[null,null,null,null,null,null,null,null,null,null,"Joint Sublot Size, ft"]
[null,null,null,null,null,null,null,null,null,null,0]
[]
[]
[]
[]
[]
[]
[]
[]
[]
[]
[]
[]
[]
[]
[]
[]
[]
[]
[]
[]
[]
[]
[]
[]
[]
[]
[]
[]
[]
[]
[]
[]
[]
[]
[]
[]
[]
[]
[]
[]
[false]

{"sheet":"77","index":92,"n_rows":97,"n_cols":26,"rows_kept":97,"cut":false,"hidden":false,"merged":[[50,11,50,13],[51,11,51,13],[52,11,52,13],[44,11,44,13],[45,11,45,13],[46,11,46,13],[47,11,47,13],[48,11,48,13],[49,11,49,13],[43,0,43,16],[25,0,25,1],[26,0,26,5],[26,20,26,23],[26,25,26,27],[34,2,34,4],[35,0,35,5],[36,1,36,14],[37,0,37,14],[39,0,39,5],[40,1,40,14],[41,0,41,14],[23,0,23,1],[23,2,23,4],[23,9,23,12],[24,0,24,1],[24,2,24,4],[24,9,24,12],[21,0,21,1],[21,2,21,4],[21,9,21,12],[22,0,22,1],[22,2,22,4],[22,9,22,12],[19,0,19,1],[19,2,19,4],[19,9,19,12],[20,0,20,1],[20,2,20,4],[20,9,20,12],[18,0,18,16],[6,14,6,15],[7,14,7,15],[8,14,8,15],[9,14,9,15],[10,14,10,15],[11,14,11,15],[12,14,12,15],[13,14,13,15],[14,14,14,15],[15,14,15,15],[16,14,16,15],[1,0,1,16],[4,0,4,15],[5,4,5,5],[5,8,5,9],[5,11,5,12],[5,13,5,15]]}
[]
["Iowa DOT HMA Field Report"]
["Date :"]
["Item No.('s)"]
["PLACEMENT RECORD",null,null,null,null,null,null,null,null,null,null,null,null,null,null,null,null,null,null,null,null,{"$f":"SUBSTITUTE(A21 & \"\\\" & J21,\"\"\"\",\"\")","v":"\\"}]
[null,null,null,null,"Additional width to DEDUCT from Field Voids",null,null,null,"Placed Density (Pounds/CF)=",null,150,"Overwritten on the \"Summary\" Tab",null,"ONLY ONE (1) MIX DESIGN PER DFR OTHERWISE IT WILL NOT IMPORT INTO THE PLANT REPORT PROPERLY",null,null,null,null,null,null,null,{"$f":"SUBSTITUTE(A22 & \"\\\" & J22,\"\"\"\",\"\")","v":"\\"}]
["From Station"," To Station","Lane","ML or Widening Placement Width","Additional Width (ft) ","Thickness (in)","Total Length Placed (FT)","\"Pay\"  Est \"SY\"","Thickness (inches)","Calculated Field Voids Tons","Placed Tons            (Not including Waste)","% Yield","SY to be PAID (If Diff. than Est SY)","Mix Design No.","Bid Item/ Project No.",null,null,null,"This uses the correct SY #, if Green is blank uses Est. SY","Adds up the Tons",null,"\\"]
[null,null,null,null,null,null,{"$f":"IF(OR(A8=\"\",B8=\"\"),0,IF($A$97=TRUE,ABS(B8-A8)*5280,ABS(VALUE(SUBSTITUTE(A8,\"+\",\"\"))-VALUE(SUBSTITUTE(B8,\"+\",\"\")))))","v":0},{"$f":"IF(D8=\"\",\"\",G8*(D8+E8)/9)","v":""},null,{"$f":"IF(I8=\"\",\"\",(G8)*(D8+E8)*I8/12*$K$6/2000)","v":""},null,{"$f":"IF(K8=\"\",\"\",K8/J8*100)","v":""},null,null,null,null,{"$f":"O8 & \"\\\" & N8","v":"\\"},{"$f":"IF(AND(A8=\"\",B8=\"\",C8=\"\",D8=\"\"),1,IF(OR(O8=\"\",N8=\"\"),2,IF(ISERROR(MATCH(Q8,Input!M$5:M$24,0)),2,1)))","v":1},{"$f":"IF(M8<>\"\", M8, H8)","v":""},{"$f":"K8","v":0},null,"\\"]
[null,null,null,null,null,null,{"$f":"IF(OR(A9=\"\",B9=\"\"),0,IF($A$97=TRUE,ABS(B9-A9)*5280,ABS(VALUE(SUBSTITUTE(A9,\"+\",\"\"))-VALUE(SUBSTITUTE(B9,\"+\",\"\")))))","v":0},{"$f":"IF(D9=\"\",\"\",G9*(D9+E9)/9)","v":""},null,"",null,{"$f":"IF(K9=\"\",\"\",K9/J9*100)","v":""},null,null,null,null,{"$f":"O9 & \"\\\" & N9","v":"\\"},{"$f":"IF(AND(A9=\"\",B9=\"\",C9=\"\",D9=\"\"),1,IF(OR(O9=\"\",N9=\"\"),2,IF(ISERROR(MATCH(Q9,Input!M$5:M$24,0)),2,1)))","v":1},{"$f":"IF(M9<>\"\", M9, H9)","v":""},{"$f":"K9","v":0},null,"\\"]
[null,null,null,null,null,null,0,"",null,"",null,"",null,null,null,null,"\\",{"$f":"IF(AND(A10=\"\",B10=\"\",C10=\"\",D10=\"\"),1,IF(OR(O10=\"\",N10=\"\"),2,IF(ISERROR(MATCH(Q10,Input!M$5:M$24,0)),2,1)))","v":1},{"$f":"IF(M10<>\"\", M10, H10)","v":""},0]
[null,null,null,null,null,null,0,"",null,"",null,"",null,null,null,null,"\\",{"$f":"IF(AND(A11=\"\",B11=\"\",C11=\"\",D11=\"\"),1,IF(OR(O11=\"\",N11=\"\"),2,IF(ISERROR(MATCH(Q11,Input!M$5:M$24,0)),2,1)))","v":1},"",0]
[null,null,null,null,null,null,0,"",null,"",null,"",null,null,null,null,"\\",{"$f":"IF(AND(A12=\"\",B12=\"\",C12=\"\",D12=\"\"),1,IF(OR(O12=\"\",N12=\"\"),2,IF(ISERROR(MATCH(Q12,Input!M$5:M$24,0)),2,1)))","v":1},"",0]
[null,null,null,null,null,null,0,"",null,"",null,"",null,null,null,null,"\\",{"$f":"IF(AND(A13=\"\",B13=\"\",C13=\"\",D13=\"\"),1,IF(OR(O13=\"\",N13=\"\"),2,IF(ISERROR(MATCH(Q13,Input!M$5:M$24,0)),2,1)))","v":1},"",0]
[null,null,null,null,null,null,0,"",null,"",null,"",null,null,null,null,"\\",{"$f":"IF(AND(A14=\"\",B14=\"\",C14=\"\",D14=\"\"),1,IF(OR(O14=\"\",N14=\"\"),2,IF(ISERROR(MATCH(Q14,Input!M$5:M$24,0)),2,1)))","v":1},"",0]
[null,null,null,null,null,null,0,"",null,"",null,"",null,null,null,null,"\\",{"$f":"IF(AND(A15=\"\",B15=\"\",C15=\"\",D15=\"\"),1,IF(OR(O15=\"\",N15=\"\"),2,IF(ISERROR(MATCH(Q15,Input!M$5:M$24,0)),2,1)))","v":1},"",0]
[null,null,null,null,null,null,0,"",null,"",null,"",null,null,null,null,"\\",{"$f":"IF(AND(A16=\"\",B16=\"\",C16=\"\",D16=\"\"),1,IF(OR(O16=\"\",N16=\"\"),2,IF(ISERROR(MATCH(Q16,Input!M$5:M$24,0)),2,1)))","v":1},"",0]
[null,null,null,null,null,null,0,"",null,"",null,"",null,null,null,null,"\\",{"$f":"IF(AND(A17=\"\",B17=\"\",C17=\"\",D17=\"\"),1,IF(OR(O17=\"\",N17=\"\"),2,IF(ISERROR(MATCH(Q17,Input!M$5:M$24,0)),2,1)))","v":1},"",0]
[]
["TANK SHEET"]
["Bid Item (In Order of Placement)",null,"Today's Placement",null,null,"Bid Item Plan Quantity","Plan Thickness (in)","Contract Mix Price","Contract Binder Price","Project Number",null,null,null,"Mix Pay Units","Mix Delivered to Road\n(Ton or SY)","Waste On Road (Ton)\nNO waste for SY Items","Tons Placed - Waste",null,null,"This adds up column S as it depends if the Est SY is filled out or the SY",null,"Use this Column for SY for the Q column","Uses this Value for Mix on Road"]
[null,null,null,null,null,{"$f":"IF($J21=\"\",\"\",INDEX(Input!$A$5:$H$24,MATCH($A21&$J21,Input!$A$5:$A$24&Input!$G$5:$G$24,0),2))","v":""},{"$f":"IF($J21=\"\",\"\",INDEX(Input!$A$5:$H$24,MATCH($A21&$J21,Input!$A$5:$A$24&Input!$G$5:$G$24,0),3))","v":""},{"$f":"IF($J21=\"\",\"\",INDEX(Input!$A$5:$H$24,MATCH($A21&$J21,Input!$A$5:$A$24&Input!$G$5:$G$24,0),4))","v":""},{"$f":"IF($J21=\"\",\"\",INDEX(Input!$A$5:$H$24,MATCH($A21&$J21,Input!$A$5:$A$24&Input!$G$5:$G$24,0),5))","v":""},null,null,null,null,{"$f":"IF($A21=\"\",\"\",OFFSET(Input!F$4,MATCH($A21,Input!$A$5:$A$24,0),0))","v":""},{"$f":"IF(N21=\"SY\", T21, IF(N21=\"Tons\", W21, \"\"))","v":""},null,{"$f":"IF(N21=\"SY\", V21, IF(N21=\"Tons\", O21-P21, \"\"))","v":""},{"$f":"SUBSTITUTE(A21 & \"\\\" & J21,\"\"\"\",\"\")","v":"\\"},{"$f":"IF(A21=\"\",1,IF(ISERROR(MATCH(R21,Input!L$5:L$24,0)),2,1))","v":1},{"$f":"IF(A21=\"\", \"\", SUMIF($Q$8:$Q$17, \"*\" & LEFT(A21, 11) & \"*\", $S$8:$S$17))","v":""},null,{"$f":"IF(A21=\"\", \"\", SUMIF($Q$8:$Q$17, \"*\" & LEFT(A21, 11) & \"*\", $T$8:$T$17))","v":""},{"$f":"IF(N21=\"SY\", T21, IF(N21=\"Tons\", V21+P21, \"\"))","v":""}]
[null,null,null,null,null,{"$f":"IF($J22=\"\",\"\",INDEX(Input!$A$5:$H$24,MATCH($A22&$J22,Input!$A$5:$A$24&Input!$G$5:$G$24,0),2))","v":""},{"$f":"IF($J22=\"\",\"\",INDEX(Input!$A$5:$H$24,MATCH($A22&$J22,Input!$A$5:$A$24&Input!$G$5:$G$24,0),3))","v":""},{"$f":"IF($J22=\"\",\"\",INDEX(Input!$A$5:$H$24,MATCH($A22&$J22,Input!$A$5:$A$24&Input!$G$5:$G$24,0),4))","v":""},{"$f":"IF($J22=\"\",\"\",INDEX(Input!$A$5:$H$24,MATCH($A22&$J22,Input!$A$5:$A$24&Input!$G$5:$G$24,0),5))","v":""},null,null,null,null,{"$f":"IF($A22=\"\",\"\",OFFSET(Input!F$4,MATCH($A22,Input!$A$5:$A$24,0),0))","v":""},{"$f":"IF(N22=\"SY\", T22, IF(N22=\"Tons\", W22, \"\"))","v":""},null,{"$f":"IF(N22=\"SY\", V22, IF(N22=\"Tons\", O22-P22, \"\"))","v":""},{"$f":"SUBSTITUTE(A22 & \"\\\" & J22,\"\"\"\",\"\")","v":"\\"},{"$f":"IF(A22=\"\",1,IF(ISERROR(MATCH(R22,Input!L$5:L$24,0)),2,1))","v":1},{"$f":"IF(A22=\"\", \"\", SUMIF($Q$8:$Q$17, \"*\" & LEFT(A22, 11) & \"*\", $S$8:$S$17))","v":""},null,{"$f":"IF(A22=\"\", \"\", SUMIF($Q$8:$Q$17, \"*\" & LEFT(A22, 11) & \"*\", $T$8:$T$17))","v":""},{"$f":"IF(N22=\"SY\", T22, IF(N22=\"Tons\", V22+P22, \"\"))","v":""}]
[null,null,null,null,null,{"$f":"IF($J23=\"\",\"\",INDEX(Input!$A$5:$H$24,MATCH($A23&$J23,Input!$A$5:$A$24&Input!$G$5:$G$24,0),2))","v":""},{"$f":"IF($J23=\"\",\"\",INDEX(Input!$A$5:$H$24,MATCH($A23&$J23,Input!$A$5:$A$24&Input!$G$5:$G$24,0),3))","v":""},{"$f":"IF($J23=\"\",\"\",INDEX(Input!$A$5:$H$24,MATCH($A23&$J23,Input!$A$5:$A$24&Input!$G$5:$G$24,0),4))","v":""},{"$f":"IF($J23=\"\",\"\",INDEX(Input!$A$5:$H$24,MATCH($A23&$J23,Input!$A$5:$A$24&Input!$G$5:$G$24,0),5))","v":""},null,null,null,null,{"$f":"IF($A23=\"\",\"\",OFFSET(Input!F$4,MATCH($A23,Input!$A$5:$A$24,0),0))","v":""},{"$f":"IF(N23=\"SY\", T23, IF(N23=\"Tons\", W23, \"\"))","v":""},null,{"$f":"IF(N23=\"SY\", V23, IF(N23=\"Tons\", O23-P23, \"\"))","v":""},"\\",{"$f":"IF(A23=\"\",1,IF(ISERROR(MATCH(R23,Input!L$5:L$24,0)),2,1))","v":1},{"$f":"IF(A23=\"\", \"\", SUMIF($Q$8:$Q$17, \"*\" & LEFT(A23, 11) & \"*\", $S$8:$S$17))","v":""},null,{"$f":"IF(A23=\"\", \"\", SUMIF($Q$8:$Q$17, \"*\" & LEFT(A23, 11) & \"*\", $T$8:$T$17))","v":""},{"$f":"IF(N23=\"SY\", T23, IF(N23=\"Tons\", V23+P23, \"\"))","v":""}]
[null,null,null,null,null,{"$f":"IF($J24=\"\",\"\",INDEX(Input!$A$5:$H$24,MATCH($A24&$J24,Input!$A$5:$A$24&Input!$G$5:$G$24,0),2))","v":""},{"$f":"IF($J24=\"\",\"\",INDEX(Input!$A$5:$H$24,MATCH($A24&$J24,Input!$A$5:$A$24&Input!$G$5:$G$24,0),3))","v":""},{"$f":"IF($J24=\"\",\"\",INDEX(Input!$A$5:$H$24,MATCH($A24&$J24,Input!$A$5:$A$24&Input!$G$5:$G$24,0),4))","v":""},{"$f":"IF($J24=\"\",\"\",INDEX(Input!$A$5:$H$24,MATCH($A24&$J24,Input!$A$5:$A$24&Input!$G$5:$G$24,0),5))","v":""},null,null,null,null,{"$f":"IF($A24=\"\",\"\",OFFSET(Input!F$4,MATCH($A24,Input!$A$5:$A$24,0),0))","v":""},"",null,{"$f":"IF(N24=\"SY\", V24, IF(N24=\"Tons\", O24-P24, \"\"))","v":""},"\\",{"$f":"IF(A24=\"\",1,IF(ISERROR(MATCH(R24,Input!L$5:L$24,0)),2,1))","v":1},"",null,{"$f":"IF(A24=\"\", \"\", SUMIF($Q$8:$Q$17, \"*\" & LEFT(A24, 11) & \"*\", $T$8:$T$17))","v":""},{"$f":"IF(N24=\"SY\", T24, IF(N24=\"Tons\", V24+P24, \"\"))","v":""}]
[null,null,null,null,null,{"$f":"IF($J25=\"\",\"\",INDEX(Input!$A$5:$H$24,MATCH($A25&$J25,Input!$A$5:$A$24&Input!$G$5:$G$24,0),2))","v":""},{"$f":"IF($J25=\"\",\"\",INDEX(Input!$A$5:$H$24,MATCH($A25&$J25,Input!$A$5:$A$24&Input!$G$5:$G$24,0),3))","v":""},{"$f":"IF($J25=\"\",\"\",INDEX(Input!$A$5:$H$24,MATCH($A25&$J25,Input!$A$5:$A$24&Input!$G$5:$G$24,0),4))","v":""},{"$f":"IF($J25=\"\",\"\",INDEX(Input!$A$5:$H$24,MATCH($A25&$J25,Input!$A$5:$A$24&Input!$G$5:$G$24,0),5))","v":""},null,null,null,null,{"$f":"IF($A25=\"\",\"\",OFFSET(Input!F$4,MATCH($A25,Input!$A$5:$A$24,0),0))","v":""},"",null,"","\\",{"$f":"IF(A25=\"\",1,IF(ISERROR(MATCH(R25,Input!L$5:L$24,0)),2,1))","v":1},"",null,"",""]
[null,null,null,null,null,null,null,null,null,null,null,null,null,null,null,null,null,null,null,null,null,"",{"$f":"IF(N26=\"SY\", T26, IF(N26=\"Tons\", V26+P26, \"\"))","v":""},{"$f":"IF(A26=\"\", \"\", SUMIF($Q$8:$Q$17, \"*\" & LEFT(A26, 11) & \"*\", $S$8:$S$17))","v":""},{"$f":"IF(N26=\"SY\",X26,\"\")","v":""},{"$f":"IF(A26=\"\", \"\", SUMIF($Q$8:$Q$17, \"*\" & LEFT(A26, 11) & \"*\", $T$8:$T$17))","v":""}]
["Hot Box Sample",null,null,null,null,null,null,null,null,null,"Mat Temperatures °F"]
[null,"Test A","Test B","Test C","Test D","Test E",null,null,null,null,"Time","Temp"]
[" Hot Box ID Number  ",null,null,null,null,null,null,null,null,null,"7:00"]
["Hot Box Sample Tons: ",null,null,null,null,null,null,null,null,null,"9:00",null,null,null,"Intended Thickness:"]
[" Time: ",null,null,null,null,null,null,null,null,null,"11:00",null,null,null,"Cores Waived?"]
[" Station/MP: ",null,null,null,null,null,null,null,null,null,"1:00",null,null,null,"Small Quantity Statement?"]
["Bar Code ID.:",null,null,null,null,null,null,null,null,null,"3:00",null,null,null,"Scale Check Done?"]
["Compaction Temp. °F: ",null,null,null,null,null,null,null,null,null,"5:00",null,null,null,"Tack Tickets Today?"]
[null,null,null,null,null,null,null,null,null,null,"7:00"]
["The Below Comments should show up on the plant report"]
["Comments:"]
[]
[]
["The Below Notes are for the CPI from the field or Plant Monitor"]
["Notes:"]
[]
[]
["RANDOM CORE LOCATIONS"]
[null,null,null,null,null,null,null,"Core #","Station","Offset,ft","Joint Station","Lane"]
[null,null,null,null,null,null,null,1]
[null,null,null,null,null,null,null,2]
[null,null,null,null,null,null,null,3]
[null,null,null,null,null,null,null,4]
[null,null,null,null,null,null,null,5]
[null,null,null,null,null,null,null,6]
[null,null,null,null,null,null,null,7]
[null,null,null,null,null,null,null,8]
[]
[null,null,null,null,null,null,null,null,null,null,"Joint Sublot Size, ft"]
[null,null,null,null,null,null,null,null,null,null,0]
[]
[]
[]
[]
[]
[]
[]
[]
[]
[]
[]
[]
[]
[]
[]
[]
[]
[]
[]
[]
[]
[]
[]
[]
[]
[]
[]
[]
[]
[]
[]
[]
[]
[]
[]
[]
[]
[]
[]
[]
[false]

{"sheet":"78","index":93,"n_rows":97,"n_cols":26,"rows_kept":97,"cut":false,"hidden":false,"merged":[[50,11,50,13],[51,11,51,13],[52,11,52,13],[44,11,44,13],[45,11,45,13],[46,11,46,13],[47,11,47,13],[48,11,48,13],[49,11,49,13],[43,0,43,16],[25,0,25,1],[26,0,26,5],[26,20,26,23],[26,25,26,27],[34,2,34,4],[35,0,35,5],[36,1,36,14],[37,0,37,14],[39,0,39,5],[40,1,40,14],[41,0,41,14],[23,0,23,1],[23,2,23,4],[23,9,23,12],[24,0,24,1],[24,2,24,4],[24,9,24,12],[21,0,21,1],[21,2,21,4],[21,9,21,12],[22,0,22,1],[22,2,22,4],[22,9,22,12],[19,0,19,1],[19,2,19,4],[19,9,19,12],[20,0,20,1],[20,2,20,4],[20,9,20,12],[18,0,18,16],[6,14,6,15],[7,14,7,15],[8,14,8,15],[9,14,9,15],[10,14,10,15],[11,14,11,15],[12,14,12,15],[13,14,13,15],[14,14,14,15],[15,14,15,15],[16,14,16,15],[1,0,1,16],[4,0,4,15],[5,4,5,5],[5,8,5,9],[5,11,5,12],[5,13,5,15]]}
[]
["Iowa DOT HMA Field Report"]
["Date :"]
["Item No.('s)"]
["PLACEMENT RECORD",null,null,null,null,null,null,null,null,null,null,null,null,null,null,null,null,null,null,null,null,{"$f":"SUBSTITUTE(A21 & \"\\\" & J21,\"\"\"\",\"\")","v":"\\"}]
[null,null,null,null,"Additional width to DEDUCT from Field Voids",null,null,null,"Placed Density (Pounds/CF)=",null,150,"Overwritten on the \"Summary\" Tab",null,"ONLY ONE (1) MIX DESIGN PER DFR OTHERWISE IT WILL NOT IMPORT INTO THE PLANT REPORT PROPERLY",null,null,null,null,null,null,null,{"$f":"SUBSTITUTE(A22 & \"\\\" & J22,\"\"\"\",\"\")","v":"\\"}]
["From Station"," To Station","Lane","ML or Widening Placement Width","Additional Width (ft) ","Thickness (in)","Total Length Placed (FT)","\"Pay\"  Est \"SY\"","Thickness (inches)","Calculated Field Voids Tons","Placed Tons            (Not including Waste)","% Yield","SY to be PAID (If Diff. than Est SY)","Mix Design No.","Bid Item/ Project No.",null,null,null,"This uses the correct SY #, if Green is blank uses Est. SY","Adds up the Tons",null,"\\"]
[null,null,null,null,null,null,{"$f":"IF(OR(A8=\"\",B8=\"\"),0,IF($A$97=TRUE,ABS(B8-A8)*5280,ABS(VALUE(SUBSTITUTE(A8,\"+\",\"\"))-VALUE(SUBSTITUTE(B8,\"+\",\"\")))))","v":0},{"$f":"IF(D8=\"\",\"\",G8*(D8+E8)/9)","v":""},null,{"$f":"IF(I8=\"\",\"\",(G8)*(D8+E8)*I8/12*$K$6/2000)","v":""},null,{"$f":"IF(K8=\"\",\"\",K8/J8*100)","v":""},null,null,null,null,{"$f":"O8 & \"\\\" & N8","v":"\\"},{"$f":"IF(AND(A8=\"\",B8=\"\",C8=\"\",D8=\"\"),1,IF(OR(O8=\"\",N8=\"\"),2,IF(ISERROR(MATCH(Q8,Input!M$5:M$24,0)),2,1)))","v":1},{"$f":"IF(M8<>\"\", M8, H8)","v":""},{"$f":"K8","v":0},null,"\\"]
[null,null,null,null,null,null,{"$f":"IF(OR(A9=\"\",B9=\"\"),0,IF($A$97=TRUE,ABS(B9-A9)*5280,ABS(VALUE(SUBSTITUTE(A9,\"+\",\"\"))-VALUE(SUBSTITUTE(B9,\"+\",\"\")))))","v":0},{"$f":"IF(D9=\"\",\"\",G9*(D9+E9)/9)","v":""},null,"",null,{"$f":"IF(K9=\"\",\"\",K9/J9*100)","v":""},null,null,null,null,{"$f":"O9 & \"\\\" & N9","v":"\\"},{"$f":"IF(AND(A9=\"\",B9=\"\",C9=\"\",D9=\"\"),1,IF(OR(O9=\"\",N9=\"\"),2,IF(ISERROR(MATCH(Q9,Input!M$5:M$24,0)),2,1)))","v":1},{"$f":"IF(M9<>\"\", M9, H9)","v":""},{"$f":"K9","v":0},null,"\\"]
[null,null,null,null,null,null,0,"",null,"",null,"",null,null,null,null,"\\",{"$f":"IF(AND(A10=\"\",B10=\"\",C10=\"\",D10=\"\"),1,IF(OR(O10=\"\",N10=\"\"),2,IF(ISERROR(MATCH(Q10,Input!M$5:M$24,0)),2,1)))","v":1},{"$f":"IF(M10<>\"\", M10, H10)","v":""},0]
[null,null,null,null,null,null,0,"",null,"",null,"",null,null,null,null,"\\",{"$f":"IF(AND(A11=\"\",B11=\"\",C11=\"\",D11=\"\"),1,IF(OR(O11=\"\",N11=\"\"),2,IF(ISERROR(MATCH(Q11,Input!M$5:M$24,0)),2,1)))","v":1},"",0]
[null,null,null,null,null,null,0,"",null,"",null,"",null,null,null,null,"\\",{"$f":"IF(AND(A12=\"\",B12=\"\",C12=\"\",D12=\"\"),1,IF(OR(O12=\"\",N12=\"\"),2,IF(ISERROR(MATCH(Q12,Input!M$5:M$24,0)),2,1)))","v":1},"",0]
[null,null,null,null,null,null,0,"",null,"",null,"",null,null,null,null,"\\",{"$f":"IF(AND(A13=\"\",B13=\"\",C13=\"\",D13=\"\"),1,IF(OR(O13=\"\",N13=\"\"),2,IF(ISERROR(MATCH(Q13,Input!M$5:M$24,0)),2,1)))","v":1},"",0]
[null,null,null,null,null,null,0,"",null,"",null,"",null,null,null,null,"\\",{"$f":"IF(AND(A14=\"\",B14=\"\",C14=\"\",D14=\"\"),1,IF(OR(O14=\"\",N14=\"\"),2,IF(ISERROR(MATCH(Q14,Input!M$5:M$24,0)),2,1)))","v":1},"",0]
[null,null,null,null,null,null,0,"",null,"",null,"",null,null,null,null,"\\",{"$f":"IF(AND(A15=\"\",B15=\"\",C15=\"\",D15=\"\"),1,IF(OR(O15=\"\",N15=\"\"),2,IF(ISERROR(MATCH(Q15,Input!M$5:M$24,0)),2,1)))","v":1},"",0]
[null,null,null,null,null,null,0,"",null,"",null,"",null,null,null,null,"\\",{"$f":"IF(AND(A16=\"\",B16=\"\",C16=\"\",D16=\"\"),1,IF(OR(O16=\"\",N16=\"\"),2,IF(ISERROR(MATCH(Q16,Input!M$5:M$24,0)),2,1)))","v":1},"",0]
[null,null,null,null,null,null,0,"",null,"",null,"",null,null,null,null,"\\",{"$f":"IF(AND(A17=\"\",B17=\"\",C17=\"\",D17=\"\"),1,IF(OR(O17=\"\",N17=\"\"),2,IF(ISERROR(MATCH(Q17,Input!M$5:M$24,0)),2,1)))","v":1},"",0]
[]
["TANK SHEET"]
["Bid Item (In Order of Placement)",null,"Today's Placement",null,null,"Bid Item Plan Quantity","Plan Thickness (in)","Contract Mix Price","Contract Binder Price","Project Number",null,null,null,"Mix Pay Units","Mix Delivered to Road\n(Ton or SY)","Waste On Road (Ton)\nNO waste for SY Items","Tons Placed - Waste",null,null,"This adds up column S as it depends if the Est SY is filled out or the SY",null,"Use this Column for SY for the Q column","Uses this Value for Mix on Road"]
[null,null,null,null,null,{"$f":"IF($J21=\"\",\"\",INDEX(Input!$A$5:$H$24,MATCH($A21&$J21,Input!$A$5:$A$24&Input!$G$5:$G$24,0),2))","v":""},{"$f":"IF($J21=\"\",\"\",INDEX(Input!$A$5:$H$24,MATCH($A21&$J21,Input!$A$5:$A$24&Input!$G$5:$G$24,0),3))","v":""},{"$f":"IF($J21=\"\",\"\",INDEX(Input!$A$5:$H$24,MATCH($A21&$J21,Input!$A$5:$A$24&Input!$G$5:$G$24,0),4))","v":""},{"$f":"IF($J21=\"\",\"\",INDEX(Input!$A$5:$H$24,MATCH($A21&$J21,Input!$A$5:$A$24&Input!$G$5:$G$24,0),5))","v":""},null,null,null,null,{"$f":"IF($A21=\"\",\"\",OFFSET(Input!F$4,MATCH($A21,Input!$A$5:$A$24,0),0))","v":""},{"$f":"IF(N21=\"SY\", T21, IF(N21=\"Tons\", W21, \"\"))","v":""},null,{"$f":"IF(N21=\"SY\", V21, IF(N21=\"Tons\", O21-P21, \"\"))","v":""},{"$f":"SUBSTITUTE(A21 & \"\\\" & J21,\"\"\"\",\"\")","v":"\\"},{"$f":"IF(A21=\"\",1,IF(ISERROR(MATCH(R21,Input!L$5:L$24,0)),2,1))","v":1},{"$f":"IF(A21=\"\", \"\", SUMIF($Q$8:$Q$17, \"*\" & LEFT(A21, 11) & \"*\", $S$8:$S$17))","v":""},null,{"$f":"IF(A21=\"\", \"\", SUMIF($Q$8:$Q$17, \"*\" & LEFT(A21, 11) & \"*\", $T$8:$T$17))","v":""},{"$f":"IF(N21=\"SY\", T21, IF(N21=\"Tons\", V21+P21, \"\"))","v":""}]
[null,null,null,null,null,{"$f":"IF($J22=\"\",\"\",INDEX(Input!$A$5:$H$24,MATCH($A22&$J22,Input!$A$5:$A$24&Input!$G$5:$G$24,0),2))","v":""},{"$f":"IF($J22=\"\",\"\",INDEX(Input!$A$5:$H$24,MATCH($A22&$J22,Input!$A$5:$A$24&Input!$G$5:$G$24,0),3))","v":""},{"$f":"IF($J22=\"\",\"\",INDEX(Input!$A$5:$H$24,MATCH($A22&$J22,Input!$A$5:$A$24&Input!$G$5:$G$24,0),4))","v":""},{"$f":"IF($J22=\"\",\"\",INDEX(Input!$A$5:$H$24,MATCH($A22&$J22,Input!$A$5:$A$24&Input!$G$5:$G$24,0),5))","v":""},null,null,null,null,{"$f":"IF($A22=\"\",\"\",OFFSET(Input!F$4,MATCH($A22,Input!$A$5:$A$24,0),0))","v":""},{"$f":"IF(N22=\"SY\", T22, IF(N22=\"Tons\", W22, \"\"))","v":""},null,{"$f":"IF(N22=\"SY\", V22, IF(N22=\"Tons\", O22-P22, \"\"))","v":""},{"$f":"SUBSTITUTE(A22 & \"\\\" & J22,\"\"\"\",\"\")","v":"\\"},{"$f":"IF(A22=\"\",1,IF(ISERROR(MATCH(R22,Input!L$5:L$24,0)),2,1))","v":1},{"$f":"IF(A22=\"\", \"\", SUMIF($Q$8:$Q$17, \"*\" & LEFT(A22, 11) & \"*\", $S$8:$S$17))","v":""},null,{"$f":"IF(A22=\"\", \"\", SUMIF($Q$8:$Q$17, \"*\" & LEFT(A22, 11) & \"*\", $T$8:$T$17))","v":""},{"$f":"IF(N22=\"SY\", T22, IF(N22=\"Tons\", V22+P22, \"\"))","v":""}]
[null,null,null,null,null,{"$f":"IF($J23=\"\",\"\",INDEX(Input!$A$5:$H$24,MATCH($A23&$J23,Input!$A$5:$A$24&Input!$G$5:$G$24,0),2))","v":""},{"$f":"IF($J23=\"\",\"\",INDEX(Input!$A$5:$H$24,MATCH($A23&$J23,Input!$A$5:$A$24&Input!$G$5:$G$24,0),3))","v":""},{"$f":"IF($J23=\"\",\"\",INDEX(Input!$A$5:$H$24,MATCH($A23&$J23,Input!$A$5:$A$24&Input!$G$5:$G$24,0),4))","v":""},{"$f":"IF($J23=\"\",\"\",INDEX(Input!$A$5:$H$24,MATCH($A23&$J23,Input!$A$5:$A$24&Input!$G$5:$G$24,0),5))","v":""},null,null,null,null,{"$f":"IF($A23=\"\",\"\",OFFSET(Input!F$4,MATCH($A23,Input!$A$5:$A$24,0),0))","v":""},{"$f":"IF(N23=\"SY\", T23, IF(N23=\"Tons\", W23, \"\"))","v":""},null,{"$f":"IF(N23=\"SY\", V23, IF(N23=\"Tons\", O23-P23, \"\"))","v":""},"\\",{"$f":"IF(A23=\"\",1,IF(ISERROR(MATCH(R23,Input!L$5:L$24,0)),2,1))","v":1},{"$f":"IF(A23=\"\", \"\", SUMIF($Q$8:$Q$17, \"*\" & LEFT(A23, 11) & \"*\", $S$8:$S$17))","v":""},null,{"$f":"IF(A23=\"\", \"\", SUMIF($Q$8:$Q$17, \"*\" & LEFT(A23, 11) & \"*\", $T$8:$T$17))","v":""},{"$f":"IF(N23=\"SY\", T23, IF(N23=\"Tons\", V23+P23, \"\"))","v":""}]
[null,null,null,null,null,{"$f":"IF($J24=\"\",\"\",INDEX(Input!$A$5:$H$24,MATCH($A24&$J24,Input!$A$5:$A$24&Input!$G$5:$G$24,0),2))","v":""},{"$f":"IF($J24=\"\",\"\",INDEX(Input!$A$5:$H$24,MATCH($A24&$J24,Input!$A$5:$A$24&Input!$G$5:$G$24,0),3))","v":""},{"$f":"IF($J24=\"\",\"\",INDEX(Input!$A$5:$H$24,MATCH($A24&$J24,Input!$A$5:$A$24&Input!$G$5:$G$24,0),4))","v":""},{"$f":"IF($J24=\"\",\"\",INDEX(Input!$A$5:$H$24,MATCH($A24&$J24,Input!$A$5:$A$24&Input!$G$5:$G$24,0),5))","v":""},null,null,null,null,{"$f":"IF($A24=\"\",\"\",OFFSET(Input!F$4,MATCH($A24,Input!$A$5:$A$24,0),0))","v":""},"",null,{"$f":"IF(N24=\"SY\", V24, IF(N24=\"Tons\", O24-P24, \"\"))","v":""},"\\",{"$f":"IF(A24=\"\",1,IF(ISERROR(MATCH(R24,Input!L$5:L$24,0)),2,1))","v":1},"",null,{"$f":"IF(A24=\"\", \"\", SUMIF($Q$8:$Q$17, \"*\" & LEFT(A24, 11) & \"*\", $T$8:$T$17))","v":""},{"$f":"IF(N24=\"SY\", T24, IF(N24=\"Tons\", V24+P24, \"\"))","v":""}]
[null,null,null,null,null,{"$f":"IF($J25=\"\",\"\",INDEX(Input!$A$5:$H$24,MATCH($A25&$J25,Input!$A$5:$A$24&Input!$G$5:$G$24,0),2))","v":""},{"$f":"IF($J25=\"\",\"\",INDEX(Input!$A$5:$H$24,MATCH($A25&$J25,Input!$A$5:$A$24&Input!$G$5:$G$24,0),3))","v":""},{"$f":"IF($J25=\"\",\"\",INDEX(Input!$A$5:$H$24,MATCH($A25&$J25,Input!$A$5:$A$24&Input!$G$5:$G$24,0),4))","v":""},{"$f":"IF($J25=\"\",\"\",INDEX(Input!$A$5:$H$24,MATCH($A25&$J25,Input!$A$5:$A$24&Input!$G$5:$G$24,0),5))","v":""},null,null,null,null,{"$f":"IF($A25=\"\",\"\",OFFSET(Input!F$4,MATCH($A25,Input!$A$5:$A$24,0),0))","v":""},"",null,"","\\",{"$f":"IF(A25=\"\",1,IF(ISERROR(MATCH(R25,Input!L$5:L$24,0)),2,1))","v":1},"",null,"",""]
[null,null,null,null,null,null,null,null,null,null,null,null,null,null,null,null,null,null,null,null,null,"",{"$f":"IF(N26=\"SY\", T26, IF(N26=\"Tons\", V26+P26, \"\"))","v":""},{"$f":"IF(A26=\"\", \"\", SUMIF($Q$8:$Q$17, \"*\" & LEFT(A26, 11) & \"*\", $S$8:$S$17))","v":""},{"$f":"IF(N26=\"SY\",X26,\"\")","v":""},{"$f":"IF(A26=\"\", \"\", SUMIF($Q$8:$Q$17, \"*\" & LEFT(A26, 11) & \"*\", $T$8:$T$17))","v":""}]
["Hot Box Sample",null,null,null,null,null,null,null,null,null,"Mat Temperatures °F"]
[null,"Test A","Test B","Test C","Test D","Test E",null,null,null,null,"Time","Temp"]
[" Hot Box ID Number  ",null,null,null,null,null,null,null,null,null,"7:00"]
["Hot Box Sample Tons: ",null,null,null,null,null,null,null,null,null,"9:00",null,null,null,"Intended Thickness:"]
[" Time: ",null,null,null,null,null,null,null,null,null,"11:00",null,null,null,"Cores Waived?"]
[" Station/MP: ",null,null,null,null,null,null,null,null,null,"1:00",null,null,null,"Small Quantity Statement?"]
["Bar Code ID.:",null,null,null,null,null,null,null,null,null,"3:00",null,null,null,"Scale Check Done?"]
["Compaction Temp. °F: ",null,null,null,null,null,null,null,null,null,"5:00",null,null,null,"Tack Tickets Today?"]
[null,null,null,null,null,null,null,null,null,null,"7:00"]
["The Below Comments should show up on the plant report"]
["Comments:"]
[]
[]
["The Below Notes are for the CPI from the field or Plant Monitor"]
["Notes:"]
[]
[]
["RANDOM CORE LOCATIONS"]
[null,null,null,null,null,null,null,"Core #","Station","Offset,ft","Joint Station","Lane"]
[null,null,null,null,null,null,null,1]
[null,null,null,null,null,null,null,2]
[null,null,null,null,null,null,null,3]
[null,null,null,null,null,null,null,4]
[null,null,null,null,null,null,null,5]
[null,null,null,null,null,null,null,6]
[null,null,null,null,null,null,null,7]
[null,null,null,null,null,null,null,8]
[]
[null,null,null,null,null,null,null,null,null,null,"Joint Sublot Size, ft"]
[null,null,null,null,null,null,null,null,null,null,0]
[]
[]
[]
[]
[]
[]
[]
[]
[]
[]
[]
[]
[]
[]
[]
[]
[]
[]
[]
[]
[]
[]
[]
[]
[]
[]
[]
[]
[]
[]
[]
[]
[]
[]
[]
[]
[]
[]
[]
[]
[false]

{"sheet":"79","index":94,"n_rows":97,"n_cols":26,"rows_kept":97,"cut":false,"hidden":false,"merged":[[50,11,50,13],[51,11,51,13],[52,11,52,13],[44,11,44,13],[45,11,45,13],[46,11,46,13],[47,11,47,13],[48,11,48,13],[49,11,49,13],[43,0,43,16],[25,0,25,1],[26,0,26,5],[26,20,26,23],[26,25,26,27],[34,2,34,4],[35,0,35,5],[36,1,36,14],[37,0,37,14],[39,0,39,5],[40,1,40,14],[41,0,41,14],[23,0,23,1],[23,2,23,4],[23,9,23,12],[24,0,24,1],[24,2,24,4],[24,9,24,12],[21,0,21,1],[21,2,21,4],[21,9,21,12],[22,0,22,1],[22,2,22,4],[22,9,22,12],[19,0,19,1],[19,2,19,4],[19,9,19,12],[20,0,20,1],[20,2,20,4],[20,9,20,12],[18,0,18,16],[6,14,6,15],[7,14,7,15],[8,14,8,15],[9,14,9,15],[10,14,10,15],[11,14,11,15],[12,14,12,15],[13,14,13,15],[14,14,14,15],[15,14,15,15],[16,14,16,15],[1,0,1,16],[4,0,4,15],[5,4,5,5],[5,8,5,9],[5,11,5,12],[5,13,5,15]]}
[]
["Iowa DOT HMA Field Report"]
["Date :"]
["Item No.('s)"]
["PLACEMENT RECORD",null,null,null,null,null,null,null,null,null,null,null,null,null,null,null,null,null,null,null,null,{"$f":"SUBSTITUTE(A21 & \"\\\" & J21,\"\"\"\",\"\")","v":"\\"}]
[null,null,null,null,"Additional width to DEDUCT from Field Voids",null,null,null,"Placed Density (Pounds/CF)=",null,150,"Overwritten on the \"Summary\" Tab",null,"ONLY ONE (1) MIX DESIGN PER DFR OTHERWISE IT WILL NOT IMPORT INTO THE PLANT REPORT PROPERLY",null,null,null,null,null,null,null,{"$f":"SUBSTITUTE(A22 & \"\\\" & J22,\"\"\"\",\"\")","v":"\\"}]
["From Station"," To Station","Lane","ML or Widening Placement Width","Additional Width (ft) ","Thickness (in)","Total Length Placed (FT)","\"Pay\"  Est \"SY\"","Thickness (inches)","Calculated Field Voids Tons","Placed Tons            (Not including Waste)","% Yield","SY to be PAID (If Diff. than Est SY)","Mix Design No.","Bid Item/ Project No.",null,null,null,"This uses the correct SY #, if Green is blank uses Est. SY","Adds up the Tons",null,"\\"]
[null,null,null,null,null,null,{"$f":"IF(OR(A8=\"\",B8=\"\"),0,IF($A$97=TRUE,ABS(B8-A8)*5280,ABS(VALUE(SUBSTITUTE(A8,\"+\",\"\"))-VALUE(SUBSTITUTE(B8,\"+\",\"\")))))","v":0},{"$f":"IF(D8=\"\",\"\",G8*(D8+E8)/9)","v":""},null,{"$f":"IF(I8=\"\",\"\",(G8)*(D8+E8)*I8/12*$K$6/2000)","v":""},null,{"$f":"IF(K8=\"\",\"\",K8/J8*100)","v":""},null,null,null,null,{"$f":"O8 & \"\\\" & N8","v":"\\"},{"$f":"IF(AND(A8=\"\",B8=\"\",C8=\"\",D8=\"\"),1,IF(OR(O8=\"\",N8=\"\"),2,IF(ISERROR(MATCH(Q8,Input!M$5:M$24,0)),2,1)))","v":1},{"$f":"IF(M8<>\"\", M8, H8)","v":""},{"$f":"K8","v":0},null,"\\"]
[null,null,null,null,null,null,{"$f":"IF(OR(A9=\"\",B9=\"\"),0,IF($A$97=TRUE,ABS(B9-A9)*5280,ABS(VALUE(SUBSTITUTE(A9,\"+\",\"\"))-VALUE(SUBSTITUTE(B9,\"+\",\"\")))))","v":0},{"$f":"IF(D9=\"\",\"\",G9*(D9+E9)/9)","v":""},null,"",null,{"$f":"IF(K9=\"\",\"\",K9/J9*100)","v":""},null,null,null,null,{"$f":"O9 & \"\\\" & N9","v":"\\"},{"$f":"IF(AND(A9=\"\",B9=\"\",C9=\"\",D9=\"\"),1,IF(OR(O9=\"\",N9=\"\"),2,IF(ISERROR(MATCH(Q9,Input!M$5:M$24,0)),2,1)))","v":1},{"$f":"IF(M9<>\"\", M9, H9)","v":""},{"$f":"K9","v":0},null,"\\"]
[null,null,null,null,null,null,0,"",null,"",null,"",null,null,null,null,"\\",{"$f":"IF(AND(A10=\"\",B10=\"\",C10=\"\",D10=\"\"),1,IF(OR(O10=\"\",N10=\"\"),2,IF(ISERROR(MATCH(Q10,Input!M$5:M$24,0)),2,1)))","v":1},{"$f":"IF(M10<>\"\", M10, H10)","v":""},0]
[null,null,null,null,null,null,0,"",null,"",null,"",null,null,null,null,"\\",{"$f":"IF(AND(A11=\"\",B11=\"\",C11=\"\",D11=\"\"),1,IF(OR(O11=\"\",N11=\"\"),2,IF(ISERROR(MATCH(Q11,Input!M$5:M$24,0)),2,1)))","v":1},"",0]
[null,null,null,null,null,null,0,"",null,"",null,"",null,null,null,null,"\\",{"$f":"IF(AND(A12=\"\",B12=\"\",C12=\"\",D12=\"\"),1,IF(OR(O12=\"\",N12=\"\"),2,IF(ISERROR(MATCH(Q12,Input!M$5:M$24,0)),2,1)))","v":1},"",0]
[null,null,null,null,null,null,0,"",null,"",null,"",null,null,null,null,"\\",{"$f":"IF(AND(A13=\"\",B13=\"\",C13=\"\",D13=\"\"),1,IF(OR(O13=\"\",N13=\"\"),2,IF(ISERROR(MATCH(Q13,Input!M$5:M$24,0)),2,1)))","v":1},"",0]
[null,null,null,null,null,null,0,"",null,"",null,"",null,null,null,null,"\\",{"$f":"IF(AND(A14=\"\",B14=\"\",C14=\"\",D14=\"\"),1,IF(OR(O14=\"\",N14=\"\"),2,IF(ISERROR(MATCH(Q14,Input!M$5:M$24,0)),2,1)))","v":1},"",0]
[null,null,null,null,null,null,0,"",null,"",null,"",null,null,null,null,"\\",{"$f":"IF(AND(A15=\"\",B15=\"\",C15=\"\",D15=\"\"),1,IF(OR(O15=\"\",N15=\"\"),2,IF(ISERROR(MATCH(Q15,Input!M$5:M$24,0)),2,1)))","v":1},"",0]
[null,null,null,null,null,null,0,"",null,"",null,"",null,null,null,null,"\\",{"$f":"IF(AND(A16=\"\",B16=\"\",C16=\"\",D16=\"\"),1,IF(OR(O16=\"\",N16=\"\"),2,IF(ISERROR(MATCH(Q16,Input!M$5:M$24,0)),2,1)))","v":1},"",0]
[null,null,null,null,null,null,0,"",null,"",null,"",null,null,null,null,"\\",{"$f":"IF(AND(A17=\"\",B17=\"\",C17=\"\",D17=\"\"),1,IF(OR(O17=\"\",N17=\"\"),2,IF(ISERROR(MATCH(Q17,Input!M$5:M$24,0)),2,1)))","v":1},"",0]
[]
["TANK SHEET"]
["Bid Item (In Order of Placement)",null,"Today's Placement",null,null,"Bid Item Plan Quantity","Plan Thickness (in)","Contract Mix Price","Contract Binder Price","Project Number",null,null,null,"Mix Pay Units","Mix Delivered to Road\n(Ton or SY)","Waste On Road (Ton)\nNO waste for SY Items","Tons Placed - Waste",null,null,"This adds up column S as it depends if the Est SY is filled out or the SY",null,"Use this Column for SY for the Q column","Uses this Value for Mix on Road"]
[null,null,null,null,null,{"$f":"IF($J21=\"\",\"\",INDEX(Input!$A$5:$H$24,MATCH($A21&$J21,Input!$A$5:$A$24&Input!$G$5:$G$24,0),2))","v":""},{"$f":"IF($J21=\"\",\"\",INDEX(Input!$A$5:$H$24,MATCH($A21&$J21,Input!$A$5:$A$24&Input!$G$5:$G$24,0),3))","v":""},{"$f":"IF($J21=\"\",\"\",INDEX(Input!$A$5:$H$24,MATCH($A21&$J21,Input!$A$5:$A$24&Input!$G$5:$G$24,0),4))","v":""},{"$f":"IF($J21=\"\",\"\",INDEX(Input!$A$5:$H$24,MATCH($A21&$J21,Input!$A$5:$A$24&Input!$G$5:$G$24,0),5))","v":""},null,null,null,null,{"$f":"IF($A21=\"\",\"\",OFFSET(Input!F$4,MATCH($A21,Input!$A$5:$A$24,0),0))","v":""},{"$f":"IF(N21=\"SY\", T21, IF(N21=\"Tons\", W21, \"\"))","v":""},null,{"$f":"IF(N21=\"SY\", V21, IF(N21=\"Tons\", O21-P21, \"\"))","v":""},{"$f":"SUBSTITUTE(A21 & \"\\\" & J21,\"\"\"\",\"\")","v":"\\"},{"$f":"IF(A21=\"\",1,IF(ISERROR(MATCH(R21,Input!L$5:L$24,0)),2,1))","v":1},{"$f":"IF(A21=\"\", \"\", SUMIF($Q$8:$Q$17, \"*\" & LEFT(A21, 11) & \"*\", $S$8:$S$17))","v":""},null,{"$f":"IF(A21=\"\", \"\", SUMIF($Q$8:$Q$17, \"*\" & LEFT(A21, 11) & \"*\", $T$8:$T$17))","v":""},{"$f":"IF(N21=\"SY\", T21, IF(N21=\"Tons\", V21+P21, \"\"))","v":""}]
[null,null,null,null,null,{"$f":"IF($J22=\"\",\"\",INDEX(Input!$A$5:$H$24,MATCH($A22&$J22,Input!$A$5:$A$24&Input!$G$5:$G$24,0),2))","v":""},{"$f":"IF($J22=\"\",\"\",INDEX(Input!$A$5:$H$24,MATCH($A22&$J22,Input!$A$5:$A$24&Input!$G$5:$G$24,0),3))","v":""},{"$f":"IF($J22=\"\",\"\",INDEX(Input!$A$5:$H$24,MATCH($A22&$J22,Input!$A$5:$A$24&Input!$G$5:$G$24,0),4))","v":""},{"$f":"IF($J22=\"\",\"\",INDEX(Input!$A$5:$H$24,MATCH($A22&$J22,Input!$A$5:$A$24&Input!$G$5:$G$24,0),5))","v":""},null,null,null,null,{"$f":"IF($A22=\"\",\"\",OFFSET(Input!F$4,MATCH($A22,Input!$A$5:$A$24,0),0))","v":""},{"$f":"IF(N22=\"SY\", T22, IF(N22=\"Tons\", W22, \"\"))","v":""},null,{"$f":"IF(N22=\"SY\", V22, IF(N22=\"Tons\", O22-P22, \"\"))","v":""},{"$f":"SUBSTITUTE(A22 & \"\\\" & J22,\"\"\"\",\"\")","v":"\\"},{"$f":"IF(A22=\"\",1,IF(ISERROR(MATCH(R22,Input!L$5:L$24,0)),2,1))","v":1},{"$f":"IF(A22=\"\", \"\", SUMIF($Q$8:$Q$17, \"*\" & LEFT(A22, 11) & \"*\", $S$8:$S$17))","v":""},null,{"$f":"IF(A22=\"\", \"\", SUMIF($Q$8:$Q$17, \"*\" & LEFT(A22, 11) & \"*\", $T$8:$T$17))","v":""},{"$f":"IF(N22=\"SY\", T22, IF(N22=\"Tons\", V22+P22, \"\"))","v":""}]
[null,null,null,null,null,{"$f":"IF($J23=\"\",\"\",INDEX(Input!$A$5:$H$24,MATCH($A23&$J23,Input!$A$5:$A$24&Input!$G$5:$G$24,0),2))","v":""},{"$f":"IF($J23=\"\",\"\",INDEX(Input!$A$5:$H$24,MATCH($A23&$J23,Input!$A$5:$A$24&Input!$G$5:$G$24,0),3))","v":""},{"$f":"IF($J23=\"\",\"\",INDEX(Input!$A$5:$H$24,MATCH($A23&$J23,Input!$A$5:$A$24&Input!$G$5:$G$24,0),4))","v":""},{"$f":"IF($J23=\"\",\"\",INDEX(Input!$A$5:$H$24,MATCH($A23&$J23,Input!$A$5:$A$24&Input!$G$5:$G$24,0),5))","v":""},null,null,null,null,{"$f":"IF($A23=\"\",\"\",OFFSET(Input!F$4,MATCH($A23,Input!$A$5:$A$24,0),0))","v":""},{"$f":"IF(N23=\"SY\", T23, IF(N23=\"Tons\", W23, \"\"))","v":""},null,{"$f":"IF(N23=\"SY\", V23, IF(N23=\"Tons\", O23-P23, \"\"))","v":""},"\\",{"$f":"IF(A23=\"\",1,IF(ISERROR(MATCH(R23,Input!L$5:L$24,0)),2,1))","v":1},{"$f":"IF(A23=\"\", \"\", SUMIF($Q$8:$Q$17, \"*\" & LEFT(A23, 11) & \"*\", $S$8:$S$17))","v":""},null,{"$f":"IF(A23=\"\", \"\", SUMIF($Q$8:$Q$17, \"*\" & LEFT(A23, 11) & \"*\", $T$8:$T$17))","v":""},{"$f":"IF(N23=\"SY\", T23, IF(N23=\"Tons\", V23+P23, \"\"))","v":""}]
[null,null,null,null,null,{"$f":"IF($J24=\"\",\"\",INDEX(Input!$A$5:$H$24,MATCH($A24&$J24,Input!$A$5:$A$24&Input!$G$5:$G$24,0),2))","v":""},{"$f":"IF($J24=\"\",\"\",INDEX(Input!$A$5:$H$24,MATCH($A24&$J24,Input!$A$5:$A$24&Input!$G$5:$G$24,0),3))","v":""},{"$f":"IF($J24=\"\",\"\",INDEX(Input!$A$5:$H$24,MATCH($A24&$J24,Input!$A$5:$A$24&Input!$G$5:$G$24,0),4))","v":""},{"$f":"IF($J24=\"\",\"\",INDEX(Input!$A$5:$H$24,MATCH($A24&$J24,Input!$A$5:$A$24&Input!$G$5:$G$24,0),5))","v":""},null,null,null,null,{"$f":"IF($A24=\"\",\"\",OFFSET(Input!F$4,MATCH($A24,Input!$A$5:$A$24,0),0))","v":""},"",null,{"$f":"IF(N24=\"SY\", V24, IF(N24=\"Tons\", O24-P24, \"\"))","v":""},"\\",{"$f":"IF(A24=\"\",1,IF(ISERROR(MATCH(R24,Input!L$5:L$24,0)),2,1))","v":1},"",null,{"$f":"IF(A24=\"\", \"\", SUMIF($Q$8:$Q$17, \"*\" & LEFT(A24, 11) & \"*\", $T$8:$T$17))","v":""},{"$f":"IF(N24=\"SY\", T24, IF(N24=\"Tons\", V24+P24, \"\"))","v":""}]
[null,null,null,null,null,{"$f":"IF($J25=\"\",\"\",INDEX(Input!$A$5:$H$24,MATCH($A25&$J25,Input!$A$5:$A$24&Input!$G$5:$G$24,0),2))","v":""},{"$f":"IF($J25=\"\",\"\",INDEX(Input!$A$5:$H$24,MATCH($A25&$J25,Input!$A$5:$A$24&Input!$G$5:$G$24,0),3))","v":""},{"$f":"IF($J25=\"\",\"\",INDEX(Input!$A$5:$H$24,MATCH($A25&$J25,Input!$A$5:$A$24&Input!$G$5:$G$24,0),4))","v":""},{"$f":"IF($J25=\"\",\"\",INDEX(Input!$A$5:$H$24,MATCH($A25&$J25,Input!$A$5:$A$24&Input!$G$5:$G$24,0),5))","v":""},null,null,null,null,{"$f":"IF($A25=\"\",\"\",OFFSET(Input!F$4,MATCH($A25,Input!$A$5:$A$24,0),0))","v":""},"",null,"","\\",{"$f":"IF(A25=\"\",1,IF(ISERROR(MATCH(R25,Input!L$5:L$24,0)),2,1))","v":1},"",null,"",""]
[null,null,null,null,null,null,null,null,null,null,null,null,null,null,null,null,null,null,null,null,null,"",{"$f":"IF(N26=\"SY\", T26, IF(N26=\"Tons\", V26+P26, \"\"))","v":""},{"$f":"IF(A26=\"\", \"\", SUMIF($Q$8:$Q$17, \"*\" & LEFT(A26, 11) & \"*\", $S$8:$S$17))","v":""},{"$f":"IF(N26=\"SY\",X26,\"\")","v":""},{"$f":"IF(A26=\"\", \"\", SUMIF($Q$8:$Q$17, \"*\" & LEFT(A26, 11) & \"*\", $T$8:$T$17))","v":""}]
["Hot Box Sample",null,null,null,null,null,null,null,null,null,"Mat Temperatures °F"]
[null,"Test A","Test B","Test C","Test D","Test E",null,null,null,null,"Time","Temp"]
[" Hot Box ID Number  ",null,null,null,null,null,null,null,null,null,"7:00"]
["Hot Box Sample Tons: ",null,null,null,null,null,null,null,null,null,"9:00",null,null,null,"Intended Thickness:"]
[" Time: ",null,null,null,null,null,null,null,null,null,"11:00",null,null,null,"Cores Waived?"]
[" Station/MP: ",null,null,null,null,null,null,null,null,null,"1:00",null,null,null,"Small Quantity Statement?"]
["Bar Code ID.:",null,null,null,null,null,null,null,null,null,"3:00",null,null,null,"Scale Check Done?"]
["Compaction Temp. °F: ",null,null,null,null,null,null,null,null,null,"5:00",null,null,null,"Tack Tickets Today?"]
[null,null,null,null,null,null,null,null,null,null,"7:00"]
["The Below Comments should show up on the plant report"]
["Comments:"]
[]
[]
["The Below Notes are for the CPI from the field or Plant Monitor"]
["Notes:"]
[]
[]
["RANDOM CORE LOCATIONS"]
[null,null,null,null,null,null,null,"Core #","Station","Offset,ft","Joint Station","Lane"]
[null,null,null,null,null,null,null,1]
[null,null,null,null,null,null,null,2]
[null,null,null,null,null,null,null,3]
[null,null,null,null,null,null,null,4]
[null,null,null,null,null,null,null,5]
[null,null,null,null,null,null,null,6]
[null,null,null,null,null,null,null,7]
[null,null,null,null,null,null,null,8]
[]
[null,null,null,null,null,null,null,null,null,null,"Joint Sublot Size, ft"]
[null,null,null,null,null,null,null,null,null,null,0]
[]
[]
[]
[]
[]
[]
[]
[]
[]
[]
[]
[]
[]
[]
[]
[]
[]
[]
[]
[]
[]
[]
[]
[]
[]
[]
[]
[]
[]
[]
[]
[]
[]
[]
[]
[]
[]
[]
[]
[]
[false]

{"sheet":"80","index":95,"n_rows":97,"n_cols":26,"rows_kept":97,"cut":false,"hidden":false,"merged":[[50,11,50,13],[51,11,51,13],[52,11,52,13],[44,11,44,13],[45,11,45,13],[46,11,46,13],[47,11,47,13],[48,11,48,13],[49,11,49,13],[43,0,43,16],[25,0,25,1],[26,0,26,5],[26,20,26,23],[26,25,26,27],[34,2,34,4],[35,0,35,5],[36,1,36,14],[37,0,37,14],[39,0,39,5],[40,1,40,14],[41,0,41,14],[23,0,23,1],[23,2,23,4],[23,9,23,12],[24,0,24,1],[24,2,24,4],[24,9,24,12],[21,0,21,1],[21,2,21,4],[21,9,21,12],[22,0,22,1],[22,2,22,4],[22,9,22,12],[19,0,19,1],[19,2,19,4],[19,9,19,12],[20,0,20,1],[20,2,20,4],[20,9,20,12],[18,0,18,16],[6,14,6,15],[7,14,7,15],[8,14,8,15],[9,14,9,15],[10,14,10,15],[11,14,11,15],[12,14,12,15],[13,14,13,15],[14,14,14,15],[15,14,15,15],[16,14,16,15],[1,0,1,16],[4,0,4,15],[5,4,5,5],[5,8,5,9],[5,11,5,12],[5,13,5,15]]}
[]
["Iowa DOT HMA Field Report"]
["Date :"]
["Item No.('s)"]
["PLACEMENT RECORD",null,null,null,null,null,null,null,null,null,null,null,null,null,null,null,null,null,null,null,null,{"$f":"SUBSTITUTE(A21 & \"\\\" & J21,\"\"\"\",\"\")","v":"\\"}]
[null,null,null,null,"Additional width to DEDUCT from Field Voids",null,null,null,"Placed Density (Pounds/CF)=",null,150,"Overwritten on the \"Summary\" Tab",null,"ONLY ONE (1) MIX DESIGN PER DFR OTHERWISE IT WILL NOT IMPORT INTO THE PLANT REPORT PROPERLY",null,null,null,null,null,null,null,{"$f":"SUBSTITUTE(A22 & \"\\\" & J22,\"\"\"\",\"\")","v":"\\"}]
["From Station"," To Station","Lane","ML or Widening Placement Width","Additional Width (ft) ","Thickness (in)","Total Length Placed (FT)","\"Pay\"  Est \"SY\"","Thickness (inches)","Calculated Field Voids Tons","Placed Tons            (Not including Waste)","% Yield","SY to be PAID (If Diff. than Est SY)","Mix Design No.","Bid Item/ Project No.",null,null,null,"This uses the correct SY #, if Green is blank uses Est. SY","Adds up the Tons",null,"\\"]
[null,null,null,null,null,null,{"$f":"IF(OR(A8=\"\",B8=\"\"),0,IF($A$97=TRUE,ABS(B8-A8)*5280,ABS(VALUE(SUBSTITUTE(A8,\"+\",\"\"))-VALUE(SUBSTITUTE(B8,\"+\",\"\")))))","v":0},{"$f":"IF(D8=\"\",\"\",G8*(D8+E8)/9)","v":""},null,{"$f":"IF(I8=\"\",\"\",(G8)*(D8+E8)*I8/12*$K$6/2000)","v":""},null,{"$f":"IF(K8=\"\",\"\",K8/J8*100)","v":""},null,null,null,null,{"$f":"O8 & \"\\\" & N8","v":"\\"},{"$f":"IF(AND(A8=\"\",B8=\"\",C8=\"\",D8=\"\"),1,IF(OR(O8=\"\",N8=\"\"),2,IF(ISERROR(MATCH(Q8,Input!M$5:M$24,0)),2,1)))","v":1},{"$f":"IF(M8<>\"\", M8, H8)","v":""},{"$f":"K8","v":0},null,"\\"]
[null,null,null,null,null,null,{"$f":"IF(OR(A9=\"\",B9=\"\"),0,IF($A$97=TRUE,ABS(B9-A9)*5280,ABS(VALUE(SUBSTITUTE(A9,\"+\",\"\"))-VALUE(SUBSTITUTE(B9,\"+\",\"\")))))","v":0},{"$f":"IF(D9=\"\",\"\",G9*(D9+E9)/9)","v":""},null,"",null,{"$f":"IF(K9=\"\",\"\",K9/J9*100)","v":""},null,null,null,null,{"$f":"O9 & \"\\\" & N9","v":"\\"},{"$f":"IF(AND(A9=\"\",B9=\"\",C9=\"\",D9=\"\"),1,IF(OR(O9=\"\",N9=\"\"),2,IF(ISERROR(MATCH(Q9,Input!M$5:M$24,0)),2,1)))","v":1},{"$f":"IF(M9<>\"\", M9, H9)","v":""},{"$f":"K9","v":0},null,"\\"]
[null,null,null,null,null,null,0,"",null,"",null,"",null,null,null,null,"\\",{"$f":"IF(AND(A10=\"\",B10=\"\",C10=\"\",D10=\"\"),1,IF(OR(O10=\"\",N10=\"\"),2,IF(ISERROR(MATCH(Q10,Input!M$5:M$24,0)),2,1)))","v":1},{"$f":"IF(M10<>\"\", M10, H10)","v":""},0]
[null,null,null,null,null,null,0,"",null,"",null,"",null,null,null,null,"\\",{"$f":"IF(AND(A11=\"\",B11=\"\",C11=\"\",D11=\"\"),1,IF(OR(O11=\"\",N11=\"\"),2,IF(ISERROR(MATCH(Q11,Input!M$5:M$24,0)),2,1)))","v":1},"",0]
[null,null,null,null,null,null,0,"",null,"",null,"",null,null,null,null,"\\",{"$f":"IF(AND(A12=\"\",B12=\"\",C12=\"\",D12=\"\"),1,IF(OR(O12=\"\",N12=\"\"),2,IF(ISERROR(MATCH(Q12,Input!M$5:M$24,0)),2,1)))","v":1},"",0]
[null,null,null,null,null,null,0,"",null,"",null,"",null,null,null,null,"\\",{"$f":"IF(AND(A13=\"\",B13=\"\",C13=\"\",D13=\"\"),1,IF(OR(O13=\"\",N13=\"\"),2,IF(ISERROR(MATCH(Q13,Input!M$5:M$24,0)),2,1)))","v":1},"",0]
[null,null,null,null,null,null,0,"",null,"",null,"",null,null,null,null,"\\",{"$f":"IF(AND(A14=\"\",B14=\"\",C14=\"\",D14=\"\"),1,IF(OR(O14=\"\",N14=\"\"),2,IF(ISERROR(MATCH(Q14,Input!M$5:M$24,0)),2,1)))","v":1},"",0]
[null,null,null,null,null,null,0,"",null,"",null,"",null,null,null,null,"\\",{"$f":"IF(AND(A15=\"\",B15=\"\",C15=\"\",D15=\"\"),1,IF(OR(O15=\"\",N15=\"\"),2,IF(ISERROR(MATCH(Q15,Input!M$5:M$24,0)),2,1)))","v":1},"",0]
[null,null,null,null,null,null,0,"",null,"",null,"",null,null,null,null,"\\",{"$f":"IF(AND(A16=\"\",B16=\"\",C16=\"\",D16=\"\"),1,IF(OR(O16=\"\",N16=\"\"),2,IF(ISERROR(MATCH(Q16,Input!M$5:M$24,0)),2,1)))","v":1},"",0]
[null,null,null,null,null,null,0,"",null,"",null,"",null,null,null,null,"\\",{"$f":"IF(AND(A17=\"\",B17=\"\",C17=\"\",D17=\"\"),1,IF(OR(O17=\"\",N17=\"\"),2,IF(ISERROR(MATCH(Q17,Input!M$5:M$24,0)),2,1)))","v":1},"",0]
[]
["TANK SHEET"]
["Bid Item (In Order of Placement)",null,"Today's Placement",null,null,"Bid Item Plan Quantity","Plan Thickness (in)","Contract Mix Price","Contract Binder Price","Project Number",null,null,null,"Mix Pay Units","Mix Delivered to Road\n(Ton or SY)","Waste On Road (Ton)\nNO waste for SY Items","Tons Placed - Waste",null,null,"This adds up column S as it depends if the Est SY is filled out or the SY",null,"Use this Column for SY for the Q column","Uses this Value for Mix on Road"]
[null,null,null,null,null,{"$f":"IF($J21=\"\",\"\",INDEX(Input!$A$5:$H$24,MATCH($A21&$J21,Input!$A$5:$A$24&Input!$G$5:$G$24,0),2))","v":""},{"$f":"IF($J21=\"\",\"\",INDEX(Input!$A$5:$H$24,MATCH($A21&$J21,Input!$A$5:$A$24&Input!$G$5:$G$24,0),3))","v":""},{"$f":"IF($J21=\"\",\"\",INDEX(Input!$A$5:$H$24,MATCH($A21&$J21,Input!$A$5:$A$24&Input!$G$5:$G$24,0),4))","v":""},{"$f":"IF($J21=\"\",\"\",INDEX(Input!$A$5:$H$24,MATCH($A21&$J21,Input!$A$5:$A$24&Input!$G$5:$G$24,0),5))","v":""},null,null,null,null,{"$f":"IF($A21=\"\",\"\",OFFSET(Input!F$4,MATCH($A21,Input!$A$5:$A$24,0),0))","v":""},{"$f":"IF(N21=\"SY\", T21, IF(N21=\"Tons\", W21, \"\"))","v":""},null,{"$f":"IF(N21=\"SY\", V21, IF(N21=\"Tons\", O21-P21, \"\"))","v":""},{"$f":"SUBSTITUTE(A21 & \"\\\" & J21,\"\"\"\",\"\")","v":"\\"},{"$f":"IF(A21=\"\",1,IF(ISERROR(MATCH(R21,Input!L$5:L$24,0)),2,1))","v":1},{"$f":"IF(A21=\"\", \"\", SUMIF($Q$8:$Q$17, \"*\" & LEFT(A21, 11) & \"*\", $S$8:$S$17))","v":""},null,{"$f":"IF(A21=\"\", \"\", SUMIF($Q$8:$Q$17, \"*\" & LEFT(A21, 11) & \"*\", $T$8:$T$17))","v":""},{"$f":"IF(N21=\"SY\", T21, IF(N21=\"Tons\", V21+P21, \"\"))","v":""}]
[null,null,null,null,null,{"$f":"IF($J22=\"\",\"\",INDEX(Input!$A$5:$H$24,MATCH($A22&$J22,Input!$A$5:$A$24&Input!$G$5:$G$24,0),2))","v":""},{"$f":"IF($J22=\"\",\"\",INDEX(Input!$A$5:$H$24,MATCH($A22&$J22,Input!$A$5:$A$24&Input!$G$5:$G$24,0),3))","v":""},{"$f":"IF($J22=\"\",\"\",INDEX(Input!$A$5:$H$24,MATCH($A22&$J22,Input!$A$5:$A$24&Input!$G$5:$G$24,0),4))","v":""},{"$f":"IF($J22=\"\",\"\",INDEX(Input!$A$5:$H$24,MATCH($A22&$J22,Input!$A$5:$A$24&Input!$G$5:$G$24,0),5))","v":""},null,null,null,null,{"$f":"IF($A22=\"\",\"\",OFFSET(Input!F$4,MATCH($A22,Input!$A$5:$A$24,0),0))","v":""},{"$f":"IF(N22=\"SY\", T22, IF(N22=\"Tons\", W22, \"\"))","v":""},null,{"$f":"IF(N22=\"SY\", V22, IF(N22=\"Tons\", O22-P22, \"\"))","v":""},{"$f":"SUBSTITUTE(A22 & \"\\\" & J22,\"\"\"\",\"\")","v":"\\"},{"$f":"IF(A22=\"\",1,IF(ISERROR(MATCH(R22,Input!L$5:L$24,0)),2,1))","v":1},{"$f":"IF(A22=\"\", \"\", SUMIF($Q$8:$Q$17, \"*\" & LEFT(A22, 11) & \"*\", $S$8:$S$17))","v":""},null,{"$f":"IF(A22=\"\", \"\", SUMIF($Q$8:$Q$17, \"*\" & LEFT(A22, 11) & \"*\", $T$8:$T$17))","v":""},{"$f":"IF(N22=\"SY\", T22, IF(N22=\"Tons\", V22+P22, \"\"))","v":""}]
[null,null,null,null,null,{"$f":"IF($J23=\"\",\"\",INDEX(Input!$A$5:$H$24,MATCH($A23&$J23,Input!$A$5:$A$24&Input!$G$5:$G$24,0),2))","v":""},{"$f":"IF($J23=\"\",\"\",INDEX(Input!$A$5:$H$24,MATCH($A23&$J23,Input!$A$5:$A$24&Input!$G$5:$G$24,0),3))","v":""},{"$f":"IF($J23=\"\",\"\",INDEX(Input!$A$5:$H$24,MATCH($A23&$J23,Input!$A$5:$A$24&Input!$G$5:$G$24,0),4))","v":""},{"$f":"IF($J23=\"\",\"\",INDEX(Input!$A$5:$H$24,MATCH($A23&$J23,Input!$A$5:$A$24&Input!$G$5:$G$24,0),5))","v":""},null,null,null,null,{"$f":"IF($A23=\"\",\"\",OFFSET(Input!F$4,MATCH($A23,Input!$A$5:$A$24,0),0))","v":""},{"$f":"IF(N23=\"SY\", T23, IF(N23=\"Tons\", W23, \"\"))","v":""},null,{"$f":"IF(N23=\"SY\", V23, IF(N23=\"Tons\", O23-P23, \"\"))","v":""},"\\",{"$f":"IF(A23=\"\",1,IF(ISERROR(MATCH(R23,Input!L$5:L$24,0)),2,1))","v":1},{"$f":"IF(A23=\"\", \"\", SUMIF($Q$8:$Q$17, \"*\" & LEFT(A23, 11) & \"*\", $S$8:$S$17))","v":""},null,{"$f":"IF(A23=\"\", \"\", SUMIF($Q$8:$Q$17, \"*\" & LEFT(A23, 11) & \"*\", $T$8:$T$17))","v":""},{"$f":"IF(N23=\"SY\", T23, IF(N23=\"Tons\", V23+P23, \"\"))","v":""}]
[null,null,null,null,null,{"$f":"IF($J24=\"\",\"\",INDEX(Input!$A$5:$H$24,MATCH($A24&$J24,Input!$A$5:$A$24&Input!$G$5:$G$24,0),2))","v":""},{"$f":"IF($J24=\"\",\"\",INDEX(Input!$A$5:$H$24,MATCH($A24&$J24,Input!$A$5:$A$24&Input!$G$5:$G$24,0),3))","v":""},{"$f":"IF($J24=\"\",\"\",INDEX(Input!$A$5:$H$24,MATCH($A24&$J24,Input!$A$5:$A$24&Input!$G$5:$G$24,0),4))","v":""},{"$f":"IF($J24=\"\",\"\",INDEX(Input!$A$5:$H$24,MATCH($A24&$J24,Input!$A$5:$A$24&Input!$G$5:$G$24,0),5))","v":""},null,null,null,null,{"$f":"IF($A24=\"\",\"\",OFFSET(Input!F$4,MATCH($A24,Input!$A$5:$A$24,0),0))","v":""},"",null,{"$f":"IF(N24=\"SY\", V24, IF(N24=\"Tons\", O24-P24, \"\"))","v":""},"\\",{"$f":"IF(A24=\"\",1,IF(ISERROR(MATCH(R24,Input!L$5:L$24,0)),2,1))","v":1},"",null,{"$f":"IF(A24=\"\", \"\", SUMIF($Q$8:$Q$17, \"*\" & LEFT(A24, 11) & \"*\", $T$8:$T$17))","v":""},{"$f":"IF(N24=\"SY\", T24, IF(N24=\"Tons\", V24+P24, \"\"))","v":""}]
[null,null,null,null,null,{"$f":"IF($J25=\"\",\"\",INDEX(Input!$A$5:$H$24,MATCH($A25&$J25,Input!$A$5:$A$24&Input!$G$5:$G$24,0),2))","v":""},{"$f":"IF($J25=\"\",\"\",INDEX(Input!$A$5:$H$24,MATCH($A25&$J25,Input!$A$5:$A$24&Input!$G$5:$G$24,0),3))","v":""},{"$f":"IF($J25=\"\",\"\",INDEX(Input!$A$5:$H$24,MATCH($A25&$J25,Input!$A$5:$A$24&Input!$G$5:$G$24,0),4))","v":""},{"$f":"IF($J25=\"\",\"\",INDEX(Input!$A$5:$H$24,MATCH($A25&$J25,Input!$A$5:$A$24&Input!$G$5:$G$24,0),5))","v":""},null,null,null,null,{"$f":"IF($A25=\"\",\"\",OFFSET(Input!F$4,MATCH($A25,Input!$A$5:$A$24,0),0))","v":""},"",null,"","\\",{"$f":"IF(A25=\"\",1,IF(ISERROR(MATCH(R25,Input!L$5:L$24,0)),2,1))","v":1},"",null,"",""]
[null,null,null,null,null,null,null,null,null,null,null,null,null,null,null,null,null,null,null,null,null,"",{"$f":"IF(N26=\"SY\", T26, IF(N26=\"Tons\", V26+P26, \"\"))","v":""},{"$f":"IF(A26=\"\", \"\", SUMIF($Q$8:$Q$17, \"*\" & LEFT(A26, 11) & \"*\", $S$8:$S$17))","v":""},{"$f":"IF(N26=\"SY\",X26,\"\")","v":""},{"$f":"IF(A26=\"\", \"\", SUMIF($Q$8:$Q$17, \"*\" & LEFT(A26, 11) & \"*\", $T$8:$T$17))","v":""}]
["Hot Box Sample",null,null,null,null,null,null,null,null,null,"Mat Temperatures °F"]
[null,"Test A","Test B","Test C","Test D","Test E",null,null,null,null,"Time","Temp"]
[" Hot Box ID Number  ",null,null,null,null,null,null,null,null,null,"7:00"]
["Hot Box Sample Tons: ",null,null,null,null,null,null,null,null,null,"9:00",null,null,null,"Intended Thickness:"]
[" Time: ",null,null,null,null,null,null,null,null,null,"11:00",null,null,null,"Cores Waived?"]
[" Station/MP: ",null,null,null,null,null,null,null,null,null,"1:00",null,null,null,"Small Quantity Statement?"]
["Bar Code ID.:",null,null,null,null,null,null,null,null,null,"3:00",null,null,null,"Scale Check Done?"]
["Compaction Temp. °F: ",null,null,null,null,null,null,null,null,null,"5:00",null,null,null,"Tack Tickets Today?"]
[null,null,null,null,null,null,null,null,null,null,"7:00"]
["The Below Comments should show up on the plant report"]
["Comments:"]
[]
[]
["The Below Notes are for the CPI from the field or Plant Monitor"]
["Notes:"]
[]
[]
["RANDOM CORE LOCATIONS"]
[null,null,null,null,null,null,null,"Core #","Station","Offset,ft","Joint Station","Lane"]
[null,null,null,null,null,null,null,1]
[null,null,null,null,null,null,null,2]
[null,null,null,null,null,null,null,3]
[null,null,null,null,null,null,null,4]
[null,null,null,null,null,null,null,5]
[null,null,null,null,null,null,null,6]
[null,null,null,null,null,null,null,7]
[null,null,null,null,null,null,null,8]
[]
[null,null,null,null,null,null,null,null,null,null,"Joint Sublot Size, ft"]
[null,null,null,null,null,null,null,null,null,null,0]
[]
[]
[]
[]
[]
[]
[]
[]
[]
[]
[]
[]
[]
[]
[]
[]
[]
[]
[]
[]
[]
[]
[]
[]
[]
[]
[]
[]
[]
[]
[]
[]
[]
[]
[]
[]
[]
[]
[]
[]
[false]

{"sheet":"81","index":96,"n_rows":97,"n_cols":26,"rows_kept":97,"cut":false,"hidden":false,"merged":[[50,11,50,13],[51,11,51,13],[52,11,52,13],[44,11,44,13],[45,11,45,13],[46,11,46,13],[47,11,47,13],[48,11,48,13],[49,11,49,13],[43,0,43,16],[25,0,25,1],[26,0,26,5],[26,20,26,23],[26,25,26,27],[34,2,34,4],[35,0,35,5],[36,1,36,14],[37,0,37,14],[39,0,39,5],[40,1,40,14],[41,0,41,14],[23,0,23,1],[23,2,23,4],[23,9,23,12],[24,0,24,1],[24,2,24,4],[24,9,24,12],[21,0,21,1],[21,2,21,4],[21,9,21,12],[22,0,22,1],[22,2,22,4],[22,9,22,12],[19,0,19,1],[19,2,19,4],[19,9,19,12],[20,0,20,1],[20,2,20,4],[20,9,20,12],[18,0,18,16],[6,14,6,15],[7,14,7,15],[8,14,8,15],[9,14,9,15],[10,14,10,15],[11,14,11,15],[12,14,12,15],[13,14,13,15],[14,14,14,15],[15,14,15,15],[16,14,16,15],[1,0,1,16],[4,0,4,15],[5,4,5,5],[5,8,5,9],[5,11,5,12],[5,13,5,15]]}
[]
["Iowa DOT HMA Field Report"]
["Date :"]
["Item No.('s)"]
["PLACEMENT RECORD",null,null,null,null,null,null,null,null,null,null,null,null,null,null,null,null,null,null,null,null,{"$f":"SUBSTITUTE(A21 & \"\\\" & J21,\"\"\"\",\"\")","v":"\\"}]
[null,null,null,null,"Additional width to DEDUCT from Field Voids",null,null,null,"Placed Density (Pounds/CF)=",null,150,"Overwritten on the \"Summary\" Tab",null,"ONLY ONE (1) MIX DESIGN PER DFR OTHERWISE IT WILL NOT IMPORT INTO THE PLANT REPORT PROPERLY",null,null,null,null,null,null,null,{"$f":"SUBSTITUTE(A22 & \"\\\" & J22,\"\"\"\",\"\")","v":"\\"}]
["From Station"," To Station","Lane","ML or Widening Placement Width","Additional Width (ft) ","Thickness (in)","Total Length Placed (FT)","\"Pay\"  Est \"SY\"","Thickness (inches)","Calculated Field Voids Tons","Placed Tons            (Not including Waste)","% Yield","SY to be PAID (If Diff. than Est SY)","Mix Design No.","Bid Item/ Project No.",null,null,null,"This uses the correct SY #, if Green is blank uses Est. SY","Adds up the Tons",null,"\\"]
[null,null,null,null,null,null,{"$f":"IF(OR(A8=\"\",B8=\"\"),0,IF($A$97=TRUE,ABS(B8-A8)*5280,ABS(VALUE(SUBSTITUTE(A8,\"+\",\"\"))-VALUE(SUBSTITUTE(B8,\"+\",\"\")))))","v":0},{"$f":"IF(D8=\"\",\"\",G8*(D8+E8)/9)","v":""},null,{"$f":"IF(I8=\"\",\"\",(G8)*(D8+E8)*I8/12*$K$6/2000)","v":""},null,{"$f":"IF(K8=\"\",\"\",K8/J8*100)","v":""},null,null,null,null,{"$f":"O8 & \"\\\" & N8","v":"\\"},{"$f":"IF(AND(A8=\"\",B8=\"\",C8=\"\",D8=\"\"),1,IF(OR(O8=\"\",N8=\"\"),2,IF(ISERROR(MATCH(Q8,Input!M$5:M$24,0)),2,1)))","v":1},{"$f":"IF(M8<>\"\", M8, H8)","v":""},{"$f":"K8","v":0},null,"\\"]
[null,null,null,null,null,null,{"$f":"IF(OR(A9=\"\",B9=\"\"),0,IF($A$97=TRUE,ABS(B9-A9)*5280,ABS(VALUE(SUBSTITUTE(A9,\"+\",\"\"))-VALUE(SUBSTITUTE(B9,\"+\",\"\")))))","v":0},{"$f":"IF(D9=\"\",\"\",G9*(D9+E9)/9)","v":""},null,"",null,{"$f":"IF(K9=\"\",\"\",K9/J9*100)","v":""},null,null,null,null,{"$f":"O9 & \"\\\" & N9","v":"\\"},{"$f":"IF(AND(A9=\"\",B9=\"\",C9=\"\",D9=\"\"),1,IF(OR(O9=\"\",N9=\"\"),2,IF(ISERROR(MATCH(Q9,Input!M$5:M$24,0)),2,1)))","v":1},{"$f":"IF(M9<>\"\", M9, H9)","v":""},{"$f":"K9","v":0},null,"\\"]
[null,null,null,null,null,null,0,"",null,"",null,"",null,null,null,null,"\\",{"$f":"IF(AND(A10=\"\",B10=\"\",C10=\"\",D10=\"\"),1,IF(OR(O10=\"\",N10=\"\"),2,IF(ISERROR(MATCH(Q10,Input!M$5:M$24,0)),2,1)))","v":1},{"$f":"IF(M10<>\"\", M10, H10)","v":""},0]
[null,null,null,null,null,null,0,"",null,"",null,"",null,null,null,null,"\\",{"$f":"IF(AND(A11=\"\",B11=\"\",C11=\"\",D11=\"\"),1,IF(OR(O11=\"\",N11=\"\"),2,IF(ISERROR(MATCH(Q11,Input!M$5:M$24,0)),2,1)))","v":1},"",0]
[null,null,null,null,null,null,0,"",null,"",null,"",null,null,null,null,"\\",{"$f":"IF(AND(A12=\"\",B12=\"\",C12=\"\",D12=\"\"),1,IF(OR(O12=\"\",N12=\"\"),2,IF(ISERROR(MATCH(Q12,Input!M$5:M$24,0)),2,1)))","v":1},"",0]
[null,null,null,null,null,null,0,"",null,"",null,"",null,null,null,null,"\\",{"$f":"IF(AND(A13=\"\",B13=\"\",C13=\"\",D13=\"\"),1,IF(OR(O13=\"\",N13=\"\"),2,IF(ISERROR(MATCH(Q13,Input!M$5:M$24,0)),2,1)))","v":1},"",0]
[null,null,null,null,null,null,0,"",null,"",null,"",null,null,null,null,"\\",{"$f":"IF(AND(A14=\"\",B14=\"\",C14=\"\",D14=\"\"),1,IF(OR(O14=\"\",N14=\"\"),2,IF(ISERROR(MATCH(Q14,Input!M$5:M$24,0)),2,1)))","v":1},"",0]
[null,null,null,null,null,null,0,"",null,"",null,"",null,null,null,null,"\\",{"$f":"IF(AND(A15=\"\",B15=\"\",C15=\"\",D15=\"\"),1,IF(OR(O15=\"\",N15=\"\"),2,IF(ISERROR(MATCH(Q15,Input!M$5:M$24,0)),2,1)))","v":1},"",0]
[null,null,null,null,null,null,0,"",null,"",null,"",null,null,null,null,"\\",{"$f":"IF(AND(A16=\"\",B16=\"\",C16=\"\",D16=\"\"),1,IF(OR(O16=\"\",N16=\"\"),2,IF(ISERROR(MATCH(Q16,Input!M$5:M$24,0)),2,1)))","v":1},"",0]
[null,null,null,null,null,null,0,"",null,"",null,"",null,null,null,null,"\\",{"$f":"IF(AND(A17=\"\",B17=\"\",C17=\"\",D17=\"\"),1,IF(OR(O17=\"\",N17=\"\"),2,IF(ISERROR(MATCH(Q17,Input!M$5:M$24,0)),2,1)))","v":1},"",0]
[]
["TANK SHEET"]
["Bid Item (In Order of Placement)",null,"Today's Placement",null,null,"Bid Item Plan Quantity","Plan Thickness (in)","Contract Mix Price","Contract Binder Price","Project Number",null,null,null,"Mix Pay Units","Mix Delivered to Road\n(Ton or SY)","Waste On Road (Ton)\nNO waste for SY Items","Tons Placed - Waste",null,null,"This adds up column S as it depends if the Est SY is filled out or the SY",null,"Use this Column for SY for the Q column","Uses this Value for Mix on Road"]
[null,null,null,null,null,{"$f":"IF($J21=\"\",\"\",INDEX(Input!$A$5:$H$24,MATCH($A21&$J21,Input!$A$5:$A$24&Input!$G$5:$G$24,0),2))","v":""},{"$f":"IF($J21=\"\",\"\",INDEX(Input!$A$5:$H$24,MATCH($A21&$J21,Input!$A$5:$A$24&Input!$G$5:$G$24,0),3))","v":""},{"$f":"IF($J21=\"\",\"\",INDEX(Input!$A$5:$H$24,MATCH($A21&$J21,Input!$A$5:$A$24&Input!$G$5:$G$24,0),4))","v":""},{"$f":"IF($J21=\"\",\"\",INDEX(Input!$A$5:$H$24,MATCH($A21&$J21,Input!$A$5:$A$24&Input!$G$5:$G$24,0),5))","v":""},null,null,null,null,{"$f":"IF($A21=\"\",\"\",OFFSET(Input!F$4,MATCH($A21,Input!$A$5:$A$24,0),0))","v":""},{"$f":"IF(N21=\"SY\", T21, IF(N21=\"Tons\", W21, \"\"))","v":""},null,{"$f":"IF(N21=\"SY\", V21, IF(N21=\"Tons\", O21-P21, \"\"))","v":""},{"$f":"SUBSTITUTE(A21 & \"\\\" & J21,\"\"\"\",\"\")","v":"\\"},{"$f":"IF(A21=\"\",1,IF(ISERROR(MATCH(R21,Input!L$5:L$24,0)),2,1))","v":1},{"$f":"IF(A21=\"\", \"\", SUMIF($Q$8:$Q$17, \"*\" & LEFT(A21, 11) & \"*\", $S$8:$S$17))","v":""},null,{"$f":"IF(A21=\"\", \"\", SUMIF($Q$8:$Q$17, \"*\" & LEFT(A21, 11) & \"*\", $T$8:$T$17))","v":""},{"$f":"IF(N21=\"SY\", T21, IF(N21=\"Tons\", V21+P21, \"\"))","v":""}]
[null,null,null,null,null,{"$f":"IF($J22=\"\",\"\",INDEX(Input!$A$5:$H$24,MATCH($A22&$J22,Input!$A$5:$A$24&Input!$G$5:$G$24,0),2))","v":""},{"$f":"IF($J22=\"\",\"\",INDEX(Input!$A$5:$H$24,MATCH($A22&$J22,Input!$A$5:$A$24&Input!$G$5:$G$24,0),3))","v":""},{"$f":"IF($J22=\"\",\"\",INDEX(Input!$A$5:$H$24,MATCH($A22&$J22,Input!$A$5:$A$24&Input!$G$5:$G$24,0),4))","v":""},{"$f":"IF($J22=\"\",\"\",INDEX(Input!$A$5:$H$24,MATCH($A22&$J22,Input!$A$5:$A$24&Input!$G$5:$G$24,0),5))","v":""},null,null,null,null,{"$f":"IF($A22=\"\",\"\",OFFSET(Input!F$4,MATCH($A22,Input!$A$5:$A$24,0),0))","v":""},{"$f":"IF(N22=\"SY\", T22, IF(N22=\"Tons\", W22, \"\"))","v":""},null,{"$f":"IF(N22=\"SY\", V22, IF(N22=\"Tons\", O22-P22, \"\"))","v":""},{"$f":"SUBSTITUTE(A22 & \"\\\" & J22,\"\"\"\",\"\")","v":"\\"},{"$f":"IF(A22=\"\",1,IF(ISERROR(MATCH(R22,Input!L$5:L$24,0)),2,1))","v":1},{"$f":"IF(A22=\"\", \"\", SUMIF($Q$8:$Q$17, \"*\" & LEFT(A22, 11) & \"*\", $S$8:$S$17))","v":""},null,{"$f":"IF(A22=\"\", \"\", SUMIF($Q$8:$Q$17, \"*\" & LEFT(A22, 11) & \"*\", $T$8:$T$17))","v":""},{"$f":"IF(N22=\"SY\", T22, IF(N22=\"Tons\", V22+P22, \"\"))","v":""}]
[null,null,null,null,null,{"$f":"IF($J23=\"\",\"\",INDEX(Input!$A$5:$H$24,MATCH($A23&$J23,Input!$A$5:$A$24&Input!$G$5:$G$24,0),2))","v":""},{"$f":"IF($J23=\"\",\"\",INDEX(Input!$A$5:$H$24,MATCH($A23&$J23,Input!$A$5:$A$24&Input!$G$5:$G$24,0),3))","v":""},{"$f":"IF($J23=\"\",\"\",INDEX(Input!$A$5:$H$24,MATCH($A23&$J23,Input!$A$5:$A$24&Input!$G$5:$G$24,0),4))","v":""},{"$f":"IF($J23=\"\",\"\",INDEX(Input!$A$5:$H$24,MATCH($A23&$J23,Input!$A$5:$A$24&Input!$G$5:$G$24,0),5))","v":""},null,null,null,null,{"$f":"IF($A23=\"\",\"\",OFFSET(Input!F$4,MATCH($A23,Input!$A$5:$A$24,0),0))","v":""},{"$f":"IF(N23=\"SY\", T23, IF(N23=\"Tons\", W23, \"\"))","v":""},null,{"$f":"IF(N23=\"SY\", V23, IF(N23=\"Tons\", O23-P23, \"\"))","v":""},"\\",{"$f":"IF(A23=\"\",1,IF(ISERROR(MATCH(R23,Input!L$5:L$24,0)),2,1))","v":1},{"$f":"IF(A23=\"\", \"\", SUMIF($Q$8:$Q$17, \"*\" & LEFT(A23, 11) & \"*\", $S$8:$S$17))","v":""},null,{"$f":"IF(A23=\"\", \"\", SUMIF($Q$8:$Q$17, \"*\" & LEFT(A23, 11) & \"*\", $T$8:$T$17))","v":""},{"$f":"IF(N23=\"SY\", T23, IF(N23=\"Tons\", V23+P23, \"\"))","v":""}]
[null,null,null,null,null,{"$f":"IF($J24=\"\",\"\",INDEX(Input!$A$5:$H$24,MATCH($A24&$J24,Input!$A$5:$A$24&Input!$G$5:$G$24,0),2))","v":""},{"$f":"IF($J24=\"\",\"\",INDEX(Input!$A$5:$H$24,MATCH($A24&$J24,Input!$A$5:$A$24&Input!$G$5:$G$24,0),3))","v":""},{"$f":"IF($J24=\"\",\"\",INDEX(Input!$A$5:$H$24,MATCH($A24&$J24,Input!$A$5:$A$24&Input!$G$5:$G$24,0),4))","v":""},{"$f":"IF($J24=\"\",\"\",INDEX(Input!$A$5:$H$24,MATCH($A24&$J24,Input!$A$5:$A$24&Input!$G$5:$G$24,0),5))","v":""},null,null,null,null,{"$f":"IF($A24=\"\",\"\",OFFSET(Input!F$4,MATCH($A24,Input!$A$5:$A$24,0),0))","v":""},"",null,{"$f":"IF(N24=\"SY\", V24, IF(N24=\"Tons\", O24-P24, \"\"))","v":""},"\\",{"$f":"IF(A24=\"\",1,IF(ISERROR(MATCH(R24,Input!L$5:L$24,0)),2,1))","v":1},"",null,{"$f":"IF(A24=\"\", \"\", SUMIF($Q$8:$Q$17, \"*\" & LEFT(A24, 11) & \"*\", $T$8:$T$17))","v":""},{"$f":"IF(N24=\"SY\", T24, IF(N24=\"Tons\", V24+P24, \"\"))","v":""}]
[null,null,null,null,null,{"$f":"IF($J25=\"\",\"\",INDEX(Input!$A$5:$H$24,MATCH($A25&$J25,Input!$A$5:$A$24&Input!$G$5:$G$24,0),2))","v":""},{"$f":"IF($J25=\"\",\"\",INDEX(Input!$A$5:$H$24,MATCH($A25&$J25,Input!$A$5:$A$24&Input!$G$5:$G$24,0),3))","v":""},{"$f":"IF($J25=\"\",\"\",INDEX(Input!$A$5:$H$24,MATCH($A25&$J25,Input!$A$5:$A$24&Input!$G$5:$G$24,0),4))","v":""},{"$f":"IF($J25=\"\",\"\",INDEX(Input!$A$5:$H$24,MATCH($A25&$J25,Input!$A$5:$A$24&Input!$G$5:$G$24,0),5))","v":""},null,null,null,null,{"$f":"IF($A25=\"\",\"\",OFFSET(Input!F$4,MATCH($A25,Input!$A$5:$A$24,0),0))","v":""},"",null,"","\\",{"$f":"IF(A25=\"\",1,IF(ISERROR(MATCH(R25,Input!L$5:L$24,0)),2,1))","v":1},"",null,"",""]
[null,null,null,null,null,null,null,null,null,null,null,null,null,null,null,null,null,null,null,null,null,"",{"$f":"IF(N26=\"SY\", T26, IF(N26=\"Tons\", V26+P26, \"\"))","v":""},{"$f":"IF(A26=\"\", \"\", SUMIF($Q$8:$Q$17, \"*\" & LEFT(A26, 11) & \"*\", $S$8:$S$17))","v":""},{"$f":"IF(N26=\"SY\",X26,\"\")","v":""},{"$f":"IF(A26=\"\", \"\", SUMIF($Q$8:$Q$17, \"*\" & LEFT(A26, 11) & \"*\", $T$8:$T$17))","v":""}]
["Hot Box Sample",null,null,null,null,null,null,null,null,null,"Mat Temperatures °F"]
[null,"Test A","Test B","Test C","Test D","Test E",null,null,null,null,"Time","Temp"]
[" Hot Box ID Number  ",null,null,null,null,null,null,null,null,null,"7:00"]
["Hot Box Sample Tons: ",null,null,null,null,null,null,null,null,null,"9:00",null,null,null,"Intended Thickness:"]
[" Time: ",null,null,null,null,null,null,null,null,null,"11:00",null,null,null,"Cores Waived?"]
[" Station/MP: ",null,null,null,null,null,null,null,null,null,"1:00",null,null,null,"Small Quantity Statement?"]
["Bar Code ID.:",null,null,null,null,null,null,null,null,null,"3:00",null,null,null,"Scale Check Done?"]
["Compaction Temp. °F: ",null,null,null,null,null,null,null,null,null,"5:00",null,null,null,"Tack Tickets Today?"]
[null,null,null,null,null,null,null,null,null,null,"7:00"]
["The Below Comments should show up on the plant report"]
["Comments:"]
[]
[]
["The Below Notes are for the CPI from the field or Plant Monitor"]
["Notes:"]
[]
[]
["RANDOM CORE LOCATIONS"]
[null,null,null,null,null,null,null,"Core #","Station","Offset,ft","Joint Station","Lane"]
[null,null,null,null,null,null,null,1]
[null,null,null,null,null,null,null,2]
[null,null,null,null,null,null,null,3]
[null,null,null,null,null,null,null,4]
[null,null,null,null,null,null,null,5]
[null,null,null,null,null,null,null,6]
[null,null,null,null,null,null,null,7]
[null,null,null,null,null,null,null,8]
[]
[null,null,null,null,null,null,null,null,null,null,"Joint Sublot Size, ft"]
[null,null,null,null,null,null,null,null,null,null,0]
[]
[]
[]
[]
[]
[]
[]
[]
[]
[]
[]
[]
[]
[]
[]
[]
[]
[]
[]
[]
[]
[]
[]
[]
[]
[]
[]
[]
[]
[]
[]
[]
[]
[]
[]
[]
[]
[]
[]
[]
[false]

{"sheet":"82","index":97,"n_rows":97,"n_cols":26,"rows_kept":97,"cut":false,"hidden":false,"merged":[[50,11,50,13],[51,11,51,13],[52,11,52,13],[44,11,44,13],[45,11,45,13],[46,11,46,13],[47,11,47,13],[48,11,48,13],[49,11,49,13],[43,0,43,16],[25,0,25,1],[26,0,26,5],[26,20,26,23],[26,25,26,27],[34,2,34,4],[35,0,35,5],[36,1,36,14],[37,0,37,14],[39,0,39,5],[40,1,40,14],[41,0,41,14],[23,0,23,1],[23,2,23,4],[23,9,23,12],[24,0,24,1],[24,2,24,4],[24,9,24,12],[21,0,21,1],[21,2,21,4],[21,9,21,12],[22,0,22,1],[22,2,22,4],[22,9,22,12],[19,0,19,1],[19,2,19,4],[19,9,19,12],[20,0,20,1],[20,2,20,4],[20,9,20,12],[18,0,18,16],[6,14,6,15],[7,14,7,15],[8,14,8,15],[9,14,9,15],[10,14,10,15],[11,14,11,15],[12,14,12,15],[13,14,13,15],[14,14,14,15],[15,14,15,15],[16,14,16,15],[1,0,1,16],[4,0,4,15],[5,4,5,5],[5,8,5,9],[5,11,5,12],[5,13,5,15]]}
[]
["Iowa DOT HMA Field Report"]
["Date :"]
["Item No.('s)"]
["PLACEMENT RECORD",null,null,null,null,null,null,null,null,null,null,null,null,null,null,null,null,null,null,null,null,{"$f":"SUBSTITUTE(A21 & \"\\\" & J21,\"\"\"\",\"\")","v":"\\"}]
[null,null,null,null,"Additional width to DEDUCT from Field Voids",null,null,null,"Placed Density (Pounds/CF)=",null,150,"Overwritten on the \"Summary\" Tab",null,"ONLY ONE (1) MIX DESIGN PER DFR OTHERWISE IT WILL NOT IMPORT INTO THE PLANT REPORT PROPERLY",null,null,null,null,null,null,null,{"$f":"SUBSTITUTE(A22 & \"\\\" & J22,\"\"\"\",\"\")","v":"\\"}]
["From Station"," To Station","Lane","ML or Widening Placement Width","Additional Width (ft) ","Thickness (in)","Total Length Placed (FT)","\"Pay\"  Est \"SY\"","Thickness (inches)","Calculated Field Voids Tons","Placed Tons            (Not including Waste)","% Yield","SY to be PAID (If Diff. than Est SY)","Mix Design No.","Bid Item/ Project No.",null,null,null,"This uses the correct SY #, if Green is blank uses Est. SY","Adds up the Tons",null,"\\"]
[null,null,null,null,null,null,{"$f":"IF(OR(A8=\"\",B8=\"\"),0,IF($A$97=TRUE,ABS(B8-A8)*5280,ABS(VALUE(SUBSTITUTE(A8,\"+\",\"\"))-VALUE(SUBSTITUTE(B8,\"+\",\"\")))))","v":0},{"$f":"IF(D8=\"\",\"\",G8*(D8+E8)/9)","v":""},null,{"$f":"IF(I8=\"\",\"\",(G8)*(D8+E8)*I8/12*$K$6/2000)","v":""},null,{"$f":"IF(K8=\"\",\"\",K8/J8*100)","v":""},null,null,null,null,{"$f":"O8 & \"\\\" & N8","v":"\\"},{"$f":"IF(AND(A8=\"\",B8=\"\",C8=\"\",D8=\"\"),1,IF(OR(O8=\"\",N8=\"\"),2,IF(ISERROR(MATCH(Q8,Input!M$5:M$24,0)),2,1)))","v":1},{"$f":"IF(M8<>\"\", M8, H8)","v":""},{"$f":"K8","v":0},null,"\\"]
[null,null,null,null,null,null,{"$f":"IF(OR(A9=\"\",B9=\"\"),0,IF($A$97=TRUE,ABS(B9-A9)*5280,ABS(VALUE(SUBSTITUTE(A9,\"+\",\"\"))-VALUE(SUBSTITUTE(B9,\"+\",\"\")))))","v":0},{"$f":"IF(D9=\"\",\"\",G9*(D9+E9)/9)","v":""},null,"",null,{"$f":"IF(K9=\"\",\"\",K9/J9*100)","v":""},null,null,null,null,{"$f":"O9 & \"\\\" & N9","v":"\\"},{"$f":"IF(AND(A9=\"\",B9=\"\",C9=\"\",D9=\"\"),1,IF(OR(O9=\"\",N9=\"\"),2,IF(ISERROR(MATCH(Q9,Input!M$5:M$24,0)),2,1)))","v":1},{"$f":"IF(M9<>\"\", M9, H9)","v":""},{"$f":"K9","v":0},null,"\\"]
[null,null,null,null,null,null,0,"",null,"",null,"",null,null,null,null,"\\",{"$f":"IF(AND(A10=\"\",B10=\"\",C10=\"\",D10=\"\"),1,IF(OR(O10=\"\",N10=\"\"),2,IF(ISERROR(MATCH(Q10,Input!M$5:M$24,0)),2,1)))","v":1},{"$f":"IF(M10<>\"\", M10, H10)","v":""},0]
[null,null,null,null,null,null,0,"",null,"",null,"",null,null,null,null,"\\",{"$f":"IF(AND(A11=\"\",B11=\"\",C11=\"\",D11=\"\"),1,IF(OR(O11=\"\",N11=\"\"),2,IF(ISERROR(MATCH(Q11,Input!M$5:M$24,0)),2,1)))","v":1},"",0]
[null,null,null,null,null,null,0,"",null,"",null,"",null,null,null,null,"\\",{"$f":"IF(AND(A12=\"\",B12=\"\",C12=\"\",D12=\"\"),1,IF(OR(O12=\"\",N12=\"\"),2,IF(ISERROR(MATCH(Q12,Input!M$5:M$24,0)),2,1)))","v":1},"",0]
[null,null,null,null,null,null,0,"",null,"",null,"",null,null,null,null,"\\",{"$f":"IF(AND(A13=\"\",B13=\"\",C13=\"\",D13=\"\"),1,IF(OR(O13=\"\",N13=\"\"),2,IF(ISERROR(MATCH(Q13,Input!M$5:M$24,0)),2,1)))","v":1},"",0]
[null,null,null,null,null,null,0,"",null,"",null,"",null,null,null,null,"\\",{"$f":"IF(AND(A14=\"\",B14=\"\",C14=\"\",D14=\"\"),1,IF(OR(O14=\"\",N14=\"\"),2,IF(ISERROR(MATCH(Q14,Input!M$5:M$24,0)),2,1)))","v":1},"",0]
[null,null,null,null,null,null,0,"",null,"",null,"",null,null,null,null,"\\",{"$f":"IF(AND(A15=\"\",B15=\"\",C15=\"\",D15=\"\"),1,IF(OR(O15=\"\",N15=\"\"),2,IF(ISERROR(MATCH(Q15,Input!M$5:M$24,0)),2,1)))","v":1},"",0]
[null,null,null,null,null,null,0,"",null,"",null,"",null,null,null,null,"\\",{"$f":"IF(AND(A16=\"\",B16=\"\",C16=\"\",D16=\"\"),1,IF(OR(O16=\"\",N16=\"\"),2,IF(ISERROR(MATCH(Q16,Input!M$5:M$24,0)),2,1)))","v":1},"",0]
[null,null,null,null,null,null,0,"",null,"",null,"",null,null,null,null,"\\",{"$f":"IF(AND(A17=\"\",B17=\"\",C17=\"\",D17=\"\"),1,IF(OR(O17=\"\",N17=\"\"),2,IF(ISERROR(MATCH(Q17,Input!M$5:M$24,0)),2,1)))","v":1},"",0]
[]
["TANK SHEET"]
["Bid Item (In Order of Placement)",null,"Today's Placement",null,null,"Bid Item Plan Quantity","Plan Thickness (in)","Contract Mix Price","Contract Binder Price","Project Number",null,null,null,"Mix Pay Units","Mix Delivered to Road\n(Ton or SY)","Waste On Road (Ton)\nNO waste for SY Items","Tons Placed - Waste",null,null,"This adds up column S as it depends if the Est SY is filled out or the SY",null,"Use this Column for SY for the Q column","Uses this Value for Mix on Road"]
[null,null,null,null,null,{"$f":"IF($J21=\"\",\"\",INDEX(Input!$A$5:$H$24,MATCH($A21&$J21,Input!$A$5:$A$24&Input!$G$5:$G$24,0),2))","v":""},{"$f":"IF($J21=\"\",\"\",INDEX(Input!$A$5:$H$24,MATCH($A21&$J21,Input!$A$5:$A$24&Input!$G$5:$G$24,0),3))","v":""},{"$f":"IF($J21=\"\",\"\",INDEX(Input!$A$5:$H$24,MATCH($A21&$J21,Input!$A$5:$A$24&Input!$G$5:$G$24,0),4))","v":""},{"$f":"IF($J21=\"\",\"\",INDEX(Input!$A$5:$H$24,MATCH($A21&$J21,Input!$A$5:$A$24&Input!$G$5:$G$24,0),5))","v":""},null,null,null,null,{"$f":"IF($A21=\"\",\"\",OFFSET(Input!F$4,MATCH($A21,Input!$A$5:$A$24,0),0))","v":""},{"$f":"IF(N21=\"SY\", T21, IF(N21=\"Tons\", W21, \"\"))","v":""},null,{"$f":"IF(N21=\"SY\", V21, IF(N21=\"Tons\", O21-P21, \"\"))","v":""},{"$f":"SUBSTITUTE(A21 & \"\\\" & J21,\"\"\"\",\"\")","v":"\\"},{"$f":"IF(A21=\"\",1,IF(ISERROR(MATCH(R21,Input!L$5:L$24,0)),2,1))","v":1},{"$f":"IF(A21=\"\", \"\", SUMIF($Q$8:$Q$17, \"*\" & LEFT(A21, 11) & \"*\", $S$8:$S$17))","v":""},null,{"$f":"IF(A21=\"\", \"\", SUMIF($Q$8:$Q$17, \"*\" & LEFT(A21, 11) & \"*\", $T$8:$T$17))","v":""},{"$f":"IF(N21=\"SY\", T21, IF(N21=\"Tons\", V21+P21, \"\"))","v":""}]
[null,null,null,null,null,{"$f":"IF($J22=\"\",\"\",INDEX(Input!$A$5:$H$24,MATCH($A22&$J22,Input!$A$5:$A$24&Input!$G$5:$G$24,0),2))","v":""},{"$f":"IF($J22=\"\",\"\",INDEX(Input!$A$5:$H$24,MATCH($A22&$J22,Input!$A$5:$A$24&Input!$G$5:$G$24,0),3))","v":""},{"$f":"IF($J22=\"\",\"\",INDEX(Input!$A$5:$H$24,MATCH($A22&$J22,Input!$A$5:$A$24&Input!$G$5:$G$24,0),4))","v":""},{"$f":"IF($J22=\"\",\"\",INDEX(Input!$A$5:$H$24,MATCH($A22&$J22,Input!$A$5:$A$24&Input!$G$5:$G$24,0),5))","v":""},null,null,null,null,{"$f":"IF($A22=\"\",\"\",OFFSET(Input!F$4,MATCH($A22,Input!$A$5:$A$24,0),0))","v":""},{"$f":"IF(N22=\"SY\", T22, IF(N22=\"Tons\", W22, \"\"))","v":""},null,{"$f":"IF(N22=\"SY\", V22, IF(N22=\"Tons\", O22-P22, \"\"))","v":""},{"$f":"SUBSTITUTE(A22 & \"\\\" & J22,\"\"\"\",\"\")","v":"\\"},{"$f":"IF(A22=\"\",1,IF(ISERROR(MATCH(R22,Input!L$5:L$24,0)),2,1))","v":1},{"$f":"IF(A22=\"\", \"\", SUMIF($Q$8:$Q$17, \"*\" & LEFT(A22, 11) & \"*\", $S$8:$S$17))","v":""},null,{"$f":"IF(A22=\"\", \"\", SUMIF($Q$8:$Q$17, \"*\" & LEFT(A22, 11) & \"*\", $T$8:$T$17))","v":""},{"$f":"IF(N22=\"SY\", T22, IF(N22=\"Tons\", V22+P22, \"\"))","v":""}]
[null,null,null,null,null,{"$f":"IF($J23=\"\",\"\",INDEX(Input!$A$5:$H$24,MATCH($A23&$J23,Input!$A$5:$A$24&Input!$G$5:$G$24,0),2))","v":""},{"$f":"IF($J23=\"\",\"\",INDEX(Input!$A$5:$H$24,MATCH($A23&$J23,Input!$A$5:$A$24&Input!$G$5:$G$24,0),3))","v":""},{"$f":"IF($J23=\"\",\"\",INDEX(Input!$A$5:$H$24,MATCH($A23&$J23,Input!$A$5:$A$24&Input!$G$5:$G$24,0),4))","v":""},{"$f":"IF($J23=\"\",\"\",INDEX(Input!$A$5:$H$24,MATCH($A23&$J23,Input!$A$5:$A$24&Input!$G$5:$G$24,0),5))","v":""},null,null,null,null,{"$f":"IF($A23=\"\",\"\",OFFSET(Input!F$4,MATCH($A23,Input!$A$5:$A$24,0),0))","v":""},{"$f":"IF(N23=\"SY\", T23, IF(N23=\"Tons\", W23, \"\"))","v":""},null,{"$f":"IF(N23=\"SY\", V23, IF(N23=\"Tons\", O23-P23, \"\"))","v":""},"\\",{"$f":"IF(A23=\"\",1,IF(ISERROR(MATCH(R23,Input!L$5:L$24,0)),2,1))","v":1},{"$f":"IF(A23=\"\", \"\", SUMIF($Q$8:$Q$17, \"*\" & LEFT(A23, 11) & \"*\", $S$8:$S$17))","v":""},null,{"$f":"IF(A23=\"\", \"\", SUMIF($Q$8:$Q$17, \"*\" & LEFT(A23, 11) & \"*\", $T$8:$T$17))","v":""},{"$f":"IF(N23=\"SY\", T23, IF(N23=\"Tons\", V23+P23, \"\"))","v":""}]
[null,null,null,null,null,{"$f":"IF($J24=\"\",\"\",INDEX(Input!$A$5:$H$24,MATCH($A24&$J24,Input!$A$5:$A$24&Input!$G$5:$G$24,0),2))","v":""},{"$f":"IF($J24=\"\",\"\",INDEX(Input!$A$5:$H$24,MATCH($A24&$J24,Input!$A$5:$A$24&Input!$G$5:$G$24,0),3))","v":""},{"$f":"IF($J24=\"\",\"\",INDEX(Input!$A$5:$H$24,MATCH($A24&$J24,Input!$A$5:$A$24&Input!$G$5:$G$24,0),4))","v":""},{"$f":"IF($J24=\"\",\"\",INDEX(Input!$A$5:$H$24,MATCH($A24&$J24,Input!$A$5:$A$24&Input!$G$5:$G$24,0),5))","v":""},null,null,null,null,{"$f":"IF($A24=\"\",\"\",OFFSET(Input!F$4,MATCH($A24,Input!$A$5:$A$24,0),0))","v":""},"",null,{"$f":"IF(N24=\"SY\", V24, IF(N24=\"Tons\", O24-P24, \"\"))","v":""},"\\",{"$f":"IF(A24=\"\",1,IF(ISERROR(MATCH(R24,Input!L$5:L$24,0)),2,1))","v":1},"",null,{"$f":"IF(A24=\"\", \"\", SUMIF($Q$8:$Q$17, \"*\" & LEFT(A24, 11) & \"*\", $T$8:$T$17))","v":""},{"$f":"IF(N24=\"SY\", T24, IF(N24=\"Tons\", V24+P24, \"\"))","v":""}]
[null,null,null,null,null,{"$f":"IF($J25=\"\",\"\",INDEX(Input!$A$5:$H$24,MATCH($A25&$J25,Input!$A$5:$A$24&Input!$G$5:$G$24,0),2))","v":""},{"$f":"IF($J25=\"\",\"\",INDEX(Input!$A$5:$H$24,MATCH($A25&$J25,Input!$A$5:$A$24&Input!$G$5:$G$24,0),3))","v":""},{"$f":"IF($J25=\"\",\"\",INDEX(Input!$A$5:$H$24,MATCH($A25&$J25,Input!$A$5:$A$24&Input!$G$5:$G$24,0),4))","v":""},{"$f":"IF($J25=\"\",\"\",INDEX(Input!$A$5:$H$24,MATCH($A25&$J25,Input!$A$5:$A$24&Input!$G$5:$G$24,0),5))","v":""},null,null,null,null,{"$f":"IF($A25=\"\",\"\",OFFSET(Input!F$4,MATCH($A25,Input!$A$5:$A$24,0),0))","v":""},"",null,"","\\",{"$f":"IF(A25=\"\",1,IF(ISERROR(MATCH(R25,Input!L$5:L$24,0)),2,1))","v":1},"",null,"",""]
[null,null,null,null,null,null,null,null,null,null,null,null,null,null,null,null,null,null,null,null,null,"",{"$f":"IF(N26=\"SY\", T26, IF(N26=\"Tons\", V26+P26, \"\"))","v":""},{"$f":"IF(A26=\"\", \"\", SUMIF($Q$8:$Q$17, \"*\" & LEFT(A26, 11) & \"*\", $S$8:$S$17))","v":""},{"$f":"IF(N26=\"SY\",X26,\"\")","v":""},{"$f":"IF(A26=\"\", \"\", SUMIF($Q$8:$Q$17, \"*\" & LEFT(A26, 11) & \"*\", $T$8:$T$17))","v":""}]
["Hot Box Sample",null,null,null,null,null,null,null,null,null,"Mat Temperatures °F"]
[null,"Test A","Test B","Test C","Test D","Test E",null,null,null,null,"Time","Temp"]
[" Hot Box ID Number  ",null,null,null,null,null,null,null,null,null,"7:00"]
["Hot Box Sample Tons: ",null,null,null,null,null,null,null,null,null,"9:00",null,null,null,"Intended Thickness:"]
[" Time: ",null,null,null,null,null,null,null,null,null,"11:00",null,null,null,"Cores Waived?"]
[" Station/MP: ",null,null,null,null,null,null,null,null,null,"1:00",null,null,null,"Small Quantity Statement?"]
["Bar Code ID.:",null,null,null,null,null,null,null,null,null,"3:00",null,null,null,"Scale Check Done?"]
["Compaction Temp. °F: ",null,null,null,null,null,null,null,null,null,"5:00",null,null,null,"Tack Tickets Today?"]
[null,null,null,null,null,null,null,null,null,null,"7:00"]
["The Below Comments should show up on the plant report"]
["Comments:"]
[]
[]
["The Below Notes are for the CPI from the field or Plant Monitor"]
["Notes:"]
[]
[]
["RANDOM CORE LOCATIONS"]
[null,null,null,null,null,null,null,"Core #","Station","Offset,ft","Joint Station","Lane"]
[null,null,null,null,null,null,null,1]
[null,null,null,null,null,null,null,2]
[null,null,null,null,null,null,null,3]
[null,null,null,null,null,null,null,4]
[null,null,null,null,null,null,null,5]
[null,null,null,null,null,null,null,6]
[null,null,null,null,null,null,null,7]
[null,null,null,null,null,null,null,8]
[]
[null,null,null,null,null,null,null,null,null,null,"Joint Sublot Size, ft"]
[null,null,null,null,null,null,null,null,null,null,0]
[]
[]
[]
[]
[]
[]
[]
[]
[]
[]
[]
[]
[]
[]
[]
[]
[]
[]
[]
[]
[]
[]
[]
[]
[]
[]
[]
[]
[]
[]
[]
[]
[]
[]
[]
[]
[]
[]
[]
[]
[false]

{"sheet":"83","index":98,"n_rows":97,"n_cols":26,"rows_kept":97,"cut":false,"hidden":false,"merged":[[50,11,50,13],[51,11,51,13],[52,11,52,13],[44,11,44,13],[45,11,45,13],[46,11,46,13],[47,11,47,13],[48,11,48,13],[49,11,49,13],[43,0,43,16],[25,0,25,1],[26,0,26,5],[26,20,26,23],[26,25,26,27],[34,2,34,4],[35,0,35,5],[36,1,36,14],[37,0,37,14],[39,0,39,5],[40,1,40,14],[41,0,41,14],[23,0,23,1],[23,2,23,4],[23,9,23,12],[24,0,24,1],[24,2,24,4],[24,9,24,12],[21,0,21,1],[21,2,21,4],[21,9,21,12],[22,0,22,1],[22,2,22,4],[22,9,22,12],[19,0,19,1],[19,2,19,4],[19,9,19,12],[20,0,20,1],[20,2,20,4],[20,9,20,12],[18,0,18,16],[6,14,6,15],[7,14,7,15],[8,14,8,15],[9,14,9,15],[10,14,10,15],[11,14,11,15],[12,14,12,15],[13,14,13,15],[14,14,14,15],[15,14,15,15],[16,14,16,15],[1,0,1,16],[4,0,4,15],[5,4,5,5],[5,8,5,9],[5,11,5,12],[5,13,5,15]]}
[]
["Iowa DOT HMA Field Report"]
["Date :"]
["Item No.('s)"]
["PLACEMENT RECORD",null,null,null,null,null,null,null,null,null,null,null,null,null,null,null,null,null,null,null,null,{"$f":"SUBSTITUTE(A21 & \"\\\" & J21,\"\"\"\",\"\")","v":"\\"}]
[null,null,null,null,"Additional width to DEDUCT from Field Voids",null,null,null,"Placed Density (Pounds/CF)=",null,150,"Overwritten on the \"Summary\" Tab",null,"ONLY ONE (1) MIX DESIGN PER DFR OTHERWISE IT WILL NOT IMPORT INTO THE PLANT REPORT PROPERLY",null,null,null,null,null,null,null,{"$f":"SUBSTITUTE(A22 & \"\\\" & J22,\"\"\"\",\"\")","v":"\\"}]
["From Station"," To Station","Lane","ML or Widening Placement Width","Additional Width (ft) ","Thickness (in)","Total Length Placed (FT)","\"Pay\"  Est \"SY\"","Thickness (inches)","Calculated Field Voids Tons","Placed Tons            (Not including Waste)","% Yield","SY to be PAID (If Diff. than Est SY)","Mix Design No.","Bid Item/ Project No.",null,null,null,"This uses the correct SY #, if Green is blank uses Est. SY","Adds up the Tons",null,"\\"]
[null,null,null,null,null,null,{"$f":"IF(OR(A8=\"\",B8=\"\"),0,IF($A$97=TRUE,ABS(B8-A8)*5280,ABS(VALUE(SUBSTITUTE(A8,\"+\",\"\"))-VALUE(SUBSTITUTE(B8,\"+\",\"\")))))","v":0},{"$f":"IF(D8=\"\",\"\",G8*(D8+E8)/9)","v":""},null,{"$f":"IF(I8=\"\",\"\",(G8)*(D8+E8)*I8/12*$K$6/2000)","v":""},null,{"$f":"IF(K8=\"\",\"\",K8/J8*100)","v":""},null,null,null,null,{"$f":"O8 & \"\\\" & N8","v":"\\"},{"$f":"IF(AND(A8=\"\",B8=\"\",C8=\"\",D8=\"\"),1,IF(OR(O8=\"\",N8=\"\"),2,IF(ISERROR(MATCH(Q8,Input!M$5:M$24,0)),2,1)))","v":1},{"$f":"IF(M8<>\"\", M8, H8)","v":""},{"$f":"K8","v":0},null,"\\"]
[null,null,null,null,null,null,{"$f":"IF(OR(A9=\"\",B9=\"\"),0,IF($A$97=TRUE,ABS(B9-A9)*5280,ABS(VALUE(SUBSTITUTE(A9,\"+\",\"\"))-VALUE(SUBSTITUTE(B9,\"+\",\"\")))))","v":0},{"$f":"IF(D9=\"\",\"\",G9*(D9+E9)/9)","v":""},null,"",null,{"$f":"IF(K9=\"\",\"\",K9/J9*100)","v":""},null,null,null,null,{"$f":"O9 & \"\\\" & N9","v":"\\"},{"$f":"IF(AND(A9=\"\",B9=\"\",C9=\"\",D9=\"\"),1,IF(OR(O9=\"\",N9=\"\"),2,IF(ISERROR(MATCH(Q9,Input!M$5:M$24,0)),2,1)))","v":1},{"$f":"IF(M9<>\"\", M9, H9)","v":""},{"$f":"K9","v":0},null,"\\"]
[null,null,null,null,null,null,0,"",null,"",null,"",null,null,null,null,"\\",{"$f":"IF(AND(A10=\"\",B10=\"\",C10=\"\",D10=\"\"),1,IF(OR(O10=\"\",N10=\"\"),2,IF(ISERROR(MATCH(Q10,Input!M$5:M$24,0)),2,1)))","v":1},{"$f":"IF(M10<>\"\", M10, H10)","v":""},0]
[null,null,null,null,null,null,0,"",null,"",null,"",null,null,null,null,"\\",{"$f":"IF(AND(A11=\"\",B11=\"\",C11=\"\",D11=\"\"),1,IF(OR(O11=\"\",N11=\"\"),2,IF(ISERROR(MATCH(Q11,Input!M$5:M$24,0)),2,1)))","v":1},"",0]
[null,null,null,null,null,null,0,"",null,"",null,"",null,null,null,null,"\\",{"$f":"IF(AND(A12=\"\",B12=\"\",C12=\"\",D12=\"\"),1,IF(OR(O12=\"\",N12=\"\"),2,IF(ISERROR(MATCH(Q12,Input!M$5:M$24,0)),2,1)))","v":1},"",0]
[null,null,null,null,null,null,0,"",null,"",null,"",null,null,null,null,"\\",{"$f":"IF(AND(A13=\"\",B13=\"\",C13=\"\",D13=\"\"),1,IF(OR(O13=\"\",N13=\"\"),2,IF(ISERROR(MATCH(Q13,Input!M$5:M$24,0)),2,1)))","v":1},"",0]
[null,null,null,null,null,null,0,"",null,"",null,"",null,null,null,null,"\\",{"$f":"IF(AND(A14=\"\",B14=\"\",C14=\"\",D14=\"\"),1,IF(OR(O14=\"\",N14=\"\"),2,IF(ISERROR(MATCH(Q14,Input!M$5:M$24,0)),2,1)))","v":1},"",0]
[null,null,null,null,null,null,0,"",null,"",null,"",null,null,null,null,"\\",{"$f":"IF(AND(A15=\"\",B15=\"\",C15=\"\",D15=\"\"),1,IF(OR(O15=\"\",N15=\"\"),2,IF(ISERROR(MATCH(Q15,Input!M$5:M$24,0)),2,1)))","v":1},"",0]
[null,null,null,null,null,null,0,"",null,"",null,"",null,null,null,null,"\\",{"$f":"IF(AND(A16=\"\",B16=\"\",C16=\"\",D16=\"\"),1,IF(OR(O16=\"\",N16=\"\"),2,IF(ISERROR(MATCH(Q16,Input!M$5:M$24,0)),2,1)))","v":1},"",0]
[null,null,null,null,null,null,0,"",null,"",null,"",null,null,null,null,"\\",{"$f":"IF(AND(A17=\"\",B17=\"\",C17=\"\",D17=\"\"),1,IF(OR(O17=\"\",N17=\"\"),2,IF(ISERROR(MATCH(Q17,Input!M$5:M$24,0)),2,1)))","v":1},"",0]
[]
["TANK SHEET"]
["Bid Item (In Order of Placement)",null,"Today's Placement",null,null,"Bid Item Plan Quantity","Plan Thickness (in)","Contract Mix Price","Contract Binder Price","Project Number",null,null,null,"Mix Pay Units","Mix Delivered to Road\n(Ton or SY)","Waste On Road (Ton)\nNO waste for SY Items","Tons Placed - Waste",null,null,"This adds up column S as it depends if the Est SY is filled out or the SY",null,"Use this Column for SY for the Q column","Uses this Value for Mix on Road"]
[null,null,null,null,null,{"$f":"IF($J21=\"\",\"\",INDEX(Input!$A$5:$H$24,MATCH($A21&$J21,Input!$A$5:$A$24&Input!$G$5:$G$24,0),2))","v":""},{"$f":"IF($J21=\"\",\"\",INDEX(Input!$A$5:$H$24,MATCH($A21&$J21,Input!$A$5:$A$24&Input!$G$5:$G$24,0),3))","v":""},{"$f":"IF($J21=\"\",\"\",INDEX(Input!$A$5:$H$24,MATCH($A21&$J21,Input!$A$5:$A$24&Input!$G$5:$G$24,0),4))","v":""},{"$f":"IF($J21=\"\",\"\",INDEX(Input!$A$5:$H$24,MATCH($A21&$J21,Input!$A$5:$A$24&Input!$G$5:$G$24,0),5))","v":""},null,null,null,null,{"$f":"IF($A21=\"\",\"\",OFFSET(Input!F$4,MATCH($A21,Input!$A$5:$A$24,0),0))","v":""},{"$f":"IF(N21=\"SY\", T21, IF(N21=\"Tons\", W21, \"\"))","v":""},null,{"$f":"IF(N21=\"SY\", V21, IF(N21=\"Tons\", O21-P21, \"\"))","v":""},{"$f":"SUBSTITUTE(A21 & \"\\\" & J21,\"\"\"\",\"\")","v":"\\"},{"$f":"IF(A21=\"\",1,IF(ISERROR(MATCH(R21,Input!L$5:L$24,0)),2,1))","v":1},{"$f":"IF(A21=\"\", \"\", SUMIF($Q$8:$Q$17, \"*\" & LEFT(A21, 11) & \"*\", $S$8:$S$17))","v":""},null,{"$f":"IF(A21=\"\", \"\", SUMIF($Q$8:$Q$17, \"*\" & LEFT(A21, 11) & \"*\", $T$8:$T$17))","v":""},{"$f":"IF(N21=\"SY\", T21, IF(N21=\"Tons\", V21+P21, \"\"))","v":""}]
[null,null,null,null,null,{"$f":"IF($J22=\"\",\"\",INDEX(Input!$A$5:$H$24,MATCH($A22&$J22,Input!$A$5:$A$24&Input!$G$5:$G$24,0),2))","v":""},{"$f":"IF($J22=\"\",\"\",INDEX(Input!$A$5:$H$24,MATCH($A22&$J22,Input!$A$5:$A$24&Input!$G$5:$G$24,0),3))","v":""},{"$f":"IF($J22=\"\",\"\",INDEX(Input!$A$5:$H$24,MATCH($A22&$J22,Input!$A$5:$A$24&Input!$G$5:$G$24,0),4))","v":""},{"$f":"IF($J22=\"\",\"\",INDEX(Input!$A$5:$H$24,MATCH($A22&$J22,Input!$A$5:$A$24&Input!$G$5:$G$24,0),5))","v":""},null,null,null,null,{"$f":"IF($A22=\"\",\"\",OFFSET(Input!F$4,MATCH($A22,Input!$A$5:$A$24,0),0))","v":""},{"$f":"IF(N22=\"SY\", T22, IF(N22=\"Tons\", W22, \"\"))","v":""},null,{"$f":"IF(N22=\"SY\", V22, IF(N22=\"Tons\", O22-P22, \"\"))","v":""},{"$f":"SUBSTITUTE(A22 & \"\\\" & J22,\"\"\"\",\"\")","v":"\\"},{"$f":"IF(A22=\"\",1,IF(ISERROR(MATCH(R22,Input!L$5:L$24,0)),2,1))","v":1},{"$f":"IF(A22=\"\", \"\", SUMIF($Q$8:$Q$17, \"*\" & LEFT(A22, 11) & \"*\", $S$8:$S$17))","v":""},null,{"$f":"IF(A22=\"\", \"\", SUMIF($Q$8:$Q$17, \"*\" & LEFT(A22, 11) & \"*\", $T$8:$T$17))","v":""},{"$f":"IF(N22=\"SY\", T22, IF(N22=\"Tons\", V22+P22, \"\"))","v":""}]
[null,null,null,null,null,{"$f":"IF($J23=\"\",\"\",INDEX(Input!$A$5:$H$24,MATCH($A23&$J23,Input!$A$5:$A$24&Input!$G$5:$G$24,0),2))","v":""},{"$f":"IF($J23=\"\",\"\",INDEX(Input!$A$5:$H$24,MATCH($A23&$J23,Input!$A$5:$A$24&Input!$G$5:$G$24,0),3))","v":""},{"$f":"IF($J23=\"\",\"\",INDEX(Input!$A$5:$H$24,MATCH($A23&$J23,Input!$A$5:$A$24&Input!$G$5:$G$24,0),4))","v":""},{"$f":"IF($J23=\"\",\"\",INDEX(Input!$A$5:$H$24,MATCH($A23&$J23,Input!$A$5:$A$24&Input!$G$5:$G$24,0),5))","v":""},null,null,null,null,{"$f":"IF($A23=\"\",\"\",OFFSET(Input!F$4,MATCH($A23,Input!$A$5:$A$24,0),0))","v":""},{"$f":"IF(N23=\"SY\", T23, IF(N23=\"Tons\", W23, \"\"))","v":""},null,{"$f":"IF(N23=\"SY\", V23, IF(N23=\"Tons\", O23-P23, \"\"))","v":""},"\\",{"$f":"IF(A23=\"\",1,IF(ISERROR(MATCH(R23,Input!L$5:L$24,0)),2,1))","v":1},{"$f":"IF(A23=\"\", \"\", SUMIF($Q$8:$Q$17, \"*\" & LEFT(A23, 11) & \"*\", $S$8:$S$17))","v":""},null,{"$f":"IF(A23=\"\", \"\", SUMIF($Q$8:$Q$17, \"*\" & LEFT(A23, 11) & \"*\", $T$8:$T$17))","v":""},{"$f":"IF(N23=\"SY\", T23, IF(N23=\"Tons\", V23+P23, \"\"))","v":""}]
[null,null,null,null,null,{"$f":"IF($J24=\"\",\"\",INDEX(Input!$A$5:$H$24,MATCH($A24&$J24,Input!$A$5:$A$24&Input!$G$5:$G$24,0),2))","v":""},{"$f":"IF($J24=\"\",\"\",INDEX(Input!$A$5:$H$24,MATCH($A24&$J24,Input!$A$5:$A$24&Input!$G$5:$G$24,0),3))","v":""},{"$f":"IF($J24=\"\",\"\",INDEX(Input!$A$5:$H$24,MATCH($A24&$J24,Input!$A$5:$A$24&Input!$G$5:$G$24,0),4))","v":""},{"$f":"IF($J24=\"\",\"\",INDEX(Input!$A$5:$H$24,MATCH($A24&$J24,Input!$A$5:$A$24&Input!$G$5:$G$24,0),5))","v":""},null,null,null,null,{"$f":"IF($A24=\"\",\"\",OFFSET(Input!F$4,MATCH($A24,Input!$A$5:$A$24,0),0))","v":""},"",null,{"$f":"IF(N24=\"SY\", V24, IF(N24=\"Tons\", O24-P24, \"\"))","v":""},"\\",{"$f":"IF(A24=\"\",1,IF(ISERROR(MATCH(R24,Input!L$5:L$24,0)),2,1))","v":1},"",null,{"$f":"IF(A24=\"\", \"\", SUMIF($Q$8:$Q$17, \"*\" & LEFT(A24, 11) & \"*\", $T$8:$T$17))","v":""},{"$f":"IF(N24=\"SY\", T24, IF(N24=\"Tons\", V24+P24, \"\"))","v":""}]
[null,null,null,null,null,{"$f":"IF($J25=\"\",\"\",INDEX(Input!$A$5:$H$24,MATCH($A25&$J25,Input!$A$5:$A$24&Input!$G$5:$G$24,0),2))","v":""},{"$f":"IF($J25=\"\",\"\",INDEX(Input!$A$5:$H$24,MATCH($A25&$J25,Input!$A$5:$A$24&Input!$G$5:$G$24,0),3))","v":""},{"$f":"IF($J25=\"\",\"\",INDEX(Input!$A$5:$H$24,MATCH($A25&$J25,Input!$A$5:$A$24&Input!$G$5:$G$24,0),4))","v":""},{"$f":"IF($J25=\"\",\"\",INDEX(Input!$A$5:$H$24,MATCH($A25&$J25,Input!$A$5:$A$24&Input!$G$5:$G$24,0),5))","v":""},null,null,null,null,{"$f":"IF($A25=\"\",\"\",OFFSET(Input!F$4,MATCH($A25,Input!$A$5:$A$24,0),0))","v":""},"",null,"","\\",{"$f":"IF(A25=\"\",1,IF(ISERROR(MATCH(R25,Input!L$5:L$24,0)),2,1))","v":1},"",null,"",""]
[null,null,null,null,null,null,null,null,null,null,null,null,null,null,null,null,null,null,null,null,null,"",{"$f":"IF(N26=\"SY\", T26, IF(N26=\"Tons\", V26+P26, \"\"))","v":""},{"$f":"IF(A26=\"\", \"\", SUMIF($Q$8:$Q$17, \"*\" & LEFT(A26, 11) & \"*\", $S$8:$S$17))","v":""},{"$f":"IF(N26=\"SY\",X26,\"\")","v":""},{"$f":"IF(A26=\"\", \"\", SUMIF($Q$8:$Q$17, \"*\" & LEFT(A26, 11) & \"*\", $T$8:$T$17))","v":""}]
["Hot Box Sample",null,null,null,null,null,null,null,null,null,"Mat Temperatures °F"]
[null,"Test A","Test B","Test C","Test D","Test E",null,null,null,null,"Time","Temp"]
[" Hot Box ID Number  ",null,null,null,null,null,null,null,null,null,"7:00"]
["Hot Box Sample Tons: ",null,null,null,null,null,null,null,null,null,"9:00",null,null,null,"Intended Thickness:"]
[" Time: ",null,null,null,null,null,null,null,null,null,"11:00",null,null,null,"Cores Waived?"]
[" Station/MP: ",null,null,null,null,null,null,null,null,null,"1:00",null,null,null,"Small Quantity Statement?"]
["Bar Code ID.:",null,null,null,null,null,null,null,null,null,"3:00",null,null,null,"Scale Check Done?"]
["Compaction Temp. °F: ",null,null,null,null,null,null,null,null,null,"5:00",null,null,null,"Tack Tickets Today?"]
[null,null,null,null,null,null,null,null,null,null,"7:00"]
["The Below Comments should show up on the plant report"]
["Comments:"]
[]
[]
["The Below Notes are for the CPI from the field or Plant Monitor"]
["Notes:"]
[]
[]
["RANDOM CORE LOCATIONS"]
[null,null,null,null,null,null,null,"Core #","Station","Offset,ft","Joint Station","Lane"]
[null,null,null,null,null,null,null,1]
[null,null,null,null,null,null,null,2]
[null,null,null,null,null,null,null,3]
[null,null,null,null,null,null,null,4]
[null,null,null,null,null,null,null,5]
[null,null,null,null,null,null,null,6]
[null,null,null,null,null,null,null,7]
[null,null,null,null,null,null,null,8]
[]
[null,null,null,null,null,null,null,null,null,null,"Joint Sublot Size, ft"]
[null,null,null,null,null,null,null,null,null,null,0]
[]
[]
[]
[]
[]
[]
[]
[]
[]
[]
[]
[]
[]
[]
[]
[]
[]
[]
[]
[]
[]
[]
[]
[]
[]
[]
[]
[]
[]
[]
[]
[]
[]
[]
[]
[]
[]
[]
[]
[]
[false]

{"sheet":"84","index":99,"n_rows":97,"n_cols":26,"rows_kept":97,"cut":false,"hidden":false,"merged":[[50,11,50,13],[51,11,51,13],[52,11,52,13],[44,11,44,13],[45,11,45,13],[46,11,46,13],[47,11,47,13],[48,11,48,13],[49,11,49,13],[43,0,43,16],[25,0,25,1],[26,0,26,5],[26,20,26,23],[26,25,26,27],[34,2,34,4],[35,0,35,5],[36,1,36,14],[37,0,37,14],[39,0,39,5],[40,1,40,14],[41,0,41,14],[23,0,23,1],[23,2,23,4],[23,9,23,12],[24,0,24,1],[24,2,24,4],[24,9,24,12],[21,0,21,1],[21,2,21,4],[21,9,21,12],[22,0,22,1],[22,2,22,4],[22,9,22,12],[19,0,19,1],[19,2,19,4],[19,9,19,12],[20,0,20,1],[20,2,20,4],[20,9,20,12],[18,0,18,16],[6,14,6,15],[7,14,7,15],[8,14,8,15],[9,14,9,15],[10,14,10,15],[11,14,11,15],[12,14,12,15],[13,14,13,15],[14,14,14,15],[15,14,15,15],[16,14,16,15],[1,0,1,16],[4,0,4,15],[5,4,5,5],[5,8,5,9],[5,11,5,12],[5,13,5,15]]}
[]
["Iowa DOT HMA Field Report"]
["Date :"]
["Item No.('s)"]
["PLACEMENT RECORD",null,null,null,null,null,null,null,null,null,null,null,null,null,null,null,null,null,null,null,null,{"$f":"SUBSTITUTE(A21 & \"\\\" & J21,\"\"\"\",\"\")","v":"\\"}]
[null,null,null,null,"Additional width to DEDUCT from Field Voids",null,null,null,"Placed Density (Pounds/CF)=",null,150,"Overwritten on the \"Summary\" Tab",null,"ONLY ONE (1) MIX DESIGN PER DFR OTHERWISE IT WILL NOT IMPORT INTO THE PLANT REPORT PROPERLY",null,null,null,null,null,null,null,{"$f":"SUBSTITUTE(A22 & \"\\\" & J22,\"\"\"\",\"\")","v":"\\"}]
["From Station"," To Station","Lane","ML or Widening Placement Width","Additional Width (ft) ","Thickness (in)","Total Length Placed (FT)","\"Pay\"  Est \"SY\"","Thickness (inches)","Calculated Field Voids Tons","Placed Tons            (Not including Waste)","% Yield","SY to be PAID (If Diff. than Est SY)","Mix Design No.","Bid Item/ Project No.",null,null,null,"This uses the correct SY #, if Green is blank uses Est. SY","Adds up the Tons",null,"\\"]
[null,null,null,null,null,null,{"$f":"IF(OR(A8=\"\",B8=\"\"),0,IF($A$97=TRUE,ABS(B8-A8)*5280,ABS(VALUE(SUBSTITUTE(A8,\"+\",\"\"))-VALUE(SUBSTITUTE(B8,\"+\",\"\")))))","v":0},{"$f":"IF(D8=\"\",\"\",G8*(D8+E8)/9)","v":""},null,{"$f":"IF(I8=\"\",\"\",(G8)*(D8+E8)*I8/12*$K$6/2000)","v":""},null,{"$f":"IF(K8=\"\",\"\",K8/J8*100)","v":""},null,null,null,null,{"$f":"O8 & \"\\\" & N8","v":"\\"},{"$f":"IF(AND(A8=\"\",B8=\"\",C8=\"\",D8=\"\"),1,IF(OR(O8=\"\",N8=\"\"),2,IF(ISERROR(MATCH(Q8,Input!M$5:M$24,0)),2,1)))","v":1},{"$f":"IF(M8<>\"\", M8, H8)","v":""},{"$f":"K8","v":0},null,"\\"]
[null,null,null,null,null,null,{"$f":"IF(OR(A9=\"\",B9=\"\"),0,IF($A$97=TRUE,ABS(B9-A9)*5280,ABS(VALUE(SUBSTITUTE(A9,\"+\",\"\"))-VALUE(SUBSTITUTE(B9,\"+\",\"\")))))","v":0},{"$f":"IF(D9=\"\",\"\",G9*(D9+E9)/9)","v":""},null,"",null,{"$f":"IF(K9=\"\",\"\",K9/J9*100)","v":""},null,null,null,null,{"$f":"O9 & \"\\\" & N9","v":"\\"},{"$f":"IF(AND(A9=\"\",B9=\"\",C9=\"\",D9=\"\"),1,IF(OR(O9=\"\",N9=\"\"),2,IF(ISERROR(MATCH(Q9,Input!M$5:M$24,0)),2,1)))","v":1},{"$f":"IF(M9<>\"\", M9, H9)","v":""},{"$f":"K9","v":0},null,"\\"]
[null,null,null,null,null,null,0,"",null,"",null,"",null,null,null,null,"\\",{"$f":"IF(AND(A10=\"\",B10=\"\",C10=\"\",D10=\"\"),1,IF(OR(O10=\"\",N10=\"\"),2,IF(ISERROR(MATCH(Q10,Input!M$5:M$24,0)),2,1)))","v":1},{"$f":"IF(M10<>\"\", M10, H10)","v":""},0]
[null,null,null,null,null,null,0,"",null,"",null,"",null,null,null,null,"\\",{"$f":"IF(AND(A11=\"\",B11=\"\",C11=\"\",D11=\"\"),1,IF(OR(O11=\"\",N11=\"\"),2,IF(ISERROR(MATCH(Q11,Input!M$5:M$24,0)),2,1)))","v":1},"",0]
[null,null,null,null,null,null,0,"",null,"",null,"",null,null,null,null,"\\",{"$f":"IF(AND(A12=\"\",B12=\"\",C12=\"\",D12=\"\"),1,IF(OR(O12=\"\",N12=\"\"),2,IF(ISERROR(MATCH(Q12,Input!M$5:M$24,0)),2,1)))","v":1},"",0]
[null,null,null,null,null,null,0,"",null,"",null,"",null,null,null,null,"\\",{"$f":"IF(AND(A13=\"\",B13=\"\",C13=\"\",D13=\"\"),1,IF(OR(O13=\"\",N13=\"\"),2,IF(ISERROR(MATCH(Q13,Input!M$5:M$24,0)),2,1)))","v":1},"",0]
[null,null,null,null,null,null,0,"",null,"",null,"",null,null,null,null,"\\",{"$f":"IF(AND(A14=\"\",B14=\"\",C14=\"\",D14=\"\"),1,IF(OR(O14=\"\",N14=\"\"),2,IF(ISERROR(MATCH(Q14,Input!M$5:M$24,0)),2,1)))","v":1},"",0]
[null,null,null,null,null,null,0,"",null,"",null,"",null,null,null,null,"\\",{"$f":"IF(AND(A15=\"\",B15=\"\",C15=\"\",D15=\"\"),1,IF(OR(O15=\"\",N15=\"\"),2,IF(ISERROR(MATCH(Q15,Input!M$5:M$24,0)),2,1)))","v":1},"",0]
[null,null,null,null,null,null,0,"",null,"",null,"",null,null,null,null,"\\",{"$f":"IF(AND(A16=\"\",B16=\"\",C16=\"\",D16=\"\"),1,IF(OR(O16=\"\",N16=\"\"),2,IF(ISERROR(MATCH(Q16,Input!M$5:M$24,0)),2,1)))","v":1},"",0]
[null,null,null,null,null,null,0,"",null,"",null,"",null,null,null,null,"\\",{"$f":"IF(AND(A17=\"\",B17=\"\",C17=\"\",D17=\"\"),1,IF(OR(O17=\"\",N17=\"\"),2,IF(ISERROR(MATCH(Q17,Input!M$5:M$24,0)),2,1)))","v":1},"",0]
[]
["TANK SHEET"]
["Bid Item (In Order of Placement)",null,"Today's Placement",null,null,"Bid Item Plan Quantity","Plan Thickness (in)","Contract Mix Price","Contract Binder Price","Project Number",null,null,null,"Mix Pay Units","Mix Delivered to Road\n(Ton or SY)","Waste On Road (Ton)\nNO waste for SY Items","Tons Placed - Waste",null,null,"This adds up column S as it depends if the Est SY is filled out or the SY",null,"Use this Column for SY for the Q column","Uses this Value for Mix on Road"]
[null,null,null,null,null,{"$f":"IF($J21=\"\",\"\",INDEX(Input!$A$5:$H$24,MATCH($A21&$J21,Input!$A$5:$A$24&Input!$G$5:$G$24,0),2))","v":""},{"$f":"IF($J21=\"\",\"\",INDEX(Input!$A$5:$H$24,MATCH($A21&$J21,Input!$A$5:$A$24&Input!$G$5:$G$24,0),3))","v":""},{"$f":"IF($J21=\"\",\"\",INDEX(Input!$A$5:$H$24,MATCH($A21&$J21,Input!$A$5:$A$24&Input!$G$5:$G$24,0),4))","v":""},{"$f":"IF($J21=\"\",\"\",INDEX(Input!$A$5:$H$24,MATCH($A21&$J21,Input!$A$5:$A$24&Input!$G$5:$G$24,0),5))","v":""},null,null,null,null,{"$f":"IF($A21=\"\",\"\",OFFSET(Input!F$4,MATCH($A21,Input!$A$5:$A$24,0),0))","v":""},{"$f":"IF(N21=\"SY\", T21, IF(N21=\"Tons\", W21, \"\"))","v":""},null,{"$f":"IF(N21=\"SY\", V21, IF(N21=\"Tons\", O21-P21, \"\"))","v":""},{"$f":"SUBSTITUTE(A21 & \"\\\" & J21,\"\"\"\",\"\")","v":"\\"},{"$f":"IF(A21=\"\",1,IF(ISERROR(MATCH(R21,Input!L$5:L$24,0)),2,1))","v":1},{"$f":"IF(A21=\"\", \"\", SUMIF($Q$8:$Q$17, \"*\" & LEFT(A21, 11) & \"*\", $S$8:$S$17))","v":""},null,{"$f":"IF(A21=\"\", \"\", SUMIF($Q$8:$Q$17, \"*\" & LEFT(A21, 11) & \"*\", $T$8:$T$17))","v":""},{"$f":"IF(N21=\"SY\", T21, IF(N21=\"Tons\", V21+P21, \"\"))","v":""}]
[null,null,null,null,null,{"$f":"IF($J22=\"\",\"\",INDEX(Input!$A$5:$H$24,MATCH($A22&$J22,Input!$A$5:$A$24&Input!$G$5:$G$24,0),2))","v":""},{"$f":"IF($J22=\"\",\"\",INDEX(Input!$A$5:$H$24,MATCH($A22&$J22,Input!$A$5:$A$24&Input!$G$5:$G$24,0),3))","v":""},{"$f":"IF($J22=\"\",\"\",INDEX(Input!$A$5:$H$24,MATCH($A22&$J22,Input!$A$5:$A$24&Input!$G$5:$G$24,0),4))","v":""},{"$f":"IF($J22=\"\",\"\",INDEX(Input!$A$5:$H$24,MATCH($A22&$J22,Input!$A$5:$A$24&Input!$G$5:$G$24,0),5))","v":""},null,null,null,null,{"$f":"IF($A22=\"\",\"\",OFFSET(Input!F$4,MATCH($A22,Input!$A$5:$A$24,0),0))","v":""},{"$f":"IF(N22=\"SY\", T22, IF(N22=\"Tons\", W22, \"\"))","v":""},null,{"$f":"IF(N22=\"SY\", V22, IF(N22=\"Tons\", O22-P22, \"\"))","v":""},{"$f":"SUBSTITUTE(A22 & \"\\\" & J22,\"\"\"\",\"\")","v":"\\"},{"$f":"IF(A22=\"\",1,IF(ISERROR(MATCH(R22,Input!L$5:L$24,0)),2,1))","v":1},{"$f":"IF(A22=\"\", \"\", SUMIF($Q$8:$Q$17, \"*\" & LEFT(A22, 11) & \"*\", $S$8:$S$17))","v":""},null,{"$f":"IF(A22=\"\", \"\", SUMIF($Q$8:$Q$17, \"*\" & LEFT(A22, 11) & \"*\", $T$8:$T$17))","v":""},{"$f":"IF(N22=\"SY\", T22, IF(N22=\"Tons\", V22+P22, \"\"))","v":""}]
[null,null,null,null,null,{"$f":"IF($J23=\"\",\"\",INDEX(Input!$A$5:$H$24,MATCH($A23&$J23,Input!$A$5:$A$24&Input!$G$5:$G$24,0),2))","v":""},{"$f":"IF($J23=\"\",\"\",INDEX(Input!$A$5:$H$24,MATCH($A23&$J23,Input!$A$5:$A$24&Input!$G$5:$G$24,0),3))","v":""},{"$f":"IF($J23=\"\",\"\",INDEX(Input!$A$5:$H$24,MATCH($A23&$J23,Input!$A$5:$A$24&Input!$G$5:$G$24,0),4))","v":""},{"$f":"IF($J23=\"\",\"\",INDEX(Input!$A$5:$H$24,MATCH($A23&$J23,Input!$A$5:$A$24&Input!$G$5:$G$24,0),5))","v":""},null,null,null,null,{"$f":"IF($A23=\"\",\"\",OFFSET(Input!F$4,MATCH($A23,Input!$A$5:$A$24,0),0))","v":""},{"$f":"IF(N23=\"SY\", T23, IF(N23=\"Tons\", W23, \"\"))","v":""},null,{"$f":"IF(N23=\"SY\", V23, IF(N23=\"Tons\", O23-P23, \"\"))","v":""},"\\",{"$f":"IF(A23=\"\",1,IF(ISERROR(MATCH(R23,Input!L$5:L$24,0)),2,1))","v":1},{"$f":"IF(A23=\"\", \"\", SUMIF($Q$8:$Q$17, \"*\" & LEFT(A23, 11) & \"*\", $S$8:$S$17))","v":""},null,{"$f":"IF(A23=\"\", \"\", SUMIF($Q$8:$Q$17, \"*\" & LEFT(A23, 11) & \"*\", $T$8:$T$17))","v":""},{"$f":"IF(N23=\"SY\", T23, IF(N23=\"Tons\", V23+P23, \"\"))","v":""}]
[null,null,null,null,null,{"$f":"IF($J24=\"\",\"\",INDEX(Input!$A$5:$H$24,MATCH($A24&$J24,Input!$A$5:$A$24&Input!$G$5:$G$24,0),2))","v":""},{"$f":"IF($J24=\"\",\"\",INDEX(Input!$A$5:$H$24,MATCH($A24&$J24,Input!$A$5:$A$24&Input!$G$5:$G$24,0),3))","v":""},{"$f":"IF($J24=\"\",\"\",INDEX(Input!$A$5:$H$24,MATCH($A24&$J24,Input!$A$5:$A$24&Input!$G$5:$G$24,0),4))","v":""},{"$f":"IF($J24=\"\",\"\",INDEX(Input!$A$5:$H$24,MATCH($A24&$J24,Input!$A$5:$A$24&Input!$G$5:$G$24,0),5))","v":""},null,null,null,null,{"$f":"IF($A24=\"\",\"\",OFFSET(Input!F$4,MATCH($A24,Input!$A$5:$A$24,0),0))","v":""},"",null,{"$f":"IF(N24=\"SY\", V24, IF(N24=\"Tons\", O24-P24, \"\"))","v":""},"\\",{"$f":"IF(A24=\"\",1,IF(ISERROR(MATCH(R24,Input!L$5:L$24,0)),2,1))","v":1},"",null,{"$f":"IF(A24=\"\", \"\", SUMIF($Q$8:$Q$17, \"*\" & LEFT(A24, 11) & \"*\", $T$8:$T$17))","v":""},{"$f":"IF(N24=\"SY\", T24, IF(N24=\"Tons\", V24+P24, \"\"))","v":""}]
[null,null,null,null,null,{"$f":"IF($J25=\"\",\"\",INDEX(Input!$A$5:$H$24,MATCH($A25&$J25,Input!$A$5:$A$24&Input!$G$5:$G$24,0),2))","v":""},{"$f":"IF($J25=\"\",\"\",INDEX(Input!$A$5:$H$24,MATCH($A25&$J25,Input!$A$5:$A$24&Input!$G$5:$G$24,0),3))","v":""},{"$f":"IF($J25=\"\",\"\",INDEX(Input!$A$5:$H$24,MATCH($A25&$J25,Input!$A$5:$A$24&Input!$G$5:$G$24,0),4))","v":""},{"$f":"IF($J25=\"\",\"\",INDEX(Input!$A$5:$H$24,MATCH($A25&$J25,Input!$A$5:$A$24&Input!$G$5:$G$24,0),5))","v":""},null,null,null,null,{"$f":"IF($A25=\"\",\"\",OFFSET(Input!F$4,MATCH($A25,Input!$A$5:$A$24,0),0))","v":""},"",null,"","\\",{"$f":"IF(A25=\"\",1,IF(ISERROR(MATCH(R25,Input!L$5:L$24,0)),2,1))","v":1},"",null,"",""]
[null,null,null,null,null,null,null,null,null,null,null,null,null,null,null,null,null,null,null,null,null,"",{"$f":"IF(N26=\"SY\", T26, IF(N26=\"Tons\", V26+P26, \"\"))","v":""},{"$f":"IF(A26=\"\", \"\", SUMIF($Q$8:$Q$17, \"*\" & LEFT(A26, 11) & \"*\", $S$8:$S$17))","v":""},{"$f":"IF(N26=\"SY\",X26,\"\")","v":""},{"$f":"IF(A26=\"\", \"\", SUMIF($Q$8:$Q$17, \"*\" & LEFT(A26, 11) & \"*\", $T$8:$T$17))","v":""}]
["Hot Box Sample",null,null,null,null,null,null,null,null,null,"Mat Temperatures °F"]
[null,"Test A","Test B","Test C","Test D","Test E",null,null,null,null,"Time","Temp"]
[" Hot Box ID Number  ",null,null,null,null,null,null,null,null,null,"7:00"]
["Hot Box Sample Tons: ",null,null,null,null,null,null,null,null,null,"9:00",null,null,null,"Intended Thickness:"]
[" Time: ",null,null,null,null,null,null,null,null,null,"11:00",null,null,null,"Cores Waived?"]
[" Station/MP: ",null,null,null,null,null,null,null,null,null,"1:00",null,null,null,"Small Quantity Statement?"]
["Bar Code ID.:",null,null,null,null,null,null,null,null,null,"3:00",null,null,null,"Scale Check Done?"]
["Compaction Temp. °F: ",null,null,null,null,null,null,null,null,null,"5:00",null,null,null,"Tack Tickets Today?"]
[null,null,null,null,null,null,null,null,null,null,"7:00"]
["The Below Comments should show up on the plant report"]
["Comments:"]
[]
[]
["The Below Notes are for the CPI from the field or Plant Monitor"]
["Notes:"]
[]
[]
["RANDOM CORE LOCATIONS"]
[null,null,null,null,null,null,null,"Core #","Station","Offset,ft","Joint Station","Lane"]
[null,null,null,null,null,null,null,1]
[null,null,null,null,null,null,null,2]
[null,null,null,null,null,null,null,3]
[null,null,null,null,null,null,null,4]
[null,null,null,null,null,null,null,5]
[null,null,null,null,null,null,null,6]
[null,null,null,null,null,null,null,7]
[null,null,null,null,null,null,null,8]
[]
[null,null,null,null,null,null,null,null,null,null,"Joint Sublot Size, ft"]
[null,null,null,null,null,null,null,null,null,null,0]
[]
[]
[]
[]
[]
[]
[]
[]
[]
[]
[]
[]
[]
[]
[]
[]
[]
[]
[]
[]
[]
[]
[]
[]
[]
[]
[]
[]
[]
[]
[]
[]
[]
[]
[]
[]
[]
[]
[]
[]
[false]

{"sheet":"85","index":100,"n_rows":97,"n_cols":26,"rows_kept":97,"cut":false,"hidden":false,"merged":[[50,11,50,13],[51,11,51,13],[52,11,52,13],[44,11,44,13],[45,11,45,13],[46,11,46,13],[47,11,47,13],[48,11,48,13],[49,11,49,13],[43,0,43,16],[25,0,25,1],[26,0,26,5],[26,20,26,23],[26,25,26,27],[34,2,34,4],[35,0,35,5],[36,1,36,14],[37,0,37,14],[39,0,39,5],[40,1,40,14],[41,0,41,14],[23,0,23,1],[23,2,23,4],[23,9,23,12],[24,0,24,1],[24,2,24,4],[24,9,24,12],[21,0,21,1],[21,2,21,4],[21,9,21,12],[22,0,22,1],[22,2,22,4],[22,9,22,12],[19,0,19,1],[19,2,19,4],[19,9,19,12],[20,0,20,1],[20,2,20,4],[20,9,20,12],[18,0,18,16],[6,14,6,15],[7,14,7,15],[8,14,8,15],[9,14,9,15],[10,14,10,15],[11,14,11,15],[12,14,12,15],[13,14,13,15],[14,14,14,15],[15,14,15,15],[16,14,16,15],[1,0,1,16],[4,0,4,15],[5,4,5,5],[5,8,5,9],[5,11,5,12],[5,13,5,15]]}
[]
["Iowa DOT HMA Field Report"]
["Date :"]
["Item No.('s)"]
["PLACEMENT RECORD",null,null,null,null,null,null,null,null,null,null,null,null,null,null,null,null,null,null,null,null,{"$f":"SUBSTITUTE(A21 & \"\\\" & J21,\"\"\"\",\"\")","v":"\\"}]
[null,null,null,null,"Additional width to DEDUCT from Field Voids",null,null,null,"Placed Density (Pounds/CF)=",null,150,"Overwritten on the \"Summary\" Tab",null,"ONLY ONE (1) MIX DESIGN PER DFR OTHERWISE IT WILL NOT IMPORT INTO THE PLANT REPORT PROPERLY",null,null,null,null,null,null,null,{"$f":"SUBSTITUTE(A22 & \"\\\" & J22,\"\"\"\",\"\")","v":"\\"}]
["From Station"," To Station","Lane","ML or Widening Placement Width","Additional Width (ft) ","Thickness (in)","Total Length Placed (FT)","\"Pay\"  Est \"SY\"","Thickness (inches)","Calculated Field Voids Tons","Placed Tons            (Not including Waste)","% Yield","SY to be PAID (If Diff. than Est SY)","Mix Design No.","Bid Item/ Project No.",null,null,null,"This uses the correct SY #, if Green is blank uses Est. SY","Adds up the Tons",null,"\\"]
[null,null,null,null,null,null,{"$f":"IF(OR(A8=\"\",B8=\"\"),0,IF($A$97=TRUE,ABS(B8-A8)*5280,ABS(VALUE(SUBSTITUTE(A8,\"+\",\"\"))-VALUE(SUBSTITUTE(B8,\"+\",\"\")))))","v":0},{"$f":"IF(D8=\"\",\"\",G8*(D8+E8)/9)","v":""},null,{"$f":"IF(I8=\"\",\"\",(G8)*(D8+E8)*I8/12*$K$6/2000)","v":""},null,{"$f":"IF(K8=\"\",\"\",K8/J8*100)","v":""},null,null,null,null,{"$f":"O8 & \"\\\" & N8","v":"\\"},{"$f":"IF(AND(A8=\"\",B8=\"\",C8=\"\",D8=\"\"),1,IF(OR(O8=\"\",N8=\"\"),2,IF(ISERROR(MATCH(Q8,Input!M$5:M$24,0)),2,1)))","v":1},{"$f":"IF(M8<>\"\", M8, H8)","v":""},{"$f":"K8","v":0},null,"\\"]
[null,null,null,null,null,null,{"$f":"IF(OR(A9=\"\",B9=\"\"),0,IF($A$97=TRUE,ABS(B9-A9)*5280,ABS(VALUE(SUBSTITUTE(A9,\"+\",\"\"))-VALUE(SUBSTITUTE(B9,\"+\",\"\")))))","v":0},{"$f":"IF(D9=\"\",\"\",G9*(D9+E9)/9)","v":""},null,"",null,{"$f":"IF(K9=\"\",\"\",K9/J9*100)","v":""},null,null,null,null,{"$f":"O9 & \"\\\" & N9","v":"\\"},{"$f":"IF(AND(A9=\"\",B9=\"\",C9=\"\",D9=\"\"),1,IF(OR(O9=\"\",N9=\"\"),2,IF(ISERROR(MATCH(Q9,Input!M$5:M$24,0)),2,1)))","v":1},{"$f":"IF(M9<>\"\", M9, H9)","v":""},{"$f":"K9","v":0},null,"\\"]
[null,null,null,null,null,null,0,"",null,"",null,"",null,null,null,null,"\\",{"$f":"IF(AND(A10=\"\",B10=\"\",C10=\"\",D10=\"\"),1,IF(OR(O10=\"\",N10=\"\"),2,IF(ISERROR(MATCH(Q10,Input!M$5:M$24,0)),2,1)))","v":1},{"$f":"IF(M10<>\"\", M10, H10)","v":""},0]
[null,null,null,null,null,null,0,"",null,"",null,"",null,null,null,null,"\\",{"$f":"IF(AND(A11=\"\",B11=\"\",C11=\"\",D11=\"\"),1,IF(OR(O11=\"\",N11=\"\"),2,IF(ISERROR(MATCH(Q11,Input!M$5:M$24,0)),2,1)))","v":1},"",0]
[null,null,null,null,null,null,0,"",null,"",null,"",null,null,null,null,"\\",{"$f":"IF(AND(A12=\"\",B12=\"\",C12=\"\",D12=\"\"),1,IF(OR(O12=\"\",N12=\"\"),2,IF(ISERROR(MATCH(Q12,Input!M$5:M$24,0)),2,1)))","v":1},"",0]
[null,null,null,null,null,null,0,"",null,"",null,"",null,null,null,null,"\\",{"$f":"IF(AND(A13=\"\",B13=\"\",C13=\"\",D13=\"\"),1,IF(OR(O13=\"\",N13=\"\"),2,IF(ISERROR(MATCH(Q13,Input!M$5:M$24,0)),2,1)))","v":1},"",0]
[null,null,null,null,null,null,0,"",null,"",null,"",null,null,null,null,"\\",{"$f":"IF(AND(A14=\"\",B14=\"\",C14=\"\",D14=\"\"),1,IF(OR(O14=\"\",N14=\"\"),2,IF(ISERROR(MATCH(Q14,Input!M$5:M$24,0)),2,1)))","v":1},"",0]
[null,null,null,null,null,null,0,"",null,"",null,"",null,null,null,null,"\\",{"$f":"IF(AND(A15=\"\",B15=\"\",C15=\"\",D15=\"\"),1,IF(OR(O15=\"\",N15=\"\"),2,IF(ISERROR(MATCH(Q15,Input!M$5:M$24,0)),2,1)))","v":1},"",0]
[null,null,null,null,null,null,0,"",null,"",null,"",null,null,null,null,"\\",{"$f":"IF(AND(A16=\"\",B16=\"\",C16=\"\",D16=\"\"),1,IF(OR(O16=\"\",N16=\"\"),2,IF(ISERROR(MATCH(Q16,Input!M$5:M$24,0)),2,1)))","v":1},"",0]
[null,null,null,null,null,null,0,"",null,"",null,"",null,null,null,null,"\\",{"$f":"IF(AND(A17=\"\",B17=\"\",C17=\"\",D17=\"\"),1,IF(OR(O17=\"\",N17=\"\"),2,IF(ISERROR(MATCH(Q17,Input!M$5:M$24,0)),2,1)))","v":1},"",0]
[]
["TANK SHEET"]
["Bid Item (In Order of Placement)",null,"Today's Placement",null,null,"Bid Item Plan Quantity","Plan Thickness (in)","Contract Mix Price","Contract Binder Price","Project Number",null,null,null,"Mix Pay Units","Mix Delivered to Road\n(Ton or SY)","Waste On Road (Ton)\nNO waste for SY Items","Tons Placed - Waste",null,null,"This adds up column S as it depends if the Est SY is filled out or the SY",null,"Use this Column for SY for the Q column","Uses this Value for Mix on Road"]
[null,null,null,null,null,{"$f":"IF($J21=\"\",\"\",INDEX(Input!$A$5:$H$24,MATCH($A21&$J21,Input!$A$5:$A$24&Input!$G$5:$G$24,0),2))","v":""},{"$f":"IF($J21=\"\",\"\",INDEX(Input!$A$5:$H$24,MATCH($A21&$J21,Input!$A$5:$A$24&Input!$G$5:$G$24,0),3))","v":""},{"$f":"IF($J21=\"\",\"\",INDEX(Input!$A$5:$H$24,MATCH($A21&$J21,Input!$A$5:$A$24&Input!$G$5:$G$24,0),4))","v":""},{"$f":"IF($J21=\"\",\"\",INDEX(Input!$A$5:$H$24,MATCH($A21&$J21,Input!$A$5:$A$24&Input!$G$5:$G$24,0),5))","v":""},null,null,null,null,{"$f":"IF($A21=\"\",\"\",OFFSET(Input!F$4,MATCH($A21,Input!$A$5:$A$24,0),0))","v":""},{"$f":"IF(N21=\"SY\", T21, IF(N21=\"Tons\", W21, \"\"))","v":""},null,{"$f":"IF(N21=\"SY\", V21, IF(N21=\"Tons\", O21-P21, \"\"))","v":""},{"$f":"SUBSTITUTE(A21 & \"\\\" & J21,\"\"\"\",\"\")","v":"\\"},{"$f":"IF(A21=\"\",1,IF(ISERROR(MATCH(R21,Input!L$5:L$24,0)),2,1))","v":1},{"$f":"IF(A21=\"\", \"\", SUMIF($Q$8:$Q$17, \"*\" & LEFT(A21, 11) & \"*\", $S$8:$S$17))","v":""},null,{"$f":"IF(A21=\"\", \"\", SUMIF($Q$8:$Q$17, \"*\" & LEFT(A21, 11) & \"*\", $T$8:$T$17))","v":""},{"$f":"IF(N21=\"SY\", T21, IF(N21=\"Tons\", V21+P21, \"\"))","v":""}]
[null,null,null,null,null,{"$f":"IF($J22=\"\",\"\",INDEX(Input!$A$5:$H$24,MATCH($A22&$J22,Input!$A$5:$A$24&Input!$G$5:$G$24,0),2))","v":""},{"$f":"IF($J22=\"\",\"\",INDEX(Input!$A$5:$H$24,MATCH($A22&$J22,Input!$A$5:$A$24&Input!$G$5:$G$24,0),3))","v":""},{"$f":"IF($J22=\"\",\"\",INDEX(Input!$A$5:$H$24,MATCH($A22&$J22,Input!$A$5:$A$24&Input!$G$5:$G$24,0),4))","v":""},{"$f":"IF($J22=\"\",\"\",INDEX(Input!$A$5:$H$24,MATCH($A22&$J22,Input!$A$5:$A$24&Input!$G$5:$G$24,0),5))","v":""},null,null,null,null,{"$f":"IF($A22=\"\",\"\",OFFSET(Input!F$4,MATCH($A22,Input!$A$5:$A$24,0),0))","v":""},{"$f":"IF(N22=\"SY\", T22, IF(N22=\"Tons\", W22, \"\"))","v":""},null,{"$f":"IF(N22=\"SY\", V22, IF(N22=\"Tons\", O22-P22, \"\"))","v":""},{"$f":"SUBSTITUTE(A22 & \"\\\" & J22,\"\"\"\",\"\")","v":"\\"},{"$f":"IF(A22=\"\",1,IF(ISERROR(MATCH(R22,Input!L$5:L$24,0)),2,1))","v":1},{"$f":"IF(A22=\"\", \"\", SUMIF($Q$8:$Q$17, \"*\" & LEFT(A22, 11) & \"*\", $S$8:$S$17))","v":""},null,{"$f":"IF(A22=\"\", \"\", SUMIF($Q$8:$Q$17, \"*\" & LEFT(A22, 11) & \"*\", $T$8:$T$17))","v":""},{"$f":"IF(N22=\"SY\", T22, IF(N22=\"Tons\", V22+P22, \"\"))","v":""}]
[null,null,null,null,null,{"$f":"IF($J23=\"\",\"\",INDEX(Input!$A$5:$H$24,MATCH($A23&$J23,Input!$A$5:$A$24&Input!$G$5:$G$24,0),2))","v":""},{"$f":"IF($J23=\"\",\"\",INDEX(Input!$A$5:$H$24,MATCH($A23&$J23,Input!$A$5:$A$24&Input!$G$5:$G$24,0),3))","v":""},{"$f":"IF($J23=\"\",\"\",INDEX(Input!$A$5:$H$24,MATCH($A23&$J23,Input!$A$5:$A$24&Input!$G$5:$G$24,0),4))","v":""},{"$f":"IF($J23=\"\",\"\",INDEX(Input!$A$5:$H$24,MATCH($A23&$J23,Input!$A$5:$A$24&Input!$G$5:$G$24,0),5))","v":""},null,null,null,null,{"$f":"IF($A23=\"\",\"\",OFFSET(Input!F$4,MATCH($A23,Input!$A$5:$A$24,0),0))","v":""},{"$f":"IF(N23=\"SY\", T23, IF(N23=\"Tons\", W23, \"\"))","v":""},null,{"$f":"IF(N23=\"SY\", V23, IF(N23=\"Tons\", O23-P23, \"\"))","v":""},"\\",{"$f":"IF(A23=\"\",1,IF(ISERROR(MATCH(R23,Input!L$5:L$24,0)),2,1))","v":1},{"$f":"IF(A23=\"\", \"\", SUMIF($Q$8:$Q$17, \"*\" & LEFT(A23, 11) & \"*\", $S$8:$S$17))","v":""},null,{"$f":"IF(A23=\"\", \"\", SUMIF($Q$8:$Q$17, \"*\" & LEFT(A23, 11) & \"*\", $T$8:$T$17))","v":""},{"$f":"IF(N23=\"SY\", T23, IF(N23=\"Tons\", V23+P23, \"\"))","v":""}]
[null,null,null,null,null,{"$f":"IF($J24=\"\",\"\",INDEX(Input!$A$5:$H$24,MATCH($A24&$J24,Input!$A$5:$A$24&Input!$G$5:$G$24,0),2))","v":""},{"$f":"IF($J24=\"\",\"\",INDEX(Input!$A$5:$H$24,MATCH($A24&$J24,Input!$A$5:$A$24&Input!$G$5:$G$24,0),3))","v":""},{"$f":"IF($J24=\"\",\"\",INDEX(Input!$A$5:$H$24,MATCH($A24&$J24,Input!$A$5:$A$24&Input!$G$5:$G$24,0),4))","v":""},{"$f":"IF($J24=\"\",\"\",INDEX(Input!$A$5:$H$24,MATCH($A24&$J24,Input!$A$5:$A$24&Input!$G$5:$G$24,0),5))","v":""},null,null,null,null,{"$f":"IF($A24=\"\",\"\",OFFSET(Input!F$4,MATCH($A24,Input!$A$5:$A$24,0),0))","v":""},"",null,{"$f":"IF(N24=\"SY\", V24, IF(N24=\"Tons\", O24-P24, \"\"))","v":""},"\\",{"$f":"IF(A24=\"\",1,IF(ISERROR(MATCH(R24,Input!L$5:L$24,0)),2,1))","v":1},"",null,{"$f":"IF(A24=\"\", \"\", SUMIF($Q$8:$Q$17, \"*\" & LEFT(A24, 11) & \"*\", $T$8:$T$17))","v":""},{"$f":"IF(N24=\"SY\", T24, IF(N24=\"Tons\", V24+P24, \"\"))","v":""}]
[null,null,null,null,null,{"$f":"IF($J25=\"\",\"\",INDEX(Input!$A$5:$H$24,MATCH($A25&$J25,Input!$A$5:$A$24&Input!$G$5:$G$24,0),2))","v":""},{"$f":"IF($J25=\"\",\"\",INDEX(Input!$A$5:$H$24,MATCH($A25&$J25,Input!$A$5:$A$24&Input!$G$5:$G$24,0),3))","v":""},{"$f":"IF($J25=\"\",\"\",INDEX(Input!$A$5:$H$24,MATCH($A25&$J25,Input!$A$5:$A$24&Input!$G$5:$G$24,0),4))","v":""},{"$f":"IF($J25=\"\",\"\",INDEX(Input!$A$5:$H$24,MATCH($A25&$J25,Input!$A$5:$A$24&Input!$G$5:$G$24,0),5))","v":""},null,null,null,null,{"$f":"IF($A25=\"\",\"\",OFFSET(Input!F$4,MATCH($A25,Input!$A$5:$A$24,0),0))","v":""},"",null,"","\\",{"$f":"IF(A25=\"\",1,IF(ISERROR(MATCH(R25,Input!L$5:L$24,0)),2,1))","v":1},"",null,"",""]
[null,null,null,null,null,null,null,null,null,null,null,null,null,null,null,null,null,null,null,null,null,"",{"$f":"IF(N26=\"SY\", T26, IF(N26=\"Tons\", V26+P26, \"\"))","v":""},{"$f":"IF(A26=\"\", \"\", SUMIF($Q$8:$Q$17, \"*\" & LEFT(A26, 11) & \"*\", $S$8:$S$17))","v":""},{"$f":"IF(N26=\"SY\",X26,\"\")","v":""},{"$f":"IF(A26=\"\", \"\", SUMIF($Q$8:$Q$17, \"*\" & LEFT(A26, 11) & \"*\", $T$8:$T$17))","v":""}]
["Hot Box Sample",null,null,null,null,null,null,null,null,null,"Mat Temperatures °F"]
[null,"Test A","Test B","Test C","Test D","Test E",null,null,null,null,"Time","Temp"]
[" Hot Box ID Number  ",null,null,null,null,null,null,null,null,null,"7:00"]
["Hot Box Sample Tons: ",null,null,null,null,null,null,null,null,null,"9:00",null,null,null,"Intended Thickness:"]
[" Time: ",null,null,null,null,null,null,null,null,null,"11:00",null,null,null,"Cores Waived?"]
[" Station/MP: ",null,null,null,null,null,null,null,null,null,"1:00",null,null,null,"Small Quantity Statement?"]
["Bar Code ID.:",null,null,null,null,null,null,null,null,null,"3:00",null,null,null,"Scale Check Done?"]
["Compaction Temp. °F: ",null,null,null,null,null,null,null,null,null,"5:00",null,null,null,"Tack Tickets Today?"]
[null,null,null,null,null,null,null,null,null,null,"7:00"]
["The Below Comments should show up on the plant report"]
["Comments:"]
[]
[]
["The Below Notes are for the CPI from the field or Plant Monitor"]
["Notes:"]
[]
[]
["RANDOM CORE LOCATIONS"]
[null,null,null,null,null,null,null,"Core #","Station","Offset,ft","Joint Station","Lane"]
[null,null,null,null,null,null,null,1]
[null,null,null,null,null,null,null,2]
[null,null,null,null,null,null,null,3]
[null,null,null,null,null,null,null,4]
[null,null,null,null,null,null,null,5]
[null,null,null,null,null,null,null,6]
[null,null,null,null,null,null,null,7]
[null,null,null,null,null,null,null,8]
[]
[null,null,null,null,null,null,null,null,null,null,"Joint Sublot Size, ft"]
[null,null,null,null,null,null,null,null,null,null,0]
[]
[]
[]
[]
[]
[]
[]
[]
[]
[]
[]
[]
[]
[]
[]
[]
[]
[]
[]
[]
[]
[]
[]
[]
[]
[]
[]
[]
[]
[]
[]
[]
[]
[]
[]
[]
[]
[]
[]
[]
[false]

{"sheet":"86","index":101,"n_rows":97,"n_cols":26,"rows_kept":97,"cut":false,"hidden":false,"merged":[[50,11,50,13],[51,11,51,13],[52,11,52,13],[44,11,44,13],[45,11,45,13],[46,11,46,13],[47,11,47,13],[48,11,48,13],[49,11,49,13],[43,0,43,16],[25,0,25,1],[26,0,26,5],[26,20,26,23],[26,25,26,27],[34,2,34,4],[35,0,35,5],[36,1,36,14],[37,0,37,14],[39,0,39,5],[40,1,40,14],[41,0,41,14],[23,0,23,1],[23,2,23,4],[23,9,23,12],[24,0,24,1],[24,2,24,4],[24,9,24,12],[21,0,21,1],[21,2,21,4],[21,9,21,12],[22,0,22,1],[22,2,22,4],[22,9,22,12],[19,0,19,1],[19,2,19,4],[19,9,19,12],[20,0,20,1],[20,2,20,4],[20,9,20,12],[18,0,18,16],[6,14,6,15],[7,14,7,15],[8,14,8,15],[9,14,9,15],[10,14,10,15],[11,14,11,15],[12,14,12,15],[13,14,13,15],[14,14,14,15],[15,14,15,15],[16,14,16,15],[1,0,1,16],[4,0,4,15],[5,4,5,5],[5,8,5,9],[5,11,5,12],[5,13,5,15]]}
[]
["Iowa DOT HMA Field Report"]
["Date :"]
["Item No.('s)"]
["PLACEMENT RECORD",null,null,null,null,null,null,null,null,null,null,null,null,null,null,null,null,null,null,null,null,{"$f":"SUBSTITUTE(A21 & \"\\\" & J21,\"\"\"\",\"\")","v":"\\"}]
[null,null,null,null,"Additional width to DEDUCT from Field Voids",null,null,null,"Placed Density (Pounds/CF)=",null,150,"Overwritten on the \"Summary\" Tab",null,"ONLY ONE (1) MIX DESIGN PER DFR OTHERWISE IT WILL NOT IMPORT INTO THE PLANT REPORT PROPERLY",null,null,null,null,null,null,null,{"$f":"SUBSTITUTE(A22 & \"\\\" & J22,\"\"\"\",\"\")","v":"\\"}]
["From Station"," To Station","Lane","ML or Widening Placement Width","Additional Width (ft) ","Thickness (in)","Total Length Placed (FT)","\"Pay\"  Est \"SY\"","Thickness (inches)","Calculated Field Voids Tons","Placed Tons            (Not including Waste)","% Yield","SY to be PAID (If Diff. than Est SY)","Mix Design No.","Bid Item/ Project No.",null,null,null,"This uses the correct SY #, if Green is blank uses Est. SY","Adds up the Tons",null,"\\"]
[null,null,null,null,null,null,{"$f":"IF(OR(A8=\"\",B8=\"\"),0,IF($A$97=TRUE,ABS(B8-A8)*5280,ABS(VALUE(SUBSTITUTE(A8,\"+\",\"\"))-VALUE(SUBSTITUTE(B8,\"+\",\"\")))))","v":0},{"$f":"IF(D8=\"\",\"\",G8*(D8+E8)/9)","v":""},null,{"$f":"IF(I8=\"\",\"\",(G8)*(D8+E8)*I8/12*$K$6/2000)","v":""},null,{"$f":"IF(K8=\"\",\"\",K8/J8*100)","v":""},null,null,null,null,{"$f":"O8 & \"\\\" & N8","v":"\\"},{"$f":"IF(AND(A8=\"\",B8=\"\",C8=\"\",D8=\"\"),1,IF(OR(O8=\"\",N8=\"\"),2,IF(ISERROR(MATCH(Q8,Input!M$5:M$24,0)),2,1)))","v":1},{"$f":"IF(M8<>\"\", M8, H8)","v":""},{"$f":"K8","v":0},null,"\\"]
[null,null,null,null,null,null,{"$f":"IF(OR(A9=\"\",B9=\"\"),0,IF($A$97=TRUE,ABS(B9-A9)*5280,ABS(VALUE(SUBSTITUTE(A9,\"+\",\"\"))-VALUE(SUBSTITUTE(B9,\"+\",\"\")))))","v":0},{"$f":"IF(D9=\"\",\"\",G9*(D9+E9)/9)","v":""},null,"",null,{"$f":"IF(K9=\"\",\"\",K9/J9*100)","v":""},null,null,null,null,{"$f":"O9 & \"\\\" & N9","v":"\\"},{"$f":"IF(AND(A9=\"\",B9=\"\",C9=\"\",D9=\"\"),1,IF(OR(O9=\"\",N9=\"\"),2,IF(ISERROR(MATCH(Q9,Input!M$5:M$24,0)),2,1)))","v":1},{"$f":"IF(M9<>\"\", M9, H9)","v":""},{"$f":"K9","v":0},null,"\\"]
[null,null,null,null,null,null,0,"",null,"",null,"",null,null,null,null,"\\",{"$f":"IF(AND(A10=\"\",B10=\"\",C10=\"\",D10=\"\"),1,IF(OR(O10=\"\",N10=\"\"),2,IF(ISERROR(MATCH(Q10,Input!M$5:M$24,0)),2,1)))","v":1},{"$f":"IF(M10<>\"\", M10, H10)","v":""},0]
[null,null,null,null,null,null,0,"",null,"",null,"",null,null,null,null,"\\",{"$f":"IF(AND(A11=\"\",B11=\"\",C11=\"\",D11=\"\"),1,IF(OR(O11=\"\",N11=\"\"),2,IF(ISERROR(MATCH(Q11,Input!M$5:M$24,0)),2,1)))","v":1},"",0]
[null,null,null,null,null,null,0,"",null,"",null,"",null,null,null,null,"\\",{"$f":"IF(AND(A12=\"\",B12=\"\",C12=\"\",D12=\"\"),1,IF(OR(O12=\"\",N12=\"\"),2,IF(ISERROR(MATCH(Q12,Input!M$5:M$24,0)),2,1)))","v":1},"",0]
[null,null,null,null,null,null,0,"",null,"",null,"",null,null,null,null,"\\",{"$f":"IF(AND(A13=\"\",B13=\"\",C13=\"\",D13=\"\"),1,IF(OR(O13=\"\",N13=\"\"),2,IF(ISERROR(MATCH(Q13,Input!M$5:M$24,0)),2,1)))","v":1},"",0]
[null,null,null,null,null,null,0,"",null,"",null,"",null,null,null,null,"\\",{"$f":"IF(AND(A14=\"\",B14=\"\",C14=\"\",D14=\"\"),1,IF(OR(O14=\"\",N14=\"\"),2,IF(ISERROR(MATCH(Q14,Input!M$5:M$24,0)),2,1)))","v":1},"",0]
[null,null,null,null,null,null,0,"",null,"",null,"",null,null,null,null,"\\",{"$f":"IF(AND(A15=\"\",B15=\"\",C15=\"\",D15=\"\"),1,IF(OR(O15=\"\",N15=\"\"),2,IF(ISERROR(MATCH(Q15,Input!M$5:M$24,0)),2,1)))","v":1},"",0]
[null,null,null,null,null,null,0,"",null,"",null,"",null,null,null,null,"\\",{"$f":"IF(AND(A16=\"\",B16=\"\",C16=\"\",D16=\"\"),1,IF(OR(O16=\"\",N16=\"\"),2,IF(ISERROR(MATCH(Q16,Input!M$5:M$24,0)),2,1)))","v":1},"",0]
[null,null,null,null,null,null,0,"",null,"",null,"",null,null,null,null,"\\",{"$f":"IF(AND(A17=\"\",B17=\"\",C17=\"\",D17=\"\"),1,IF(OR(O17=\"\",N17=\"\"),2,IF(ISERROR(MATCH(Q17,Input!M$5:M$24,0)),2,1)))","v":1},"",0]
[]
["TANK SHEET"]
["Bid Item (In Order of Placement)",null,"Today's Placement",null,null,"Bid Item Plan Quantity","Plan Thickness (in)","Contract Mix Price","Contract Binder Price","Project Number",null,null,null,"Mix Pay Units","Mix Delivered to Road\n(Ton or SY)","Waste On Road (Ton)\nNO waste for SY Items","Tons Placed - Waste",null,null,"This adds up column S as it depends if the Est SY is filled out or the SY",null,"Use this Column for SY for the Q column","Uses this Value for Mix on Road"]
[null,null,null,null,null,{"$f":"IF($J21=\"\",\"\",INDEX(Input!$A$5:$H$24,MATCH($A21&$J21,Input!$A$5:$A$24&Input!$G$5:$G$24,0),2))","v":""},{"$f":"IF($J21=\"\",\"\",INDEX(Input!$A$5:$H$24,MATCH($A21&$J21,Input!$A$5:$A$24&Input!$G$5:$G$24,0),3))","v":""},{"$f":"IF($J21=\"\",\"\",INDEX(Input!$A$5:$H$24,MATCH($A21&$J21,Input!$A$5:$A$24&Input!$G$5:$G$24,0),4))","v":""},{"$f":"IF($J21=\"\",\"\",INDEX(Input!$A$5:$H$24,MATCH($A21&$J21,Input!$A$5:$A$24&Input!$G$5:$G$24,0),5))","v":""},null,null,null,null,{"$f":"IF($A21=\"\",\"\",OFFSET(Input!F$4,MATCH($A21,Input!$A$5:$A$24,0),0))","v":""},{"$f":"IF(N21=\"SY\", T21, IF(N21=\"Tons\", W21, \"\"))","v":""},null,{"$f":"IF(N21=\"SY\", V21, IF(N21=\"Tons\", O21-P21, \"\"))","v":""},{"$f":"SUBSTITUTE(A21 & \"\\\" & J21,\"\"\"\",\"\")","v":"\\"},{"$f":"IF(A21=\"\",1,IF(ISERROR(MATCH(R21,Input!L$5:L$24,0)),2,1))","v":1},{"$f":"IF(A21=\"\", \"\", SUMIF($Q$8:$Q$17, \"*\" & LEFT(A21, 11) & \"*\", $S$8:$S$17))","v":""},null,{"$f":"IF(A21=\"\", \"\", SUMIF($Q$8:$Q$17, \"*\" & LEFT(A21, 11) & \"*\", $T$8:$T$17))","v":""},{"$f":"IF(N21=\"SY\", T21, IF(N21=\"Tons\", V21+P21, \"\"))","v":""}]
[null,null,null,null,null,{"$f":"IF($J22=\"\",\"\",INDEX(Input!$A$5:$H$24,MATCH($A22&$J22,Input!$A$5:$A$24&Input!$G$5:$G$24,0),2))","v":""},{"$f":"IF($J22=\"\",\"\",INDEX(Input!$A$5:$H$24,MATCH($A22&$J22,Input!$A$5:$A$24&Input!$G$5:$G$24,0),3))","v":""},{"$f":"IF($J22=\"\",\"\",INDEX(Input!$A$5:$H$24,MATCH($A22&$J22,Input!$A$5:$A$24&Input!$G$5:$G$24,0),4))","v":""},{"$f":"IF($J22=\"\",\"\",INDEX(Input!$A$5:$H$24,MATCH($A22&$J22,Input!$A$5:$A$24&Input!$G$5:$G$24,0),5))","v":""},null,null,null,null,{"$f":"IF($A22=\"\",\"\",OFFSET(Input!F$4,MATCH($A22,Input!$A$5:$A$24,0),0))","v":""},{"$f":"IF(N22=\"SY\", T22, IF(N22=\"Tons\", W22, \"\"))","v":""},null,{"$f":"IF(N22=\"SY\", V22, IF(N22=\"Tons\", O22-P22, \"\"))","v":""},{"$f":"SUBSTITUTE(A22 & \"\\\" & J22,\"\"\"\",\"\")","v":"\\"},{"$f":"IF(A22=\"\",1,IF(ISERROR(MATCH(R22,Input!L$5:L$24,0)),2,1))","v":1},{"$f":"IF(A22=\"\", \"\", SUMIF($Q$8:$Q$17, \"*\" & LEFT(A22, 11) & \"*\", $S$8:$S$17))","v":""},null,{"$f":"IF(A22=\"\", \"\", SUMIF($Q$8:$Q$17, \"*\" & LEFT(A22, 11) & \"*\", $T$8:$T$17))","v":""},{"$f":"IF(N22=\"SY\", T22, IF(N22=\"Tons\", V22+P22, \"\"))","v":""}]
[null,null,null,null,null,{"$f":"IF($J23=\"\",\"\",INDEX(Input!$A$5:$H$24,MATCH($A23&$J23,Input!$A$5:$A$24&Input!$G$5:$G$24,0),2))","v":""},{"$f":"IF($J23=\"\",\"\",INDEX(Input!$A$5:$H$24,MATCH($A23&$J23,Input!$A$5:$A$24&Input!$G$5:$G$24,0),3))","v":""},{"$f":"IF($J23=\"\",\"\",INDEX(Input!$A$5:$H$24,MATCH($A23&$J23,Input!$A$5:$A$24&Input!$G$5:$G$24,0),4))","v":""},{"$f":"IF($J23=\"\",\"\",INDEX(Input!$A$5:$H$24,MATCH($A23&$J23,Input!$A$5:$A$24&Input!$G$5:$G$24,0),5))","v":""},null,null,null,null,{"$f":"IF($A23=\"\",\"\",OFFSET(Input!F$4,MATCH($A23,Input!$A$5:$A$24,0),0))","v":""},{"$f":"IF(N23=\"SY\", T23, IF(N23=\"Tons\", W23, \"\"))","v":""},null,{"$f":"IF(N23=\"SY\", V23, IF(N23=\"Tons\", O23-P23, \"\"))","v":""},"\\",{"$f":"IF(A23=\"\",1,IF(ISERROR(MATCH(R23,Input!L$5:L$24,0)),2,1))","v":1},{"$f":"IF(A23=\"\", \"\", SUMIF($Q$8:$Q$17, \"*\" & LEFT(A23, 11) & \"*\", $S$8:$S$17))","v":""},null,{"$f":"IF(A23=\"\", \"\", SUMIF($Q$8:$Q$17, \"*\" & LEFT(A23, 11) & \"*\", $T$8:$T$17))","v":""},{"$f":"IF(N23=\"SY\", T23, IF(N23=\"Tons\", V23+P23, \"\"))","v":""}]
[null,null,null,null,null,{"$f":"IF($J24=\"\",\"\",INDEX(Input!$A$5:$H$24,MATCH($A24&$J24,Input!$A$5:$A$24&Input!$G$5:$G$24,0),2))","v":""},{"$f":"IF($J24=\"\",\"\",INDEX(Input!$A$5:$H$24,MATCH($A24&$J24,Input!$A$5:$A$24&Input!$G$5:$G$24,0),3))","v":""},{"$f":"IF($J24=\"\",\"\",INDEX(Input!$A$5:$H$24,MATCH($A24&$J24,Input!$A$5:$A$24&Input!$G$5:$G$24,0),4))","v":""},{"$f":"IF($J24=\"\",\"\",INDEX(Input!$A$5:$H$24,MATCH($A24&$J24,Input!$A$5:$A$24&Input!$G$5:$G$24,0),5))","v":""},null,null,null,null,{"$f":"IF($A24=\"\",\"\",OFFSET(Input!F$4,MATCH($A24,Input!$A$5:$A$24,0),0))","v":""},"",null,{"$f":"IF(N24=\"SY\", V24, IF(N24=\"Tons\", O24-P24, \"\"))","v":""},"\\",{"$f":"IF(A24=\"\",1,IF(ISERROR(MATCH(R24,Input!L$5:L$24,0)),2,1))","v":1},"",null,{"$f":"IF(A24=\"\", \"\", SUMIF($Q$8:$Q$17, \"*\" & LEFT(A24, 11) & \"*\", $T$8:$T$17))","v":""},{"$f":"IF(N24=\"SY\", T24, IF(N24=\"Tons\", V24+P24, \"\"))","v":""}]
[null,null,null,null,null,{"$f":"IF($J25=\"\",\"\",INDEX(Input!$A$5:$H$24,MATCH($A25&$J25,Input!$A$5:$A$24&Input!$G$5:$G$24,0),2))","v":""},{"$f":"IF($J25=\"\",\"\",INDEX(Input!$A$5:$H$24,MATCH($A25&$J25,Input!$A$5:$A$24&Input!$G$5:$G$24,0),3))","v":""},{"$f":"IF($J25=\"\",\"\",INDEX(Input!$A$5:$H$24,MATCH($A25&$J25,Input!$A$5:$A$24&Input!$G$5:$G$24,0),4))","v":""},{"$f":"IF($J25=\"\",\"\",INDEX(Input!$A$5:$H$24,MATCH($A25&$J25,Input!$A$5:$A$24&Input!$G$5:$G$24,0),5))","v":""},null,null,null,null,{"$f":"IF($A25=\"\",\"\",OFFSET(Input!F$4,MATCH($A25,Input!$A$5:$A$24,0),0))","v":""},"",null,"","\\",{"$f":"IF(A25=\"\",1,IF(ISERROR(MATCH(R25,Input!L$5:L$24,0)),2,1))","v":1},"",null,"",""]
[null,null,null,null,null,null,null,null,null,null,null,null,null,null,null,null,null,null,null,null,null,"",{"$f":"IF(N26=\"SY\", T26, IF(N26=\"Tons\", V26+P26, \"\"))","v":""},{"$f":"IF(A26=\"\", \"\", SUMIF($Q$8:$Q$17, \"*\" & LEFT(A26, 11) & \"*\", $S$8:$S$17))","v":""},{"$f":"IF(N26=\"SY\",X26,\"\")","v":""},{"$f":"IF(A26=\"\", \"\", SUMIF($Q$8:$Q$17, \"*\" & LEFT(A26, 11) & \"*\", $T$8:$T$17))","v":""}]
["Hot Box Sample",null,null,null,null,null,null,null,null,null,"Mat Temperatures °F"]
[null,"Test A","Test B","Test C","Test D","Test E",null,null,null,null,"Time","Temp"]
[" Hot Box ID Number  ",null,null,null,null,null,null,null,null,null,"7:00"]
["Hot Box Sample Tons: ",null,null,null,null,null,null,null,null,null,"9:00",null,null,null,"Intended Thickness:"]
[" Time: ",null,null,null,null,null,null,null,null,null,"11:00",null,null,null,"Cores Waived?"]
[" Station/MP: ",null,null,null,null,null,null,null,null,null,"1:00",null,null,null,"Small Quantity Statement?"]
["Bar Code ID.:",null,null,null,null,null,null,null,null,null,"3:00",null,null,null,"Scale Check Done?"]
["Compaction Temp. °F: ",null,null,null,null,null,null,null,null,null,"5:00",null,null,null,"Tack Tickets Today?"]
[null,null,null,null,null,null,null,null,null,null,"7:00"]
["The Below Comments should show up on the plant report"]
["Comments:"]
[]
[]
["The Below Notes are for the CPI from the field or Plant Monitor"]
["Notes:"]
[]
[]
["RANDOM CORE LOCATIONS"]
[null,null,null,null,null,null,null,"Core #","Station","Offset,ft","Joint Station","Lane"]
[null,null,null,null,null,null,null,1]
[null,null,null,null,null,null,null,2]
[null,null,null,null,null,null,null,3]
[null,null,null,null,null,null,null,4]
[null,null,null,null,null,null,null,5]
[null,null,null,null,null,null,null,6]
[null,null,null,null,null,null,null,7]
[null,null,null,null,null,null,null,8]
[]
[null,null,null,null,null,null,null,null,null,null,"Joint Sublot Size, ft"]
[null,null,null,null,null,null,null,null,null,null,0]
[]
[]
[]
[]
[]
[]
[]
[]
[]
[]
[]
[]
[]
[]
[]
[]
[]
[]
[]
[]
[]
[]
[]
[]
[]
[]
[]
[]
[]
[]
[]
[]
[]
[]
[]
[]
[]
[]
[]
[]
[false]

{"sheet":"87","index":102,"n_rows":97,"n_cols":26,"rows_kept":97,"cut":false,"hidden":false,"merged":[[50,11,50,13],[51,11,51,13],[52,11,52,13],[44,11,44,13],[45,11,45,13],[46,11,46,13],[47,11,47,13],[48,11,48,13],[49,11,49,13],[43,0,43,16],[25,0,25,1],[26,0,26,5],[26,20,26,23],[26,25,26,27],[34,2,34,4],[35,0,35,5],[36,1,36,14],[37,0,37,14],[39,0,39,5],[40,1,40,14],[41,0,41,14],[23,0,23,1],[23,2,23,4],[23,9,23,12],[24,0,24,1],[24,2,24,4],[24,9,24,12],[21,0,21,1],[21,2,21,4],[21,9,21,12],[22,0,22,1],[22,2,22,4],[22,9,22,12],[19,0,19,1],[19,2,19,4],[19,9,19,12],[20,0,20,1],[20,2,20,4],[20,9,20,12],[18,0,18,16],[6,14,6,15],[7,14,7,15],[8,14,8,15],[9,14,9,15],[10,14,10,15],[11,14,11,15],[12,14,12,15],[13,14,13,15],[14,14,14,15],[15,14,15,15],[16,14,16,15],[1,0,1,16],[4,0,4,15],[5,4,5,5],[5,8,5,9],[5,11,5,12],[5,13,5,15]]}
[]
["Iowa DOT HMA Field Report"]
["Date :"]
["Item No.('s)"]
["PLACEMENT RECORD",null,null,null,null,null,null,null,null,null,null,null,null,null,null,null,null,null,null,null,null,{"$f":"SUBSTITUTE(A21 & \"\\\" & J21,\"\"\"\",\"\")","v":"\\"}]
[null,null,null,null,"Additional width to DEDUCT from Field Voids",null,null,null,"Placed Density (Pounds/CF)=",null,150,"Overwritten on the \"Summary\" Tab",null,"ONLY ONE (1) MIX DESIGN PER DFR OTHERWISE IT WILL NOT IMPORT INTO THE PLANT REPORT PROPERLY",null,null,null,null,null,null,null,{"$f":"SUBSTITUTE(A22 & \"\\\" & J22,\"\"\"\",\"\")","v":"\\"}]
["From Station"," To Station","Lane","ML or Widening Placement Width","Additional Width (ft) ","Thickness (in)","Total Length Placed (FT)","\"Pay\"  Est \"SY\"","Thickness (inches)","Calculated Field Voids Tons","Placed Tons            (Not including Waste)","% Yield","SY to be PAID (If Diff. than Est SY)","Mix Design No.","Bid Item/ Project No.",null,null,null,"This uses the correct SY #, if Green is blank uses Est. SY","Adds up the Tons",null,"\\"]
[null,null,null,null,null,null,{"$f":"IF(OR(A8=\"\",B8=\"\"),0,IF($A$97=TRUE,ABS(B8-A8)*5280,ABS(VALUE(SUBSTITUTE(A8,\"+\",\"\"))-VALUE(SUBSTITUTE(B8,\"+\",\"\")))))","v":0},{"$f":"IF(D8=\"\",\"\",G8*(D8+E8)/9)","v":""},null,{"$f":"IF(I8=\"\",\"\",(G8)*(D8+E8)*I8/12*$K$6/2000)","v":""},null,{"$f":"IF(K8=\"\",\"\",K8/J8*100)","v":""},null,null,null,null,{"$f":"O8 & \"\\\" & N8","v":"\\"},{"$f":"IF(AND(A8=\"\",B8=\"\",C8=\"\",D8=\"\"),1,IF(OR(O8=\"\",N8=\"\"),2,IF(ISERROR(MATCH(Q8,Input!M$5:M$24,0)),2,1)))","v":1},{"$f":"IF(M8<>\"\", M8, H8)","v":""},{"$f":"K8","v":0},null,"\\"]
[null,null,null,null,null,null,{"$f":"IF(OR(A9=\"\",B9=\"\"),0,IF($A$97=TRUE,ABS(B9-A9)*5280,ABS(VALUE(SUBSTITUTE(A9,\"+\",\"\"))-VALUE(SUBSTITUTE(B9,\"+\",\"\")))))","v":0},{"$f":"IF(D9=\"\",\"\",G9*(D9+E9)/9)","v":""},null,"",null,{"$f":"IF(K9=\"\",\"\",K9/J9*100)","v":""},null,null,null,null,{"$f":"O9 & \"\\\" & N9","v":"\\"},{"$f":"IF(AND(A9=\"\",B9=\"\",C9=\"\",D9=\"\"),1,IF(OR(O9=\"\",N9=\"\"),2,IF(ISERROR(MATCH(Q9,Input!M$5:M$24,0)),2,1)))","v":1},{"$f":"IF(M9<>\"\", M9, H9)","v":""},{"$f":"K9","v":0},null,"\\"]
[null,null,null,null,null,null,0,"",null,"",null,"",null,null,null,null,"\\",{"$f":"IF(AND(A10=\"\",B10=\"\",C10=\"\",D10=\"\"),1,IF(OR(O10=\"\",N10=\"\"),2,IF(ISERROR(MATCH(Q10,Input!M$5:M$24,0)),2,1)))","v":1},{"$f":"IF(M10<>\"\", M10, H10)","v":""},0]
[null,null,null,null,null,null,0,"",null,"",null,"",null,null,null,null,"\\",{"$f":"IF(AND(A11=\"\",B11=\"\",C11=\"\",D11=\"\"),1,IF(OR(O11=\"\",N11=\"\"),2,IF(ISERROR(MATCH(Q11,Input!M$5:M$24,0)),2,1)))","v":1},"",0]
[null,null,null,null,null,null,0,"",null,"",null,"",null,null,null,null,"\\",{"$f":"IF(AND(A12=\"\",B12=\"\",C12=\"\",D12=\"\"),1,IF(OR(O12=\"\",N12=\"\"),2,IF(ISERROR(MATCH(Q12,Input!M$5:M$24,0)),2,1)))","v":1},"",0]
[null,null,null,null,null,null,0,"",null,"",null,"",null,null,null,null,"\\",{"$f":"IF(AND(A13=\"\",B13=\"\",C13=\"\",D13=\"\"),1,IF(OR(O13=\"\",N13=\"\"),2,IF(ISERROR(MATCH(Q13,Input!M$5:M$24,0)),2,1)))","v":1},"",0]
[null,null,null,null,null,null,0,"",null,"",null,"",null,null,null,null,"\\",{"$f":"IF(AND(A14=\"\",B14=\"\",C14=\"\",D14=\"\"),1,IF(OR(O14=\"\",N14=\"\"),2,IF(ISERROR(MATCH(Q14,Input!M$5:M$24,0)),2,1)))","v":1},"",0]
[null,null,null,null,null,null,0,"",null,"",null,"",null,null,null,null,"\\",{"$f":"IF(AND(A15=\"\",B15=\"\",C15=\"\",D15=\"\"),1,IF(OR(O15=\"\",N15=\"\"),2,IF(ISERROR(MATCH(Q15,Input!M$5:M$24,0)),2,1)))","v":1},"",0]
[null,null,null,null,null,null,0,"",null,"",null,"",null,null,null,null,"\\",{"$f":"IF(AND(A16=\"\",B16=\"\",C16=\"\",D16=\"\"),1,IF(OR(O16=\"\",N16=\"\"),2,IF(ISERROR(MATCH(Q16,Input!M$5:M$24,0)),2,1)))","v":1},"",0]
[null,null,null,null,null,null,0,"",null,"",null,"",null,null,null,null,"\\",{"$f":"IF(AND(A17=\"\",B17=\"\",C17=\"\",D17=\"\"),1,IF(OR(O17=\"\",N17=\"\"),2,IF(ISERROR(MATCH(Q17,Input!M$5:M$24,0)),2,1)))","v":1},"",0]
[]
["TANK SHEET"]
["Bid Item (In Order of Placement)",null,"Today's Placement",null,null,"Bid Item Plan Quantity","Plan Thickness (in)","Contract Mix Price","Contract Binder Price","Project Number",null,null,null,"Mix Pay Units","Mix Delivered to Road\n(Ton or SY)","Waste On Road (Ton)\nNO waste for SY Items","Tons Placed - Waste",null,null,"This adds up column S as it depends if the Est SY is filled out or the SY",null,"Use this Column for SY for the Q column","Uses this Value for Mix on Road"]
[null,null,null,null,null,{"$f":"IF($J21=\"\",\"\",INDEX(Input!$A$5:$H$24,MATCH($A21&$J21,Input!$A$5:$A$24&Input!$G$5:$G$24,0),2))","v":""},{"$f":"IF($J21=\"\",\"\",INDEX(Input!$A$5:$H$24,MATCH($A21&$J21,Input!$A$5:$A$24&Input!$G$5:$G$24,0),3))","v":""},{"$f":"IF($J21=\"\",\"\",INDEX(Input!$A$5:$H$24,MATCH($A21&$J21,Input!$A$5:$A$24&Input!$G$5:$G$24,0),4))","v":""},{"$f":"IF($J21=\"\",\"\",INDEX(Input!$A$5:$H$24,MATCH($A21&$J21,Input!$A$5:$A$24&Input!$G$5:$G$24,0),5))","v":""},null,null,null,null,{"$f":"IF($A21=\"\",\"\",OFFSET(Input!F$4,MATCH($A21,Input!$A$5:$A$24,0),0))","v":""},{"$f":"IF(N21=\"SY\", T21, IF(N21=\"Tons\", W21, \"\"))","v":""},null,{"$f":"IF(N21=\"SY\", V21, IF(N21=\"Tons\", O21-P21, \"\"))","v":""},{"$f":"SUBSTITUTE(A21 & \"\\\" & J21,\"\"\"\",\"\")","v":"\\"},{"$f":"IF(A21=\"\",1,IF(ISERROR(MATCH(R21,Input!L$5:L$24,0)),2,1))","v":1},{"$f":"IF(A21=\"\", \"\", SUMIF($Q$8:$Q$17, \"*\" & LEFT(A21, 11) & \"*\", $S$8:$S$17))","v":""},null,{"$f":"IF(A21=\"\", \"\", SUMIF($Q$8:$Q$17, \"*\" & LEFT(A21, 11) & \"*\", $T$8:$T$17))","v":""},{"$f":"IF(N21=\"SY\", T21, IF(N21=\"Tons\", V21+P21, \"\"))","v":""}]
[null,null,null,null,null,{"$f":"IF($J22=\"\",\"\",INDEX(Input!$A$5:$H$24,MATCH($A22&$J22,Input!$A$5:$A$24&Input!$G$5:$G$24,0),2))","v":""},{"$f":"IF($J22=\"\",\"\",INDEX(Input!$A$5:$H$24,MATCH($A22&$J22,Input!$A$5:$A$24&Input!$G$5:$G$24,0),3))","v":""},{"$f":"IF($J22=\"\",\"\",INDEX(Input!$A$5:$H$24,MATCH($A22&$J22,Input!$A$5:$A$24&Input!$G$5:$G$24,0),4))","v":""},{"$f":"IF($J22=\"\",\"\",INDEX(Input!$A$5:$H$24,MATCH($A22&$J22,Input!$A$5:$A$24&Input!$G$5:$G$24,0),5))","v":""},null,null,null,null,{"$f":"IF($A22=\"\",\"\",OFFSET(Input!F$4,MATCH($A22,Input!$A$5:$A$24,0),0))","v":""},{"$f":"IF(N22=\"SY\", T22, IF(N22=\"Tons\", W22, \"\"))","v":""},null,{"$f":"IF(N22=\"SY\", V22, IF(N22=\"Tons\", O22-P22, \"\"))","v":""},{"$f":"SUBSTITUTE(A22 & \"\\\" & J22,\"\"\"\",\"\")","v":"\\"},{"$f":"IF(A22=\"\",1,IF(ISERROR(MATCH(R22,Input!L$5:L$24,0)),2,1))","v":1},{"$f":"IF(A22=\"\", \"\", SUMIF($Q$8:$Q$17, \"*\" & LEFT(A22, 11) & \"*\", $S$8:$S$17))","v":""},null,{"$f":"IF(A22=\"\", \"\", SUMIF($Q$8:$Q$17, \"*\" & LEFT(A22, 11) & \"*\", $T$8:$T$17))","v":""},{"$f":"IF(N22=\"SY\", T22, IF(N22=\"Tons\", V22+P22, \"\"))","v":""}]
[null,null,null,null,null,{"$f":"IF($J23=\"\",\"\",INDEX(Input!$A$5:$H$24,MATCH($A23&$J23,Input!$A$5:$A$24&Input!$G$5:$G$24,0),2))","v":""},{"$f":"IF($J23=\"\",\"\",INDEX(Input!$A$5:$H$24,MATCH($A23&$J23,Input!$A$5:$A$24&Input!$G$5:$G$24,0),3))","v":""},{"$f":"IF($J23=\"\",\"\",INDEX(Input!$A$5:$H$24,MATCH($A23&$J23,Input!$A$5:$A$24&Input!$G$5:$G$24,0),4))","v":""},{"$f":"IF($J23=\"\",\"\",INDEX(Input!$A$5:$H$24,MATCH($A23&$J23,Input!$A$5:$A$24&Input!$G$5:$G$24,0),5))","v":""},null,null,null,null,{"$f":"IF($A23=\"\",\"\",OFFSET(Input!F$4,MATCH($A23,Input!$A$5:$A$24,0),0))","v":""},{"$f":"IF(N23=\"SY\", T23, IF(N23=\"Tons\", W23, \"\"))","v":""},null,{"$f":"IF(N23=\"SY\", V23, IF(N23=\"Tons\", O23-P23, \"\"))","v":""},"\\",{"$f":"IF(A23=\"\",1,IF(ISERROR(MATCH(R23,Input!L$5:L$24,0)),2,1))","v":1},{"$f":"IF(A23=\"\", \"\", SUMIF($Q$8:$Q$17, \"*\" & LEFT(A23, 11) & \"*\", $S$8:$S$17))","v":""},null,{"$f":"IF(A23=\"\", \"\", SUMIF($Q$8:$Q$17, \"*\" & LEFT(A23, 11) & \"*\", $T$8:$T$17))","v":""},{"$f":"IF(N23=\"SY\", T23, IF(N23=\"Tons\", V23+P23, \"\"))","v":""}]
[null,null,null,null,null,{"$f":"IF($J24=\"\",\"\",INDEX(Input!$A$5:$H$24,MATCH($A24&$J24,Input!$A$5:$A$24&Input!$G$5:$G$24,0),2))","v":""},{"$f":"IF($J24=\"\",\"\",INDEX(Input!$A$5:$H$24,MATCH($A24&$J24,Input!$A$5:$A$24&Input!$G$5:$G$24,0),3))","v":""},{"$f":"IF($J24=\"\",\"\",INDEX(Input!$A$5:$H$24,MATCH($A24&$J24,Input!$A$5:$A$24&Input!$G$5:$G$24,0),4))","v":""},{"$f":"IF($J24=\"\",\"\",INDEX(Input!$A$5:$H$24,MATCH($A24&$J24,Input!$A$5:$A$24&Input!$G$5:$G$24,0),5))","v":""},null,null,null,null,{"$f":"IF($A24=\"\",\"\",OFFSET(Input!F$4,MATCH($A24,Input!$A$5:$A$24,0),0))","v":""},"",null,{"$f":"IF(N24=\"SY\", V24, IF(N24=\"Tons\", O24-P24, \"\"))","v":""},"\\",{"$f":"IF(A24=\"\",1,IF(ISERROR(MATCH(R24,Input!L$5:L$24,0)),2,1))","v":1},"",null,{"$f":"IF(A24=\"\", \"\", SUMIF($Q$8:$Q$17, \"*\" & LEFT(A24, 11) & \"*\", $T$8:$T$17))","v":""},{"$f":"IF(N24=\"SY\", T24, IF(N24=\"Tons\", V24+P24, \"\"))","v":""}]
[null,null,null,null,null,{"$f":"IF($J25=\"\",\"\",INDEX(Input!$A$5:$H$24,MATCH($A25&$J25,Input!$A$5:$A$24&Input!$G$5:$G$24,0),2))","v":""},{"$f":"IF($J25=\"\",\"\",INDEX(Input!$A$5:$H$24,MATCH($A25&$J25,Input!$A$5:$A$24&Input!$G$5:$G$24,0),3))","v":""},{"$f":"IF($J25=\"\",\"\",INDEX(Input!$A$5:$H$24,MATCH($A25&$J25,Input!$A$5:$A$24&Input!$G$5:$G$24,0),4))","v":""},{"$f":"IF($J25=\"\",\"\",INDEX(Input!$A$5:$H$24,MATCH($A25&$J25,Input!$A$5:$A$24&Input!$G$5:$G$24,0),5))","v":""},null,null,null,null,{"$f":"IF($A25=\"\",\"\",OFFSET(Input!F$4,MATCH($A25,Input!$A$5:$A$24,0),0))","v":""},"",null,"","\\",{"$f":"IF(A25=\"\",1,IF(ISERROR(MATCH(R25,Input!L$5:L$24,0)),2,1))","v":1},"",null,"",""]
[null,null,null,null,null,null,null,null,null,null,null,null,null,null,null,null,null,null,null,null,null,"",{"$f":"IF(N26=\"SY\", T26, IF(N26=\"Tons\", V26+P26, \"\"))","v":""},{"$f":"IF(A26=\"\", \"\", SUMIF($Q$8:$Q$17, \"*\" & LEFT(A26, 11) & \"*\", $S$8:$S$17))","v":""},{"$f":"IF(N26=\"SY\",X26,\"\")","v":""},{"$f":"IF(A26=\"\", \"\", SUMIF($Q$8:$Q$17, \"*\" & LEFT(A26, 11) & \"*\", $T$8:$T$17))","v":""}]
["Hot Box Sample",null,null,null,null,null,null,null,null,null,"Mat Temperatures °F"]
[null,"Test A","Test B","Test C","Test D","Test E",null,null,null,null,"Time","Temp"]
[" Hot Box ID Number  ",null,null,null,null,null,null,null,null,null,"7:00"]
["Hot Box Sample Tons: ",null,null,null,null,null,null,null,null,null,"9:00",null,null,null,"Intended Thickness:"]
[" Time: ",null,null,null,null,null,null,null,null,null,"11:00",null,null,null,"Cores Waived?"]
[" Station/MP: ",null,null,null,null,null,null,null,null,null,"1:00",null,null,null,"Small Quantity Statement?"]
["Bar Code ID.:",null,null,null,null,null,null,null,null,null,"3:00",null,null,null,"Scale Check Done?"]
["Compaction Temp. °F: ",null,null,null,null,null,null,null,null,null,"5:00",null,null,null,"Tack Tickets Today?"]
[null,null,null,null,null,null,null,null,null,null,"7:00"]
["The Below Comments should show up on the plant report"]
["Comments:"]
[]
[]
["The Below Notes are for the CPI from the field or Plant Monitor"]
["Notes:"]
[]
[]
["RANDOM CORE LOCATIONS"]
[null,null,null,null,null,null,null,"Core #","Station","Offset,ft","Joint Station","Lane"]
[null,null,null,null,null,null,null,1]
[null,null,null,null,null,null,null,2]
[null,null,null,null,null,null,null,3]
[null,null,null,null,null,null,null,4]
[null,null,null,null,null,null,null,5]
[null,null,null,null,null,null,null,6]
[null,null,null,null,null,null,null,7]
[null,null,null,null,null,null,null,8]
[]
[null,null,null,null,null,null,null,null,null,null,"Joint Sublot Size, ft"]
[null,null,null,null,null,null,null,null,null,null,0]
[]
[]
[]
[]
[]
[]
[]
[]
[]
[]
[]
[]
[]
[]
[]
[]
[]
[]
[]
[]
[]
[]
[]
[]
[]
[]
[]
[]
[]
[]
[]
[]
[]
[]
[]
[]
[]
[]
[]
[]
[false]

{"sheet":"88","index":103,"n_rows":97,"n_cols":26,"rows_kept":97,"cut":false,"hidden":false,"merged":[[50,11,50,13],[51,11,51,13],[52,11,52,13],[44,11,44,13],[45,11,45,13],[46,11,46,13],[47,11,47,13],[48,11,48,13],[49,11,49,13],[43,0,43,16],[25,0,25,1],[26,0,26,5],[26,20,26,23],[26,25,26,27],[34,2,34,4],[35,0,35,5],[36,1,36,14],[37,0,37,14],[39,0,39,5],[40,1,40,14],[41,0,41,14],[23,0,23,1],[23,2,23,4],[23,9,23,12],[24,0,24,1],[24,2,24,4],[24,9,24,12],[21,0,21,1],[21,2,21,4],[21,9,21,12],[22,0,22,1],[22,2,22,4],[22,9,22,12],[19,0,19,1],[19,2,19,4],[19,9,19,12],[20,0,20,1],[20,2,20,4],[20,9,20,12],[18,0,18,16],[6,14,6,15],[7,14,7,15],[8,14,8,15],[9,14,9,15],[10,14,10,15],[11,14,11,15],[12,14,12,15],[13,14,13,15],[14,14,14,15],[15,14,15,15],[16,14,16,15],[1,0,1,16],[4,0,4,15],[5,4,5,5],[5,8,5,9],[5,11,5,12],[5,13,5,15]]}
[]
["Iowa DOT HMA Field Report"]
["Date :"]
["Item No.('s)"]
["PLACEMENT RECORD",null,null,null,null,null,null,null,null,null,null,null,null,null,null,null,null,null,null,null,null,{"$f":"SUBSTITUTE(A21 & \"\\\" & J21,\"\"\"\",\"\")","v":"\\"}]
[null,null,null,null,"Additional width to DEDUCT from Field Voids",null,null,null,"Placed Density (Pounds/CF)=",null,150,"Overwritten on the \"Summary\" Tab",null,"ONLY ONE (1) MIX DESIGN PER DFR OTHERWISE IT WILL NOT IMPORT INTO THE PLANT REPORT PROPERLY",null,null,null,null,null,null,null,{"$f":"SUBSTITUTE(A22 & \"\\\" & J22,\"\"\"\",\"\")","v":"\\"}]
["From Station"," To Station","Lane","ML or Widening Placement Width","Additional Width (ft) ","Thickness (in)","Total Length Placed (FT)","\"Pay\"  Est \"SY\"","Thickness (inches)","Calculated Field Voids Tons","Placed Tons            (Not including Waste)","% Yield","SY to be PAID (If Diff. than Est SY)","Mix Design No.","Bid Item/ Project No.",null,null,null,"This uses the correct SY #, if Green is blank uses Est. SY","Adds up the Tons",null,"\\"]
[null,null,null,null,null,null,{"$f":"IF(OR(A8=\"\",B8=\"\"),0,IF($A$97=TRUE,ABS(B8-A8)*5280,ABS(VALUE(SUBSTITUTE(A8,\"+\",\"\"))-VALUE(SUBSTITUTE(B8,\"+\",\"\")))))","v":0},{"$f":"IF(D8=\"\",\"\",G8*(D8+E8)/9)","v":""},null,{"$f":"IF(I8=\"\",\"\",(G8)*(D8+E8)*I8/12*$K$6/2000)","v":""},null,{"$f":"IF(K8=\"\",\"\",K8/J8*100)","v":""},null,null,null,null,{"$f":"O8 & \"\\\" & N8","v":"\\"},{"$f":"IF(AND(A8=\"\",B8=\"\",C8=\"\",D8=\"\"),1,IF(OR(O8=\"\",N8=\"\"),2,IF(ISERROR(MATCH(Q8,Input!M$5:M$24,0)),2,1)))","v":1},{"$f":"IF(M8<>\"\", M8, H8)","v":""},{"$f":"K8","v":0},null,"\\"]
[null,null,null,null,null,null,{"$f":"IF(OR(A9=\"\",B9=\"\"),0,IF($A$97=TRUE,ABS(B9-A9)*5280,ABS(VALUE(SUBSTITUTE(A9,\"+\",\"\"))-VALUE(SUBSTITUTE(B9,\"+\",\"\")))))","v":0},{"$f":"IF(D9=\"\",\"\",G9*(D9+E9)/9)","v":""},null,"",null,{"$f":"IF(K9=\"\",\"\",K9/J9*100)","v":""},null,null,null,null,{"$f":"O9 & \"\\\" & N9","v":"\\"},{"$f":"IF(AND(A9=\"\",B9=\"\",C9=\"\",D9=\"\"),1,IF(OR(O9=\"\",N9=\"\"),2,IF(ISERROR(MATCH(Q9,Input!M$5:M$24,0)),2,1)))","v":1},{"$f":"IF(M9<>\"\", M9, H9)","v":""},{"$f":"K9","v":0},null,"\\"]
[null,null,null,null,null,null,0,"",null,"",null,"",null,null,null,null,"\\",{"$f":"IF(AND(A10=\"\",B10=\"\",C10=\"\",D10=\"\"),1,IF(OR(O10=\"\",N10=\"\"),2,IF(ISERROR(MATCH(Q10,Input!M$5:M$24,0)),2,1)))","v":1},{"$f":"IF(M10<>\"\", M10, H10)","v":""},0]
[null,null,null,null,null,null,0,"",null,"",null,"",null,null,null,null,"\\",{"$f":"IF(AND(A11=\"\",B11=\"\",C11=\"\",D11=\"\"),1,IF(OR(O11=\"\",N11=\"\"),2,IF(ISERROR(MATCH(Q11,Input!M$5:M$24,0)),2,1)))","v":1},"",0]
[null,null,null,null,null,null,0,"",null,"",null,"",null,null,null,null,"\\",{"$f":"IF(AND(A12=\"\",B12=\"\",C12=\"\",D12=\"\"),1,IF(OR(O12=\"\",N12=\"\"),2,IF(ISERROR(MATCH(Q12,Input!M$5:M$24,0)),2,1)))","v":1},"",0]
[null,null,null,null,null,null,0,"",null,"",null,"",null,null,null,null,"\\",{"$f":"IF(AND(A13=\"\",B13=\"\",C13=\"\",D13=\"\"),1,IF(OR(O13=\"\",N13=\"\"),2,IF(ISERROR(MATCH(Q13,Input!M$5:M$24,0)),2,1)))","v":1},"",0]
[null,null,null,null,null,null,0,"",null,"",null,"",null,null,null,null,"\\",{"$f":"IF(AND(A14=\"\",B14=\"\",C14=\"\",D14=\"\"),1,IF(OR(O14=\"\",N14=\"\"),2,IF(ISERROR(MATCH(Q14,Input!M$5:M$24,0)),2,1)))","v":1},"",0]
[null,null,null,null,null,null,0,"",null,"",null,"",null,null,null,null,"\\",{"$f":"IF(AND(A15=\"\",B15=\"\",C15=\"\",D15=\"\"),1,IF(OR(O15=\"\",N15=\"\"),2,IF(ISERROR(MATCH(Q15,Input!M$5:M$24,0)),2,1)))","v":1},"",0]
[null,null,null,null,null,null,0,"",null,"",null,"",null,null,null,null,"\\",{"$f":"IF(AND(A16=\"\",B16=\"\",C16=\"\",D16=\"\"),1,IF(OR(O16=\"\",N16=\"\"),2,IF(ISERROR(MATCH(Q16,Input!M$5:M$24,0)),2,1)))","v":1},"",0]
[null,null,null,null,null,null,0,"",null,"",null,"",null,null,null,null,"\\",{"$f":"IF(AND(A17=\"\",B17=\"\",C17=\"\",D17=\"\"),1,IF(OR(O17=\"\",N17=\"\"),2,IF(ISERROR(MATCH(Q17,Input!M$5:M$24,0)),2,1)))","v":1},"",0]
[]
["TANK SHEET"]
["Bid Item (In Order of Placement)",null,"Today's Placement",null,null,"Bid Item Plan Quantity","Plan Thickness (in)","Contract Mix Price","Contract Binder Price","Project Number",null,null,null,"Mix Pay Units","Mix Delivered to Road\n(Ton or SY)","Waste On Road (Ton)\nNO waste for SY Items","Tons Placed - Waste",null,null,"This adds up column S as it depends if the Est SY is filled out or the SY",null,"Use this Column for SY for the Q column","Uses this Value for Mix on Road"]
[null,null,null,null,null,{"$f":"IF($J21=\"\",\"\",INDEX(Input!$A$5:$H$24,MATCH($A21&$J21,Input!$A$5:$A$24&Input!$G$5:$G$24,0),2))","v":""},{"$f":"IF($J21=\"\",\"\",INDEX(Input!$A$5:$H$24,MATCH($A21&$J21,Input!$A$5:$A$24&Input!$G$5:$G$24,0),3))","v":""},{"$f":"IF($J21=\"\",\"\",INDEX(Input!$A$5:$H$24,MATCH($A21&$J21,Input!$A$5:$A$24&Input!$G$5:$G$24,0),4))","v":""},{"$f":"IF($J21=\"\",\"\",INDEX(Input!$A$5:$H$24,MATCH($A21&$J21,Input!$A$5:$A$24&Input!$G$5:$G$24,0),5))","v":""},null,null,null,null,{"$f":"IF($A21=\"\",\"\",OFFSET(Input!F$4,MATCH($A21,Input!$A$5:$A$24,0),0))","v":""},{"$f":"IF(N21=\"SY\", T21, IF(N21=\"Tons\", W21, \"\"))","v":""},null,{"$f":"IF(N21=\"SY\", V21, IF(N21=\"Tons\", O21-P21, \"\"))","v":""},{"$f":"SUBSTITUTE(A21 & \"\\\" & J21,\"\"\"\",\"\")","v":"\\"},{"$f":"IF(A21=\"\",1,IF(ISERROR(MATCH(R21,Input!L$5:L$24,0)),2,1))","v":1},{"$f":"IF(A21=\"\", \"\", SUMIF($Q$8:$Q$17, \"*\" & LEFT(A21, 11) & \"*\", $S$8:$S$17))","v":""},null,{"$f":"IF(A21=\"\", \"\", SUMIF($Q$8:$Q$17, \"*\" & LEFT(A21, 11) & \"*\", $T$8:$T$17))","v":""},{"$f":"IF(N21=\"SY\", T21, IF(N21=\"Tons\", V21+P21, \"\"))","v":""}]
[null,null,null,null,null,{"$f":"IF($J22=\"\",\"\",INDEX(Input!$A$5:$H$24,MATCH($A22&$J22,Input!$A$5:$A$24&Input!$G$5:$G$24,0),2))","v":""},{"$f":"IF($J22=\"\",\"\",INDEX(Input!$A$5:$H$24,MATCH($A22&$J22,Input!$A$5:$A$24&Input!$G$5:$G$24,0),3))","v":""},{"$f":"IF($J22=\"\",\"\",INDEX(Input!$A$5:$H$24,MATCH($A22&$J22,Input!$A$5:$A$24&Input!$G$5:$G$24,0),4))","v":""},{"$f":"IF($J22=\"\",\"\",INDEX(Input!$A$5:$H$24,MATCH($A22&$J22,Input!$A$5:$A$24&Input!$G$5:$G$24,0),5))","v":""},null,null,null,null,{"$f":"IF($A22=\"\",\"\",OFFSET(Input!F$4,MATCH($A22,Input!$A$5:$A$24,0),0))","v":""},{"$f":"IF(N22=\"SY\", T22, IF(N22=\"Tons\", W22, \"\"))","v":""},null,{"$f":"IF(N22=\"SY\", V22, IF(N22=\"Tons\", O22-P22, \"\"))","v":""},{"$f":"SUBSTITUTE(A22 & \"\\\" & J22,\"\"\"\",\"\")","v":"\\"},{"$f":"IF(A22=\"\",1,IF(ISERROR(MATCH(R22,Input!L$5:L$24,0)),2,1))","v":1},{"$f":"IF(A22=\"\", \"\", SUMIF($Q$8:$Q$17, \"*\" & LEFT(A22, 11) & \"*\", $S$8:$S$17))","v":""},null,{"$f":"IF(A22=\"\", \"\", SUMIF($Q$8:$Q$17, \"*\" & LEFT(A22, 11) & \"*\", $T$8:$T$17))","v":""},{"$f":"IF(N22=\"SY\", T22, IF(N22=\"Tons\", V22+P22, \"\"))","v":""}]
[null,null,null,null,null,{"$f":"IF($J23=\"\",\"\",INDEX(Input!$A$5:$H$24,MATCH($A23&$J23,Input!$A$5:$A$24&Input!$G$5:$G$24,0),2))","v":""},{"$f":"IF($J23=\"\",\"\",INDEX(Input!$A$5:$H$24,MATCH($A23&$J23,Input!$A$5:$A$24&Input!$G$5:$G$24,0),3))","v":""},{"$f":"IF($J23=\"\",\"\",INDEX(Input!$A$5:$H$24,MATCH($A23&$J23,Input!$A$5:$A$24&Input!$G$5:$G$24,0),4))","v":""},{"$f":"IF($J23=\"\",\"\",INDEX(Input!$A$5:$H$24,MATCH($A23&$J23,Input!$A$5:$A$24&Input!$G$5:$G$24,0),5))","v":""},null,null,null,null,{"$f":"IF($A23=\"\",\"\",OFFSET(Input!F$4,MATCH($A23,Input!$A$5:$A$24,0),0))","v":""},{"$f":"IF(N23=\"SY\", T23, IF(N23=\"Tons\", W23, \"\"))","v":""},null,{"$f":"IF(N23=\"SY\", V23, IF(N23=\"Tons\", O23-P23, \"\"))","v":""},"\\",{"$f":"IF(A23=\"\",1,IF(ISERROR(MATCH(R23,Input!L$5:L$24,0)),2,1))","v":1},{"$f":"IF(A23=\"\", \"\", SUMIF($Q$8:$Q$17, \"*\" & LEFT(A23, 11) & \"*\", $S$8:$S$17))","v":""},null,{"$f":"IF(A23=\"\", \"\", SUMIF($Q$8:$Q$17, \"*\" & LEFT(A23, 11) & \"*\", $T$8:$T$17))","v":""},{"$f":"IF(N23=\"SY\", T23, IF(N23=\"Tons\", V23+P23, \"\"))","v":""}]
[null,null,null,null,null,{"$f":"IF($J24=\"\",\"\",INDEX(Input!$A$5:$H$24,MATCH($A24&$J24,Input!$A$5:$A$24&Input!$G$5:$G$24,0),2))","v":""},{"$f":"IF($J24=\"\",\"\",INDEX(Input!$A$5:$H$24,MATCH($A24&$J24,Input!$A$5:$A$24&Input!$G$5:$G$24,0),3))","v":""},{"$f":"IF($J24=\"\",\"\",INDEX(Input!$A$5:$H$24,MATCH($A24&$J24,Input!$A$5:$A$24&Input!$G$5:$G$24,0),4))","v":""},{"$f":"IF($J24=\"\",\"\",INDEX(Input!$A$5:$H$24,MATCH($A24&$J24,Input!$A$5:$A$24&Input!$G$5:$G$24,0),5))","v":""},null,null,null,null,{"$f":"IF($A24=\"\",\"\",OFFSET(Input!F$4,MATCH($A24,Input!$A$5:$A$24,0),0))","v":""},"",null,{"$f":"IF(N24=\"SY\", V24, IF(N24=\"Tons\", O24-P24, \"\"))","v":""},"\\",{"$f":"IF(A24=\"\",1,IF(ISERROR(MATCH(R24,Input!L$5:L$24,0)),2,1))","v":1},"",null,{"$f":"IF(A24=\"\", \"\", SUMIF($Q$8:$Q$17, \"*\" & LEFT(A24, 11) & \"*\", $T$8:$T$17))","v":""},{"$f":"IF(N24=\"SY\", T24, IF(N24=\"Tons\", V24+P24, \"\"))","v":""}]
[null,null,null,null,null,{"$f":"IF($J25=\"\",\"\",INDEX(Input!$A$5:$H$24,MATCH($A25&$J25,Input!$A$5:$A$24&Input!$G$5:$G$24,0),2))","v":""},{"$f":"IF($J25=\"\",\"\",INDEX(Input!$A$5:$H$24,MATCH($A25&$J25,Input!$A$5:$A$24&Input!$G$5:$G$24,0),3))","v":""},{"$f":"IF($J25=\"\",\"\",INDEX(Input!$A$5:$H$24,MATCH($A25&$J25,Input!$A$5:$A$24&Input!$G$5:$G$24,0),4))","v":""},{"$f":"IF($J25=\"\",\"\",INDEX(Input!$A$5:$H$24,MATCH($A25&$J25,Input!$A$5:$A$24&Input!$G$5:$G$24,0),5))","v":""},null,null,null,null,{"$f":"IF($A25=\"\",\"\",OFFSET(Input!F$4,MATCH($A25,Input!$A$5:$A$24,0),0))","v":""},"",null,"","\\",{"$f":"IF(A25=\"\",1,IF(ISERROR(MATCH(R25,Input!L$5:L$24,0)),2,1))","v":1},"",null,"",""]
[null,null,null,null,null,null,null,null,null,null,null,null,null,null,null,null,null,null,null,null,null,"",{"$f":"IF(N26=\"SY\", T26, IF(N26=\"Tons\", V26+P26, \"\"))","v":""},{"$f":"IF(A26=\"\", \"\", SUMIF($Q$8:$Q$17, \"*\" & LEFT(A26, 11) & \"*\", $S$8:$S$17))","v":""},{"$f":"IF(N26=\"SY\",X26,\"\")","v":""},{"$f":"IF(A26=\"\", \"\", SUMIF($Q$8:$Q$17, \"*\" & LEFT(A26, 11) & \"*\", $T$8:$T$17))","v":""}]
["Hot Box Sample",null,null,null,null,null,null,null,null,null,"Mat Temperatures °F"]
[null,"Test A","Test B","Test C","Test D","Test E",null,null,null,null,"Time","Temp"]
[" Hot Box ID Number  ",null,null,null,null,null,null,null,null,null,"7:00"]
["Hot Box Sample Tons: ",null,null,null,null,null,null,null,null,null,"9:00",null,null,null,"Intended Thickness:"]
[" Time: ",null,null,null,null,null,null,null,null,null,"11:00",null,null,null,"Cores Waived?"]
[" Station/MP: ",null,null,null,null,null,null,null,null,null,"1:00",null,null,null,"Small Quantity Statement?"]
["Bar Code ID.:",null,null,null,null,null,null,null,null,null,"3:00",null,null,null,"Scale Check Done?"]
["Compaction Temp. °F: ",null,null,null,null,null,null,null,null,null,"5:00",null,null,null,"Tack Tickets Today?"]
[null,null,null,null,null,null,null,null,null,null,"7:00"]
["The Below Comments should show up on the plant report"]
["Comments:"]
[]
[]
["The Below Notes are for the CPI from the field or Plant Monitor"]
["Notes:"]
[]
[]
["RANDOM CORE LOCATIONS"]
[null,null,null,null,null,null,null,"Core #","Station","Offset,ft","Joint Station","Lane"]
[null,null,null,null,null,null,null,1]
[null,null,null,null,null,null,null,2]
[null,null,null,null,null,null,null,3]
[null,null,null,null,null,null,null,4]
[null,null,null,null,null,null,null,5]
[null,null,null,null,null,null,null,6]
[null,null,null,null,null,null,null,7]
[null,null,null,null,null,null,null,8]
[]
[null,null,null,null,null,null,null,null,null,null,"Joint Sublot Size, ft"]
[null,null,null,null,null,null,null,null,null,null,0]
[]
[]
[]
[]
[]
[]
[]
[]
[]
[]
[]
[]
[]
[]
[]
[]
[]
[]
[]
[]
[]
[]
[]
[]
[]
[]
[]
[]
[]
[]
[]
[]
[]
[]
[]
[]
[]
[]
[]
[]
[false]

{"sheet":"89","index":104,"n_rows":97,"n_cols":26,"rows_kept":97,"cut":false,"hidden":false,"merged":[[50,11,50,13],[51,11,51,13],[52,11,52,13],[44,11,44,13],[45,11,45,13],[46,11,46,13],[47,11,47,13],[48,11,48,13],[49,11,49,13],[43,0,43,16],[25,0,25,1],[26,0,26,5],[26,20,26,23],[26,25,26,27],[34,2,34,4],[35,0,35,5],[36,1,36,14],[37,0,37,14],[39,0,39,5],[40,1,40,14],[41,0,41,14],[23,0,23,1],[23,2,23,4],[23,9,23,12],[24,0,24,1],[24,2,24,4],[24,9,24,12],[21,0,21,1],[21,2,21,4],[21,9,21,12],[22,0,22,1],[22,2,22,4],[22,9,22,12],[19,0,19,1],[19,2,19,4],[19,9,19,12],[20,0,20,1],[20,2,20,4],[20,9,20,12],[18,0,18,16],[6,14,6,15],[7,14,7,15],[8,14,8,15],[9,14,9,15],[10,14,10,15],[11,14,11,15],[12,14,12,15],[13,14,13,15],[14,14,14,15],[15,14,15,15],[16,14,16,15],[1,0,1,16],[4,0,4,15],[5,4,5,5],[5,8,5,9],[5,11,5,12],[5,13,5,15]]}
[]
["Iowa DOT HMA Field Report"]
["Date :"]
["Item No.('s)"]
["PLACEMENT RECORD",null,null,null,null,null,null,null,null,null,null,null,null,null,null,null,null,null,null,null,null,{"$f":"SUBSTITUTE(A21 & \"\\\" & J21,\"\"\"\",\"\")","v":"\\"}]
[null,null,null,null,"Additional width to DEDUCT from Field Voids",null,null,null,"Placed Density (Pounds/CF)=",null,150,"Overwritten on the \"Summary\" Tab",null,"ONLY ONE (1) MIX DESIGN PER DFR OTHERWISE IT WILL NOT IMPORT INTO THE PLANT REPORT PROPERLY",null,null,null,null,null,null,null,{"$f":"SUBSTITUTE(A22 & \"\\\" & J22,\"\"\"\",\"\")","v":"\\"}]
["From Station"," To Station","Lane","ML or Widening Placement Width","Additional Width (ft) ","Thickness (in)","Total Length Placed (FT)","\"Pay\"  Est \"SY\"","Thickness (inches)","Calculated Field Voids Tons","Placed Tons            (Not including Waste)","% Yield","SY to be PAID (If Diff. than Est SY)","Mix Design No.","Bid Item/ Project No.",null,null,null,"This uses the correct SY #, if Green is blank uses Est. SY","Adds up the Tons",null,"\\"]
[null,null,null,null,null,null,{"$f":"IF(OR(A8=\"\",B8=\"\"),0,IF($A$97=TRUE,ABS(B8-A8)*5280,ABS(VALUE(SUBSTITUTE(A8,\"+\",\"\"))-VALUE(SUBSTITUTE(B8,\"+\",\"\")))))","v":0},{"$f":"IF(D8=\"\",\"\",G8*(D8+E8)/9)","v":""},null,{"$f":"IF(I8=\"\",\"\",(G8)*(D8+E8)*I8/12*$K$6/2000)","v":""},null,{"$f":"IF(K8=\"\",\"\",K8/J8*100)","v":""},null,null,null,null,{"$f":"O8 & \"\\\" & N8","v":"\\"},{"$f":"IF(AND(A8=\"\",B8=\"\",C8=\"\",D8=\"\"),1,IF(OR(O8=\"\",N8=\"\"),2,IF(ISERROR(MATCH(Q8,Input!M$5:M$24,0)),2,1)))","v":1},{"$f":"IF(M8<>\"\", M8, H8)","v":""},{"$f":"K8","v":0},null,"\\"]
[null,null,null,null,null,null,{"$f":"IF(OR(A9=\"\",B9=\"\"),0,IF($A$97=TRUE,ABS(B9-A9)*5280,ABS(VALUE(SUBSTITUTE(A9,\"+\",\"\"))-VALUE(SUBSTITUTE(B9,\"+\",\"\")))))","v":0},{"$f":"IF(D9=\"\",\"\",G9*(D9+E9)/9)","v":""},null,"",null,{"$f":"IF(K9=\"\",\"\",K9/J9*100)","v":""},null,null,null,null,{"$f":"O9 & \"\\\" & N9","v":"\\"},{"$f":"IF(AND(A9=\"\",B9=\"\",C9=\"\",D9=\"\"),1,IF(OR(O9=\"\",N9=\"\"),2,IF(ISERROR(MATCH(Q9,Input!M$5:M$24,0)),2,1)))","v":1},{"$f":"IF(M9<>\"\", M9, H9)","v":""},{"$f":"K9","v":0},null,"\\"]
[null,null,null,null,null,null,0,"",null,"",null,"",null,null,null,null,"\\",{"$f":"IF(AND(A10=\"\",B10=\"\",C10=\"\",D10=\"\"),1,IF(OR(O10=\"\",N10=\"\"),2,IF(ISERROR(MATCH(Q10,Input!M$5:M$24,0)),2,1)))","v":1},{"$f":"IF(M10<>\"\", M10, H10)","v":""},0]
[null,null,null,null,null,null,0,"",null,"",null,"",null,null,null,null,"\\",{"$f":"IF(AND(A11=\"\",B11=\"\",C11=\"\",D11=\"\"),1,IF(OR(O11=\"\",N11=\"\"),2,IF(ISERROR(MATCH(Q11,Input!M$5:M$24,0)),2,1)))","v":1},"",0]
[null,null,null,null,null,null,0,"",null,"",null,"",null,null,null,null,"\\",{"$f":"IF(AND(A12=\"\",B12=\"\",C12=\"\",D12=\"\"),1,IF(OR(O12=\"\",N12=\"\"),2,IF(ISERROR(MATCH(Q12,Input!M$5:M$24,0)),2,1)))","v":1},"",0]
[null,null,null,null,null,null,0,"",null,"",null,"",null,null,null,null,"\\",{"$f":"IF(AND(A13=\"\",B13=\"\",C13=\"\",D13=\"\"),1,IF(OR(O13=\"\",N13=\"\"),2,IF(ISERROR(MATCH(Q13,Input!M$5:M$24,0)),2,1)))","v":1},"",0]
[null,null,null,null,null,null,0,"",null,"",null,"",null,null,null,null,"\\",{"$f":"IF(AND(A14=\"\",B14=\"\",C14=\"\",D14=\"\"),1,IF(OR(O14=\"\",N14=\"\"),2,IF(ISERROR(MATCH(Q14,Input!M$5:M$24,0)),2,1)))","v":1},"",0]
[null,null,null,null,null,null,0,"",null,"",null,"",null,null,null,null,"\\",{"$f":"IF(AND(A15=\"\",B15=\"\",C15=\"\",D15=\"\"),1,IF(OR(O15=\"\",N15=\"\"),2,IF(ISERROR(MATCH(Q15,Input!M$5:M$24,0)),2,1)))","v":1},"",0]
[null,null,null,null,null,null,0,"",null,"",null,"",null,null,null,null,"\\",{"$f":"IF(AND(A16=\"\",B16=\"\",C16=\"\",D16=\"\"),1,IF(OR(O16=\"\",N16=\"\"),2,IF(ISERROR(MATCH(Q16,Input!M$5:M$24,0)),2,1)))","v":1},"",0]
[null,null,null,null,null,null,0,"",null,"",null,"",null,null,null,null,"\\",{"$f":"IF(AND(A17=\"\",B17=\"\",C17=\"\",D17=\"\"),1,IF(OR(O17=\"\",N17=\"\"),2,IF(ISERROR(MATCH(Q17,Input!M$5:M$24,0)),2,1)))","v":1},"",0]
[]
["TANK SHEET"]
["Bid Item (In Order of Placement)",null,"Today's Placement",null,null,"Bid Item Plan Quantity","Plan Thickness (in)","Contract Mix Price","Contract Binder Price","Project Number",null,null,null,"Mix Pay Units","Mix Delivered to Road\n(Ton or SY)","Waste On Road (Ton)\nNO waste for SY Items","Tons Placed - Waste",null,null,"This adds up column S as it depends if the Est SY is filled out or the SY",null,"Use this Column for SY for the Q column","Uses this Value for Mix on Road"]
[null,null,null,null,null,{"$f":"IF($J21=\"\",\"\",INDEX(Input!$A$5:$H$24,MATCH($A21&$J21,Input!$A$5:$A$24&Input!$G$5:$G$24,0),2))","v":""},{"$f":"IF($J21=\"\",\"\",INDEX(Input!$A$5:$H$24,MATCH($A21&$J21,Input!$A$5:$A$24&Input!$G$5:$G$24,0),3))","v":""},{"$f":"IF($J21=\"\",\"\",INDEX(Input!$A$5:$H$24,MATCH($A21&$J21,Input!$A$5:$A$24&Input!$G$5:$G$24,0),4))","v":""},{"$f":"IF($J21=\"\",\"\",INDEX(Input!$A$5:$H$24,MATCH($A21&$J21,Input!$A$5:$A$24&Input!$G$5:$G$24,0),5))","v":""},null,null,null,null,{"$f":"IF($A21=\"\",\"\",OFFSET(Input!F$4,MATCH($A21,Input!$A$5:$A$24,0),0))","v":""},{"$f":"IF(N21=\"SY\", T21, IF(N21=\"Tons\", W21, \"\"))","v":""},null,{"$f":"IF(N21=\"SY\", V21, IF(N21=\"Tons\", O21-P21, \"\"))","v":""},{"$f":"SUBSTITUTE(A21 & \"\\\" & J21,\"\"\"\",\"\")","v":"\\"},{"$f":"IF(A21=\"\",1,IF(ISERROR(MATCH(R21,Input!L$5:L$24,0)),2,1))","v":1},{"$f":"IF(A21=\"\", \"\", SUMIF($Q$8:$Q$17, \"*\" & LEFT(A21, 11) & \"*\", $S$8:$S$17))","v":""},null,{"$f":"IF(A21=\"\", \"\", SUMIF($Q$8:$Q$17, \"*\" & LEFT(A21, 11) & \"*\", $T$8:$T$17))","v":""},{"$f":"IF(N21=\"SY\", T21, IF(N21=\"Tons\", V21+P21, \"\"))","v":""}]
[null,null,null,null,null,{"$f":"IF($J22=\"\",\"\",INDEX(Input!$A$5:$H$24,MATCH($A22&$J22,Input!$A$5:$A$24&Input!$G$5:$G$24,0),2))","v":""},{"$f":"IF($J22=\"\",\"\",INDEX(Input!$A$5:$H$24,MATCH($A22&$J22,Input!$A$5:$A$24&Input!$G$5:$G$24,0),3))","v":""},{"$f":"IF($J22=\"\",\"\",INDEX(Input!$A$5:$H$24,MATCH($A22&$J22,Input!$A$5:$A$24&Input!$G$5:$G$24,0),4))","v":""},{"$f":"IF($J22=\"\",\"\",INDEX(Input!$A$5:$H$24,MATCH($A22&$J22,Input!$A$5:$A$24&Input!$G$5:$G$24,0),5))","v":""},null,null,null,null,{"$f":"IF($A22=\"\",\"\",OFFSET(Input!F$4,MATCH($A22,Input!$A$5:$A$24,0),0))","v":""},{"$f":"IF(N22=\"SY\", T22, IF(N22=\"Tons\", W22, \"\"))","v":""},null,{"$f":"IF(N22=\"SY\", V22, IF(N22=\"Tons\", O22-P22, \"\"))","v":""},{"$f":"SUBSTITUTE(A22 & \"\\\" & J22,\"\"\"\",\"\")","v":"\\"},{"$f":"IF(A22=\"\",1,IF(ISERROR(MATCH(R22,Input!L$5:L$24,0)),2,1))","v":1},{"$f":"IF(A22=\"\", \"\", SUMIF($Q$8:$Q$17, \"*\" & LEFT(A22, 11) & \"*\", $S$8:$S$17))","v":""},null,{"$f":"IF(A22=\"\", \"\", SUMIF($Q$8:$Q$17, \"*\" & LEFT(A22, 11) & \"*\", $T$8:$T$17))","v":""},{"$f":"IF(N22=\"SY\", T22, IF(N22=\"Tons\", V22+P22, \"\"))","v":""}]
[null,null,null,null,null,{"$f":"IF($J23=\"\",\"\",INDEX(Input!$A$5:$H$24,MATCH($A23&$J23,Input!$A$5:$A$24&Input!$G$5:$G$24,0),2))","v":""},{"$f":"IF($J23=\"\",\"\",INDEX(Input!$A$5:$H$24,MATCH($A23&$J23,Input!$A$5:$A$24&Input!$G$5:$G$24,0),3))","v":""},{"$f":"IF($J23=\"\",\"\",INDEX(Input!$A$5:$H$24,MATCH($A23&$J23,Input!$A$5:$A$24&Input!$G$5:$G$24,0),4))","v":""},{"$f":"IF($J23=\"\",\"\",INDEX(Input!$A$5:$H$24,MATCH($A23&$J23,Input!$A$5:$A$24&Input!$G$5:$G$24,0),5))","v":""},null,null,null,null,{"$f":"IF($A23=\"\",\"\",OFFSET(Input!F$4,MATCH($A23,Input!$A$5:$A$24,0),0))","v":""},{"$f":"IF(N23=\"SY\", T23, IF(N23=\"Tons\", W23, \"\"))","v":""},null,{"$f":"IF(N23=\"SY\", V23, IF(N23=\"Tons\", O23-P23, \"\"))","v":""},"\\",{"$f":"IF(A23=\"\",1,IF(ISERROR(MATCH(R23,Input!L$5:L$24,0)),2,1))","v":1},{"$f":"IF(A23=\"\", \"\", SUMIF($Q$8:$Q$17, \"*\" & LEFT(A23, 11) & \"*\", $S$8:$S$17))","v":""},null,{"$f":"IF(A23=\"\", \"\", SUMIF($Q$8:$Q$17, \"*\" & LEFT(A23, 11) & \"*\", $T$8:$T$17))","v":""},{"$f":"IF(N23=\"SY\", T23, IF(N23=\"Tons\", V23+P23, \"\"))","v":""}]
[null,null,null,null,null,{"$f":"IF($J24=\"\",\"\",INDEX(Input!$A$5:$H$24,MATCH($A24&$J24,Input!$A$5:$A$24&Input!$G$5:$G$24,0),2))","v":""},{"$f":"IF($J24=\"\",\"\",INDEX(Input!$A$5:$H$24,MATCH($A24&$J24,Input!$A$5:$A$24&Input!$G$5:$G$24,0),3))","v":""},{"$f":"IF($J24=\"\",\"\",INDEX(Input!$A$5:$H$24,MATCH($A24&$J24,Input!$A$5:$A$24&Input!$G$5:$G$24,0),4))","v":""},{"$f":"IF($J24=\"\",\"\",INDEX(Input!$A$5:$H$24,MATCH($A24&$J24,Input!$A$5:$A$24&Input!$G$5:$G$24,0),5))","v":""},null,null,null,null,{"$f":"IF($A24=\"\",\"\",OFFSET(Input!F$4,MATCH($A24,Input!$A$5:$A$24,0),0))","v":""},"",null,{"$f":"IF(N24=\"SY\", V24, IF(N24=\"Tons\", O24-P24, \"\"))","v":""},"\\",{"$f":"IF(A24=\"\",1,IF(ISERROR(MATCH(R24,Input!L$5:L$24,0)),2,1))","v":1},"",null,{"$f":"IF(A24=\"\", \"\", SUMIF($Q$8:$Q$17, \"*\" & LEFT(A24, 11) & \"*\", $T$8:$T$17))","v":""},{"$f":"IF(N24=\"SY\", T24, IF(N24=\"Tons\", V24+P24, \"\"))","v":""}]
[null,null,null,null,null,{"$f":"IF($J25=\"\",\"\",INDEX(Input!$A$5:$H$24,MATCH($A25&$J25,Input!$A$5:$A$24&Input!$G$5:$G$24,0),2))","v":""},{"$f":"IF($J25=\"\",\"\",INDEX(Input!$A$5:$H$24,MATCH($A25&$J25,Input!$A$5:$A$24&Input!$G$5:$G$24,0),3))","v":""},{"$f":"IF($J25=\"\",\"\",INDEX(Input!$A$5:$H$24,MATCH($A25&$J25,Input!$A$5:$A$24&Input!$G$5:$G$24,0),4))","v":""},{"$f":"IF($J25=\"\",\"\",INDEX(Input!$A$5:$H$24,MATCH($A25&$J25,Input!$A$5:$A$24&Input!$G$5:$G$24,0),5))","v":""},null,null,null,null,{"$f":"IF($A25=\"\",\"\",OFFSET(Input!F$4,MATCH($A25,Input!$A$5:$A$24,0),0))","v":""},"",null,"","\\",{"$f":"IF(A25=\"\",1,IF(ISERROR(MATCH(R25,Input!L$5:L$24,0)),2,1))","v":1},"",null,"",""]
[null,null,null,null,null,null,null,null,null,null,null,null,null,null,null,null,null,null,null,null,null,"",{"$f":"IF(N26=\"SY\", T26, IF(N26=\"Tons\", V26+P26, \"\"))","v":""},{"$f":"IF(A26=\"\", \"\", SUMIF($Q$8:$Q$17, \"*\" & LEFT(A26, 11) & \"*\", $S$8:$S$17))","v":""},{"$f":"IF(N26=\"SY\",X26,\"\")","v":""},{"$f":"IF(A26=\"\", \"\", SUMIF($Q$8:$Q$17, \"*\" & LEFT(A26, 11) & \"*\", $T$8:$T$17))","v":""}]
["Hot Box Sample",null,null,null,null,null,null,null,null,null,"Mat Temperatures °F"]
[null,"Test A","Test B","Test C","Test D","Test E",null,null,null,null,"Time","Temp"]
[" Hot Box ID Number  ",null,null,null,null,null,null,null,null,null,"7:00"]
["Hot Box Sample Tons: ",null,null,null,null,null,null,null,null,null,"9:00",null,null,null,"Intended Thickness:"]
[" Time: ",null,null,null,null,null,null,null,null,null,"11:00",null,null,null,"Cores Waived?"]
[" Station/MP: ",null,null,null,null,null,null,null,null,null,"1:00",null,null,null,"Small Quantity Statement?"]
["Bar Code ID.:",null,null,null,null,null,null,null,null,null,"3:00",null,null,null,"Scale Check Done?"]
["Compaction Temp. °F: ",null,null,null,null,null,null,null,null,null,"5:00",null,null,null,"Tack Tickets Today?"]
[null,null,null,null,null,null,null,null,null,null,"7:00"]
["The Below Comments should show up on the plant report"]
["Comments:"]
[]
[]
["The Below Notes are for the CPI from the field or Plant Monitor"]
["Notes:"]
[]
[]
["RANDOM CORE LOCATIONS"]
[null,null,null,null,null,null,null,"Core #","Station","Offset,ft","Joint Station","Lane"]
[null,null,null,null,null,null,null,1]
[null,null,null,null,null,null,null,2]
[null,null,null,null,null,null,null,3]
[null,null,null,null,null,null,null,4]
[null,null,null,null,null,null,null,5]
[null,null,null,null,null,null,null,6]
[null,null,null,null,null,null,null,7]
[null,null,null,null,null,null,null,8]
[]
[null,null,null,null,null,null,null,null,null,null,"Joint Sublot Size, ft"]
[null,null,null,null,null,null,null,null,null,null,0]
[]
[]
[]
[]
[]
[]
[]
[]
[]
[]
[]
[]
[]
[]
[]
[]
[]
[]
[]
[]
[]
[]
[]
[]
[]
[]
[]
[]
[]
[]
[]
[]
[]
[]
[]
[]
[]
[]
[]
[]
[false]

{"sheet":"90","index":105,"n_rows":97,"n_cols":26,"rows_kept":97,"cut":false,"hidden":false,"merged":[[50,11,50,13],[51,11,51,13],[52,11,52,13],[44,11,44,13],[45,11,45,13],[46,11,46,13],[47,11,47,13],[48,11,48,13],[49,11,49,13],[43,0,43,16],[25,0,25,1],[26,0,26,5],[26,20,26,23],[26,25,26,27],[34,2,34,4],[35,0,35,5],[36,1,36,14],[37,0,37,14],[39,0,39,5],[40,1,40,14],[41,0,41,14],[23,0,23,1],[23,2,23,4],[23,9,23,12],[24,0,24,1],[24,2,24,4],[24,9,24,12],[21,0,21,1],[21,2,21,4],[21,9,21,12],[22,0,22,1],[22,2,22,4],[22,9,22,12],[19,0,19,1],[19,2,19,4],[19,9,19,12],[20,0,20,1],[20,2,20,4],[20,9,20,12],[18,0,18,16],[6,14,6,15],[7,14,7,15],[8,14,8,15],[9,14,9,15],[10,14,10,15],[11,14,11,15],[12,14,12,15],[13,14,13,15],[14,14,14,15],[15,14,15,15],[16,14,16,15],[1,0,1,16],[4,0,4,15],[5,4,5,5],[5,8,5,9],[5,11,5,12],[5,13,5,15]]}
[]
["Iowa DOT HMA Field Report"]
["Date :"]
["Item No.('s)"]
["PLACEMENT RECORD",null,null,null,null,null,null,null,null,null,null,null,null,null,null,null,null,null,null,null,null,{"$f":"SUBSTITUTE(A21 & \"\\\" & J21,\"\"\"\",\"\")","v":"\\"}]
[null,null,null,null,"Additional width to DEDUCT from Field Voids",null,null,null,"Placed Density (Pounds/CF)=",null,150,"Overwritten on the \"Summary\" Tab",null,"ONLY ONE (1) MIX DESIGN PER DFR OTHERWISE IT WILL NOT IMPORT INTO THE PLANT REPORT PROPERLY",null,null,null,null,null,null,null,{"$f":"SUBSTITUTE(A22 & \"\\\" & J22,\"\"\"\",\"\")","v":"\\"}]
["From Station"," To Station","Lane","ML or Widening Placement Width","Additional Width (ft) ","Thickness (in)","Total Length Placed (FT)","\"Pay\"  Est \"SY\"","Thickness (inches)","Calculated Field Voids Tons","Placed Tons            (Not including Waste)","% Yield","SY to be PAID (If Diff. than Est SY)","Mix Design No.","Bid Item/ Project No.",null,null,null,"This uses the correct SY #, if Green is blank uses Est. SY","Adds up the Tons",null,"\\"]
[null,null,null,null,null,null,{"$f":"IF(OR(A8=\"\",B8=\"\"),0,IF($A$97=TRUE,ABS(B8-A8)*5280,ABS(VALUE(SUBSTITUTE(A8,\"+\",\"\"))-VALUE(SUBSTITUTE(B8,\"+\",\"\")))))","v":0},{"$f":"IF(D8=\"\",\"\",G8*(D8+E8)/9)","v":""},null,{"$f":"IF(I8=\"\",\"\",(G8)*(D8+E8)*I8/12*$K$6/2000)","v":""},null,{"$f":"IF(K8=\"\",\"\",K8/J8*100)","v":""},null,null,null,null,{"$f":"O8 & \"\\\" & N8","v":"\\"},{"$f":"IF(AND(A8=\"\",B8=\"\",C8=\"\",D8=\"\"),1,IF(OR(O8=\"\",N8=\"\"),2,IF(ISERROR(MATCH(Q8,Input!M$5:M$24,0)),2,1)))","v":1},{"$f":"IF(M8<>\"\", M8, H8)","v":""},{"$f":"K8","v":0},null,"\\"]
[null,null,null,null,null,null,{"$f":"IF(OR(A9=\"\",B9=\"\"),0,IF($A$97=TRUE,ABS(B9-A9)*5280,ABS(VALUE(SUBSTITUTE(A9,\"+\",\"\"))-VALUE(SUBSTITUTE(B9,\"+\",\"\")))))","v":0},{"$f":"IF(D9=\"\",\"\",G9*(D9+E9)/9)","v":""},null,"",null,{"$f":"IF(K9=\"\",\"\",K9/J9*100)","v":""},null,null,null,null,{"$f":"O9 & \"\\\" & N9","v":"\\"},{"$f":"IF(AND(A9=\"\",B9=\"\",C9=\"\",D9=\"\"),1,IF(OR(O9=\"\",N9=\"\"),2,IF(ISERROR(MATCH(Q9,Input!M$5:M$24,0)),2,1)))","v":1},{"$f":"IF(M9<>\"\", M9, H9)","v":""},{"$f":"K9","v":0},null,"\\"]
[null,null,null,null,null,null,0,"",null,"",null,"",null,null,null,null,"\\",{"$f":"IF(AND(A10=\"\",B10=\"\",C10=\"\",D10=\"\"),1,IF(OR(O10=\"\",N10=\"\"),2,IF(ISERROR(MATCH(Q10,Input!M$5:M$24,0)),2,1)))","v":1},{"$f":"IF(M10<>\"\", M10, H10)","v":""},0]
[null,null,null,null,null,null,0,"",null,"",null,"",null,null,null,null,"\\",{"$f":"IF(AND(A11=\"\",B11=\"\",C11=\"\",D11=\"\"),1,IF(OR(O11=\"\",N11=\"\"),2,IF(ISERROR(MATCH(Q11,Input!M$5:M$24,0)),2,1)))","v":1},"",0]
[null,null,null,null,null,null,0,"",null,"",null,"",null,null,null,null,"\\",{"$f":"IF(AND(A12=\"\",B12=\"\",C12=\"\",D12=\"\"),1,IF(OR(O12=\"\",N12=\"\"),2,IF(ISERROR(MATCH(Q12,Input!M$5:M$24,0)),2,1)))","v":1},"",0]
[null,null,null,null,null,null,0,"",null,"",null,"",null,null,null,null,"\\",{"$f":"IF(AND(A13=\"\",B13=\"\",C13=\"\",D13=\"\"),1,IF(OR(O13=\"\",N13=\"\"),2,IF(ISERROR(MATCH(Q13,Input!M$5:M$24,0)),2,1)))","v":1},"",0]
[null,null,null,null,null,null,0,"",null,"",null,"",null,null,null,null,"\\",{"$f":"IF(AND(A14=\"\",B14=\"\",C14=\"\",D14=\"\"),1,IF(OR(O14=\"\",N14=\"\"),2,IF(ISERROR(MATCH(Q14,Input!M$5:M$24,0)),2,1)))","v":1},"",0]
[null,null,null,null,null,null,0,"",null,"",null,"",null,null,null,null,"\\",{"$f":"IF(AND(A15=\"\",B15=\"\",C15=\"\",D15=\"\"),1,IF(OR(O15=\"\",N15=\"\"),2,IF(ISERROR(MATCH(Q15,Input!M$5:M$24,0)),2,1)))","v":1},"",0]
[null,null,null,null,null,null,0,"",null,"",null,"",null,null,null,null,"\\",{"$f":"IF(AND(A16=\"\",B16=\"\",C16=\"\",D16=\"\"),1,IF(OR(O16=\"\",N16=\"\"),2,IF(ISERROR(MATCH(Q16,Input!M$5:M$24,0)),2,1)))","v":1},"",0]
[null,null,null,null,null,null,0,"",null,"",null,"",null,null,null,null,"\\",{"$f":"IF(AND(A17=\"\",B17=\"\",C17=\"\",D17=\"\"),1,IF(OR(O17=\"\",N17=\"\"),2,IF(ISERROR(MATCH(Q17,Input!M$5:M$24,0)),2,1)))","v":1},"",0]
[]
["TANK SHEET"]
["Bid Item (In Order of Placement)",null,"Today's Placement",null,null,"Bid Item Plan Quantity","Plan Thickness (in)","Contract Mix Price","Contract Binder Price","Project Number",null,null,null,"Mix Pay Units","Mix Delivered to Road\n(Ton or SY)","Waste On Road (Ton)\nNO waste for SY Items","Tons Placed - Waste",null,null,"This adds up column S as it depends if the Est SY is filled out or the SY",null,"Use this Column for SY for the Q column","Uses this Value for Mix on Road"]
[null,null,null,null,null,{"$f":"IF($J21=\"\",\"\",INDEX(Input!$A$5:$H$24,MATCH($A21&$J21,Input!$A$5:$A$24&Input!$G$5:$G$24,0),2))","v":""},{"$f":"IF($J21=\"\",\"\",INDEX(Input!$A$5:$H$24,MATCH($A21&$J21,Input!$A$5:$A$24&Input!$G$5:$G$24,0),3))","v":""},{"$f":"IF($J21=\"\",\"\",INDEX(Input!$A$5:$H$24,MATCH($A21&$J21,Input!$A$5:$A$24&Input!$G$5:$G$24,0),4))","v":""},{"$f":"IF($J21=\"\",\"\",INDEX(Input!$A$5:$H$24,MATCH($A21&$J21,Input!$A$5:$A$24&Input!$G$5:$G$24,0),5))","v":""},null,null,null,null,{"$f":"IF($A21=\"\",\"\",OFFSET(Input!F$4,MATCH($A21,Input!$A$5:$A$24,0),0))","v":""},{"$f":"IF(N21=\"SY\", T21, IF(N21=\"Tons\", W21, \"\"))","v":""},null,{"$f":"IF(N21=\"SY\", V21, IF(N21=\"Tons\", O21-P21, \"\"))","v":""},{"$f":"SUBSTITUTE(A21 & \"\\\" & J21,\"\"\"\",\"\")","v":"\\"},{"$f":"IF(A21=\"\",1,IF(ISERROR(MATCH(R21,Input!L$5:L$24,0)),2,1))","v":1},{"$f":"IF(A21=\"\", \"\", SUMIF($Q$8:$Q$17, \"*\" & LEFT(A21, 11) & \"*\", $S$8:$S$17))","v":""},null,{"$f":"IF(A21=\"\", \"\", SUMIF($Q$8:$Q$17, \"*\" & LEFT(A21, 11) & \"*\", $T$8:$T$17))","v":""},{"$f":"IF(N21=\"SY\", T21, IF(N21=\"Tons\", V21+P21, \"\"))","v":""}]
[null,null,null,null,null,{"$f":"IF($J22=\"\",\"\",INDEX(Input!$A$5:$H$24,MATCH($A22&$J22,Input!$A$5:$A$24&Input!$G$5:$G$24,0),2))","v":""},{"$f":"IF($J22=\"\",\"\",INDEX(Input!$A$5:$H$24,MATCH($A22&$J22,Input!$A$5:$A$24&Input!$G$5:$G$24,0),3))","v":""},{"$f":"IF($J22=\"\",\"\",INDEX(Input!$A$5:$H$24,MATCH($A22&$J22,Input!$A$5:$A$24&Input!$G$5:$G$24,0),4))","v":""},{"$f":"IF($J22=\"\",\"\",INDEX(Input!$A$5:$H$24,MATCH($A22&$J22,Input!$A$5:$A$24&Input!$G$5:$G$24,0),5))","v":""},null,null,null,null,{"$f":"IF($A22=\"\",\"\",OFFSET(Input!F$4,MATCH($A22,Input!$A$5:$A$24,0),0))","v":""},{"$f":"IF(N22=\"SY\", T22, IF(N22=\"Tons\", W22, \"\"))","v":""},null,{"$f":"IF(N22=\"SY\", V22, IF(N22=\"Tons\", O22-P22, \"\"))","v":""},{"$f":"SUBSTITUTE(A22 & \"\\\" & J22,\"\"\"\",\"\")","v":"\\"},{"$f":"IF(A22=\"\",1,IF(ISERROR(MATCH(R22,Input!L$5:L$24,0)),2,1))","v":1},{"$f":"IF(A22=\"\", \"\", SUMIF($Q$8:$Q$17, \"*\" & LEFT(A22, 11) & \"*\", $S$8:$S$17))","v":""},null,{"$f":"IF(A22=\"\", \"\", SUMIF($Q$8:$Q$17, \"*\" & LEFT(A22, 11) & \"*\", $T$8:$T$17))","v":""},{"$f":"IF(N22=\"SY\", T22, IF(N22=\"Tons\", V22+P22, \"\"))","v":""}]
[null,null,null,null,null,{"$f":"IF($J23=\"\",\"\",INDEX(Input!$A$5:$H$24,MATCH($A23&$J23,Input!$A$5:$A$24&Input!$G$5:$G$24,0),2))","v":""},{"$f":"IF($J23=\"\",\"\",INDEX(Input!$A$5:$H$24,MATCH($A23&$J23,Input!$A$5:$A$24&Input!$G$5:$G$24,0),3))","v":""},{"$f":"IF($J23=\"\",\"\",INDEX(Input!$A$5:$H$24,MATCH($A23&$J23,Input!$A$5:$A$24&Input!$G$5:$G$24,0),4))","v":""},{"$f":"IF($J23=\"\",\"\",INDEX(Input!$A$5:$H$24,MATCH($A23&$J23,Input!$A$5:$A$24&Input!$G$5:$G$24,0),5))","v":""},null,null,null,null,{"$f":"IF($A23=\"\",\"\",OFFSET(Input!F$4,MATCH($A23,Input!$A$5:$A$24,0),0))","v":""},{"$f":"IF(N23=\"SY\", T23, IF(N23=\"Tons\", W23, \"\"))","v":""},null,{"$f":"IF(N23=\"SY\", V23, IF(N23=\"Tons\", O23-P23, \"\"))","v":""},"\\",{"$f":"IF(A23=\"\",1,IF(ISERROR(MATCH(R23,Input!L$5:L$24,0)),2,1))","v":1},{"$f":"IF(A23=\"\", \"\", SUMIF($Q$8:$Q$17, \"*\" & LEFT(A23, 11) & \"*\", $S$8:$S$17))","v":""},null,{"$f":"IF(A23=\"\", \"\", SUMIF($Q$8:$Q$17, \"*\" & LEFT(A23, 11) & \"*\", $T$8:$T$17))","v":""},{"$f":"IF(N23=\"SY\", T23, IF(N23=\"Tons\", V23+P23, \"\"))","v":""}]
[null,null,null,null,null,{"$f":"IF($J24=\"\",\"\",INDEX(Input!$A$5:$H$24,MATCH($A24&$J24,Input!$A$5:$A$24&Input!$G$5:$G$24,0),2))","v":""},{"$f":"IF($J24=\"\",\"\",INDEX(Input!$A$5:$H$24,MATCH($A24&$J24,Input!$A$5:$A$24&Input!$G$5:$G$24,0),3))","v":""},{"$f":"IF($J24=\"\",\"\",INDEX(Input!$A$5:$H$24,MATCH($A24&$J24,Input!$A$5:$A$24&Input!$G$5:$G$24,0),4))","v":""},{"$f":"IF($J24=\"\",\"\",INDEX(Input!$A$5:$H$24,MATCH($A24&$J24,Input!$A$5:$A$24&Input!$G$5:$G$24,0),5))","v":""},null,null,null,null,{"$f":"IF($A24=\"\",\"\",OFFSET(Input!F$4,MATCH($A24,Input!$A$5:$A$24,0),0))","v":""},"",null,{"$f":"IF(N24=\"SY\", V24, IF(N24=\"Tons\", O24-P24, \"\"))","v":""},"\\",{"$f":"IF(A24=\"\",1,IF(ISERROR(MATCH(R24,Input!L$5:L$24,0)),2,1))","v":1},"",null,{"$f":"IF(A24=\"\", \"\", SUMIF($Q$8:$Q$17, \"*\" & LEFT(A24, 11) & \"*\", $T$8:$T$17))","v":""},{"$f":"IF(N24=\"SY\", T24, IF(N24=\"Tons\", V24+P24, \"\"))","v":""}]
[null,null,null,null,null,{"$f":"IF($J25=\"\",\"\",INDEX(Input!$A$5:$H$24,MATCH($A25&$J25,Input!$A$5:$A$24&Input!$G$5:$G$24,0),2))","v":""},{"$f":"IF($J25=\"\",\"\",INDEX(Input!$A$5:$H$24,MATCH($A25&$J25,Input!$A$5:$A$24&Input!$G$5:$G$24,0),3))","v":""},{"$f":"IF($J25=\"\",\"\",INDEX(Input!$A$5:$H$24,MATCH($A25&$J25,Input!$A$5:$A$24&Input!$G$5:$G$24,0),4))","v":""},{"$f":"IF($J25=\"\",\"\",INDEX(Input!$A$5:$H$24,MATCH($A25&$J25,Input!$A$5:$A$24&Input!$G$5:$G$24,0),5))","v":""},null,null,null,null,{"$f":"IF($A25=\"\",\"\",OFFSET(Input!F$4,MATCH($A25,Input!$A$5:$A$24,0),0))","v":""},"",null,"","\\",{"$f":"IF(A25=\"\",1,IF(ISERROR(MATCH(R25,Input!L$5:L$24,0)),2,1))","v":1},"",null,"",""]
[null,null,null,null,null,null,null,null,null,null,null,null,null,null,null,null,null,null,null,null,null,"",{"$f":"IF(N26=\"SY\", T26, IF(N26=\"Tons\", V26+P26, \"\"))","v":""},{"$f":"IF(A26=\"\", \"\", SUMIF($Q$8:$Q$17, \"*\" & LEFT(A26, 11) & \"*\", $S$8:$S$17))","v":""},{"$f":"IF(N26=\"SY\",X26,\"\")","v":""},{"$f":"IF(A26=\"\", \"\", SUMIF($Q$8:$Q$17, \"*\" & LEFT(A26, 11) & \"*\", $T$8:$T$17))","v":""}]
["Hot Box Sample",null,null,null,null,null,null,null,null,null,"Mat Temperatures °F"]
[null,"Test A","Test B","Test C","Test D","Test E",null,null,null,null,"Time","Temp"]
[" Hot Box ID Number  ",null,null,null,null,null,null,null,null,null,"7:00"]
["Hot Box Sample Tons: ",null,null,null,null,null,null,null,null,null,"9:00",null,null,null,"Intended Thickness:"]
[" Time: ",null,null,null,null,null,null,null,null,null,"11:00",null,null,null,"Cores Waived?"]
[" Station/MP: ",null,null,null,null,null,null,null,null,null,"1:00",null,null,null,"Small Quantity Statement?"]
["Bar Code ID.:",null,null,null,null,null,null,null,null,null,"3:00",null,null,null,"Scale Check Done?"]
["Compaction Temp. °F: ",null,null,null,null,null,null,null,null,null,"5:00",null,null,null,"Tack Tickets Today?"]
[null,null,null,null,null,null,null,null,null,null,"7:00"]
["The Below Comments should show up on the plant report"]
["Comments:"]
[]
[]
["The Below Notes are for the CPI from the field or Plant Monitor"]
["Notes:"]
[]
[]
["RANDOM CORE LOCATIONS"]
[null,null,null,null,null,null,null,"Core #","Station","Offset,ft","Joint Station","Lane"]
[null,null,null,null,null,null,null,1]
[null,null,null,null,null,null,null,2]
[null,null,null,null,null,null,null,3]
[null,null,null,null,null,null,null,4]
[null,null,null,null,null,null,null,5]
[null,null,null,null,null,null,null,6]
[null,null,null,null,null,null,null,7]
[null,null,null,null,null,null,null,8]
[]
[null,null,null,null,null,null,null,null,null,null,"Joint Sublot Size, ft"]
[null,null,null,null,null,null,null,null,null,null,0]
[]
[]
[]
[]
[]
[]
[]
[]
[]
[]
[]
[]
[]
[]
[]
[]
[]
[]
[]
[]
[]
[]
[]
[]
[]
[]
[]
[]
[]
[]
[]
[]
[]
[]
[]
[]
[]
[]
[]
[]
[false]

{"sheet":"91","index":106,"n_rows":97,"n_cols":26,"rows_kept":97,"cut":false,"hidden":false,"merged":[[50,11,50,13],[51,11,51,13],[52,11,52,13],[44,11,44,13],[45,11,45,13],[46,11,46,13],[47,11,47,13],[48,11,48,13],[49,11,49,13],[43,0,43,16],[25,0,25,1],[26,0,26,5],[26,20,26,23],[26,25,26,27],[34,2,34,4],[35,0,35,5],[36,1,36,14],[37,0,37,14],[39,0,39,5],[40,1,40,14],[41,0,41,14],[23,0,23,1],[23,2,23,4],[23,9,23,12],[24,0,24,1],[24,2,24,4],[24,9,24,12],[21,0,21,1],[21,2,21,4],[21,9,21,12],[22,0,22,1],[22,2,22,4],[22,9,22,12],[19,0,19,1],[19,2,19,4],[19,9,19,12],[20,0,20,1],[20,2,20,4],[20,9,20,12],[18,0,18,16],[6,14,6,15],[7,14,7,15],[8,14,8,15],[9,14,9,15],[10,14,10,15],[11,14,11,15],[12,14,12,15],[13,14,13,15],[14,14,14,15],[15,14,15,15],[16,14,16,15],[1,0,1,16],[4,0,4,15],[5,4,5,5],[5,8,5,9],[5,11,5,12],[5,13,5,15]]}
[]
["Iowa DOT HMA Field Report"]
["Date :"]
["Item No.('s)"]
["PLACEMENT RECORD",null,null,null,null,null,null,null,null,null,null,null,null,null,null,null,null,null,null,null,null,{"$f":"SUBSTITUTE(A21 & \"\\\" & J21,\"\"\"\",\"\")","v":"\\"}]
[null,null,null,null,"Additional width to DEDUCT from Field Voids",null,null,null,"Placed Density (Pounds/CF)=",null,150,"Overwritten on the \"Summary\" Tab",null,"ONLY ONE (1) MIX DESIGN PER DFR OTHERWISE IT WILL NOT IMPORT INTO THE PLANT REPORT PROPERLY",null,null,null,null,null,null,null,{"$f":"SUBSTITUTE(A22 & \"\\\" & J22,\"\"\"\",\"\")","v":"\\"}]
["From Station"," To Station","Lane","ML or Widening Placement Width","Additional Width (ft) ","Thickness (in)","Total Length Placed (FT)","\"Pay\"  Est \"SY\"","Thickness (inches)","Calculated Field Voids Tons","Placed Tons            (Not including Waste)","% Yield","SY to be PAID (If Diff. than Est SY)","Mix Design No.","Bid Item/ Project No.",null,null,null,"This uses the correct SY #, if Green is blank uses Est. SY","Adds up the Tons",null,"\\"]
[null,null,null,null,null,null,{"$f":"IF(OR(A8=\"\",B8=\"\"),0,IF($A$97=TRUE,ABS(B8-A8)*5280,ABS(VALUE(SUBSTITUTE(A8,\"+\",\"\"))-VALUE(SUBSTITUTE(B8,\"+\",\"\")))))","v":0},{"$f":"IF(D8=\"\",\"\",G8*(D8+E8)/9)","v":""},null,{"$f":"IF(I8=\"\",\"\",(G8)*(D8+E8)*I8/12*$K$6/2000)","v":""},null,{"$f":"IF(K8=\"\",\"\",K8/J8*100)","v":""},null,null,null,null,{"$f":"O8 & \"\\\" & N8","v":"\\"},{"$f":"IF(AND(A8=\"\",B8=\"\",C8=\"\",D8=\"\"),1,IF(OR(O8=\"\",N8=\"\"),2,IF(ISERROR(MATCH(Q8,Input!M$5:M$24,0)),2,1)))","v":1},{"$f":"IF(M8<>\"\", M8, H8)","v":""},{"$f":"K8","v":0},null,"\\"]
[null,null,null,null,null,null,{"$f":"IF(OR(A9=\"\",B9=\"\"),0,IF($A$97=TRUE,ABS(B9-A9)*5280,ABS(VALUE(SUBSTITUTE(A9,\"+\",\"\"))-VALUE(SUBSTITUTE(B9,\"+\",\"\")))))","v":0},{"$f":"IF(D9=\"\",\"\",G9*(D9+E9)/9)","v":""},null,"",null,{"$f":"IF(K9=\"\",\"\",K9/J9*100)","v":""},null,null,null,null,{"$f":"O9 & \"\\\" & N9","v":"\\"},{"$f":"IF(AND(A9=\"\",B9=\"\",C9=\"\",D9=\"\"),1,IF(OR(O9=\"\",N9=\"\"),2,IF(ISERROR(MATCH(Q9,Input!M$5:M$24,0)),2,1)))","v":1},{"$f":"IF(M9<>\"\", M9, H9)","v":""},{"$f":"K9","v":0},null,"\\"]
[null,null,null,null,null,null,0,"",null,"",null,"",null,null,null,null,"\\",{"$f":"IF(AND(A10=\"\",B10=\"\",C10=\"\",D10=\"\"),1,IF(OR(O10=\"\",N10=\"\"),2,IF(ISERROR(MATCH(Q10,Input!M$5:M$24,0)),2,1)))","v":1},{"$f":"IF(M10<>\"\", M10, H10)","v":""},0]
[null,null,null,null,null,null,0,"",null,"",null,"",null,null,null,null,"\\",{"$f":"IF(AND(A11=\"\",B11=\"\",C11=\"\",D11=\"\"),1,IF(OR(O11=\"\",N11=\"\"),2,IF(ISERROR(MATCH(Q11,Input!M$5:M$24,0)),2,1)))","v":1},"",0]
[null,null,null,null,null,null,0,"",null,"",null,"",null,null,null,null,"\\",{"$f":"IF(AND(A12=\"\",B12=\"\",C12=\"\",D12=\"\"),1,IF(OR(O12=\"\",N12=\"\"),2,IF(ISERROR(MATCH(Q12,Input!M$5:M$24,0)),2,1)))","v":1},"",0]
[null,null,null,null,null,null,0,"",null,"",null,"",null,null,null,null,"\\",{"$f":"IF(AND(A13=\"\",B13=\"\",C13=\"\",D13=\"\"),1,IF(OR(O13=\"\",N13=\"\"),2,IF(ISERROR(MATCH(Q13,Input!M$5:M$24,0)),2,1)))","v":1},"",0]
[null,null,null,null,null,null,0,"",null,"",null,"",null,null,null,null,"\\",{"$f":"IF(AND(A14=\"\",B14=\"\",C14=\"\",D14=\"\"),1,IF(OR(O14=\"\",N14=\"\"),2,IF(ISERROR(MATCH(Q14,Input!M$5:M$24,0)),2,1)))","v":1},"",0]
[null,null,null,null,null,null,0,"",null,"",null,"",null,null,null,null,"\\",{"$f":"IF(AND(A15=\"\",B15=\"\",C15=\"\",D15=\"\"),1,IF(OR(O15=\"\",N15=\"\"),2,IF(ISERROR(MATCH(Q15,Input!M$5:M$24,0)),2,1)))","v":1},"",0]
[null,null,null,null,null,null,0,"",null,"",null,"",null,null,null,null,"\\",{"$f":"IF(AND(A16=\"\",B16=\"\",C16=\"\",D16=\"\"),1,IF(OR(O16=\"\",N16=\"\"),2,IF(ISERROR(MATCH(Q16,Input!M$5:M$24,0)),2,1)))","v":1},"",0]
[null,null,null,null,null,null,0,"",null,"",null,"",null,null,null,null,"\\",{"$f":"IF(AND(A17=\"\",B17=\"\",C17=\"\",D17=\"\"),1,IF(OR(O17=\"\",N17=\"\"),2,IF(ISERROR(MATCH(Q17,Input!M$5:M$24,0)),2,1)))","v":1},"",0]
[]
["TANK SHEET"]
["Bid Item (In Order of Placement)",null,"Today's Placement",null,null,"Bid Item Plan Quantity","Plan Thickness (in)","Contract Mix Price","Contract Binder Price","Project Number",null,null,null,"Mix Pay Units","Mix Delivered to Road\n(Ton or SY)","Waste On Road (Ton)\nNO waste for SY Items","Tons Placed - Waste",null,null,"This adds up column S as it depends if the Est SY is filled out or the SY",null,"Use this Column for SY for the Q column","Uses this Value for Mix on Road"]
[null,null,null,null,null,{"$f":"IF($J21=\"\",\"\",INDEX(Input!$A$5:$H$24,MATCH($A21&$J21,Input!$A$5:$A$24&Input!$G$5:$G$24,0),2))","v":""},{"$f":"IF($J21=\"\",\"\",INDEX(Input!$A$5:$H$24,MATCH($A21&$J21,Input!$A$5:$A$24&Input!$G$5:$G$24,0),3))","v":""},{"$f":"IF($J21=\"\",\"\",INDEX(Input!$A$5:$H$24,MATCH($A21&$J21,Input!$A$5:$A$24&Input!$G$5:$G$24,0),4))","v":""},{"$f":"IF($J21=\"\",\"\",INDEX(Input!$A$5:$H$24,MATCH($A21&$J21,Input!$A$5:$A$24&Input!$G$5:$G$24,0),5))","v":""},null,null,null,null,{"$f":"IF($A21=\"\",\"\",OFFSET(Input!F$4,MATCH($A21,Input!$A$5:$A$24,0),0))","v":""},{"$f":"IF(N21=\"SY\", T21, IF(N21=\"Tons\", W21, \"\"))","v":""},null,{"$f":"IF(N21=\"SY\", V21, IF(N21=\"Tons\", O21-P21, \"\"))","v":""},{"$f":"SUBSTITUTE(A21 & \"\\\" & J21,\"\"\"\",\"\")","v":"\\"},{"$f":"IF(A21=\"\",1,IF(ISERROR(MATCH(R21,Input!L$5:L$24,0)),2,1))","v":1},{"$f":"IF(A21=\"\", \"\", SUMIF($Q$8:$Q$17, \"*\" & LEFT(A21, 11) & \"*\", $S$8:$S$17))","v":""},null,{"$f":"IF(A21=\"\", \"\", SUMIF($Q$8:$Q$17, \"*\" & LEFT(A21, 11) & \"*\", $T$8:$T$17))","v":""},{"$f":"IF(N21=\"SY\", T21, IF(N21=\"Tons\", V21+P21, \"\"))","v":""}]
[null,null,null,null,null,{"$f":"IF($J22=\"\",\"\",INDEX(Input!$A$5:$H$24,MATCH($A22&$J22,Input!$A$5:$A$24&Input!$G$5:$G$24,0),2))","v":""},{"$f":"IF($J22=\"\",\"\",INDEX(Input!$A$5:$H$24,MATCH($A22&$J22,Input!$A$5:$A$24&Input!$G$5:$G$24,0),3))","v":""},{"$f":"IF($J22=\"\",\"\",INDEX(Input!$A$5:$H$24,MATCH($A22&$J22,Input!$A$5:$A$24&Input!$G$5:$G$24,0),4))","v":""},{"$f":"IF($J22=\"\",\"\",INDEX(Input!$A$5:$H$24,MATCH($A22&$J22,Input!$A$5:$A$24&Input!$G$5:$G$24,0),5))","v":""},null,null,null,null,{"$f":"IF($A22=\"\",\"\",OFFSET(Input!F$4,MATCH($A22,Input!$A$5:$A$24,0),0))","v":""},{"$f":"IF(N22=\"SY\", T22, IF(N22=\"Tons\", W22, \"\"))","v":""},null,{"$f":"IF(N22=\"SY\", V22, IF(N22=\"Tons\", O22-P22, \"\"))","v":""},{"$f":"SUBSTITUTE(A22 & \"\\\" & J22,\"\"\"\",\"\")","v":"\\"},{"$f":"IF(A22=\"\",1,IF(ISERROR(MATCH(R22,Input!L$5:L$24,0)),2,1))","v":1},{"$f":"IF(A22=\"\", \"\", SUMIF($Q$8:$Q$17, \"*\" & LEFT(A22, 11) & \"*\", $S$8:$S$17))","v":""},null,{"$f":"IF(A22=\"\", \"\", SUMIF($Q$8:$Q$17, \"*\" & LEFT(A22, 11) & \"*\", $T$8:$T$17))","v":""},{"$f":"IF(N22=\"SY\", T22, IF(N22=\"Tons\", V22+P22, \"\"))","v":""}]
[null,null,null,null,null,{"$f":"IF($J23=\"\",\"\",INDEX(Input!$A$5:$H$24,MATCH($A23&$J23,Input!$A$5:$A$24&Input!$G$5:$G$24,0),2))","v":""},{"$f":"IF($J23=\"\",\"\",INDEX(Input!$A$5:$H$24,MATCH($A23&$J23,Input!$A$5:$A$24&Input!$G$5:$G$24,0),3))","v":""},{"$f":"IF($J23=\"\",\"\",INDEX(Input!$A$5:$H$24,MATCH($A23&$J23,Input!$A$5:$A$24&Input!$G$5:$G$24,0),4))","v":""},{"$f":"IF($J23=\"\",\"\",INDEX(Input!$A$5:$H$24,MATCH($A23&$J23,Input!$A$5:$A$24&Input!$G$5:$G$24,0),5))","v":""},null,null,null,null,{"$f":"IF($A23=\"\",\"\",OFFSET(Input!F$4,MATCH($A23,Input!$A$5:$A$24,0),0))","v":""},{"$f":"IF(N23=\"SY\", T23, IF(N23=\"Tons\", W23, \"\"))","v":""},null,{"$f":"IF(N23=\"SY\", V23, IF(N23=\"Tons\", O23-P23, \"\"))","v":""},"\\",{"$f":"IF(A23=\"\",1,IF(ISERROR(MATCH(R23,Input!L$5:L$24,0)),2,1))","v":1},{"$f":"IF(A23=\"\", \"\", SUMIF($Q$8:$Q$17, \"*\" & LEFT(A23, 11) & \"*\", $S$8:$S$17))","v":""},null,{"$f":"IF(A23=\"\", \"\", SUMIF($Q$8:$Q$17, \"*\" & LEFT(A23, 11) & \"*\", $T$8:$T$17))","v":""},{"$f":"IF(N23=\"SY\", T23, IF(N23=\"Tons\", V23+P23, \"\"))","v":""}]
[null,null,null,null,null,{"$f":"IF($J24=\"\",\"\",INDEX(Input!$A$5:$H$24,MATCH($A24&$J24,Input!$A$5:$A$24&Input!$G$5:$G$24,0),2))","v":""},{"$f":"IF($J24=\"\",\"\",INDEX(Input!$A$5:$H$24,MATCH($A24&$J24,Input!$A$5:$A$24&Input!$G$5:$G$24,0),3))","v":""},{"$f":"IF($J24=\"\",\"\",INDEX(Input!$A$5:$H$24,MATCH($A24&$J24,Input!$A$5:$A$24&Input!$G$5:$G$24,0),4))","v":""},{"$f":"IF($J24=\"\",\"\",INDEX(Input!$A$5:$H$24,MATCH($A24&$J24,Input!$A$5:$A$24&Input!$G$5:$G$24,0),5))","v":""},null,null,null,null,{"$f":"IF($A24=\"\",\"\",OFFSET(Input!F$4,MATCH($A24,Input!$A$5:$A$24,0),0))","v":""},"",null,{"$f":"IF(N24=\"SY\", V24, IF(N24=\"Tons\", O24-P24, \"\"))","v":""},"\\",{"$f":"IF(A24=\"\",1,IF(ISERROR(MATCH(R24,Input!L$5:L$24,0)),2,1))","v":1},"",null,{"$f":"IF(A24=\"\", \"\", SUMIF($Q$8:$Q$17, \"*\" & LEFT(A24, 11) & \"*\", $T$8:$T$17))","v":""},{"$f":"IF(N24=\"SY\", T24, IF(N24=\"Tons\", V24+P24, \"\"))","v":""}]
[null,null,null,null,null,{"$f":"IF($J25=\"\",\"\",INDEX(Input!$A$5:$H$24,MATCH($A25&$J25,Input!$A$5:$A$24&Input!$G$5:$G$24,0),2))","v":""},{"$f":"IF($J25=\"\",\"\",INDEX(Input!$A$5:$H$24,MATCH($A25&$J25,Input!$A$5:$A$24&Input!$G$5:$G$24,0),3))","v":""},{"$f":"IF($J25=\"\",\"\",INDEX(Input!$A$5:$H$24,MATCH($A25&$J25,Input!$A$5:$A$24&Input!$G$5:$G$24,0),4))","v":""},{"$f":"IF($J25=\"\",\"\",INDEX(Input!$A$5:$H$24,MATCH($A25&$J25,Input!$A$5:$A$24&Input!$G$5:$G$24,0),5))","v":""},null,null,null,null,{"$f":"IF($A25=\"\",\"\",OFFSET(Input!F$4,MATCH($A25,Input!$A$5:$A$24,0),0))","v":""},"",null,"","\\",{"$f":"IF(A25=\"\",1,IF(ISERROR(MATCH(R25,Input!L$5:L$24,0)),2,1))","v":1},"",null,"",""]
[null,null,null,null,null,null,null,null,null,null,null,null,null,null,null,null,null,null,null,null,null,"",{"$f":"IF(N26=\"SY\", T26, IF(N26=\"Tons\", V26+P26, \"\"))","v":""},{"$f":"IF(A26=\"\", \"\", SUMIF($Q$8:$Q$17, \"*\" & LEFT(A26, 11) & \"*\", $S$8:$S$17))","v":""},{"$f":"IF(N26=\"SY\",X26,\"\")","v":""},{"$f":"IF(A26=\"\", \"\", SUMIF($Q$8:$Q$17, \"*\" & LEFT(A26, 11) & \"*\", $T$8:$T$17))","v":""}]
["Hot Box Sample",null,null,null,null,null,null,null,null,null,"Mat Temperatures °F"]
[null,"Test A","Test B","Test C","Test D","Test E",null,null,null,null,"Time","Temp"]
[" Hot Box ID Number  ",null,null,null,null,null,null,null,null,null,"7:00"]
["Hot Box Sample Tons: ",null,null,null,null,null,null,null,null,null,"9:00",null,null,null,"Intended Thickness:"]
[" Time: ",null,null,null,null,null,null,null,null,null,"11:00",null,null,null,"Cores Waived?"]
[" Station/MP: ",null,null,null,null,null,null,null,null,null,"1:00",null,null,null,"Small Quantity Statement?"]
["Bar Code ID.:",null,null,null,null,null,null,null,null,null,"3:00",null,null,null,"Scale Check Done?"]
["Compaction Temp. °F: ",null,null,null,null,null,null,null,null,null,"5:00",null,null,null,"Tack Tickets Today?"]
[null,null,null,null,null,null,null,null,null,null,"7:00"]
["The Below Comments should show up on the plant report"]
["Comments:"]
[]
[]
["The Below Notes are for the CPI from the field or Plant Monitor"]
["Notes:"]
[]
[]
["RANDOM CORE LOCATIONS"]
[null,null,null,null,null,null,null,"Core #","Station","Offset,ft","Joint Station","Lane"]
[null,null,null,null,null,null,null,1]
[null,null,null,null,null,null,null,2]
[null,null,null,null,null,null,null,3]
[null,null,null,null,null,null,null,4]
[null,null,null,null,null,null,null,5]
[null,null,null,null,null,null,null,6]
[null,null,null,null,null,null,null,7]
[null,null,null,null,null,null,null,8]
[]
[null,null,null,null,null,null,null,null,null,null,"Joint Sublot Size, ft"]
[null,null,null,null,null,null,null,null,null,null,0]
[]
[]
[]
[]
[]
[]
[]
[]
[]
[]
[]
[]
[]
[]
[]
[]
[]
[]
[]
[]
[]
[]
[]
[]
[]
[]
[]
[]
[]
[]
[]
[]
[]
[]
[]
[]
[]
[]
[]
[]
[false]

{"sheet":"92","index":107,"n_rows":97,"n_cols":26,"rows_kept":97,"cut":false,"hidden":false,"merged":[[50,11,50,13],[51,11,51,13],[52,11,52,13],[44,11,44,13],[45,11,45,13],[46,11,46,13],[47,11,47,13],[48,11,48,13],[49,11,49,13],[43,0,43,16],[25,0,25,1],[26,0,26,5],[26,20,26,23],[26,25,26,27],[34,2,34,4],[35,0,35,5],[36,1,36,14],[37,0,37,14],[39,0,39,5],[40,1,40,14],[41,0,41,14],[23,0,23,1],[23,2,23,4],[23,9,23,12],[24,0,24,1],[24,2,24,4],[24,9,24,12],[21,0,21,1],[21,2,21,4],[21,9,21,12],[22,0,22,1],[22,2,22,4],[22,9,22,12],[19,0,19,1],[19,2,19,4],[19,9,19,12],[20,0,20,1],[20,2,20,4],[20,9,20,12],[18,0,18,16],[6,14,6,15],[7,14,7,15],[8,14,8,15],[9,14,9,15],[10,14,10,15],[11,14,11,15],[12,14,12,15],[13,14,13,15],[14,14,14,15],[15,14,15,15],[16,14,16,15],[1,0,1,16],[4,0,4,15],[5,4,5,5],[5,8,5,9],[5,11,5,12],[5,13,5,15]]}
[]
["Iowa DOT HMA Field Report"]
["Date :"]
["Item No.('s)"]
["PLACEMENT RECORD",null,null,null,null,null,null,null,null,null,null,null,null,null,null,null,null,null,null,null,null,{"$f":"SUBSTITUTE(A21 & \"\\\" & J21,\"\"\"\",\"\")","v":"\\"}]
[null,null,null,null,"Additional width to DEDUCT from Field Voids",null,null,null,"Placed Density (Pounds/CF)=",null,150,"Overwritten on the \"Summary\" Tab",null,"ONLY ONE (1) MIX DESIGN PER DFR OTHERWISE IT WILL NOT IMPORT INTO THE PLANT REPORT PROPERLY",null,null,null,null,null,null,null,{"$f":"SUBSTITUTE(A22 & \"\\\" & J22,\"\"\"\",\"\")","v":"\\"}]
["From Station"," To Station","Lane","ML or Widening Placement Width","Additional Width (ft) ","Thickness (in)","Total Length Placed (FT)","\"Pay\"  Est \"SY\"","Thickness (inches)","Calculated Field Voids Tons","Placed Tons            (Not including Waste)","% Yield","SY to be PAID (If Diff. than Est SY)","Mix Design No.","Bid Item/ Project No.",null,null,null,"This uses the correct SY #, if Green is blank uses Est. SY","Adds up the Tons",null,"\\"]
[null,null,null,null,null,null,{"$f":"IF(OR(A8=\"\",B8=\"\"),0,IF($A$97=TRUE,ABS(B8-A8)*5280,ABS(VALUE(SUBSTITUTE(A8,\"+\",\"\"))-VALUE(SUBSTITUTE(B8,\"+\",\"\")))))","v":0},{"$f":"IF(D8=\"\",\"\",G8*(D8+E8)/9)","v":""},null,{"$f":"IF(I8=\"\",\"\",(G8)*(D8+E8)*I8/12*$K$6/2000)","v":""},null,{"$f":"IF(K8=\"\",\"\",K8/J8*100)","v":""},null,null,null,null,{"$f":"O8 & \"\\\" & N8","v":"\\"},{"$f":"IF(AND(A8=\"\",B8=\"\",C8=\"\",D8=\"\"),1,IF(OR(O8=\"\",N8=\"\"),2,IF(ISERROR(MATCH(Q8,Input!M$5:M$24,0)),2,1)))","v":1},{"$f":"IF(M8<>\"\", M8, H8)","v":""},{"$f":"K8","v":0},null,"\\"]
[null,null,null,null,null,null,{"$f":"IF(OR(A9=\"\",B9=\"\"),0,IF($A$97=TRUE,ABS(B9-A9)*5280,ABS(VALUE(SUBSTITUTE(A9,\"+\",\"\"))-VALUE(SUBSTITUTE(B9,\"+\",\"\")))))","v":0},{"$f":"IF(D9=\"\",\"\",G9*(D9+E9)/9)","v":""},null,"",null,{"$f":"IF(K9=\"\",\"\",K9/J9*100)","v":""},null,null,null,null,{"$f":"O9 & \"\\\" & N9","v":"\\"},{"$f":"IF(AND(A9=\"\",B9=\"\",C9=\"\",D9=\"\"),1,IF(OR(O9=\"\",N9=\"\"),2,IF(ISERROR(MATCH(Q9,Input!M$5:M$24,0)),2,1)))","v":1},{"$f":"IF(M9<>\"\", M9, H9)","v":""},{"$f":"K9","v":0},null,"\\"]
[null,null,null,null,null,null,0,"",null,"",null,"",null,null,null,null,"\\",{"$f":"IF(AND(A10=\"\",B10=\"\",C10=\"\",D10=\"\"),1,IF(OR(O10=\"\",N10=\"\"),2,IF(ISERROR(MATCH(Q10,Input!M$5:M$24,0)),2,1)))","v":1},{"$f":"IF(M10<>\"\", M10, H10)","v":""},0]
[null,null,null,null,null,null,0,"",null,"",null,"",null,null,null,null,"\\",{"$f":"IF(AND(A11=\"\",B11=\"\",C11=\"\",D11=\"\"),1,IF(OR(O11=\"\",N11=\"\"),2,IF(ISERROR(MATCH(Q11,Input!M$5:M$24,0)),2,1)))","v":1},"",0]
[null,null,null,null,null,null,0,"",null,"",null,"",null,null,null,null,"\\",{"$f":"IF(AND(A12=\"\",B12=\"\",C12=\"\",D12=\"\"),1,IF(OR(O12=\"\",N12=\"\"),2,IF(ISERROR(MATCH(Q12,Input!M$5:M$24,0)),2,1)))","v":1},"",0]
[null,null,null,null,null,null,0,"",null,"",null,"",null,null,null,null,"\\",{"$f":"IF(AND(A13=\"\",B13=\"\",C13=\"\",D13=\"\"),1,IF(OR(O13=\"\",N13=\"\"),2,IF(ISERROR(MATCH(Q13,Input!M$5:M$24,0)),2,1)))","v":1},"",0]
[null,null,null,null,null,null,0,"",null,"",null,"",null,null,null,null,"\\",{"$f":"IF(AND(A14=\"\",B14=\"\",C14=\"\",D14=\"\"),1,IF(OR(O14=\"\",N14=\"\"),2,IF(ISERROR(MATCH(Q14,Input!M$5:M$24,0)),2,1)))","v":1},"",0]
[null,null,null,null,null,null,0,"",null,"",null,"",null,null,null,null,"\\",{"$f":"IF(AND(A15=\"\",B15=\"\",C15=\"\",D15=\"\"),1,IF(OR(O15=\"\",N15=\"\"),2,IF(ISERROR(MATCH(Q15,Input!M$5:M$24,0)),2,1)))","v":1},"",0]
[null,null,null,null,null,null,0,"",null,"",null,"",null,null,null,null,"\\",{"$f":"IF(AND(A16=\"\",B16=\"\",C16=\"\",D16=\"\"),1,IF(OR(O16=\"\",N16=\"\"),2,IF(ISERROR(MATCH(Q16,Input!M$5:M$24,0)),2,1)))","v":1},"",0]
[null,null,null,null,null,null,0,"",null,"",null,"",null,null,null,null,"\\",{"$f":"IF(AND(A17=\"\",B17=\"\",C17=\"\",D17=\"\"),1,IF(OR(O17=\"\",N17=\"\"),2,IF(ISERROR(MATCH(Q17,Input!M$5:M$24,0)),2,1)))","v":1},"",0]
[]
["TANK SHEET"]
["Bid Item (In Order of Placement)",null,"Today's Placement",null,null,"Bid Item Plan Quantity","Plan Thickness (in)","Contract Mix Price","Contract Binder Price","Project Number",null,null,null,"Mix Pay Units","Mix Delivered to Road\n(Ton or SY)","Waste On Road (Ton)\nNO waste for SY Items","Tons Placed - Waste",null,null,"This adds up column S as it depends if the Est SY is filled out or the SY",null,"Use this Column for SY for the Q column","Uses this Value for Mix on Road"]
[null,null,null,null,null,{"$f":"IF($J21=\"\",\"\",INDEX(Input!$A$5:$H$24,MATCH($A21&$J21,Input!$A$5:$A$24&Input!$G$5:$G$24,0),2))","v":""},{"$f":"IF($J21=\"\",\"\",INDEX(Input!$A$5:$H$24,MATCH($A21&$J21,Input!$A$5:$A$24&Input!$G$5:$G$24,0),3))","v":""},{"$f":"IF($J21=\"\",\"\",INDEX(Input!$A$5:$H$24,MATCH($A21&$J21,Input!$A$5:$A$24&Input!$G$5:$G$24,0),4))","v":""},{"$f":"IF($J21=\"\",\"\",INDEX(Input!$A$5:$H$24,MATCH($A21&$J21,Input!$A$5:$A$24&Input!$G$5:$G$24,0),5))","v":""},null,null,null,null,{"$f":"IF($A21=\"\",\"\",OFFSET(Input!F$4,MATCH($A21,Input!$A$5:$A$24,0),0))","v":""},{"$f":"IF(N21=\"SY\", T21, IF(N21=\"Tons\", W21, \"\"))","v":""},null,{"$f":"IF(N21=\"SY\", V21, IF(N21=\"Tons\", O21-P21, \"\"))","v":""},{"$f":"SUBSTITUTE(A21 & \"\\\" & J21,\"\"\"\",\"\")","v":"\\"},{"$f":"IF(A21=\"\",1,IF(ISERROR(MATCH(R21,Input!L$5:L$24,0)),2,1))","v":1},{"$f":"IF(A21=\"\", \"\", SUMIF($Q$8:$Q$17, \"*\" & LEFT(A21, 11) & \"*\", $S$8:$S$17))","v":""},null,{"$f":"IF(A21=\"\", \"\", SUMIF($Q$8:$Q$17, \"*\" & LEFT(A21, 11) & \"*\", $T$8:$T$17))","v":""},{"$f":"IF(N21=\"SY\", T21, IF(N21=\"Tons\", V21+P21, \"\"))","v":""}]
[null,null,null,null,null,{"$f":"IF($J22=\"\",\"\",INDEX(Input!$A$5:$H$24,MATCH($A22&$J22,Input!$A$5:$A$24&Input!$G$5:$G$24,0),2))","v":""},{"$f":"IF($J22=\"\",\"\",INDEX(Input!$A$5:$H$24,MATCH($A22&$J22,Input!$A$5:$A$24&Input!$G$5:$G$24,0),3))","v":""},{"$f":"IF($J22=\"\",\"\",INDEX(Input!$A$5:$H$24,MATCH($A22&$J22,Input!$A$5:$A$24&Input!$G$5:$G$24,0),4))","v":""},{"$f":"IF($J22=\"\",\"\",INDEX(Input!$A$5:$H$24,MATCH($A22&$J22,Input!$A$5:$A$24&Input!$G$5:$G$24,0),5))","v":""},null,null,null,null,{"$f":"IF($A22=\"\",\"\",OFFSET(Input!F$4,MATCH($A22,Input!$A$5:$A$24,0),0))","v":""},{"$f":"IF(N22=\"SY\", T22, IF(N22=\"Tons\", W22, \"\"))","v":""},null,{"$f":"IF(N22=\"SY\", V22, IF(N22=\"Tons\", O22-P22, \"\"))","v":""},{"$f":"SUBSTITUTE(A22 & \"\\\" & J22,\"\"\"\",\"\")","v":"\\"},{"$f":"IF(A22=\"\",1,IF(ISERROR(MATCH(R22,Input!L$5:L$24,0)),2,1))","v":1},{"$f":"IF(A22=\"\", \"\", SUMIF($Q$8:$Q$17, \"*\" & LEFT(A22, 11) & \"*\", $S$8:$S$17))","v":""},null,{"$f":"IF(A22=\"\", \"\", SUMIF($Q$8:$Q$17, \"*\" & LEFT(A22, 11) & \"*\", $T$8:$T$17))","v":""},{"$f":"IF(N22=\"SY\", T22, IF(N22=\"Tons\", V22+P22, \"\"))","v":""}]
[null,null,null,null,null,{"$f":"IF($J23=\"\",\"\",INDEX(Input!$A$5:$H$24,MATCH($A23&$J23,Input!$A$5:$A$24&Input!$G$5:$G$24,0),2))","v":""},{"$f":"IF($J23=\"\",\"\",INDEX(Input!$A$5:$H$24,MATCH($A23&$J23,Input!$A$5:$A$24&Input!$G$5:$G$24,0),3))","v":""},{"$f":"IF($J23=\"\",\"\",INDEX(Input!$A$5:$H$24,MATCH($A23&$J23,Input!$A$5:$A$24&Input!$G$5:$G$24,0),4))","v":""},{"$f":"IF($J23=\"\",\"\",INDEX(Input!$A$5:$H$24,MATCH($A23&$J23,Input!$A$5:$A$24&Input!$G$5:$G$24,0),5))","v":""},null,null,null,null,{"$f":"IF($A23=\"\",\"\",OFFSET(Input!F$4,MATCH($A23,Input!$A$5:$A$24,0),0))","v":""},{"$f":"IF(N23=\"SY\", T23, IF(N23=\"Tons\", W23, \"\"))","v":""},null,{"$f":"IF(N23=\"SY\", V23, IF(N23=\"Tons\", O23-P23, \"\"))","v":""},"\\",{"$f":"IF(A23=\"\",1,IF(ISERROR(MATCH(R23,Input!L$5:L$24,0)),2,1))","v":1},{"$f":"IF(A23=\"\", \"\", SUMIF($Q$8:$Q$17, \"*\" & LEFT(A23, 11) & \"*\", $S$8:$S$17))","v":""},null,{"$f":"IF(A23=\"\", \"\", SUMIF($Q$8:$Q$17, \"*\" & LEFT(A23, 11) & \"*\", $T$8:$T$17))","v":""},{"$f":"IF(N23=\"SY\", T23, IF(N23=\"Tons\", V23+P23, \"\"))","v":""}]
[null,null,null,null,null,{"$f":"IF($J24=\"\",\"\",INDEX(Input!$A$5:$H$24,MATCH($A24&$J24,Input!$A$5:$A$24&Input!$G$5:$G$24,0),2))","v":""},{"$f":"IF($J24=\"\",\"\",INDEX(Input!$A$5:$H$24,MATCH($A24&$J24,Input!$A$5:$A$24&Input!$G$5:$G$24,0),3))","v":""},{"$f":"IF($J24=\"\",\"\",INDEX(Input!$A$5:$H$24,MATCH($A24&$J24,Input!$A$5:$A$24&Input!$G$5:$G$24,0),4))","v":""},{"$f":"IF($J24=\"\",\"\",INDEX(Input!$A$5:$H$24,MATCH($A24&$J24,Input!$A$5:$A$24&Input!$G$5:$G$24,0),5))","v":""},null,null,null,null,{"$f":"IF($A24=\"\",\"\",OFFSET(Input!F$4,MATCH($A24,Input!$A$5:$A$24,0),0))","v":""},"",null,{"$f":"IF(N24=\"SY\", V24, IF(N24=\"Tons\", O24-P24, \"\"))","v":""},"\\",{"$f":"IF(A24=\"\",1,IF(ISERROR(MATCH(R24,Input!L$5:L$24,0)),2,1))","v":1},"",null,{"$f":"IF(A24=\"\", \"\", SUMIF($Q$8:$Q$17, \"*\" & LEFT(A24, 11) & \"*\", $T$8:$T$17))","v":""},{"$f":"IF(N24=\"SY\", T24, IF(N24=\"Tons\", V24+P24, \"\"))","v":""}]
[null,null,null,null,null,{"$f":"IF($J25=\"\",\"\",INDEX(Input!$A$5:$H$24,MATCH($A25&$J25,Input!$A$5:$A$24&Input!$G$5:$G$24,0),2))","v":""},{"$f":"IF($J25=\"\",\"\",INDEX(Input!$A$5:$H$24,MATCH($A25&$J25,Input!$A$5:$A$24&Input!$G$5:$G$24,0),3))","v":""},{"$f":"IF($J25=\"\",\"\",INDEX(Input!$A$5:$H$24,MATCH($A25&$J25,Input!$A$5:$A$24&Input!$G$5:$G$24,0),4))","v":""},{"$f":"IF($J25=\"\",\"\",INDEX(Input!$A$5:$H$24,MATCH($A25&$J25,Input!$A$5:$A$24&Input!$G$5:$G$24,0),5))","v":""},null,null,null,null,{"$f":"IF($A25=\"\",\"\",OFFSET(Input!F$4,MATCH($A25,Input!$A$5:$A$24,0),0))","v":""},"",null,"","\\",{"$f":"IF(A25=\"\",1,IF(ISERROR(MATCH(R25,Input!L$5:L$24,0)),2,1))","v":1},"",null,"",""]
[null,null,null,null,null,null,null,null,null,null,null,null,null,null,null,null,null,null,null,null,null,"",{"$f":"IF(N26=\"SY\", T26, IF(N26=\"Tons\", V26+P26, \"\"))","v":""},{"$f":"IF(A26=\"\", \"\", SUMIF($Q$8:$Q$17, \"*\" & LEFT(A26, 11) & \"*\", $S$8:$S$17))","v":""},{"$f":"IF(N26=\"SY\",X26,\"\")","v":""},{"$f":"IF(A26=\"\", \"\", SUMIF($Q$8:$Q$17, \"*\" & LEFT(A26, 11) & \"*\", $T$8:$T$17))","v":""}]
["Hot Box Sample",null,null,null,null,null,null,null,null,null,"Mat Temperatures °F"]
[null,"Test A","Test B","Test C","Test D","Test E",null,null,null,null,"Time","Temp"]
[" Hot Box ID Number  ",null,null,null,null,null,null,null,null,null,"7:00"]
["Hot Box Sample Tons: ",null,null,null,null,null,null,null,null,null,"9:00",null,null,null,"Intended Thickness:"]
[" Time: ",null,null,null,null,null,null,null,null,null,"11:00",null,null,null,"Cores Waived?"]
[" Station/MP: ",null,null,null,null,null,null,null,null,null,"1:00",null,null,null,"Small Quantity Statement?"]
["Bar Code ID.:",null,null,null,null,null,null,null,null,null,"3:00",null,null,null,"Scale Check Done?"]
["Compaction Temp. °F: ",null,null,null,null,null,null,null,null,null,"5:00",null,null,null,"Tack Tickets Today?"]
[null,null,null,null,null,null,null,null,null,null,"7:00"]
["The Below Comments should show up on the plant report"]
["Comments:"]
[]
[]
["The Below Notes are for the CPI from the field or Plant Monitor"]
["Notes:"]
[]
[]
["RANDOM CORE LOCATIONS"]
[null,null,null,null,null,null,null,"Core #","Station","Offset,ft","Joint Station","Lane"]
[null,null,null,null,null,null,null,1]
[null,null,null,null,null,null,null,2]
[null,null,null,null,null,null,null,3]
[null,null,null,null,null,null,null,4]
[null,null,null,null,null,null,null,5]
[null,null,null,null,null,null,null,6]
[null,null,null,null,null,null,null,7]
[null,null,null,null,null,null,null,8]
[]
[null,null,null,null,null,null,null,null,null,null,"Joint Sublot Size, ft"]
[null,null,null,null,null,null,null,null,null,null,0]
[]
[]
[]
[]
[]
[]
[]
[]
[]
[]
[]
[]
[]
[]
[]
[]
[]
[]
[]
[]
[]
[]
[]
[]
[]
[]
[]
[]
[]
[]
[]
[]
[]
[]
[]
[]
[]
[]
[]
[]
[false]

{"sheet":"93","index":108,"n_rows":97,"n_cols":26,"rows_kept":97,"cut":false,"hidden":false,"merged":[[50,11,50,13],[51,11,51,13],[52,11,52,13],[44,11,44,13],[45,11,45,13],[46,11,46,13],[47,11,47,13],[48,11,48,13],[49,11,49,13],[43,0,43,16],[25,0,25,1],[26,0,26,5],[26,20,26,23],[26,25,26,27],[34,2,34,4],[35,0,35,5],[36,1,36,14],[37,0,37,14],[39,0,39,5],[40,1,40,14],[41,0,41,14],[23,0,23,1],[23,2,23,4],[23,9,23,12],[24,0,24,1],[24,2,24,4],[24,9,24,12],[21,0,21,1],[21,2,21,4],[21,9,21,12],[22,0,22,1],[22,2,22,4],[22,9,22,12],[19,0,19,1],[19,2,19,4],[19,9,19,12],[20,0,20,1],[20,2,20,4],[20,9,20,12],[18,0,18,16],[6,14,6,15],[7,14,7,15],[8,14,8,15],[9,14,9,15],[10,14,10,15],[11,14,11,15],[12,14,12,15],[13,14,13,15],[14,14,14,15],[15,14,15,15],[16,14,16,15],[1,0,1,16],[4,0,4,15],[5,4,5,5],[5,8,5,9],[5,11,5,12],[5,13,5,15]]}
[]
["Iowa DOT HMA Field Report"]
["Date :"]
["Item No.('s)"]
["PLACEMENT RECORD",null,null,null,null,null,null,null,null,null,null,null,null,null,null,null,null,null,null,null,null,{"$f":"SUBSTITUTE(A21 & \"\\\" & J21,\"\"\"\",\"\")","v":"\\"}]
[null,null,null,null,"Additional width to DEDUCT from Field Voids",null,null,null,"Placed Density (Pounds/CF)=",null,150,"Overwritten on the \"Summary\" Tab",null,"ONLY ONE (1) MIX DESIGN PER DFR OTHERWISE IT WILL NOT IMPORT INTO THE PLANT REPORT PROPERLY",null,null,null,null,null,null,null,{"$f":"SUBSTITUTE(A22 & \"\\\" & J22,\"\"\"\",\"\")","v":"\\"}]
["From Station"," To Station","Lane","ML or Widening Placement Width","Additional Width (ft) ","Thickness (in)","Total Length Placed (FT)","\"Pay\"  Est \"SY\"","Thickness (inches)","Calculated Field Voids Tons","Placed Tons            (Not including Waste)","% Yield","SY to be PAID (If Diff. than Est SY)","Mix Design No.","Bid Item/ Project No.",null,null,null,"This uses the correct SY #, if Green is blank uses Est. SY","Adds up the Tons",null,"\\"]
[null,null,null,null,null,null,{"$f":"IF(OR(A8=\"\",B8=\"\"),0,IF($A$97=TRUE,ABS(B8-A8)*5280,ABS(VALUE(SUBSTITUTE(A8,\"+\",\"\"))-VALUE(SUBSTITUTE(B8,\"+\",\"\")))))","v":0},{"$f":"IF(D8=\"\",\"\",G8*(D8+E8)/9)","v":""},null,{"$f":"IF(I8=\"\",\"\",(G8)*(D8+E8)*I8/12*$K$6/2000)","v":""},null,{"$f":"IF(K8=\"\",\"\",K8/J8*100)","v":""},null,null,null,null,{"$f":"O8 & \"\\\" & N8","v":"\\"},{"$f":"IF(AND(A8=\"\",B8=\"\",C8=\"\",D8=\"\"),1,IF(OR(O8=\"\",N8=\"\"),2,IF(ISERROR(MATCH(Q8,Input!M$5:M$24,0)),2,1)))","v":1},{"$f":"IF(M8<>\"\", M8, H8)","v":""},{"$f":"K8","v":0},null,"\\"]
[null,null,null,null,null,null,{"$f":"IF(OR(A9=\"\",B9=\"\"),0,IF($A$97=TRUE,ABS(B9-A9)*5280,ABS(VALUE(SUBSTITUTE(A9,\"+\",\"\"))-VALUE(SUBSTITUTE(B9,\"+\",\"\")))))","v":0},{"$f":"IF(D9=\"\",\"\",G9*(D9+E9)/9)","v":""},null,"",null,{"$f":"IF(K9=\"\",\"\",K9/J9*100)","v":""},null,null,null,null,{"$f":"O9 & \"\\\" & N9","v":"\\"},{"$f":"IF(AND(A9=\"\",B9=\"\",C9=\"\",D9=\"\"),1,IF(OR(O9=\"\",N9=\"\"),2,IF(ISERROR(MATCH(Q9,Input!M$5:M$24,0)),2,1)))","v":1},{"$f":"IF(M9<>\"\", M9, H9)","v":""},{"$f":"K9","v":0},null,"\\"]
[null,null,null,null,null,null,0,"",null,"",null,"",null,null,null,null,"\\",{"$f":"IF(AND(A10=\"\",B10=\"\",C10=\"\",D10=\"\"),1,IF(OR(O10=\"\",N10=\"\"),2,IF(ISERROR(MATCH(Q10,Input!M$5:M$24,0)),2,1)))","v":1},{"$f":"IF(M10<>\"\", M10, H10)","v":""},0]
[null,null,null,null,null,null,0,"",null,"",null,"",null,null,null,null,"\\",{"$f":"IF(AND(A11=\"\",B11=\"\",C11=\"\",D11=\"\"),1,IF(OR(O11=\"\",N11=\"\"),2,IF(ISERROR(MATCH(Q11,Input!M$5:M$24,0)),2,1)))","v":1},"",0]
[null,null,null,null,null,null,0,"",null,"",null,"",null,null,null,null,"\\",{"$f":"IF(AND(A12=\"\",B12=\"\",C12=\"\",D12=\"\"),1,IF(OR(O12=\"\",N12=\"\"),2,IF(ISERROR(MATCH(Q12,Input!M$5:M$24,0)),2,1)))","v":1},"",0]
[null,null,null,null,null,null,0,"",null,"",null,"",null,null,null,null,"\\",{"$f":"IF(AND(A13=\"\",B13=\"\",C13=\"\",D13=\"\"),1,IF(OR(O13=\"\",N13=\"\"),2,IF(ISERROR(MATCH(Q13,Input!M$5:M$24,0)),2,1)))","v":1},"",0]
[null,null,null,null,null,null,0,"",null,"",null,"",null,null,null,null,"\\",{"$f":"IF(AND(A14=\"\",B14=\"\",C14=\"\",D14=\"\"),1,IF(OR(O14=\"\",N14=\"\"),2,IF(ISERROR(MATCH(Q14,Input!M$5:M$24,0)),2,1)))","v":1},"",0]
[null,null,null,null,null,null,0,"",null,"",null,"",null,null,null,null,"\\",{"$f":"IF(AND(A15=\"\",B15=\"\",C15=\"\",D15=\"\"),1,IF(OR(O15=\"\",N15=\"\"),2,IF(ISERROR(MATCH(Q15,Input!M$5:M$24,0)),2,1)))","v":1},"",0]
[null,null,null,null,null,null,0,"",null,"",null,"",null,null,null,null,"\\",{"$f":"IF(AND(A16=\"\",B16=\"\",C16=\"\",D16=\"\"),1,IF(OR(O16=\"\",N16=\"\"),2,IF(ISERROR(MATCH(Q16,Input!M$5:M$24,0)),2,1)))","v":1},"",0]
[null,null,null,null,null,null,0,"",null,"",null,"",null,null,null,null,"\\",{"$f":"IF(AND(A17=\"\",B17=\"\",C17=\"\",D17=\"\"),1,IF(OR(O17=\"\",N17=\"\"),2,IF(ISERROR(MATCH(Q17,Input!M$5:M$24,0)),2,1)))","v":1},"",0]
[]
["TANK SHEET"]
["Bid Item (In Order of Placement)",null,"Today's Placement",null,null,"Bid Item Plan Quantity","Plan Thickness (in)","Contract Mix Price","Contract Binder Price","Project Number",null,null,null,"Mix Pay Units","Mix Delivered to Road\n(Ton or SY)","Waste On Road (Ton)\nNO waste for SY Items","Tons Placed - Waste",null,null,"This adds up column S as it depends if the Est SY is filled out or the SY",null,"Use this Column for SY for the Q column","Uses this Value for Mix on Road"]
[null,null,null,null,null,{"$f":"IF($J21=\"\",\"\",INDEX(Input!$A$5:$H$24,MATCH($A21&$J21,Input!$A$5:$A$24&Input!$G$5:$G$24,0),2))","v":""},{"$f":"IF($J21=\"\",\"\",INDEX(Input!$A$5:$H$24,MATCH($A21&$J21,Input!$A$5:$A$24&Input!$G$5:$G$24,0),3))","v":""},{"$f":"IF($J21=\"\",\"\",INDEX(Input!$A$5:$H$24,MATCH($A21&$J21,Input!$A$5:$A$24&Input!$G$5:$G$24,0),4))","v":""},{"$f":"IF($J21=\"\",\"\",INDEX(Input!$A$5:$H$24,MATCH($A21&$J21,Input!$A$5:$A$24&Input!$G$5:$G$24,0),5))","v":""},null,null,null,null,{"$f":"IF($A21=\"\",\"\",OFFSET(Input!F$4,MATCH($A21,Input!$A$5:$A$24,0),0))","v":""},{"$f":"IF(N21=\"SY\", T21, IF(N21=\"Tons\", W21, \"\"))","v":""},null,{"$f":"IF(N21=\"SY\", V21, IF(N21=\"Tons\", O21-P21, \"\"))","v":""},{"$f":"SUBSTITUTE(A21 & \"\\\" & J21,\"\"\"\",\"\")","v":"\\"},{"$f":"IF(A21=\"\",1,IF(ISERROR(MATCH(R21,Input!L$5:L$24,0)),2,1))","v":1},{"$f":"IF(A21=\"\", \"\", SUMIF($Q$8:$Q$17, \"*\" & LEFT(A21, 11) & \"*\", $S$8:$S$17))","v":""},null,{"$f":"IF(A21=\"\", \"\", SUMIF($Q$8:$Q$17, \"*\" & LEFT(A21, 11) & \"*\", $T$8:$T$17))","v":""},{"$f":"IF(N21=\"SY\", T21, IF(N21=\"Tons\", V21+P21, \"\"))","v":""}]
[null,null,null,null,null,{"$f":"IF($J22=\"\",\"\",INDEX(Input!$A$5:$H$24,MATCH($A22&$J22,Input!$A$5:$A$24&Input!$G$5:$G$24,0),2))","v":""},{"$f":"IF($J22=\"\",\"\",INDEX(Input!$A$5:$H$24,MATCH($A22&$J22,Input!$A$5:$A$24&Input!$G$5:$G$24,0),3))","v":""},{"$f":"IF($J22=\"\",\"\",INDEX(Input!$A$5:$H$24,MATCH($A22&$J22,Input!$A$5:$A$24&Input!$G$5:$G$24,0),4))","v":""},{"$f":"IF($J22=\"\",\"\",INDEX(Input!$A$5:$H$24,MATCH($A22&$J22,Input!$A$5:$A$24&Input!$G$5:$G$24,0),5))","v":""},null,null,null,null,{"$f":"IF($A22=\"\",\"\",OFFSET(Input!F$4,MATCH($A22,Input!$A$5:$A$24,0),0))","v":""},{"$f":"IF(N22=\"SY\", T22, IF(N22=\"Tons\", W22, \"\"))","v":""},null,{"$f":"IF(N22=\"SY\", V22, IF(N22=\"Tons\", O22-P22, \"\"))","v":""},{"$f":"SUBSTITUTE(A22 & \"\\\" & J22,\"\"\"\",\"\")","v":"\\"},{"$f":"IF(A22=\"\",1,IF(ISERROR(MATCH(R22,Input!L$5:L$24,0)),2,1))","v":1},{"$f":"IF(A22=\"\", \"\", SUMIF($Q$8:$Q$17, \"*\" & LEFT(A22, 11) & \"*\", $S$8:$S$17))","v":""},null,{"$f":"IF(A22=\"\", \"\", SUMIF($Q$8:$Q$17, \"*\" & LEFT(A22, 11) & \"*\", $T$8:$T$17))","v":""},{"$f":"IF(N22=\"SY\", T22, IF(N22=\"Tons\", V22+P22, \"\"))","v":""}]
[null,null,null,null,null,{"$f":"IF($J23=\"\",\"\",INDEX(Input!$A$5:$H$24,MATCH($A23&$J23,Input!$A$5:$A$24&Input!$G$5:$G$24,0),2))","v":""},{"$f":"IF($J23=\"\",\"\",INDEX(Input!$A$5:$H$24,MATCH($A23&$J23,Input!$A$5:$A$24&Input!$G$5:$G$24,0),3))","v":""},{"$f":"IF($J23=\"\",\"\",INDEX(Input!$A$5:$H$24,MATCH($A23&$J23,Input!$A$5:$A$24&Input!$G$5:$G$24,0),4))","v":""},{"$f":"IF($J23=\"\",\"\",INDEX(Input!$A$5:$H$24,MATCH($A23&$J23,Input!$A$5:$A$24&Input!$G$5:$G$24,0),5))","v":""},null,null,null,null,{"$f":"IF($A23=\"\",\"\",OFFSET(Input!F$4,MATCH($A23,Input!$A$5:$A$24,0),0))","v":""},{"$f":"IF(N23=\"SY\", T23, IF(N23=\"Tons\", W23, \"\"))","v":""},null,{"$f":"IF(N23=\"SY\", V23, IF(N23=\"Tons\", O23-P23, \"\"))","v":""},"\\",{"$f":"IF(A23=\"\",1,IF(ISERROR(MATCH(R23,Input!L$5:L$24,0)),2,1))","v":1},{"$f":"IF(A23=\"\", \"\", SUMIF($Q$8:$Q$17, \"*\" & LEFT(A23, 11) & \"*\", $S$8:$S$17))","v":""},null,{"$f":"IF(A23=\"\", \"\", SUMIF($Q$8:$Q$17, \"*\" & LEFT(A23, 11) & \"*\", $T$8:$T$17))","v":""},{"$f":"IF(N23=\"SY\", T23, IF(N23=\"Tons\", V23+P23, \"\"))","v":""}]
[null,null,null,null,null,{"$f":"IF($J24=\"\",\"\",INDEX(Input!$A$5:$H$24,MATCH($A24&$J24,Input!$A$5:$A$24&Input!$G$5:$G$24,0),2))","v":""},{"$f":"IF($J24=\"\",\"\",INDEX(Input!$A$5:$H$24,MATCH($A24&$J24,Input!$A$5:$A$24&Input!$G$5:$G$24,0),3))","v":""},{"$f":"IF($J24=\"\",\"\",INDEX(Input!$A$5:$H$24,MATCH($A24&$J24,Input!$A$5:$A$24&Input!$G$5:$G$24,0),4))","v":""},{"$f":"IF($J24=\"\",\"\",INDEX(Input!$A$5:$H$24,MATCH($A24&$J24,Input!$A$5:$A$24&Input!$G$5:$G$24,0),5))","v":""},null,null,null,null,{"$f":"IF($A24=\"\",\"\",OFFSET(Input!F$4,MATCH($A24,Input!$A$5:$A$24,0),0))","v":""},"",null,{"$f":"IF(N24=\"SY\", V24, IF(N24=\"Tons\", O24-P24, \"\"))","v":""},"\\",{"$f":"IF(A24=\"\",1,IF(ISERROR(MATCH(R24,Input!L$5:L$24,0)),2,1))","v":1},"",null,{"$f":"IF(A24=\"\", \"\", SUMIF($Q$8:$Q$17, \"*\" & LEFT(A24, 11) & \"*\", $T$8:$T$17))","v":""},{"$f":"IF(N24=\"SY\", T24, IF(N24=\"Tons\", V24+P24, \"\"))","v":""}]
[null,null,null,null,null,{"$f":"IF($J25=\"\",\"\",INDEX(Input!$A$5:$H$24,MATCH($A25&$J25,Input!$A$5:$A$24&Input!$G$5:$G$24,0),2))","v":""},{"$f":"IF($J25=\"\",\"\",INDEX(Input!$A$5:$H$24,MATCH($A25&$J25,Input!$A$5:$A$24&Input!$G$5:$G$24,0),3))","v":""},{"$f":"IF($J25=\"\",\"\",INDEX(Input!$A$5:$H$24,MATCH($A25&$J25,Input!$A$5:$A$24&Input!$G$5:$G$24,0),4))","v":""},{"$f":"IF($J25=\"\",\"\",INDEX(Input!$A$5:$H$24,MATCH($A25&$J25,Input!$A$5:$A$24&Input!$G$5:$G$24,0),5))","v":""},null,null,null,null,{"$f":"IF($A25=\"\",\"\",OFFSET(Input!F$4,MATCH($A25,Input!$A$5:$A$24,0),0))","v":""},"",null,"","\\",{"$f":"IF(A25=\"\",1,IF(ISERROR(MATCH(R25,Input!L$5:L$24,0)),2,1))","v":1},"",null,"",""]
[null,null,null,null,null,null,null,null,null,null,null,null,null,null,null,null,null,null,null,null,null,"",{"$f":"IF(N26=\"SY\", T26, IF(N26=\"Tons\", V26+P26, \"\"))","v":""},{"$f":"IF(A26=\"\", \"\", SUMIF($Q$8:$Q$17, \"*\" & LEFT(A26, 11) & \"*\", $S$8:$S$17))","v":""},{"$f":"IF(N26=\"SY\",X26,\"\")","v":""},{"$f":"IF(A26=\"\", \"\", SUMIF($Q$8:$Q$17, \"*\" & LEFT(A26, 11) & \"*\", $T$8:$T$17))","v":""}]
["Hot Box Sample",null,null,null,null,null,null,null,null,null,"Mat Temperatures °F"]
[null,"Test A","Test B","Test C","Test D","Test E",null,null,null,null,"Time","Temp"]
[" Hot Box ID Number  ",null,null,null,null,null,null,null,null,null,"7:00"]
["Hot Box Sample Tons: ",null,null,null,null,null,null,null,null,null,"9:00",null,null,null,"Intended Thickness:"]
[" Time: ",null,null,null,null,null,null,null,null,null,"11:00",null,null,null,"Cores Waived?"]
[" Station/MP: ",null,null,null,null,null,null,null,null,null,"1:00",null,null,null,"Small Quantity Statement?"]
["Bar Code ID.:",null,null,null,null,null,null,null,null,null,"3:00",null,null,null,"Scale Check Done?"]
["Compaction Temp. °F: ",null,null,null,null,null,null,null,null,null,"5:00",null,null,null,"Tack Tickets Today?"]
[null,null,null,null,null,null,null,null,null,null,"7:00"]
["The Below Comments should show up on the plant report"]
["Comments:"]
[]
[]
["The Below Notes are for the CPI from the field or Plant Monitor"]
["Notes:"]
[]
[]
["RANDOM CORE LOCATIONS"]
[null,null,null,null,null,null,null,"Core #","Station","Offset,ft","Joint Station","Lane"]
[null,null,null,null,null,null,null,1]
[null,null,null,null,null,null,null,2]
[null,null,null,null,null,null,null,3]
[null,null,null,null,null,null,null,4]
[null,null,null,null,null,null,null,5]
[null,null,null,null,null,null,null,6]
[null,null,null,null,null,null,null,7]
[null,null,null,null,null,null,null,8]
[]
[null,null,null,null,null,null,null,null,null,null,"Joint Sublot Size, ft"]
[null,null,null,null,null,null,null,null,null,null,0]
[]
[]
[]
[]
[]
[]
[]
[]
[]
[]
[]
[]
[]
[]
[]
[]
[]
[]
[]
[]
[]
[]
[]
[]
[]
[]
[]
[]
[]
[]
[]
[]
[]
[]
[]
[]
[]
[]
[]
[]
[false]

{"sheet":"94","index":109,"n_rows":97,"n_cols":26,"rows_kept":97,"cut":false,"hidden":false,"merged":[[50,11,50,13],[51,11,51,13],[52,11,52,13],[44,11,44,13],[45,11,45,13],[46,11,46,13],[47,11,47,13],[48,11,48,13],[49,11,49,13],[43,0,43,16],[25,0,25,1],[26,0,26,5],[26,20,26,23],[26,25,26,27],[34,2,34,4],[35,0,35,5],[36,1,36,14],[37,0,37,14],[39,0,39,5],[40,1,40,14],[41,0,41,14],[23,0,23,1],[23,2,23,4],[23,9,23,12],[24,0,24,1],[24,2,24,4],[24,9,24,12],[21,0,21,1],[21,2,21,4],[21,9,21,12],[22,0,22,1],[22,2,22,4],[22,9,22,12],[19,0,19,1],[19,2,19,4],[19,9,19,12],[20,0,20,1],[20,2,20,4],[20,9,20,12],[18,0,18,16],[6,14,6,15],[7,14,7,15],[8,14,8,15],[9,14,9,15],[10,14,10,15],[11,14,11,15],[12,14,12,15],[13,14,13,15],[14,14,14,15],[15,14,15,15],[16,14,16,15],[1,0,1,16],[4,0,4,15],[5,4,5,5],[5,8,5,9],[5,11,5,12],[5,13,5,15]]}
[]
["Iowa DOT HMA Field Report"]
["Date :"]
["Item No.('s)"]
["PLACEMENT RECORD",null,null,null,null,null,null,null,null,null,null,null,null,null,null,null,null,null,null,null,null,{"$f":"SUBSTITUTE(A21 & \"\\\" & J21,\"\"\"\",\"\")","v":"\\"}]
[null,null,null,null,"Additional width to DEDUCT from Field Voids",null,null,null,"Placed Density (Pounds/CF)=",null,150,"Overwritten on the \"Summary\" Tab",null,"ONLY ONE (1) MIX DESIGN PER DFR OTHERWISE IT WILL NOT IMPORT INTO THE PLANT REPORT PROPERLY",null,null,null,null,null,null,null,{"$f":"SUBSTITUTE(A22 & \"\\\" & J22,\"\"\"\",\"\")","v":"\\"}]
["From Station"," To Station","Lane","ML or Widening Placement Width","Additional Width (ft) ","Thickness (in)","Total Length Placed (FT)","\"Pay\"  Est \"SY\"","Thickness (inches)","Calculated Field Voids Tons","Placed Tons            (Not including Waste)","% Yield","SY to be PAID (If Diff. than Est SY)","Mix Design No.","Bid Item/ Project No.",null,null,null,"This uses the correct SY #, if Green is blank uses Est. SY","Adds up the Tons",null,"\\"]
[null,null,null,null,null,null,{"$f":"IF(OR(A8=\"\",B8=\"\"),0,IF($A$97=TRUE,ABS(B8-A8)*5280,ABS(VALUE(SUBSTITUTE(A8,\"+\",\"\"))-VALUE(SUBSTITUTE(B8,\"+\",\"\")))))","v":0},{"$f":"IF(D8=\"\",\"\",G8*(D8+E8)/9)","v":""},null,{"$f":"IF(I8=\"\",\"\",(G8)*(D8+E8)*I8/12*$K$6/2000)","v":""},null,{"$f":"IF(K8=\"\",\"\",K8/J8*100)","v":""},null,null,null,null,{"$f":"O8 & \"\\\" & N8","v":"\\"},{"$f":"IF(AND(A8=\"\",B8=\"\",C8=\"\",D8=\"\"),1,IF(OR(O8=\"\",N8=\"\"),2,IF(ISERROR(MATCH(Q8,Input!M$5:M$24,0)),2,1)))","v":1},{"$f":"IF(M8<>\"\", M8, H8)","v":""},{"$f":"K8","v":0},null,"\\"]
[null,null,null,null,null,null,{"$f":"IF(OR(A9=\"\",B9=\"\"),0,IF($A$97=TRUE,ABS(B9-A9)*5280,ABS(VALUE(SUBSTITUTE(A9,\"+\",\"\"))-VALUE(SUBSTITUTE(B9,\"+\",\"\")))))","v":0},{"$f":"IF(D9=\"\",\"\",G9*(D9+E9)/9)","v":""},null,"",null,{"$f":"IF(K9=\"\",\"\",K9/J9*100)","v":""},null,null,null,null,{"$f":"O9 & \"\\\" & N9","v":"\\"},{"$f":"IF(AND(A9=\"\",B9=\"\",C9=\"\",D9=\"\"),1,IF(OR(O9=\"\",N9=\"\"),2,IF(ISERROR(MATCH(Q9,Input!M$5:M$24,0)),2,1)))","v":1},{"$f":"IF(M9<>\"\", M9, H9)","v":""},{"$f":"K9","v":0},null,"\\"]
[null,null,null,null,null,null,0,"",null,"",null,"",null,null,null,null,"\\",{"$f":"IF(AND(A10=\"\",B10=\"\",C10=\"\",D10=\"\"),1,IF(OR(O10=\"\",N10=\"\"),2,IF(ISERROR(MATCH(Q10,Input!M$5:M$24,0)),2,1)))","v":1},{"$f":"IF(M10<>\"\", M10, H10)","v":""},0]
[null,null,null,null,null,null,0,"",null,"",null,"",null,null,null,null,"\\",{"$f":"IF(AND(A11=\"\",B11=\"\",C11=\"\",D11=\"\"),1,IF(OR(O11=\"\",N11=\"\"),2,IF(ISERROR(MATCH(Q11,Input!M$5:M$24,0)),2,1)))","v":1},"",0]
[null,null,null,null,null,null,0,"",null,"",null,"",null,null,null,null,"\\",{"$f":"IF(AND(A12=\"\",B12=\"\",C12=\"\",D12=\"\"),1,IF(OR(O12=\"\",N12=\"\"),2,IF(ISERROR(MATCH(Q12,Input!M$5:M$24,0)),2,1)))","v":1},"",0]
[null,null,null,null,null,null,0,"",null,"",null,"",null,null,null,null,"\\",{"$f":"IF(AND(A13=\"\",B13=\"\",C13=\"\",D13=\"\"),1,IF(OR(O13=\"\",N13=\"\"),2,IF(ISERROR(MATCH(Q13,Input!M$5:M$24,0)),2,1)))","v":1},"",0]
[null,null,null,null,null,null,0,"",null,"",null,"",null,null,null,null,"\\",{"$f":"IF(AND(A14=\"\",B14=\"\",C14=\"\",D14=\"\"),1,IF(OR(O14=\"\",N14=\"\"),2,IF(ISERROR(MATCH(Q14,Input!M$5:M$24,0)),2,1)))","v":1},"",0]
[null,null,null,null,null,null,0,"",null,"",null,"",null,null,null,null,"\\",{"$f":"IF(AND(A15=\"\",B15=\"\",C15=\"\",D15=\"\"),1,IF(OR(O15=\"\",N15=\"\"),2,IF(ISERROR(MATCH(Q15,Input!M$5:M$24,0)),2,1)))","v":1},"",0]
[null,null,null,null,null,null,0,"",null,"",null,"",null,null,null,null,"\\",{"$f":"IF(AND(A16=\"\",B16=\"\",C16=\"\",D16=\"\"),1,IF(OR(O16=\"\",N16=\"\"),2,IF(ISERROR(MATCH(Q16,Input!M$5:M$24,0)),2,1)))","v":1},"",0]
[null,null,null,null,null,null,0,"",null,"",null,"",null,null,null,null,"\\",{"$f":"IF(AND(A17=\"\",B17=\"\",C17=\"\",D17=\"\"),1,IF(OR(O17=\"\",N17=\"\"),2,IF(ISERROR(MATCH(Q17,Input!M$5:M$24,0)),2,1)))","v":1},"",0]
[]
["TANK SHEET"]
["Bid Item (In Order of Placement)",null,"Today's Placement",null,null,"Bid Item Plan Quantity","Plan Thickness (in)","Contract Mix Price","Contract Binder Price","Project Number",null,null,null,"Mix Pay Units","Mix Delivered to Road\n(Ton or SY)","Waste On Road (Ton)\nNO waste for SY Items","Tons Placed - Waste",null,null,"This adds up column S as it depends if the Est SY is filled out or the SY",null,"Use this Column for SY for the Q column","Uses this Value for Mix on Road"]
[null,null,null,null,null,{"$f":"IF($J21=\"\",\"\",INDEX(Input!$A$5:$H$24,MATCH($A21&$J21,Input!$A$5:$A$24&Input!$G$5:$G$24,0),2))","v":""},{"$f":"IF($J21=\"\",\"\",INDEX(Input!$A$5:$H$24,MATCH($A21&$J21,Input!$A$5:$A$24&Input!$G$5:$G$24,0),3))","v":""},{"$f":"IF($J21=\"\",\"\",INDEX(Input!$A$5:$H$24,MATCH($A21&$J21,Input!$A$5:$A$24&Input!$G$5:$G$24,0),4))","v":""},{"$f":"IF($J21=\"\",\"\",INDEX(Input!$A$5:$H$24,MATCH($A21&$J21,Input!$A$5:$A$24&Input!$G$5:$G$24,0),5))","v":""},null,null,null,null,{"$f":"IF($A21=\"\",\"\",OFFSET(Input!F$4,MATCH($A21,Input!$A$5:$A$24,0),0))","v":""},{"$f":"IF(N21=\"SY\", T21, IF(N21=\"Tons\", W21, \"\"))","v":""},null,{"$f":"IF(N21=\"SY\", V21, IF(N21=\"Tons\", O21-P21, \"\"))","v":""},{"$f":"SUBSTITUTE(A21 & \"\\\" & J21,\"\"\"\",\"\")","v":"\\"},{"$f":"IF(A21=\"\",1,IF(ISERROR(MATCH(R21,Input!L$5:L$24,0)),2,1))","v":1},{"$f":"IF(A21=\"\", \"\", SUMIF($Q$8:$Q$17, \"*\" & LEFT(A21, 11) & \"*\", $S$8:$S$17))","v":""},null,{"$f":"IF(A21=\"\", \"\", SUMIF($Q$8:$Q$17, \"*\" & LEFT(A21, 11) & \"*\", $T$8:$T$17))","v":""},{"$f":"IF(N21=\"SY\", T21, IF(N21=\"Tons\", V21+P21, \"\"))","v":""}]
[null,null,null,null,null,{"$f":"IF($J22=\"\",\"\",INDEX(Input!$A$5:$H$24,MATCH($A22&$J22,Input!$A$5:$A$24&Input!$G$5:$G$24,0),2))","v":""},{"$f":"IF($J22=\"\",\"\",INDEX(Input!$A$5:$H$24,MATCH($A22&$J22,Input!$A$5:$A$24&Input!$G$5:$G$24,0),3))","v":""},{"$f":"IF($J22=\"\",\"\",INDEX(Input!$A$5:$H$24,MATCH($A22&$J22,Input!$A$5:$A$24&Input!$G$5:$G$24,0),4))","v":""},{"$f":"IF($J22=\"\",\"\",INDEX(Input!$A$5:$H$24,MATCH($A22&$J22,Input!$A$5:$A$24&Input!$G$5:$G$24,0),5))","v":""},null,null,null,null,{"$f":"IF($A22=\"\",\"\",OFFSET(Input!F$4,MATCH($A22,Input!$A$5:$A$24,0),0))","v":""},{"$f":"IF(N22=\"SY\", T22, IF(N22=\"Tons\", W22, \"\"))","v":""},null,{"$f":"IF(N22=\"SY\", V22, IF(N22=\"Tons\", O22-P22, \"\"))","v":""},{"$f":"SUBSTITUTE(A22 & \"\\\" & J22,\"\"\"\",\"\")","v":"\\"},{"$f":"IF(A22=\"\",1,IF(ISERROR(MATCH(R22,Input!L$5:L$24,0)),2,1))","v":1},{"$f":"IF(A22=\"\", \"\", SUMIF($Q$8:$Q$17, \"*\" & LEFT(A22, 11) & \"*\", $S$8:$S$17))","v":""},null,{"$f":"IF(A22=\"\", \"\", SUMIF($Q$8:$Q$17, \"*\" & LEFT(A22, 11) & \"*\", $T$8:$T$17))","v":""},{"$f":"IF(N22=\"SY\", T22, IF(N22=\"Tons\", V22+P22, \"\"))","v":""}]
[null,null,null,null,null,{"$f":"IF($J23=\"\",\"\",INDEX(Input!$A$5:$H$24,MATCH($A23&$J23,Input!$A$5:$A$24&Input!$G$5:$G$24,0),2))","v":""},{"$f":"IF($J23=\"\",\"\",INDEX(Input!$A$5:$H$24,MATCH($A23&$J23,Input!$A$5:$A$24&Input!$G$5:$G$24,0),3))","v":""},{"$f":"IF($J23=\"\",\"\",INDEX(Input!$A$5:$H$24,MATCH($A23&$J23,Input!$A$5:$A$24&Input!$G$5:$G$24,0),4))","v":""},{"$f":"IF($J23=\"\",\"\",INDEX(Input!$A$5:$H$24,MATCH($A23&$J23,Input!$A$5:$A$24&Input!$G$5:$G$24,0),5))","v":""},null,null,null,null,{"$f":"IF($A23=\"\",\"\",OFFSET(Input!F$4,MATCH($A23,Input!$A$5:$A$24,0),0))","v":""},{"$f":"IF(N23=\"SY\", T23, IF(N23=\"Tons\", W23, \"\"))","v":""},null,{"$f":"IF(N23=\"SY\", V23, IF(N23=\"Tons\", O23-P23, \"\"))","v":""},"\\",{"$f":"IF(A23=\"\",1,IF(ISERROR(MATCH(R23,Input!L$5:L$24,0)),2,1))","v":1},{"$f":"IF(A23=\"\", \"\", SUMIF($Q$8:$Q$17, \"*\" & LEFT(A23, 11) & \"*\", $S$8:$S$17))","v":""},null,{"$f":"IF(A23=\"\", \"\", SUMIF($Q$8:$Q$17, \"*\" & LEFT(A23, 11) & \"*\", $T$8:$T$17))","v":""},{"$f":"IF(N23=\"SY\", T23, IF(N23=\"Tons\", V23+P23, \"\"))","v":""}]
[null,null,null,null,null,{"$f":"IF($J24=\"\",\"\",INDEX(Input!$A$5:$H$24,MATCH($A24&$J24,Input!$A$5:$A$24&Input!$G$5:$G$24,0),2))","v":""},{"$f":"IF($J24=\"\",\"\",INDEX(Input!$A$5:$H$24,MATCH($A24&$J24,Input!$A$5:$A$24&Input!$G$5:$G$24,0),3))","v":""},{"$f":"IF($J24=\"\",\"\",INDEX(Input!$A$5:$H$24,MATCH($A24&$J24,Input!$A$5:$A$24&Input!$G$5:$G$24,0),4))","v":""},{"$f":"IF($J24=\"\",\"\",INDEX(Input!$A$5:$H$24,MATCH($A24&$J24,Input!$A$5:$A$24&Input!$G$5:$G$24,0),5))","v":""},null,null,null,null,{"$f":"IF($A24=\"\",\"\",OFFSET(Input!F$4,MATCH($A24,Input!$A$5:$A$24,0),0))","v":""},"",null,{"$f":"IF(N24=\"SY\", V24, IF(N24=\"Tons\", O24-P24, \"\"))","v":""},"\\",{"$f":"IF(A24=\"\",1,IF(ISERROR(MATCH(R24,Input!L$5:L$24,0)),2,1))","v":1},"",null,{"$f":"IF(A24=\"\", \"\", SUMIF($Q$8:$Q$17, \"*\" & LEFT(A24, 11) & \"*\", $T$8:$T$17))","v":""},{"$f":"IF(N24=\"SY\", T24, IF(N24=\"Tons\", V24+P24, \"\"))","v":""}]
[null,null,null,null,null,{"$f":"IF($J25=\"\",\"\",INDEX(Input!$A$5:$H$24,MATCH($A25&$J25,Input!$A$5:$A$24&Input!$G$5:$G$24,0),2))","v":""},{"$f":"IF($J25=\"\",\"\",INDEX(Input!$A$5:$H$24,MATCH($A25&$J25,Input!$A$5:$A$24&Input!$G$5:$G$24,0),3))","v":""},{"$f":"IF($J25=\"\",\"\",INDEX(Input!$A$5:$H$24,MATCH($A25&$J25,Input!$A$5:$A$24&Input!$G$5:$G$24,0),4))","v":""},{"$f":"IF($J25=\"\",\"\",INDEX(Input!$A$5:$H$24,MATCH($A25&$J25,Input!$A$5:$A$24&Input!$G$5:$G$24,0),5))","v":""},null,null,null,null,{"$f":"IF($A25=\"\",\"\",OFFSET(Input!F$4,MATCH($A25,Input!$A$5:$A$24,0),0))","v":""},"",null,"","\\",{"$f":"IF(A25=\"\",1,IF(ISERROR(MATCH(R25,Input!L$5:L$24,0)),2,1))","v":1},"",null,"",""]
[null,null,null,null,null,null,null,null,null,null,null,null,null,null,null,null,null,null,null,null,null,"",{"$f":"IF(N26=\"SY\", T26, IF(N26=\"Tons\", V26+P26, \"\"))","v":""},{"$f":"IF(A26=\"\", \"\", SUMIF($Q$8:$Q$17, \"*\" & LEFT(A26, 11) & \"*\", $S$8:$S$17))","v":""},{"$f":"IF(N26=\"SY\",X26,\"\")","v":""},{"$f":"IF(A26=\"\", \"\", SUMIF($Q$8:$Q$17, \"*\" & LEFT(A26, 11) & \"*\", $T$8:$T$17))","v":""}]
["Hot Box Sample",null,null,null,null,null,null,null,null,null,"Mat Temperatures °F"]
[null,"Test A","Test B","Test C","Test D","Test E",null,null,null,null,"Time","Temp"]
[" Hot Box ID Number  ",null,null,null,null,null,null,null,null,null,"7:00"]
["Hot Box Sample Tons: ",null,null,null,null,null,null,null,null,null,"9:00",null,null,null,"Intended Thickness:"]
[" Time: ",null,null,null,null,null,null,null,null,null,"11:00",null,null,null,"Cores Waived?"]
[" Station/MP: ",null,null,null,null,null,null,null,null,null,"1:00",null,null,null,"Small Quantity Statement?"]
["Bar Code ID.:",null,null,null,null,null,null,null,null,null,"3:00",null,null,null,"Scale Check Done?"]
["Compaction Temp. °F: ",null,null,null,null,null,null,null,null,null,"5:00",null,null,null,"Tack Tickets Today?"]
[null,null,null,null,null,null,null,null,null,null,"7:00"]
["The Below Comments should show up on the plant report"]
["Comments:"]
[]
[]
["The Below Notes are for the CPI from the field or Plant Monitor"]
["Notes:"]
[]
[]
["RANDOM CORE LOCATIONS"]
[null,null,null,null,null,null,null,"Core #","Station","Offset,ft","Joint Station","Lane"]
[null,null,null,null,null,null,null,1]
[null,null,null,null,null,null,null,2]
[null,null,null,null,null,null,null,3]
[null,null,null,null,null,null,null,4]
[null,null,null,null,null,null,null,5]
[null,null,null,null,null,null,null,6]
[null,null,null,null,null,null,null,7]
[null,null,null,null,null,null,null,8]
[]
[null,null,null,null,null,null,null,null,null,null,"Joint Sublot Size, ft"]
[null,null,null,null,null,null,null,null,null,null,0]
[]
[]
[]
[]
[]
[]
[]
[]
[]
[]
[]
[]
[]
[]
[]
[]
[]
[]
[]
[]
[]
[]
[]
[]
[]
[]
[]
[]
[]
[]
[]
[]
[]
[]
[]
[]
[]
[]
[]
[]
[false]

{"sheet":"95","index":110,"n_rows":97,"n_cols":26,"rows_kept":97,"cut":false,"hidden":false,"merged":[[50,11,50,13],[51,11,51,13],[52,11,52,13],[44,11,44,13],[45,11,45,13],[46,11,46,13],[47,11,47,13],[48,11,48,13],[49,11,49,13],[43,0,43,16],[25,0,25,1],[26,0,26,5],[26,20,26,23],[26,25,26,27],[34,2,34,4],[35,0,35,5],[36,1,36,14],[37,0,37,14],[39,0,39,5],[40,1,40,14],[41,0,41,14],[23,0,23,1],[23,2,23,4],[23,9,23,12],[24,0,24,1],[24,2,24,4],[24,9,24,12],[21,0,21,1],[21,2,21,4],[21,9,21,12],[22,0,22,1],[22,2,22,4],[22,9,22,12],[19,0,19,1],[19,2,19,4],[19,9,19,12],[20,0,20,1],[20,2,20,4],[20,9,20,12],[18,0,18,16],[6,14,6,15],[7,14,7,15],[8,14,8,15],[9,14,9,15],[10,14,10,15],[11,14,11,15],[12,14,12,15],[13,14,13,15],[14,14,14,15],[15,14,15,15],[16,14,16,15],[1,0,1,16],[4,0,4,15],[5,4,5,5],[5,8,5,9],[5,11,5,12],[5,13,5,15]]}
[]
["Iowa DOT HMA Field Report"]
["Date :"]
["Item No.('s)"]
["PLACEMENT RECORD",null,null,null,null,null,null,null,null,null,null,null,null,null,null,null,null,null,null,null,null,{"$f":"SUBSTITUTE(A21 & \"\\\" & J21,\"\"\"\",\"\")","v":"\\"}]
[null,null,null,null,"Additional width to DEDUCT from Field Voids",null,null,null,"Placed Density (Pounds/CF)=",null,150,"Overwritten on the \"Summary\" Tab",null,"ONLY ONE (1) MIX DESIGN PER DFR OTHERWISE IT WILL NOT IMPORT INTO THE PLANT REPORT PROPERLY",null,null,null,null,null,null,null,{"$f":"SUBSTITUTE(A22 & \"\\\" & J22,\"\"\"\",\"\")","v":"\\"}]
["From Station"," To Station","Lane","ML or Widening Placement Width","Additional Width (ft) ","Thickness (in)","Total Length Placed (FT)","\"Pay\"  Est \"SY\"","Thickness (inches)","Calculated Field Voids Tons","Placed Tons            (Not including Waste)","% Yield","SY to be PAID (If Diff. than Est SY)","Mix Design No.","Bid Item/ Project No.",null,null,null,"This uses the correct SY #, if Green is blank uses Est. SY","Adds up the Tons",null,"\\"]
[null,null,null,null,null,null,{"$f":"IF(OR(A8=\"\",B8=\"\"),0,IF($A$97=TRUE,ABS(B8-A8)*5280,ABS(VALUE(SUBSTITUTE(A8,\"+\",\"\"))-VALUE(SUBSTITUTE(B8,\"+\",\"\")))))","v":0},{"$f":"IF(D8=\"\",\"\",G8*(D8+E8)/9)","v":""},null,{"$f":"IF(I8=\"\",\"\",(G8)*(D8+E8)*I8/12*$K$6/2000)","v":""},null,{"$f":"IF(K8=\"\",\"\",K8/J8*100)","v":""},null,null,null,null,{"$f":"O8 & \"\\\" & N8","v":"\\"},{"$f":"IF(AND(A8=\"\",B8=\"\",C8=\"\",D8=\"\"),1,IF(OR(O8=\"\",N8=\"\"),2,IF(ISERROR(MATCH(Q8,Input!M$5:M$24,0)),2,1)))","v":1},{"$f":"IF(M8<>\"\", M8, H8)","v":""},{"$f":"K8","v":0},null,"\\"]
[null,null,null,null,null,null,{"$f":"IF(OR(A9=\"\",B9=\"\"),0,IF($A$97=TRUE,ABS(B9-A9)*5280,ABS(VALUE(SUBSTITUTE(A9,\"+\",\"\"))-VALUE(SUBSTITUTE(B9,\"+\",\"\")))))","v":0},{"$f":"IF(D9=\"\",\"\",G9*(D9+E9)/9)","v":""},null,"",null,{"$f":"IF(K9=\"\",\"\",K9/J9*100)","v":""},null,null,null,null,{"$f":"O9 & \"\\\" & N9","v":"\\"},{"$f":"IF(AND(A9=\"\",B9=\"\",C9=\"\",D9=\"\"),1,IF(OR(O9=\"\",N9=\"\"),2,IF(ISERROR(MATCH(Q9,Input!M$5:M$24,0)),2,1)))","v":1},{"$f":"IF(M9<>\"\", M9, H9)","v":""},{"$f":"K9","v":0},null,"\\"]
[null,null,null,null,null,null,0,"",null,"",null,"",null,null,null,null,"\\",{"$f":"IF(AND(A10=\"\",B10=\"\",C10=\"\",D10=\"\"),1,IF(OR(O10=\"\",N10=\"\"),2,IF(ISERROR(MATCH(Q10,Input!M$5:M$24,0)),2,1)))","v":1},{"$f":"IF(M10<>\"\", M10, H10)","v":""},0]
[null,null,null,null,null,null,0,"",null,"",null,"",null,null,null,null,"\\",{"$f":"IF(AND(A11=\"\",B11=\"\",C11=\"\",D11=\"\"),1,IF(OR(O11=\"\",N11=\"\"),2,IF(ISERROR(MATCH(Q11,Input!M$5:M$24,0)),2,1)))","v":1},"",0]
[null,null,null,null,null,null,0,"",null,"",null,"",null,null,null,null,"\\",{"$f":"IF(AND(A12=\"\",B12=\"\",C12=\"\",D12=\"\"),1,IF(OR(O12=\"\",N12=\"\"),2,IF(ISERROR(MATCH(Q12,Input!M$5:M$24,0)),2,1)))","v":1},"",0]
[null,null,null,null,null,null,0,"",null,"",null,"",null,null,null,null,"\\",{"$f":"IF(AND(A13=\"\",B13=\"\",C13=\"\",D13=\"\"),1,IF(OR(O13=\"\",N13=\"\"),2,IF(ISERROR(MATCH(Q13,Input!M$5:M$24,0)),2,1)))","v":1},"",0]
[null,null,null,null,null,null,0,"",null,"",null,"",null,null,null,null,"\\",{"$f":"IF(AND(A14=\"\",B14=\"\",C14=\"\",D14=\"\"),1,IF(OR(O14=\"\",N14=\"\"),2,IF(ISERROR(MATCH(Q14,Input!M$5:M$24,0)),2,1)))","v":1},"",0]
[null,null,null,null,null,null,0,"",null,"",null,"",null,null,null,null,"\\",{"$f":"IF(AND(A15=\"\",B15=\"\",C15=\"\",D15=\"\"),1,IF(OR(O15=\"\",N15=\"\"),2,IF(ISERROR(MATCH(Q15,Input!M$5:M$24,0)),2,1)))","v":1},"",0]
[null,null,null,null,null,null,0,"",null,"",null,"",null,null,null,null,"\\",{"$f":"IF(AND(A16=\"\",B16=\"\",C16=\"\",D16=\"\"),1,IF(OR(O16=\"\",N16=\"\"),2,IF(ISERROR(MATCH(Q16,Input!M$5:M$24,0)),2,1)))","v":1},"",0]
[null,null,null,null,null,null,0,"",null,"",null,"",null,null,null,null,"\\",{"$f":"IF(AND(A17=\"\",B17=\"\",C17=\"\",D17=\"\"),1,IF(OR(O17=\"\",N17=\"\"),2,IF(ISERROR(MATCH(Q17,Input!M$5:M$24,0)),2,1)))","v":1},"",0]
[]
["TANK SHEET"]
["Bid Item (In Order of Placement)",null,"Today's Placement",null,null,"Bid Item Plan Quantity","Plan Thickness (in)","Contract Mix Price","Contract Binder Price","Project Number",null,null,null,"Mix Pay Units","Mix Delivered to Road\n(Ton or SY)","Waste On Road (Ton)\nNO waste for SY Items","Tons Placed - Waste",null,null,"This adds up column S as it depends if the Est SY is filled out or the SY",null,"Use this Column for SY for the Q column","Uses this Value for Mix on Road"]
[null,null,null,null,null,{"$f":"IF($J21=\"\",\"\",INDEX(Input!$A$5:$H$24,MATCH($A21&$J21,Input!$A$5:$A$24&Input!$G$5:$G$24,0),2))","v":""},{"$f":"IF($J21=\"\",\"\",INDEX(Input!$A$5:$H$24,MATCH($A21&$J21,Input!$A$5:$A$24&Input!$G$5:$G$24,0),3))","v":""},{"$f":"IF($J21=\"\",\"\",INDEX(Input!$A$5:$H$24,MATCH($A21&$J21,Input!$A$5:$A$24&Input!$G$5:$G$24,0),4))","v":""},{"$f":"IF($J21=\"\",\"\",INDEX(Input!$A$5:$H$24,MATCH($A21&$J21,Input!$A$5:$A$24&Input!$G$5:$G$24,0),5))","v":""},null,null,null,null,{"$f":"IF($A21=\"\",\"\",OFFSET(Input!F$4,MATCH($A21,Input!$A$5:$A$24,0),0))","v":""},{"$f":"IF(N21=\"SY\", T21, IF(N21=\"Tons\", W21, \"\"))","v":""},null,{"$f":"IF(N21=\"SY\", V21, IF(N21=\"Tons\", O21-P21, \"\"))","v":""},{"$f":"SUBSTITUTE(A21 & \"\\\" & J21,\"\"\"\",\"\")","v":"\\"},{"$f":"IF(A21=\"\",1,IF(ISERROR(MATCH(R21,Input!L$5:L$24,0)),2,1))","v":1},{"$f":"IF(A21=\"\", \"\", SUMIF($Q$8:$Q$17, \"*\" & LEFT(A21, 11) & \"*\", $S$8:$S$17))","v":""},null,{"$f":"IF(A21=\"\", \"\", SUMIF($Q$8:$Q$17, \"*\" & LEFT(A21, 11) & \"*\", $T$8:$T$17))","v":""},{"$f":"IF(N21=\"SY\", T21, IF(N21=\"Tons\", V21+P21, \"\"))","v":""}]
[null,null,null,null,null,{"$f":"IF($J22=\"\",\"\",INDEX(Input!$A$5:$H$24,MATCH($A22&$J22,Input!$A$5:$A$24&Input!$G$5:$G$24,0),2))","v":""},{"$f":"IF($J22=\"\",\"\",INDEX(Input!$A$5:$H$24,MATCH($A22&$J22,Input!$A$5:$A$24&Input!$G$5:$G$24,0),3))","v":""},{"$f":"IF($J22=\"\",\"\",INDEX(Input!$A$5:$H$24,MATCH($A22&$J22,Input!$A$5:$A$24&Input!$G$5:$G$24,0),4))","v":""},{"$f":"IF($J22=\"\",\"\",INDEX(Input!$A$5:$H$24,MATCH($A22&$J22,Input!$A$5:$A$24&Input!$G$5:$G$24,0),5))","v":""},null,null,null,null,{"$f":"IF($A22=\"\",\"\",OFFSET(Input!F$4,MATCH($A22,Input!$A$5:$A$24,0),0))","v":""},{"$f":"IF(N22=\"SY\", T22, IF(N22=\"Tons\", W22, \"\"))","v":""},null,{"$f":"IF(N22=\"SY\", V22, IF(N22=\"Tons\", O22-P22, \"\"))","v":""},{"$f":"SUBSTITUTE(A22 & \"\\\" & J22,\"\"\"\",\"\")","v":"\\"},{"$f":"IF(A22=\"\",1,IF(ISERROR(MATCH(R22,Input!L$5:L$24,0)),2,1))","v":1},{"$f":"IF(A22=\"\", \"\", SUMIF($Q$8:$Q$17, \"*\" & LEFT(A22, 11) & \"*\", $S$8:$S$17))","v":""},null,{"$f":"IF(A22=\"\", \"\", SUMIF($Q$8:$Q$17, \"*\" & LEFT(A22, 11) & \"*\", $T$8:$T$17))","v":""},{"$f":"IF(N22=\"SY\", T22, IF(N22=\"Tons\", V22+P22, \"\"))","v":""}]
[null,null,null,null,null,{"$f":"IF($J23=\"\",\"\",INDEX(Input!$A$5:$H$24,MATCH($A23&$J23,Input!$A$5:$A$24&Input!$G$5:$G$24,0),2))","v":""},{"$f":"IF($J23=\"\",\"\",INDEX(Input!$A$5:$H$24,MATCH($A23&$J23,Input!$A$5:$A$24&Input!$G$5:$G$24,0),3))","v":""},{"$f":"IF($J23=\"\",\"\",INDEX(Input!$A$5:$H$24,MATCH($A23&$J23,Input!$A$5:$A$24&Input!$G$5:$G$24,0),4))","v":""},{"$f":"IF($J23=\"\",\"\",INDEX(Input!$A$5:$H$24,MATCH($A23&$J23,Input!$A$5:$A$24&Input!$G$5:$G$24,0),5))","v":""},null,null,null,null,{"$f":"IF($A23=\"\",\"\",OFFSET(Input!F$4,MATCH($A23,Input!$A$5:$A$24,0),0))","v":""},{"$f":"IF(N23=\"SY\", T23, IF(N23=\"Tons\", W23, \"\"))","v":""},null,{"$f":"IF(N23=\"SY\", V23, IF(N23=\"Tons\", O23-P23, \"\"))","v":""},"\\",{"$f":"IF(A23=\"\",1,IF(ISERROR(MATCH(R23,Input!L$5:L$24,0)),2,1))","v":1},{"$f":"IF(A23=\"\", \"\", SUMIF($Q$8:$Q$17, \"*\" & LEFT(A23, 11) & \"*\", $S$8:$S$17))","v":""},null,{"$f":"IF(A23=\"\", \"\", SUMIF($Q$8:$Q$17, \"*\" & LEFT(A23, 11) & \"*\", $T$8:$T$17))","v":""},{"$f":"IF(N23=\"SY\", T23, IF(N23=\"Tons\", V23+P23, \"\"))","v":""}]
[null,null,null,null,null,{"$f":"IF($J24=\"\",\"\",INDEX(Input!$A$5:$H$24,MATCH($A24&$J24,Input!$A$5:$A$24&Input!$G$5:$G$24,0),2))","v":""},{"$f":"IF($J24=\"\",\"\",INDEX(Input!$A$5:$H$24,MATCH($A24&$J24,Input!$A$5:$A$24&Input!$G$5:$G$24,0),3))","v":""},{"$f":"IF($J24=\"\",\"\",INDEX(Input!$A$5:$H$24,MATCH($A24&$J24,Input!$A$5:$A$24&Input!$G$5:$G$24,0),4))","v":""},{"$f":"IF($J24=\"\",\"\",INDEX(Input!$A$5:$H$24,MATCH($A24&$J24,Input!$A$5:$A$24&Input!$G$5:$G$24,0),5))","v":""},null,null,null,null,{"$f":"IF($A24=\"\",\"\",OFFSET(Input!F$4,MATCH($A24,Input!$A$5:$A$24,0),0))","v":""},"",null,{"$f":"IF(N24=\"SY\", V24, IF(N24=\"Tons\", O24-P24, \"\"))","v":""},"\\",{"$f":"IF(A24=\"\",1,IF(ISERROR(MATCH(R24,Input!L$5:L$24,0)),2,1))","v":1},"",null,{"$f":"IF(A24=\"\", \"\", SUMIF($Q$8:$Q$17, \"*\" & LEFT(A24, 11) & \"*\", $T$8:$T$17))","v":""},{"$f":"IF(N24=\"SY\", T24, IF(N24=\"Tons\", V24+P24, \"\"))","v":""}]
[null,null,null,null,null,{"$f":"IF($J25=\"\",\"\",INDEX(Input!$A$5:$H$24,MATCH($A25&$J25,Input!$A$5:$A$24&Input!$G$5:$G$24,0),2))","v":""},{"$f":"IF($J25=\"\",\"\",INDEX(Input!$A$5:$H$24,MATCH($A25&$J25,Input!$A$5:$A$24&Input!$G$5:$G$24,0),3))","v":""},{"$f":"IF($J25=\"\",\"\",INDEX(Input!$A$5:$H$24,MATCH($A25&$J25,Input!$A$5:$A$24&Input!$G$5:$G$24,0),4))","v":""},{"$f":"IF($J25=\"\",\"\",INDEX(Input!$A$5:$H$24,MATCH($A25&$J25,Input!$A$5:$A$24&Input!$G$5:$G$24,0),5))","v":""},null,null,null,null,{"$f":"IF($A25=\"\",\"\",OFFSET(Input!F$4,MATCH($A25,Input!$A$5:$A$24,0),0))","v":""},"",null,"","\\",{"$f":"IF(A25=\"\",1,IF(ISERROR(MATCH(R25,Input!L$5:L$24,0)),2,1))","v":1},"",null,"",""]
[null,null,null,null,null,null,null,null,null,null,null,null,null,null,null,null,null,null,null,null,null,"",{"$f":"IF(N26=\"SY\", T26, IF(N26=\"Tons\", V26+P26, \"\"))","v":""},{"$f":"IF(A26=\"\", \"\", SUMIF($Q$8:$Q$17, \"*\" & LEFT(A26, 11) & \"*\", $S$8:$S$17))","v":""},{"$f":"IF(N26=\"SY\",X26,\"\")","v":""},{"$f":"IF(A26=\"\", \"\", SUMIF($Q$8:$Q$17, \"*\" & LEFT(A26, 11) & \"*\", $T$8:$T$17))","v":""}]
["Hot Box Sample",null,null,null,null,null,null,null,null,null,"Mat Temperatures °F"]
[null,"Test A","Test B","Test C","Test D","Test E",null,null,null,null,"Time","Temp"]
[" Hot Box ID Number  ",null,null,null,null,null,null,null,null,null,"7:00"]
["Hot Box Sample Tons: ",null,null,null,null,null,null,null,null,null,"9:00",null,null,null,"Intended Thickness:"]
[" Time: ",null,null,null,null,null,null,null,null,null,"11:00",null,null,null,"Cores Waived?"]
[" Station/MP: ",null,null,null,null,null,null,null,null,null,"1:00",null,null,null,"Small Quantity Statement?"]
["Bar Code ID.:",null,null,null,null,null,null,null,null,null,"3:00",null,null,null,"Scale Check Done?"]
["Compaction Temp. °F: ",null,null,null,null,null,null,null,null,null,"5:00",null,null,null,"Tack Tickets Today?"]
[null,null,null,null,null,null,null,null,null,null,"7:00"]
["The Below Comments should show up on the plant report"]
["Comments:"]
[]
[]
["The Below Notes are for the CPI from the field or Plant Monitor"]
["Notes:"]
[]
[]
["RANDOM CORE LOCATIONS"]
[null,null,null,null,null,null,null,"Core #","Station","Offset,ft","Joint Station","Lane"]
[null,null,null,null,null,null,null,1]
[null,null,null,null,null,null,null,2]
[null,null,null,null,null,null,null,3]
[null,null,null,null,null,null,null,4]
[null,null,null,null,null,null,null,5]
[null,null,null,null,null,null,null,6]
[null,null,null,null,null,null,null,7]
[null,null,null,null,null,null,null,8]
[]
[null,null,null,null,null,null,null,null,null,null,"Joint Sublot Size, ft"]
[null,null,null,null,null,null,null,null,null,null,0]
[]
[]
[]
[]
[]
[]
[]
[]
[]
[]
[]
[]
[]
[]
[]
[]
[]
[]
[]
[]
[]
[]
[]
[]
[]
[]
[]
[]
[]
[]
[]
[]
[]
[]
[]
[]
[]
[]
[]
[]
[false]

{"sheet":"96","index":111,"n_rows":97,"n_cols":26,"rows_kept":97,"cut":false,"hidden":false,"merged":[[50,11,50,13],[51,11,51,13],[52,11,52,13],[44,11,44,13],[45,11,45,13],[46,11,46,13],[47,11,47,13],[48,11,48,13],[49,11,49,13],[43,0,43,16],[25,0,25,1],[26,0,26,5],[26,20,26,23],[26,25,26,27],[34,2,34,4],[35,0,35,5],[36,1,36,14],[37,0,37,14],[39,0,39,5],[40,1,40,14],[41,0,41,14],[23,0,23,1],[23,2,23,4],[23,9,23,12],[24,0,24,1],[24,2,24,4],[24,9,24,12],[21,0,21,1],[21,2,21,4],[21,9,21,12],[22,0,22,1],[22,2,22,4],[22,9,22,12],[19,0,19,1],[19,2,19,4],[19,9,19,12],[20,0,20,1],[20,2,20,4],[20,9,20,12],[18,0,18,16],[6,14,6,15],[7,14,7,15],[8,14,8,15],[9,14,9,15],[10,14,10,15],[11,14,11,15],[12,14,12,15],[13,14,13,15],[14,14,14,15],[15,14,15,15],[16,14,16,15],[1,0,1,16],[4,0,4,15],[5,4,5,5],[5,8,5,9],[5,11,5,12],[5,13,5,15]]}
[]
["Iowa DOT HMA Field Report"]
["Date :"]
["Item No.('s)"]
["PLACEMENT RECORD",null,null,null,null,null,null,null,null,null,null,null,null,null,null,null,null,null,null,null,null,{"$f":"SUBSTITUTE(A21 & \"\\\" & J21,\"\"\"\",\"\")","v":"\\"}]
[null,null,null,null,"Additional width to DEDUCT from Field Voids",null,null,null,"Placed Density (Pounds/CF)=",null,150,"Overwritten on the \"Summary\" Tab",null,"ONLY ONE (1) MIX DESIGN PER DFR OTHERWISE IT WILL NOT IMPORT INTO THE PLANT REPORT PROPERLY",null,null,null,null,null,null,null,{"$f":"SUBSTITUTE(A22 & \"\\\" & J22,\"\"\"\",\"\")","v":"\\"}]
["From Station"," To Station","Lane","ML or Widening Placement Width","Additional Width (ft) ","Thickness (in)","Total Length Placed (FT)","\"Pay\"  Est \"SY\"","Thickness (inches)","Calculated Field Voids Tons","Placed Tons            (Not including Waste)","% Yield","SY to be PAID (If Diff. than Est SY)","Mix Design No.","Bid Item/ Project No.",null,null,null,"This uses the correct SY #, if Green is blank uses Est. SY","Adds up the Tons",null,"\\"]
[null,null,null,null,null,null,{"$f":"IF(OR(A8=\"\",B8=\"\"),0,IF($A$97=TRUE,ABS(B8-A8)*5280,ABS(VALUE(SUBSTITUTE(A8,\"+\",\"\"))-VALUE(SUBSTITUTE(B8,\"+\",\"\")))))","v":0},{"$f":"IF(D8=\"\",\"\",G8*(D8+E8)/9)","v":""},null,{"$f":"IF(I8=\"\",\"\",(G8)*(D8+E8)*I8/12*$K$6/2000)","v":""},null,{"$f":"IF(K8=\"\",\"\",K8/J8*100)","v":""},null,null,null,null,{"$f":"O8 & \"\\\" & N8","v":"\\"},{"$f":"IF(AND(A8=\"\",B8=\"\",C8=\"\",D8=\"\"),1,IF(OR(O8=\"\",N8=\"\"),2,IF(ISERROR(MATCH(Q8,Input!M$5:M$24,0)),2,1)))","v":1},{"$f":"IF(M8<>\"\", M8, H8)","v":""},{"$f":"K8","v":0},null,"\\"]
[null,null,null,null,null,null,{"$f":"IF(OR(A9=\"\",B9=\"\"),0,IF($A$97=TRUE,ABS(B9-A9)*5280,ABS(VALUE(SUBSTITUTE(A9,\"+\",\"\"))-VALUE(SUBSTITUTE(B9,\"+\",\"\")))))","v":0},{"$f":"IF(D9=\"\",\"\",G9*(D9+E9)/9)","v":""},null,"",null,{"$f":"IF(K9=\"\",\"\",K9/J9*100)","v":""},null,null,null,null,{"$f":"O9 & \"\\\" & N9","v":"\\"},{"$f":"IF(AND(A9=\"\",B9=\"\",C9=\"\",D9=\"\"),1,IF(OR(O9=\"\",N9=\"\"),2,IF(ISERROR(MATCH(Q9,Input!M$5:M$24,0)),2,1)))","v":1},{"$f":"IF(M9<>\"\", M9, H9)","v":""},{"$f":"K9","v":0},null,"\\"]
[null,null,null,null,null,null,0,"",null,"",null,"",null,null,null,null,"\\",{"$f":"IF(AND(A10=\"\",B10=\"\",C10=\"\",D10=\"\"),1,IF(OR(O10=\"\",N10=\"\"),2,IF(ISERROR(MATCH(Q10,Input!M$5:M$24,0)),2,1)))","v":1},{"$f":"IF(M10<>\"\", M10, H10)","v":""},0]
[null,null,null,null,null,null,0,"",null,"",null,"",null,null,null,null,"\\",{"$f":"IF(AND(A11=\"\",B11=\"\",C11=\"\",D11=\"\"),1,IF(OR(O11=\"\",N11=\"\"),2,IF(ISERROR(MATCH(Q11,Input!M$5:M$24,0)),2,1)))","v":1},"",0]
[null,null,null,null,null,null,0,"",null,"",null,"",null,null,null,null,"\\",{"$f":"IF(AND(A12=\"\",B12=\"\",C12=\"\",D12=\"\"),1,IF(OR(O12=\"\",N12=\"\"),2,IF(ISERROR(MATCH(Q12,Input!M$5:M$24,0)),2,1)))","v":1},"",0]
[null,null,null,null,null,null,0,"",null,"",null,"",null,null,null,null,"\\",{"$f":"IF(AND(A13=\"\",B13=\"\",C13=\"\",D13=\"\"),1,IF(OR(O13=\"\",N13=\"\"),2,IF(ISERROR(MATCH(Q13,Input!M$5:M$24,0)),2,1)))","v":1},"",0]
[null,null,null,null,null,null,0,"",null,"",null,"",null,null,null,null,"\\",{"$f":"IF(AND(A14=\"\",B14=\"\",C14=\"\",D14=\"\"),1,IF(OR(O14=\"\",N14=\"\"),2,IF(ISERROR(MATCH(Q14,Input!M$5:M$24,0)),2,1)))","v":1},"",0]
[null,null,null,null,null,null,0,"",null,"",null,"",null,null,null,null,"\\",{"$f":"IF(AND(A15=\"\",B15=\"\",C15=\"\",D15=\"\"),1,IF(OR(O15=\"\",N15=\"\"),2,IF(ISERROR(MATCH(Q15,Input!M$5:M$24,0)),2,1)))","v":1},"",0]
[null,null,null,null,null,null,0,"",null,"",null,"",null,null,null,null,"\\",{"$f":"IF(AND(A16=\"\",B16=\"\",C16=\"\",D16=\"\"),1,IF(OR(O16=\"\",N16=\"\"),2,IF(ISERROR(MATCH(Q16,Input!M$5:M$24,0)),2,1)))","v":1},"",0]
[null,null,null,null,null,null,0,"",null,"",null,"",null,null,null,null,"\\",{"$f":"IF(AND(A17=\"\",B17=\"\",C17=\"\",D17=\"\"),1,IF(OR(O17=\"\",N17=\"\"),2,IF(ISERROR(MATCH(Q17,Input!M$5:M$24,0)),2,1)))","v":1},"",0]
[]
["TANK SHEET"]
["Bid Item (In Order of Placement)",null,"Today's Placement",null,null,"Bid Item Plan Quantity","Plan Thickness (in)","Contract Mix Price","Contract Binder Price","Project Number",null,null,null,"Mix Pay Units","Mix Delivered to Road\n(Ton or SY)","Waste On Road (Ton)\nNO waste for SY Items","Tons Placed - Waste",null,null,"This adds up column S as it depends if the Est SY is filled out or the SY",null,"Use this Column for SY for the Q column","Uses this Value for Mix on Road"]
[null,null,null,null,null,{"$f":"IF($J21=\"\",\"\",INDEX(Input!$A$5:$H$24,MATCH($A21&$J21,Input!$A$5:$A$24&Input!$G$5:$G$24,0),2))","v":""},{"$f":"IF($J21=\"\",\"\",INDEX(Input!$A$5:$H$24,MATCH($A21&$J21,Input!$A$5:$A$24&Input!$G$5:$G$24,0),3))","v":""},{"$f":"IF($J21=\"\",\"\",INDEX(Input!$A$5:$H$24,MATCH($A21&$J21,Input!$A$5:$A$24&Input!$G$5:$G$24,0),4))","v":""},{"$f":"IF($J21=\"\",\"\",INDEX(Input!$A$5:$H$24,MATCH($A21&$J21,Input!$A$5:$A$24&Input!$G$5:$G$24,0),5))","v":""},null,null,null,null,{"$f":"IF($A21=\"\",\"\",OFFSET(Input!F$4,MATCH($A21,Input!$A$5:$A$24,0),0))","v":""},{"$f":"IF(N21=\"SY\", T21, IF(N21=\"Tons\", W21, \"\"))","v":""},null,{"$f":"IF(N21=\"SY\", V21, IF(N21=\"Tons\", O21-P21, \"\"))","v":""},{"$f":"SUBSTITUTE(A21 & \"\\\" & J21,\"\"\"\",\"\")","v":"\\"},{"$f":"IF(A21=\"\",1,IF(ISERROR(MATCH(R21,Input!L$5:L$24,0)),2,1))","v":1},{"$f":"IF(A21=\"\", \"\", SUMIF($Q$8:$Q$17, \"*\" & LEFT(A21, 11) & \"*\", $S$8:$S$17))","v":""},null,{"$f":"IF(A21=\"\", \"\", SUMIF($Q$8:$Q$17, \"*\" & LEFT(A21, 11) & \"*\", $T$8:$T$17))","v":""},{"$f":"IF(N21=\"SY\", T21, IF(N21=\"Tons\", V21+P21, \"\"))","v":""}]
[null,null,null,null,null,{"$f":"IF($J22=\"\",\"\",INDEX(Input!$A$5:$H$24,MATCH($A22&$J22,Input!$A$5:$A$24&Input!$G$5:$G$24,0),2))","v":""},{"$f":"IF($J22=\"\",\"\",INDEX(Input!$A$5:$H$24,MATCH($A22&$J22,Input!$A$5:$A$24&Input!$G$5:$G$24,0),3))","v":""},{"$f":"IF($J22=\"\",\"\",INDEX(Input!$A$5:$H$24,MATCH($A22&$J22,Input!$A$5:$A$24&Input!$G$5:$G$24,0),4))","v":""},{"$f":"IF($J22=\"\",\"\",INDEX(Input!$A$5:$H$24,MATCH($A22&$J22,Input!$A$5:$A$24&Input!$G$5:$G$24,0),5))","v":""},null,null,null,null,{"$f":"IF($A22=\"\",\"\",OFFSET(Input!F$4,MATCH($A22,Input!$A$5:$A$24,0),0))","v":""},{"$f":"IF(N22=\"SY\", T22, IF(N22=\"Tons\", W22, \"\"))","v":""},null,{"$f":"IF(N22=\"SY\", V22, IF(N22=\"Tons\", O22-P22, \"\"))","v":""},{"$f":"SUBSTITUTE(A22 & \"\\\" & J22,\"\"\"\",\"\")","v":"\\"},{"$f":"IF(A22=\"\",1,IF(ISERROR(MATCH(R22,Input!L$5:L$24,0)),2,1))","v":1},{"$f":"IF(A22=\"\", \"\", SUMIF($Q$8:$Q$17, \"*\" & LEFT(A22, 11) & \"*\", $S$8:$S$17))","v":""},null,{"$f":"IF(A22=\"\", \"\", SUMIF($Q$8:$Q$17, \"*\" & LEFT(A22, 11) & \"*\", $T$8:$T$17))","v":""},{"$f":"IF(N22=\"SY\", T22, IF(N22=\"Tons\", V22+P22, \"\"))","v":""}]
[null,null,null,null,null,{"$f":"IF($J23=\"\",\"\",INDEX(Input!$A$5:$H$24,MATCH($A23&$J23,Input!$A$5:$A$24&Input!$G$5:$G$24,0),2))","v":""},{"$f":"IF($J23=\"\",\"\",INDEX(Input!$A$5:$H$24,MATCH($A23&$J23,Input!$A$5:$A$24&Input!$G$5:$G$24,0),3))","v":""},{"$f":"IF($J23=\"\",\"\",INDEX(Input!$A$5:$H$24,MATCH($A23&$J23,Input!$A$5:$A$24&Input!$G$5:$G$24,0),4))","v":""},{"$f":"IF($J23=\"\",\"\",INDEX(Input!$A$5:$H$24,MATCH($A23&$J23,Input!$A$5:$A$24&Input!$G$5:$G$24,0),5))","v":""},null,null,null,null,{"$f":"IF($A23=\"\",\"\",OFFSET(Input!F$4,MATCH($A23,Input!$A$5:$A$24,0),0))","v":""},{"$f":"IF(N23=\"SY\", T23, IF(N23=\"Tons\", W23, \"\"))","v":""},null,{"$f":"IF(N23=\"SY\", V23, IF(N23=\"Tons\", O23-P23, \"\"))","v":""},"\\",{"$f":"IF(A23=\"\",1,IF(ISERROR(MATCH(R23,Input!L$5:L$24,0)),2,1))","v":1},{"$f":"IF(A23=\"\", \"\", SUMIF($Q$8:$Q$17, \"*\" & LEFT(A23, 11) & \"*\", $S$8:$S$17))","v":""},null,{"$f":"IF(A23=\"\", \"\", SUMIF($Q$8:$Q$17, \"*\" & LEFT(A23, 11) & \"*\", $T$8:$T$17))","v":""},{"$f":"IF(N23=\"SY\", T23, IF(N23=\"Tons\", V23+P23, \"\"))","v":""}]
[null,null,null,null,null,{"$f":"IF($J24=\"\",\"\",INDEX(Input!$A$5:$H$24,MATCH($A24&$J24,Input!$A$5:$A$24&Input!$G$5:$G$24,0),2))","v":""},{"$f":"IF($J24=\"\",\"\",INDEX(Input!$A$5:$H$24,MATCH($A24&$J24,Input!$A$5:$A$24&Input!$G$5:$G$24,0),3))","v":""},{"$f":"IF($J24=\"\",\"\",INDEX(Input!$A$5:$H$24,MATCH($A24&$J24,Input!$A$5:$A$24&Input!$G$5:$G$24,0),4))","v":""},{"$f":"IF($J24=\"\",\"\",INDEX(Input!$A$5:$H$24,MATCH($A24&$J24,Input!$A$5:$A$24&Input!$G$5:$G$24,0),5))","v":""},null,null,null,null,{"$f":"IF($A24=\"\",\"\",OFFSET(Input!F$4,MATCH($A24,Input!$A$5:$A$24,0),0))","v":""},"",null,{"$f":"IF(N24=\"SY\", V24, IF(N24=\"Tons\", O24-P24, \"\"))","v":""},"\\",{"$f":"IF(A24=\"\",1,IF(ISERROR(MATCH(R24,Input!L$5:L$24,0)),2,1))","v":1},"",null,{"$f":"IF(A24=\"\", \"\", SUMIF($Q$8:$Q$17, \"*\" & LEFT(A24, 11) & \"*\", $T$8:$T$17))","v":""},{"$f":"IF(N24=\"SY\", T24, IF(N24=\"Tons\", V24+P24, \"\"))","v":""}]
[null,null,null,null,null,{"$f":"IF($J25=\"\",\"\",INDEX(Input!$A$5:$H$24,MATCH($A25&$J25,Input!$A$5:$A$24&Input!$G$5:$G$24,0),2))","v":""},{"$f":"IF($J25=\"\",\"\",INDEX(Input!$A$5:$H$24,MATCH($A25&$J25,Input!$A$5:$A$24&Input!$G$5:$G$24,0),3))","v":""},{"$f":"IF($J25=\"\",\"\",INDEX(Input!$A$5:$H$24,MATCH($A25&$J25,Input!$A$5:$A$24&Input!$G$5:$G$24,0),4))","v":""},{"$f":"IF($J25=\"\",\"\",INDEX(Input!$A$5:$H$24,MATCH($A25&$J25,Input!$A$5:$A$24&Input!$G$5:$G$24,0),5))","v":""},null,null,null,null,{"$f":"IF($A25=\"\",\"\",OFFSET(Input!F$4,MATCH($A25,Input!$A$5:$A$24,0),0))","v":""},"",null,"","\\",{"$f":"IF(A25=\"\",1,IF(ISERROR(MATCH(R25,Input!L$5:L$24,0)),2,1))","v":1},"",null,"",""]
[null,null,null,null,null,null,null,null,null,null,null,null,null,null,null,null,null,null,null,null,null,"",{"$f":"IF(N26=\"SY\", T26, IF(N26=\"Tons\", V26+P26, \"\"))","v":""},{"$f":"IF(A26=\"\", \"\", SUMIF($Q$8:$Q$17, \"*\" & LEFT(A26, 11) & \"*\", $S$8:$S$17))","v":""},{"$f":"IF(N26=\"SY\",X26,\"\")","v":""},{"$f":"IF(A26=\"\", \"\", SUMIF($Q$8:$Q$17, \"*\" & LEFT(A26, 11) & \"*\", $T$8:$T$17))","v":""}]
["Hot Box Sample",null,null,null,null,null,null,null,null,null,"Mat Temperatures °F"]
[null,"Test A","Test B","Test C","Test D","Test E",null,null,null,null,"Time","Temp"]
[" Hot Box ID Number  ",null,null,null,null,null,null,null,null,null,"7:00"]
["Hot Box Sample Tons: ",null,null,null,null,null,null,null,null,null,"9:00",null,null,null,"Intended Thickness:"]
[" Time: ",null,null,null,null,null,null,null,null,null,"11:00",null,null,null,"Cores Waived?"]
[" Station/MP: ",null,null,null,null,null,null,null,null,null,"1:00",null,null,null,"Small Quantity Statement?"]
["Bar Code ID.:",null,null,null,null,null,null,null,null,null,"3:00",null,null,null,"Scale Check Done?"]
["Compaction Temp. °F: ",null,null,null,null,null,null,null,null,null,"5:00",null,null,null,"Tack Tickets Today?"]
[null,null,null,null,null,null,null,null,null,null,"7:00"]
["The Below Comments should show up on the plant report"]
["Comments:"]
[]
[]
["The Below Notes are for the CPI from the field or Plant Monitor"]
["Notes:"]
[]
[]
["RANDOM CORE LOCATIONS"]
[null,null,null,null,null,null,null,"Core #","Station","Offset,ft","Joint Station","Lane"]
[null,null,null,null,null,null,null,1]
[null,null,null,null,null,null,null,2]
[null,null,null,null,null,null,null,3]
[null,null,null,null,null,null,null,4]
[null,null,null,null,null,null,null,5]
[null,null,null,null,null,null,null,6]
[null,null,null,null,null,null,null,7]
[null,null,null,null,null,null,null,8]
[]
[null,null,null,null,null,null,null,null,null,null,"Joint Sublot Size, ft"]
[null,null,null,null,null,null,null,null,null,null,0]
[]
[]
[]
[]
[]
[]
[]
[]
[]
[]
[]
[]
[]
[]
[]
[]
[]
[]
[]
[]
[]
[]
[]
[]
[]
[]
[]
[]
[]
[]
[]
[]
[]
[]
[]
[]
[]
[]
[]
[]
[false]

{"sheet":"97","index":112,"n_rows":97,"n_cols":26,"rows_kept":97,"cut":false,"hidden":false,"merged":[[50,11,50,13],[51,11,51,13],[52,11,52,13],[44,11,44,13],[45,11,45,13],[46,11,46,13],[47,11,47,13],[48,11,48,13],[49,11,49,13],[43,0,43,16],[25,0,25,1],[26,0,26,5],[26,20,26,23],[26,25,26,27],[34,2,34,4],[35,0,35,5],[36,1,36,14],[37,0,37,14],[39,0,39,5],[40,1,40,14],[41,0,41,14],[23,0,23,1],[23,2,23,4],[23,9,23,12],[24,0,24,1],[24,2,24,4],[24,9,24,12],[21,0,21,1],[21,2,21,4],[21,9,21,12],[22,0,22,1],[22,2,22,4],[22,9,22,12],[19,0,19,1],[19,2,19,4],[19,9,19,12],[20,0,20,1],[20,2,20,4],[20,9,20,12],[18,0,18,16],[6,14,6,15],[7,14,7,15],[8,14,8,15],[9,14,9,15],[10,14,10,15],[11,14,11,15],[12,14,12,15],[13,14,13,15],[14,14,14,15],[15,14,15,15],[16,14,16,15],[1,0,1,16],[4,0,4,15],[5,4,5,5],[5,8,5,9],[5,11,5,12],[5,13,5,15]]}
[]
["Iowa DOT HMA Field Report"]
["Date :"]
["Item No.('s)"]
["PLACEMENT RECORD",null,null,null,null,null,null,null,null,null,null,null,null,null,null,null,null,null,null,null,null,{"$f":"SUBSTITUTE(A21 & \"\\\" & J21,\"\"\"\",\"\")","v":"\\"}]
[null,null,null,null,"Additional width to DEDUCT from Field Voids",null,null,null,"Placed Density (Pounds/CF)=",null,150,"Overwritten on the \"Summary\" Tab",null,"ONLY ONE (1) MIX DESIGN PER DFR OTHERWISE IT WILL NOT IMPORT INTO THE PLANT REPORT PROPERLY",null,null,null,null,null,null,null,{"$f":"SUBSTITUTE(A22 & \"\\\" & J22,\"\"\"\",\"\")","v":"\\"}]
["From Station"," To Station","Lane","ML or Widening Placement Width","Additional Width (ft) ","Thickness (in)","Total Length Placed (FT)","\"Pay\"  Est \"SY\"","Thickness (inches)","Calculated Field Voids Tons","Placed Tons            (Not including Waste)","% Yield","SY to be PAID (If Diff. than Est SY)","Mix Design No.","Bid Item/ Project No.",null,null,null,"This uses the correct SY #, if Green is blank uses Est. SY","Adds up the Tons",null,"\\"]
[null,null,null,null,null,null,{"$f":"IF(OR(A8=\"\",B8=\"\"),0,IF($A$97=TRUE,ABS(B8-A8)*5280,ABS(VALUE(SUBSTITUTE(A8,\"+\",\"\"))-VALUE(SUBSTITUTE(B8,\"+\",\"\")))))","v":0},{"$f":"IF(D8=\"\",\"\",G8*(D8+E8)/9)","v":""},null,{"$f":"IF(I8=\"\",\"\",(G8)*(D8+E8)*I8/12*$K$6/2000)","v":""},null,{"$f":"IF(K8=\"\",\"\",K8/J8*100)","v":""},null,null,null,null,{"$f":"O8 & \"\\\" & N8","v":"\\"},{"$f":"IF(AND(A8=\"\",B8=\"\",C8=\"\",D8=\"\"),1,IF(OR(O8=\"\",N8=\"\"),2,IF(ISERROR(MATCH(Q8,Input!M$5:M$24,0)),2,1)))","v":1},{"$f":"IF(M8<>\"\", M8, H8)","v":""},{"$f":"K8","v":0},null,"\\"]
[null,null,null,null,null,null,{"$f":"IF(OR(A9=\"\",B9=\"\"),0,IF($A$97=TRUE,ABS(B9-A9)*5280,ABS(VALUE(SUBSTITUTE(A9,\"+\",\"\"))-VALUE(SUBSTITUTE(B9,\"+\",\"\")))))","v":0},{"$f":"IF(D9=\"\",\"\",G9*(D9+E9)/9)","v":""},null,"",null,{"$f":"IF(K9=\"\",\"\",K9/J9*100)","v":""},null,null,null,null,{"$f":"O9 & \"\\\" & N9","v":"\\"},{"$f":"IF(AND(A9=\"\",B9=\"\",C9=\"\",D9=\"\"),1,IF(OR(O9=\"\",N9=\"\"),2,IF(ISERROR(MATCH(Q9,Input!M$5:M$24,0)),2,1)))","v":1},{"$f":"IF(M9<>\"\", M9, H9)","v":""},{"$f":"K9","v":0},null,"\\"]
[null,null,null,null,null,null,0,"",null,"",null,"",null,null,null,null,"\\",{"$f":"IF(AND(A10=\"\",B10=\"\",C10=\"\",D10=\"\"),1,IF(OR(O10=\"\",N10=\"\"),2,IF(ISERROR(MATCH(Q10,Input!M$5:M$24,0)),2,1)))","v":1},{"$f":"IF(M10<>\"\", M10, H10)","v":""},0]
[null,null,null,null,null,null,0,"",null,"",null,"",null,null,null,null,"\\",{"$f":"IF(AND(A11=\"\",B11=\"\",C11=\"\",D11=\"\"),1,IF(OR(O11=\"\",N11=\"\"),2,IF(ISERROR(MATCH(Q11,Input!M$5:M$24,0)),2,1)))","v":1},"",0]
[null,null,null,null,null,null,0,"",null,"",null,"",null,null,null,null,"\\",{"$f":"IF(AND(A12=\"\",B12=\"\",C12=\"\",D12=\"\"),1,IF(OR(O12=\"\",N12=\"\"),2,IF(ISERROR(MATCH(Q12,Input!M$5:M$24,0)),2,1)))","v":1},"",0]
[null,null,null,null,null,null,0,"",null,"",null,"",null,null,null,null,"\\",{"$f":"IF(AND(A13=\"\",B13=\"\",C13=\"\",D13=\"\"),1,IF(OR(O13=\"\",N13=\"\"),2,IF(ISERROR(MATCH(Q13,Input!M$5:M$24,0)),2,1)))","v":1},"",0]
[null,null,null,null,null,null,0,"",null,"",null,"",null,null,null,null,"\\",{"$f":"IF(AND(A14=\"\",B14=\"\",C14=\"\",D14=\"\"),1,IF(OR(O14=\"\",N14=\"\"),2,IF(ISERROR(MATCH(Q14,Input!M$5:M$24,0)),2,1)))","v":1},"",0]
[null,null,null,null,null,null,0,"",null,"",null,"",null,null,null,null,"\\",{"$f":"IF(AND(A15=\"\",B15=\"\",C15=\"\",D15=\"\"),1,IF(OR(O15=\"\",N15=\"\"),2,IF(ISERROR(MATCH(Q15,Input!M$5:M$24,0)),2,1)))","v":1},"",0]
[null,null,null,null,null,null,0,"",null,"",null,"",null,null,null,null,"\\",{"$f":"IF(AND(A16=\"\",B16=\"\",C16=\"\",D16=\"\"),1,IF(OR(O16=\"\",N16=\"\"),2,IF(ISERROR(MATCH(Q16,Input!M$5:M$24,0)),2,1)))","v":1},"",0]
[null,null,null,null,null,null,0,"",null,"",null,"",null,null,null,null,"\\",{"$f":"IF(AND(A17=\"\",B17=\"\",C17=\"\",D17=\"\"),1,IF(OR(O17=\"\",N17=\"\"),2,IF(ISERROR(MATCH(Q17,Input!M$5:M$24,0)),2,1)))","v":1},"",0]
[]
["TANK SHEET"]
["Bid Item (In Order of Placement)",null,"Today's Placement",null,null,"Bid Item Plan Quantity","Plan Thickness (in)","Contract Mix Price","Contract Binder Price","Project Number",null,null,null,"Mix Pay Units","Mix Delivered to Road\n(Ton or SY)","Waste On Road (Ton)\nNO waste for SY Items","Tons Placed - Waste",null,null,"This adds up column S as it depends if the Est SY is filled out or the SY",null,"Use this Column for SY for the Q column","Uses this Value for Mix on Road"]
[null,null,null,null,null,{"$f":"IF($J21=\"\",\"\",INDEX(Input!$A$5:$H$24,MATCH($A21&$J21,Input!$A$5:$A$24&Input!$G$5:$G$24,0),2))","v":""},{"$f":"IF($J21=\"\",\"\",INDEX(Input!$A$5:$H$24,MATCH($A21&$J21,Input!$A$5:$A$24&Input!$G$5:$G$24,0),3))","v":""},{"$f":"IF($J21=\"\",\"\",INDEX(Input!$A$5:$H$24,MATCH($A21&$J21,Input!$A$5:$A$24&Input!$G$5:$G$24,0),4))","v":""},{"$f":"IF($J21=\"\",\"\",INDEX(Input!$A$5:$H$24,MATCH($A21&$J21,Input!$A$5:$A$24&Input!$G$5:$G$24,0),5))","v":""},null,null,null,null,{"$f":"IF($A21=\"\",\"\",OFFSET(Input!F$4,MATCH($A21,Input!$A$5:$A$24,0),0))","v":""},{"$f":"IF(N21=\"SY\", T21, IF(N21=\"Tons\", W21, \"\"))","v":""},null,{"$f":"IF(N21=\"SY\", V21, IF(N21=\"Tons\", O21-P21, \"\"))","v":""},{"$f":"SUBSTITUTE(A21 & \"\\\" & J21,\"\"\"\",\"\")","v":"\\"},{"$f":"IF(A21=\"\",1,IF(ISERROR(MATCH(R21,Input!L$5:L$24,0)),2,1))","v":1},{"$f":"IF(A21=\"\", \"\", SUMIF($Q$8:$Q$17, \"*\" & LEFT(A21, 11) & \"*\", $S$8:$S$17))","v":""},null,{"$f":"IF(A21=\"\", \"\", SUMIF($Q$8:$Q$17, \"*\" & LEFT(A21, 11) & \"*\", $T$8:$T$17))","v":""},{"$f":"IF(N21=\"SY\", T21, IF(N21=\"Tons\", V21+P21, \"\"))","v":""}]
[null,null,null,null,null,{"$f":"IF($J22=\"\",\"\",INDEX(Input!$A$5:$H$24,MATCH($A22&$J22,Input!$A$5:$A$24&Input!$G$5:$G$24,0),2))","v":""},{"$f":"IF($J22=\"\",\"\",INDEX(Input!$A$5:$H$24,MATCH($A22&$J22,Input!$A$5:$A$24&Input!$G$5:$G$24,0),3))","v":""},{"$f":"IF($J22=\"\",\"\",INDEX(Input!$A$5:$H$24,MATCH($A22&$J22,Input!$A$5:$A$24&Input!$G$5:$G$24,0),4))","v":""},{"$f":"IF($J22=\"\",\"\",INDEX(Input!$A$5:$H$24,MATCH($A22&$J22,Input!$A$5:$A$24&Input!$G$5:$G$24,0),5))","v":""},null,null,null,null,{"$f":"IF($A22=\"\",\"\",OFFSET(Input!F$4,MATCH($A22,Input!$A$5:$A$24,0),0))","v":""},{"$f":"IF(N22=\"SY\", T22, IF(N22=\"Tons\", W22, \"\"))","v":""},null,{"$f":"IF(N22=\"SY\", V22, IF(N22=\"Tons\", O22-P22, \"\"))","v":""},{"$f":"SUBSTITUTE(A22 & \"\\\" & J22,\"\"\"\",\"\")","v":"\\"},{"$f":"IF(A22=\"\",1,IF(ISERROR(MATCH(R22,Input!L$5:L$24,0)),2,1))","v":1},{"$f":"IF(A22=\"\", \"\", SUMIF($Q$8:$Q$17, \"*\" & LEFT(A22, 11) & \"*\", $S$8:$S$17))","v":""},null,{"$f":"IF(A22=\"\", \"\", SUMIF($Q$8:$Q$17, \"*\" & LEFT(A22, 11) & \"*\", $T$8:$T$17))","v":""},{"$f":"IF(N22=\"SY\", T22, IF(N22=\"Tons\", V22+P22, \"\"))","v":""}]
[null,null,null,null,null,{"$f":"IF($J23=\"\",\"\",INDEX(Input!$A$5:$H$24,MATCH($A23&$J23,Input!$A$5:$A$24&Input!$G$5:$G$24,0),2))","v":""},{"$f":"IF($J23=\"\",\"\",INDEX(Input!$A$5:$H$24,MATCH($A23&$J23,Input!$A$5:$A$24&Input!$G$5:$G$24,0),3))","v":""},{"$f":"IF($J23=\"\",\"\",INDEX(Input!$A$5:$H$24,MATCH($A23&$J23,Input!$A$5:$A$24&Input!$G$5:$G$24,0),4))","v":""},{"$f":"IF($J23=\"\",\"\",INDEX(Input!$A$5:$H$24,MATCH($A23&$J23,Input!$A$5:$A$24&Input!$G$5:$G$24,0),5))","v":""},null,null,null,null,{"$f":"IF($A23=\"\",\"\",OFFSET(Input!F$4,MATCH($A23,Input!$A$5:$A$24,0),0))","v":""},{"$f":"IF(N23=\"SY\", T23, IF(N23=\"Tons\", W23, \"\"))","v":""},null,{"$f":"IF(N23=\"SY\", V23, IF(N23=\"Tons\", O23-P23, \"\"))","v":""},"\\",{"$f":"IF(A23=\"\",1,IF(ISERROR(MATCH(R23,Input!L$5:L$24,0)),2,1))","v":1},{"$f":"IF(A23=\"\", \"\", SUMIF($Q$8:$Q$17, \"*\" & LEFT(A23, 11) & \"*\", $S$8:$S$17))","v":""},null,{"$f":"IF(A23=\"\", \"\", SUMIF($Q$8:$Q$17, \"*\" & LEFT(A23, 11) & \"*\", $T$8:$T$17))","v":""},{"$f":"IF(N23=\"SY\", T23, IF(N23=\"Tons\", V23+P23, \"\"))","v":""}]
[null,null,null,null,null,{"$f":"IF($J24=\"\",\"\",INDEX(Input!$A$5:$H$24,MATCH($A24&$J24,Input!$A$5:$A$24&Input!$G$5:$G$24,0),2))","v":""},{"$f":"IF($J24=\"\",\"\",INDEX(Input!$A$5:$H$24,MATCH($A24&$J24,Input!$A$5:$A$24&Input!$G$5:$G$24,0),3))","v":""},{"$f":"IF($J24=\"\",\"\",INDEX(Input!$A$5:$H$24,MATCH($A24&$J24,Input!$A$5:$A$24&Input!$G$5:$G$24,0),4))","v":""},{"$f":"IF($J24=\"\",\"\",INDEX(Input!$A$5:$H$24,MATCH($A24&$J24,Input!$A$5:$A$24&Input!$G$5:$G$24,0),5))","v":""},null,null,null,null,{"$f":"IF($A24=\"\",\"\",OFFSET(Input!F$4,MATCH($A24,Input!$A$5:$A$24,0),0))","v":""},"",null,{"$f":"IF(N24=\"SY\", V24, IF(N24=\"Tons\", O24-P24, \"\"))","v":""},"\\",{"$f":"IF(A24=\"\",1,IF(ISERROR(MATCH(R24,Input!L$5:L$24,0)),2,1))","v":1},"",null,{"$f":"IF(A24=\"\", \"\", SUMIF($Q$8:$Q$17, \"*\" & LEFT(A24, 11) & \"*\", $T$8:$T$17))","v":""},{"$f":"IF(N24=\"SY\", T24, IF(N24=\"Tons\", V24+P24, \"\"))","v":""}]
[null,null,null,null,null,{"$f":"IF($J25=\"\",\"\",INDEX(Input!$A$5:$H$24,MATCH($A25&$J25,Input!$A$5:$A$24&Input!$G$5:$G$24,0),2))","v":""},{"$f":"IF($J25=\"\",\"\",INDEX(Input!$A$5:$H$24,MATCH($A25&$J25,Input!$A$5:$A$24&Input!$G$5:$G$24,0),3))","v":""},{"$f":"IF($J25=\"\",\"\",INDEX(Input!$A$5:$H$24,MATCH($A25&$J25,Input!$A$5:$A$24&Input!$G$5:$G$24,0),4))","v":""},{"$f":"IF($J25=\"\",\"\",INDEX(Input!$A$5:$H$24,MATCH($A25&$J25,Input!$A$5:$A$24&Input!$G$5:$G$24,0),5))","v":""},null,null,null,null,{"$f":"IF($A25=\"\",\"\",OFFSET(Input!F$4,MATCH($A25,Input!$A$5:$A$24,0),0))","v":""},"",null,"","\\",{"$f":"IF(A25=\"\",1,IF(ISERROR(MATCH(R25,Input!L$5:L$24,0)),2,1))","v":1},"",null,"",""]
[null,null,null,null,null,null,null,null,null,null,null,null,null,null,null,null,null,null,null,null,null,"",{"$f":"IF(N26=\"SY\", T26, IF(N26=\"Tons\", V26+P26, \"\"))","v":""},{"$f":"IF(A26=\"\", \"\", SUMIF($Q$8:$Q$17, \"*\" & LEFT(A26, 11) & \"*\", $S$8:$S$17))","v":""},{"$f":"IF(N26=\"SY\",X26,\"\")","v":""},{"$f":"IF(A26=\"\", \"\", SUMIF($Q$8:$Q$17, \"*\" & LEFT(A26, 11) & \"*\", $T$8:$T$17))","v":""}]
["Hot Box Sample",null,null,null,null,null,null,null,null,null,"Mat Temperatures °F"]
[null,"Test A","Test B","Test C","Test D","Test E",null,null,null,null,"Time","Temp"]
[" Hot Box ID Number  ",null,null,null,null,null,null,null,null,null,"7:00"]
["Hot Box Sample Tons: ",null,null,null,null,null,null,null,null,null,"9:00",null,null,null,"Intended Thickness:"]
[" Time: ",null,null,null,null,null,null,null,null,null,"11:00",null,null,null,"Cores Waived?"]
[" Station/MP: ",null,null,null,null,null,null,null,null,null,"1:00",null,null,null,"Small Quantity Statement?"]
["Bar Code ID.:",null,null,null,null,null,null,null,null,null,"3:00",null,null,null,"Scale Check Done?"]
["Compaction Temp. °F: ",null,null,null,null,null,null,null,null,null,"5:00",null,null,null,"Tack Tickets Today?"]
[null,null,null,null,null,null,null,null,null,null,"7:00"]
["The Below Comments should show up on the plant report"]
["Comments:"]
[]
[]
["The Below Notes are for the CPI from the field or Plant Monitor"]
["Notes:"]
[]
[]
["RANDOM CORE LOCATIONS"]
[null,null,null,null,null,null,null,"Core #","Station","Offset,ft","Joint Station","Lane"]
[null,null,null,null,null,null,null,1]
[null,null,null,null,null,null,null,2]
[null,null,null,null,null,null,null,3]
[null,null,null,null,null,null,null,4]
[null,null,null,null,null,null,null,5]
[null,null,null,null,null,null,null,6]
[null,null,null,null,null,null,null,7]
[null,null,null,null,null,null,null,8]
[]
[null,null,null,null,null,null,null,null,null,null,"Joint Sublot Size, ft"]
[null,null,null,null,null,null,null,null,null,null,0]
[]
[]
[]
[]
[]
[]
[]
[]
[]
[]
[]
[]
[]
[]
[]
[]
[]
[]
[]
[]
[]
[]
[]
[]
[]
[]
[]
[]
[]
[]
[]
[]
[]
[]
[]
[]
[]
[]
[]
[]
[false]

{"sheet":"98","index":113,"n_rows":97,"n_cols":26,"rows_kept":97,"cut":false,"hidden":false,"merged":[[50,11,50,13],[51,11,51,13],[52,11,52,13],[44,11,44,13],[45,11,45,13],[46,11,46,13],[47,11,47,13],[48,11,48,13],[49,11,49,13],[43,0,43,16],[25,0,25,1],[26,0,26,5],[26,20,26,23],[26,25,26,27],[34,2,34,4],[35,0,35,5],[36,1,36,14],[37,0,37,14],[39,0,39,5],[40,1,40,14],[41,0,41,14],[23,0,23,1],[23,2,23,4],[23,9,23,12],[24,0,24,1],[24,2,24,4],[24,9,24,12],[21,0,21,1],[21,2,21,4],[21,9,21,12],[22,0,22,1],[22,2,22,4],[22,9,22,12],[19,0,19,1],[19,2,19,4],[19,9,19,12],[20,0,20,1],[20,2,20,4],[20,9,20,12],[18,0,18,16],[6,14,6,15],[7,14,7,15],[8,14,8,15],[9,14,9,15],[10,14,10,15],[11,14,11,15],[12,14,12,15],[13,14,13,15],[14,14,14,15],[15,14,15,15],[16,14,16,15],[1,0,1,16],[4,0,4,15],[5,4,5,5],[5,8,5,9],[5,11,5,12],[5,13,5,15]]}
[]
["Iowa DOT HMA Field Report"]
["Date :"]
["Item No.('s)"]
["PLACEMENT RECORD",null,null,null,null,null,null,null,null,null,null,null,null,null,null,null,null,null,null,null,null,{"$f":"SUBSTITUTE(A21 & \"\\\" & J21,\"\"\"\",\"\")","v":"\\"}]
[null,null,null,null,"Additional width to DEDUCT from Field Voids",null,null,null,"Placed Density (Pounds/CF)=",null,150,"Overwritten on the \"Summary\" Tab",null,"ONLY ONE (1) MIX DESIGN PER DFR OTHERWISE IT WILL NOT IMPORT INTO THE PLANT REPORT PROPERLY",null,null,null,null,null,null,null,{"$f":"SUBSTITUTE(A22 & \"\\\" & J22,\"\"\"\",\"\")","v":"\\"}]
["From Station"," To Station","Lane","ML or Widening Placement Width","Additional Width (ft) ","Thickness (in)","Total Length Placed (FT)","\"Pay\"  Est \"SY\"","Thickness (inches)","Calculated Field Voids Tons","Placed Tons            (Not including Waste)","% Yield","SY to be PAID (If Diff. than Est SY)","Mix Design No.","Bid Item/ Project No.",null,null,null,"This uses the correct SY #, if Green is blank uses Est. SY","Adds up the Tons",null,"\\"]
[null,null,null,null,null,null,{"$f":"IF(OR(A8=\"\",B8=\"\"),0,IF($A$97=TRUE,ABS(B8-A8)*5280,ABS(VALUE(SUBSTITUTE(A8,\"+\",\"\"))-VALUE(SUBSTITUTE(B8,\"+\",\"\")))))","v":0},{"$f":"IF(D8=\"\",\"\",G8*(D8+E8)/9)","v":""},null,{"$f":"IF(I8=\"\",\"\",(G8)*(D8+E8)*I8/12*$K$6/2000)","v":""},null,{"$f":"IF(K8=\"\",\"\",K8/J8*100)","v":""},null,null,null,null,{"$f":"O8 & \"\\\" & N8","v":"\\"},{"$f":"IF(AND(A8=\"\",B8=\"\",C8=\"\",D8=\"\"),1,IF(OR(O8=\"\",N8=\"\"),2,IF(ISERROR(MATCH(Q8,Input!M$5:M$24,0)),2,1)))","v":1},{"$f":"IF(M8<>\"\", M8, H8)","v":""},{"$f":"K8","v":0},null,"\\"]
[null,null,null,null,null,null,{"$f":"IF(OR(A9=\"\",B9=\"\"),0,IF($A$97=TRUE,ABS(B9-A9)*5280,ABS(VALUE(SUBSTITUTE(A9,\"+\",\"\"))-VALUE(SUBSTITUTE(B9,\"+\",\"\")))))","v":0},{"$f":"IF(D9=\"\",\"\",G9*(D9+E9)/9)","v":""},null,"",null,{"$f":"IF(K9=\"\",\"\",K9/J9*100)","v":""},null,null,null,null,{"$f":"O9 & \"\\\" & N9","v":"\\"},{"$f":"IF(AND(A9=\"\",B9=\"\",C9=\"\",D9=\"\"),1,IF(OR(O9=\"\",N9=\"\"),2,IF(ISERROR(MATCH(Q9,Input!M$5:M$24,0)),2,1)))","v":1},{"$f":"IF(M9<>\"\", M9, H9)","v":""},{"$f":"K9","v":0},null,"\\"]
[null,null,null,null,null,null,0,"",null,"",null,"",null,null,null,null,"\\",{"$f":"IF(AND(A10=\"\",B10=\"\",C10=\"\",D10=\"\"),1,IF(OR(O10=\"\",N10=\"\"),2,IF(ISERROR(MATCH(Q10,Input!M$5:M$24,0)),2,1)))","v":1},{"$f":"IF(M10<>\"\", M10, H10)","v":""},0]
[null,null,null,null,null,null,0,"",null,"",null,"",null,null,null,null,"\\",{"$f":"IF(AND(A11=\"\",B11=\"\",C11=\"\",D11=\"\"),1,IF(OR(O11=\"\",N11=\"\"),2,IF(ISERROR(MATCH(Q11,Input!M$5:M$24,0)),2,1)))","v":1},"",0]
[null,null,null,null,null,null,0,"",null,"",null,"",null,null,null,null,"\\",{"$f":"IF(AND(A12=\"\",B12=\"\",C12=\"\",D12=\"\"),1,IF(OR(O12=\"\",N12=\"\"),2,IF(ISERROR(MATCH(Q12,Input!M$5:M$24,0)),2,1)))","v":1},"",0]
[null,null,null,null,null,null,0,"",null,"",null,"",null,null,null,null,"\\",{"$f":"IF(AND(A13=\"\",B13=\"\",C13=\"\",D13=\"\"),1,IF(OR(O13=\"\",N13=\"\"),2,IF(ISERROR(MATCH(Q13,Input!M$5:M$24,0)),2,1)))","v":1},"",0]
[null,null,null,null,null,null,0,"",null,"",null,"",null,null,null,null,"\\",{"$f":"IF(AND(A14=\"\",B14=\"\",C14=\"\",D14=\"\"),1,IF(OR(O14=\"\",N14=\"\"),2,IF(ISERROR(MATCH(Q14,Input!M$5:M$24,0)),2,1)))","v":1},"",0]
[null,null,null,null,null,null,0,"",null,"",null,"",null,null,null,null,"\\",{"$f":"IF(AND(A15=\"\",B15=\"\",C15=\"\",D15=\"\"),1,IF(OR(O15=\"\",N15=\"\"),2,IF(ISERROR(MATCH(Q15,Input!M$5:M$24,0)),2,1)))","v":1},"",0]
[null,null,null,null,null,null,0,"",null,"",null,"",null,null,null,null,"\\",{"$f":"IF(AND(A16=\"\",B16=\"\",C16=\"\",D16=\"\"),1,IF(OR(O16=\"\",N16=\"\"),2,IF(ISERROR(MATCH(Q16,Input!M$5:M$24,0)),2,1)))","v":1},"",0]
[null,null,null,null,null,null,0,"",null,"",null,"",null,null,null,null,"\\",{"$f":"IF(AND(A17=\"\",B17=\"\",C17=\"\",D17=\"\"),1,IF(OR(O17=\"\",N17=\"\"),2,IF(ISERROR(MATCH(Q17,Input!M$5:M$24,0)),2,1)))","v":1},"",0]
[]
["TANK SHEET"]
["Bid Item (In Order of Placement)",null,"Today's Placement",null,null,"Bid Item Plan Quantity","Plan Thickness (in)","Contract Mix Price","Contract Binder Price","Project Number",null,null,null,"Mix Pay Units","Mix Delivered to Road\n(Ton or SY)","Waste On Road (Ton)\nNO waste for SY Items","Tons Placed - Waste",null,null,"This adds up column S as it depends if the Est SY is filled out or the SY",null,"Use this Column for SY for the Q column","Uses this Value for Mix on Road"]
[null,null,null,null,null,{"$f":"IF($J21=\"\",\"\",INDEX(Input!$A$5:$H$24,MATCH($A21&$J21,Input!$A$5:$A$24&Input!$G$5:$G$24,0),2))","v":""},{"$f":"IF($J21=\"\",\"\",INDEX(Input!$A$5:$H$24,MATCH($A21&$J21,Input!$A$5:$A$24&Input!$G$5:$G$24,0),3))","v":""},{"$f":"IF($J21=\"\",\"\",INDEX(Input!$A$5:$H$24,MATCH($A21&$J21,Input!$A$5:$A$24&Input!$G$5:$G$24,0),4))","v":""},{"$f":"IF($J21=\"\",\"\",INDEX(Input!$A$5:$H$24,MATCH($A21&$J21,Input!$A$5:$A$24&Input!$G$5:$G$24,0),5))","v":""},null,null,null,null,{"$f":"IF($A21=\"\",\"\",OFFSET(Input!F$4,MATCH($A21,Input!$A$5:$A$24,0),0))","v":""},{"$f":"IF(N21=\"SY\", T21, IF(N21=\"Tons\", W21, \"\"))","v":""},null,{"$f":"IF(N21=\"SY\", V21, IF(N21=\"Tons\", O21-P21, \"\"))","v":""},{"$f":"SUBSTITUTE(A21 & \"\\\" & J21,\"\"\"\",\"\")","v":"\\"},{"$f":"IF(A21=\"\",1,IF(ISERROR(MATCH(R21,Input!L$5:L$24,0)),2,1))","v":1},{"$f":"IF(A21=\"\", \"\", SUMIF($Q$8:$Q$17, \"*\" & LEFT(A21, 11) & \"*\", $S$8:$S$17))","v":""},null,{"$f":"IF(A21=\"\", \"\", SUMIF($Q$8:$Q$17, \"*\" & LEFT(A21, 11) & \"*\", $T$8:$T$17))","v":""},{"$f":"IF(N21=\"SY\", T21, IF(N21=\"Tons\", V21+P21, \"\"))","v":""}]
[null,null,null,null,null,{"$f":"IF($J22=\"\",\"\",INDEX(Input!$A$5:$H$24,MATCH($A22&$J22,Input!$A$5:$A$24&Input!$G$5:$G$24,0),2))","v":""},{"$f":"IF($J22=\"\",\"\",INDEX(Input!$A$5:$H$24,MATCH($A22&$J22,Input!$A$5:$A$24&Input!$G$5:$G$24,0),3))","v":""},{"$f":"IF($J22=\"\",\"\",INDEX(Input!$A$5:$H$24,MATCH($A22&$J22,Input!$A$5:$A$24&Input!$G$5:$G$24,0),4))","v":""},{"$f":"IF($J22=\"\",\"\",INDEX(Input!$A$5:$H$24,MATCH($A22&$J22,Input!$A$5:$A$24&Input!$G$5:$G$24,0),5))","v":""},null,null,null,null,{"$f":"IF($A22=\"\",\"\",OFFSET(Input!F$4,MATCH($A22,Input!$A$5:$A$24,0),0))","v":""},{"$f":"IF(N22=\"SY\", T22, IF(N22=\"Tons\", W22, \"\"))","v":""},null,{"$f":"IF(N22=\"SY\", V22, IF(N22=\"Tons\", O22-P22, \"\"))","v":""},{"$f":"SUBSTITUTE(A22 & \"\\\" & J22,\"\"\"\",\"\")","v":"\\"},{"$f":"IF(A22=\"\",1,IF(ISERROR(MATCH(R22,Input!L$5:L$24,0)),2,1))","v":1},{"$f":"IF(A22=\"\", \"\", SUMIF($Q$8:$Q$17, \"*\" & LEFT(A22, 11) & \"*\", $S$8:$S$17))","v":""},null,{"$f":"IF(A22=\"\", \"\", SUMIF($Q$8:$Q$17, \"*\" & LEFT(A22, 11) & \"*\", $T$8:$T$17))","v":""},{"$f":"IF(N22=\"SY\", T22, IF(N22=\"Tons\", V22+P22, \"\"))","v":""}]
[null,null,null,null,null,{"$f":"IF($J23=\"\",\"\",INDEX(Input!$A$5:$H$24,MATCH($A23&$J23,Input!$A$5:$A$24&Input!$G$5:$G$24,0),2))","v":""},{"$f":"IF($J23=\"\",\"\",INDEX(Input!$A$5:$H$24,MATCH($A23&$J23,Input!$A$5:$A$24&Input!$G$5:$G$24,0),3))","v":""},{"$f":"IF($J23=\"\",\"\",INDEX(Input!$A$5:$H$24,MATCH($A23&$J23,Input!$A$5:$A$24&Input!$G$5:$G$24,0),4))","v":""},{"$f":"IF($J23=\"\",\"\",INDEX(Input!$A$5:$H$24,MATCH($A23&$J23,Input!$A$5:$A$24&Input!$G$5:$G$24,0),5))","v":""},null,null,null,null,{"$f":"IF($A23=\"\",\"\",OFFSET(Input!F$4,MATCH($A23,Input!$A$5:$A$24,0),0))","v":""},{"$f":"IF(N23=\"SY\", T23, IF(N23=\"Tons\", W23, \"\"))","v":""},null,{"$f":"IF(N23=\"SY\", V23, IF(N23=\"Tons\", O23-P23, \"\"))","v":""},"\\",{"$f":"IF(A23=\"\",1,IF(ISERROR(MATCH(R23,Input!L$5:L$24,0)),2,1))","v":1},{"$f":"IF(A23=\"\", \"\", SUMIF($Q$8:$Q$17, \"*\" & LEFT(A23, 11) & \"*\", $S$8:$S$17))","v":""},null,{"$f":"IF(A23=\"\", \"\", SUMIF($Q$8:$Q$17, \"*\" & LEFT(A23, 11) & \"*\", $T$8:$T$17))","v":""},{"$f":"IF(N23=\"SY\", T23, IF(N23=\"Tons\", V23+P23, \"\"))","v":""}]
[null,null,null,null,null,{"$f":"IF($J24=\"\",\"\",INDEX(Input!$A$5:$H$24,MATCH($A24&$J24,Input!$A$5:$A$24&Input!$G$5:$G$24,0),2))","v":""},{"$f":"IF($J24=\"\",\"\",INDEX(Input!$A$5:$H$24,MATCH($A24&$J24,Input!$A$5:$A$24&Input!$G$5:$G$24,0),3))","v":""},{"$f":"IF($J24=\"\",\"\",INDEX(Input!$A$5:$H$24,MATCH($A24&$J24,Input!$A$5:$A$24&Input!$G$5:$G$24,0),4))","v":""},{"$f":"IF($J24=\"\",\"\",INDEX(Input!$A$5:$H$24,MATCH($A24&$J24,Input!$A$5:$A$24&Input!$G$5:$G$24,0),5))","v":""},null,null,null,null,{"$f":"IF($A24=\"\",\"\",OFFSET(Input!F$4,MATCH($A24,Input!$A$5:$A$24,0),0))","v":""},"",null,{"$f":"IF(N24=\"SY\", V24, IF(N24=\"Tons\", O24-P24, \"\"))","v":""},"\\",{"$f":"IF(A24=\"\",1,IF(ISERROR(MATCH(R24,Input!L$5:L$24,0)),2,1))","v":1},"",null,{"$f":"IF(A24=\"\", \"\", SUMIF($Q$8:$Q$17, \"*\" & LEFT(A24, 11) & \"*\", $T$8:$T$17))","v":""},{"$f":"IF(N24=\"SY\", T24, IF(N24=\"Tons\", V24+P24, \"\"))","v":""}]
[null,null,null,null,null,{"$f":"IF($J25=\"\",\"\",INDEX(Input!$A$5:$H$24,MATCH($A25&$J25,Input!$A$5:$A$24&Input!$G$5:$G$24,0),2))","v":""},{"$f":"IF($J25=\"\",\"\",INDEX(Input!$A$5:$H$24,MATCH($A25&$J25,Input!$A$5:$A$24&Input!$G$5:$G$24,0),3))","v":""},{"$f":"IF($J25=\"\",\"\",INDEX(Input!$A$5:$H$24,MATCH($A25&$J25,Input!$A$5:$A$24&Input!$G$5:$G$24,0),4))","v":""},{"$f":"IF($J25=\"\",\"\",INDEX(Input!$A$5:$H$24,MATCH($A25&$J25,Input!$A$5:$A$24&Input!$G$5:$G$24,0),5))","v":""},null,null,null,null,{"$f":"IF($A25=\"\",\"\",OFFSET(Input!F$4,MATCH($A25,Input!$A$5:$A$24,0),0))","v":""},"",null,"","\\",{"$f":"IF(A25=\"\",1,IF(ISERROR(MATCH(R25,Input!L$5:L$24,0)),2,1))","v":1},"",null,"",""]
[null,null,null,null,null,null,null,null,null,null,null,null,null,null,null,null,null,null,null,null,null,"",{"$f":"IF(N26=\"SY\", T26, IF(N26=\"Tons\", V26+P26, \"\"))","v":""},{"$f":"IF(A26=\"\", \"\", SUMIF($Q$8:$Q$17, \"*\" & LEFT(A26, 11) & \"*\", $S$8:$S$17))","v":""},{"$f":"IF(N26=\"SY\",X26,\"\")","v":""},{"$f":"IF(A26=\"\", \"\", SUMIF($Q$8:$Q$17, \"*\" & LEFT(A26, 11) & \"*\", $T$8:$T$17))","v":""}]
["Hot Box Sample",null,null,null,null,null,null,null,null,null,"Mat Temperatures °F"]
[null,"Test A","Test B","Test C","Test D","Test E",null,null,null,null,"Time","Temp"]
[" Hot Box ID Number  ",null,null,null,null,null,null,null,null,null,"7:00"]
["Hot Box Sample Tons: ",null,null,null,null,null,null,null,null,null,"9:00",null,null,null,"Intended Thickness:"]
[" Time: ",null,null,null,null,null,null,null,null,null,"11:00",null,null,null,"Cores Waived?"]
[" Station/MP: ",null,null,null,null,null,null,null,null,null,"1:00",null,null,null,"Small Quantity Statement?"]
["Bar Code ID.:",null,null,null,null,null,null,null,null,null,"3:00",null,null,null,"Scale Check Done?"]
["Compaction Temp. °F: ",null,null,null,null,null,null,null,null,null,"5:00",null,null,null,"Tack Tickets Today?"]
[null,null,null,null,null,null,null,null,null,null,"7:00"]
["The Below Comments should show up on the plant report"]
["Comments:"]
[]
[]
["The Below Notes are for the CPI from the field or Plant Monitor"]
["Notes:"]
[]
[]
["RANDOM CORE LOCATIONS"]
[null,null,null,null,null,null,null,"Core #","Station","Offset,ft","Joint Station","Lane"]
[null,null,null,null,null,null,null,1]
[null,null,null,null,null,null,null,2]
[null,null,null,null,null,null,null,3]
[null,null,null,null,null,null,null,4]
[null,null,null,null,null,null,null,5]
[null,null,null,null,null,null,null,6]
[null,null,null,null,null,null,null,7]
[null,null,null,null,null,null,null,8]
[]
[null,null,null,null,null,null,null,null,null,null,"Joint Sublot Size, ft"]
[null,null,null,null,null,null,null,null,null,null,0]
[]
[]
[]
[]
[]
[]
[]
[]
[]
[]
[]
[]
[]
[]
[]
[]
[]
[]
[]
[]
[]
[]
[]
[]
[]
[]
[]
[]
[]
[]
[]
[]
[]
[]
[]
[]
[]
[]
[]
[]
[false]

{"sheet":"99","index":114,"n_rows":97,"n_cols":26,"rows_kept":97,"cut":false,"hidden":false,"merged":[[50,11,50,13],[51,11,51,13],[52,11,52,13],[44,11,44,13],[45,11,45,13],[46,11,46,13],[47,11,47,13],[48,11,48,13],[49,11,49,13],[43,0,43,16],[25,0,25,1],[26,0,26,5],[26,20,26,23],[26,25,26,27],[34,2,34,4],[35,0,35,5],[36,1,36,14],[37,0,37,14],[39,0,39,5],[40,1,40,14],[41,0,41,14],[23,0,23,1],[23,2,23,4],[23,9,23,12],[24,0,24,1],[24,2,24,4],[24,9,24,12],[21,0,21,1],[21,2,21,4],[21,9,21,12],[22,0,22,1],[22,2,22,4],[22,9,22,12],[19,0,19,1],[19,2,19,4],[19,9,19,12],[20,0,20,1],[20,2,20,4],[20,9,20,12],[18,0,18,16],[6,14,6,15],[7,14,7,15],[8,14,8,15],[9,14,9,15],[10,14,10,15],[11,14,11,15],[12,14,12,15],[13,14,13,15],[14,14,14,15],[15,14,15,15],[16,14,16,15],[1,0,1,16],[4,0,4,15],[5,4,5,5],[5,8,5,9],[5,11,5,12],[5,13,5,15]]}
[]
["Iowa DOT HMA Field Report"]
["Date :"]
["Item No.('s)"]
["PLACEMENT RECORD",null,null,null,null,null,null,null,null,null,null,null,null,null,null,null,null,null,null,null,null,{"$f":"SUBSTITUTE(A21 & \"\\\" & J21,\"\"\"\",\"\")","v":"\\"}]
[null,null,null,null,"Additional width to DEDUCT from Field Voids",null,null,null,"Placed Density (Pounds/CF)=",null,150,"Overwritten on the \"Summary\" Tab",null,"ONLY ONE (1) MIX DESIGN PER DFR OTHERWISE IT WILL NOT IMPORT INTO THE PLANT REPORT PROPERLY",null,null,null,null,null,null,null,{"$f":"SUBSTITUTE(A22 & \"\\\" & J22,\"\"\"\",\"\")","v":"\\"}]
["From Station"," To Station","Lane","ML or Widening Placement Width","Additional Width (ft) ","Thickness (in)","Total Length Placed (FT)","\"Pay\"  Est \"SY\"","Thickness (inches)","Calculated Field Voids Tons","Placed Tons            (Not including Waste)","% Yield","SY to be PAID (If Diff. than Est SY)","Mix Design No.","Bid Item/ Project No.",null,null,null,"This uses the correct SY #, if Green is blank uses Est. SY","Adds up the Tons",null,"\\"]
[null,null,null,null,null,null,{"$f":"IF(OR(A8=\"\",B8=\"\"),0,IF($A$97=TRUE,ABS(B8-A8)*5280,ABS(VALUE(SUBSTITUTE(A8,\"+\",\"\"))-VALUE(SUBSTITUTE(B8,\"+\",\"\")))))","v":0},{"$f":"IF(D8=\"\",\"\",G8*(D8+E8)/9)","v":""},null,{"$f":"IF(I8=\"\",\"\",(G8)*(D8+E8)*I8/12*$K$6/2000)","v":""},null,{"$f":"IF(K8=\"\",\"\",K8/J8*100)","v":""},null,null,null,null,{"$f":"O8 & \"\\\" & N8","v":"\\"},{"$f":"IF(AND(A8=\"\",B8=\"\",C8=\"\",D8=\"\"),1,IF(OR(O8=\"\",N8=\"\"),2,IF(ISERROR(MATCH(Q8,Input!M$5:M$24,0)),2,1)))","v":1},{"$f":"IF(M8<>\"\", M8, H8)","v":""},{"$f":"K8","v":0},null,"\\"]
[null,null,null,null,null,null,{"$f":"IF(OR(A9=\"\",B9=\"\"),0,IF($A$97=TRUE,ABS(B9-A9)*5280,ABS(VALUE(SUBSTITUTE(A9,\"+\",\"\"))-VALUE(SUBSTITUTE(B9,\"+\",\"\")))))","v":0},{"$f":"IF(D9=\"\",\"\",G9*(D9+E9)/9)","v":""},null,"",null,{"$f":"IF(K9=\"\",\"\",K9/J9*100)","v":""},null,null,null,null,{"$f":"O9 & \"\\\" & N9","v":"\\"},{"$f":"IF(AND(A9=\"\",B9=\"\",C9=\"\",D9=\"\"),1,IF(OR(O9=\"\",N9=\"\"),2,IF(ISERROR(MATCH(Q9,Input!M$5:M$24,0)),2,1)))","v":1},{"$f":"IF(M9<>\"\", M9, H9)","v":""},{"$f":"K9","v":0},null,"\\"]
[null,null,null,null,null,null,0,"",null,"",null,"",null,null,null,null,"\\",{"$f":"IF(AND(A10=\"\",B10=\"\",C10=\"\",D10=\"\"),1,IF(OR(O10=\"\",N10=\"\"),2,IF(ISERROR(MATCH(Q10,Input!M$5:M$24,0)),2,1)))","v":1},{"$f":"IF(M10<>\"\", M10, H10)","v":""},0]
[null,null,null,null,null,null,0,"",null,"",null,"",null,null,null,null,"\\",{"$f":"IF(AND(A11=\"\",B11=\"\",C11=\"\",D11=\"\"),1,IF(OR(O11=\"\",N11=\"\"),2,IF(ISERROR(MATCH(Q11,Input!M$5:M$24,0)),2,1)))","v":1},"",0]
[null,null,null,null,null,null,0,"",null,"",null,"",null,null,null,null,"\\",{"$f":"IF(AND(A12=\"\",B12=\"\",C12=\"\",D12=\"\"),1,IF(OR(O12=\"\",N12=\"\"),2,IF(ISERROR(MATCH(Q12,Input!M$5:M$24,0)),2,1)))","v":1},"",0]
[null,null,null,null,null,null,0,"",null,"",null,"",null,null,null,null,"\\",{"$f":"IF(AND(A13=\"\",B13=\"\",C13=\"\",D13=\"\"),1,IF(OR(O13=\"\",N13=\"\"),2,IF(ISERROR(MATCH(Q13,Input!M$5:M$24,0)),2,1)))","v":1},"",0]
[null,null,null,null,null,null,0,"",null,"",null,"",null,null,null,null,"\\",{"$f":"IF(AND(A14=\"\",B14=\"\",C14=\"\",D14=\"\"),1,IF(OR(O14=\"\",N14=\"\"),2,IF(ISERROR(MATCH(Q14,Input!M$5:M$24,0)),2,1)))","v":1},"",0]
[null,null,null,null,null,null,0,"",null,"",null,"",null,null,null,null,"\\",{"$f":"IF(AND(A15=\"\",B15=\"\",C15=\"\",D15=\"\"),1,IF(OR(O15=\"\",N15=\"\"),2,IF(ISERROR(MATCH(Q15,Input!M$5:M$24,0)),2,1)))","v":1},"",0]
[null,null,null,null,null,null,0,"",null,"",null,"",null,null,null,null,"\\",{"$f":"IF(AND(A16=\"\",B16=\"\",C16=\"\",D16=\"\"),1,IF(OR(O16=\"\",N16=\"\"),2,IF(ISERROR(MATCH(Q16,Input!M$5:M$24,0)),2,1)))","v":1},"",0]
[null,null,null,null,null,null,0,"",null,"",null,"",null,null,null,null,"\\",{"$f":"IF(AND(A17=\"\",B17=\"\",C17=\"\",D17=\"\"),1,IF(OR(O17=\"\",N17=\"\"),2,IF(ISERROR(MATCH(Q17,Input!M$5:M$24,0)),2,1)))","v":1},"",0]
[]
["TANK SHEET"]
["Bid Item (In Order of Placement)",null,"Today's Placement",null,null,"Bid Item Plan Quantity","Plan Thickness (in)","Contract Mix Price","Contract Binder Price","Project Number",null,null,null,"Mix Pay Units","Mix Delivered to Road\n(Ton or SY)","Waste On Road (Ton)\nNO waste for SY Items","Tons Placed - Waste",null,null,"This adds up column S as it depends if the Est SY is filled out or the SY",null,"Use this Column for SY for the Q column","Uses this Value for Mix on Road"]
[null,null,null,null,null,{"$f":"IF($J21=\"\",\"\",INDEX(Input!$A$5:$H$24,MATCH($A21&$J21,Input!$A$5:$A$24&Input!$G$5:$G$24,0),2))","v":""},{"$f":"IF($J21=\"\",\"\",INDEX(Input!$A$5:$H$24,MATCH($A21&$J21,Input!$A$5:$A$24&Input!$G$5:$G$24,0),3))","v":""},{"$f":"IF($J21=\"\",\"\",INDEX(Input!$A$5:$H$24,MATCH($A21&$J21,Input!$A$5:$A$24&Input!$G$5:$G$24,0),4))","v":""},{"$f":"IF($J21=\"\",\"\",INDEX(Input!$A$5:$H$24,MATCH($A21&$J21,Input!$A$5:$A$24&Input!$G$5:$G$24,0),5))","v":""},null,null,null,null,{"$f":"IF($A21=\"\",\"\",OFFSET(Input!F$4,MATCH($A21,Input!$A$5:$A$24,0),0))","v":""},{"$f":"IF(N21=\"SY\", T21, IF(N21=\"Tons\", W21, \"\"))","v":""},null,{"$f":"IF(N21=\"SY\", V21, IF(N21=\"Tons\", O21-P21, \"\"))","v":""},{"$f":"SUBSTITUTE(A21 & \"\\\" & J21,\"\"\"\",\"\")","v":"\\"},{"$f":"IF(A21=\"\",1,IF(ISERROR(MATCH(R21,Input!L$5:L$24,0)),2,1))","v":1},{"$f":"IF(A21=\"\", \"\", SUMIF($Q$8:$Q$17, \"*\" & LEFT(A21, 11) & \"*\", $S$8:$S$17))","v":""},null,{"$f":"IF(A21=\"\", \"\", SUMIF($Q$8:$Q$17, \"*\" & LEFT(A21, 11) & \"*\", $T$8:$T$17))","v":""},{"$f":"IF(N21=\"SY\", T21, IF(N21=\"Tons\", V21+P21, \"\"))","v":""}]
[null,null,null,null,null,{"$f":"IF($J22=\"\",\"\",INDEX(Input!$A$5:$H$24,MATCH($A22&$J22,Input!$A$5:$A$24&Input!$G$5:$G$24,0),2))","v":""},{"$f":"IF($J22=\"\",\"\",INDEX(Input!$A$5:$H$24,MATCH($A22&$J22,Input!$A$5:$A$24&Input!$G$5:$G$24,0),3))","v":""},{"$f":"IF($J22=\"\",\"\",INDEX(Input!$A$5:$H$24,MATCH($A22&$J22,Input!$A$5:$A$24&Input!$G$5:$G$24,0),4))","v":""},{"$f":"IF($J22=\"\",\"\",INDEX(Input!$A$5:$H$24,MATCH($A22&$J22,Input!$A$5:$A$24&Input!$G$5:$G$24,0),5))","v":""},null,null,null,null,{"$f":"IF($A22=\"\",\"\",OFFSET(Input!F$4,MATCH($A22,Input!$A$5:$A$24,0),0))","v":""},{"$f":"IF(N22=\"SY\", T22, IF(N22=\"Tons\", W22, \"\"))","v":""},null,{"$f":"IF(N22=\"SY\", V22, IF(N22=\"Tons\", O22-P22, \"\"))","v":""},{"$f":"SUBSTITUTE(A22 & \"\\\" & J22,\"\"\"\",\"\")","v":"\\"},{"$f":"IF(A22=\"\",1,IF(ISERROR(MATCH(R22,Input!L$5:L$24,0)),2,1))","v":1},{"$f":"IF(A22=\"\", \"\", SUMIF($Q$8:$Q$17, \"*\" & LEFT(A22, 11) & \"*\", $S$8:$S$17))","v":""},null,{"$f":"IF(A22=\"\", \"\", SUMIF($Q$8:$Q$17, \"*\" & LEFT(A22, 11) & \"*\", $T$8:$T$17))","v":""},{"$f":"IF(N22=\"SY\", T22, IF(N22=\"Tons\", V22+P22, \"\"))","v":""}]
[null,null,null,null,null,{"$f":"IF($J23=\"\",\"\",INDEX(Input!$A$5:$H$24,MATCH($A23&$J23,Input!$A$5:$A$24&Input!$G$5:$G$24,0),2))","v":""},{"$f":"IF($J23=\"\",\"\",INDEX(Input!$A$5:$H$24,MATCH($A23&$J23,Input!$A$5:$A$24&Input!$G$5:$G$24,0),3))","v":""},{"$f":"IF($J23=\"\",\"\",INDEX(Input!$A$5:$H$24,MATCH($A23&$J23,Input!$A$5:$A$24&Input!$G$5:$G$24,0),4))","v":""},{"$f":"IF($J23=\"\",\"\",INDEX(Input!$A$5:$H$24,MATCH($A23&$J23,Input!$A$5:$A$24&Input!$G$5:$G$24,0),5))","v":""},null,null,null,null,{"$f":"IF($A23=\"\",\"\",OFFSET(Input!F$4,MATCH($A23,Input!$A$5:$A$24,0),0))","v":""},{"$f":"IF(N23=\"SY\", T23, IF(N23=\"Tons\", W23, \"\"))","v":""},null,{"$f":"IF(N23=\"SY\", V23, IF(N23=\"Tons\", O23-P23, \"\"))","v":""},"\\",{"$f":"IF(A23=\"\",1,IF(ISERROR(MATCH(R23,Input!L$5:L$24,0)),2,1))","v":1},{"$f":"IF(A23=\"\", \"\", SUMIF($Q$8:$Q$17, \"*\" & LEFT(A23, 11) & \"*\", $S$8:$S$17))","v":""},null,{"$f":"IF(A23=\"\", \"\", SUMIF($Q$8:$Q$17, \"*\" & LEFT(A23, 11) & \"*\", $T$8:$T$17))","v":""},{"$f":"IF(N23=\"SY\", T23, IF(N23=\"Tons\", V23+P23, \"\"))","v":""}]
[null,null,null,null,null,{"$f":"IF($J24=\"\",\"\",INDEX(Input!$A$5:$H$24,MATCH($A24&$J24,Input!$A$5:$A$24&Input!$G$5:$G$24,0),2))","v":""},{"$f":"IF($J24=\"\",\"\",INDEX(Input!$A$5:$H$24,MATCH($A24&$J24,Input!$A$5:$A$24&Input!$G$5:$G$24,0),3))","v":""},{"$f":"IF($J24=\"\",\"\",INDEX(Input!$A$5:$H$24,MATCH($A24&$J24,Input!$A$5:$A$24&Input!$G$5:$G$24,0),4))","v":""},{"$f":"IF($J24=\"\",\"\",INDEX(Input!$A$5:$H$24,MATCH($A24&$J24,Input!$A$5:$A$24&Input!$G$5:$G$24,0),5))","v":""},null,null,null,null,{"$f":"IF($A24=\"\",\"\",OFFSET(Input!F$4,MATCH($A24,Input!$A$5:$A$24,0),0))","v":""},"",null,{"$f":"IF(N24=\"SY\", V24, IF(N24=\"Tons\", O24-P24, \"\"))","v":""},"\\",{"$f":"IF(A24=\"\",1,IF(ISERROR(MATCH(R24,Input!L$5:L$24,0)),2,1))","v":1},"",null,{"$f":"IF(A24=\"\", \"\", SUMIF($Q$8:$Q$17, \"*\" & LEFT(A24, 11) & \"*\", $T$8:$T$17))","v":""},{"$f":"IF(N24=\"SY\", T24, IF(N24=\"Tons\", V24+P24, \"\"))","v":""}]
[null,null,null,null,null,{"$f":"IF($J25=\"\",\"\",INDEX(Input!$A$5:$H$24,MATCH($A25&$J25,Input!$A$5:$A$24&Input!$G$5:$G$24,0),2))","v":""},{"$f":"IF($J25=\"\",\"\",INDEX(Input!$A$5:$H$24,MATCH($A25&$J25,Input!$A$5:$A$24&Input!$G$5:$G$24,0),3))","v":""},{"$f":"IF($J25=\"\",\"\",INDEX(Input!$A$5:$H$24,MATCH($A25&$J25,Input!$A$5:$A$24&Input!$G$5:$G$24,0),4))","v":""},{"$f":"IF($J25=\"\",\"\",INDEX(Input!$A$5:$H$24,MATCH($A25&$J25,Input!$A$5:$A$24&Input!$G$5:$G$24,0),5))","v":""},null,null,null,null,{"$f":"IF($A25=\"\",\"\",OFFSET(Input!F$4,MATCH($A25,Input!$A$5:$A$24,0),0))","v":""},"",null,"","\\",{"$f":"IF(A25=\"\",1,IF(ISERROR(MATCH(R25,Input!L$5:L$24,0)),2,1))","v":1},"",null,"",""]
[null,null,null,null,null,null,null,null,null,null,null,null,null,null,null,null,null,null,null,null,null,"",{"$f":"IF(N26=\"SY\", T26, IF(N26=\"Tons\", V26+P26, \"\"))","v":""},{"$f":"IF(A26=\"\", \"\", SUMIF($Q$8:$Q$17, \"*\" & LEFT(A26, 11) & \"*\", $S$8:$S$17))","v":""},{"$f":"IF(N26=\"SY\",X26,\"\")","v":""},{"$f":"IF(A26=\"\", \"\", SUMIF($Q$8:$Q$17, \"*\" & LEFT(A26, 11) & \"*\", $T$8:$T$17))","v":""}]
["Hot Box Sample",null,null,null,null,null,null,null,null,null,"Mat Temperatures °F"]
[null,"Test A","Test B","Test C","Test D","Test E",null,null,null,null,"Time","Temp"]
[" Hot Box ID Number  ",null,null,null,null,null,null,null,null,null,"7:00"]
["Hot Box Sample Tons: ",null,null,null,null,null,null,null,null,null,"9:00",null,null,null,"Intended Thickness:"]
[" Time: ",null,null,null,null,null,null,null,null,null,"11:00",null,null,null,"Cores Waived?"]
[" Station/MP: ",null,null,null,null,null,null,null,null,null,"1:00",null,null,null,"Small Quantity Statement?"]
["Bar Code ID.:",null,null,null,null,null,null,null,null,null,"3:00",null,null,null,"Scale Check Done?"]
["Compaction Temp. °F: ",null,null,null,null,null,null,null,null,null,"5:00",null,null,null,"Tack Tickets Today?"]
[null,null,null,null,null,null,null,null,null,null,"7:00"]
["The Below Comments should show up on the plant report"]
["Comments:"]
[]
[]
["The Below Notes are for the CPI from the field or Plant Monitor"]
["Notes:"]
[]
[]
["RANDOM CORE LOCATIONS"]
[null,null,null,null,null,null,null,"Core #","Station","Offset,ft","Joint Station","Lane"]
[null,null,null,null,null,null,null,1]
[null,null,null,null,null,null,null,2]
[null,null,null,null,null,null,null,3]
[null,null,null,null,null,null,null,4]
[null,null,null,null,null,null,null,5]
[null,null,null,null,null,null,null,6]
[null,null,null,null,null,null,null,7]
[null,null,null,null,null,null,null,8]
[]
[null,null,null,null,null,null,null,null,null,null,"Joint Sublot Size, ft"]
[null,null,null,null,null,null,null,null,null,null,0]
[]
[]
[]
[]
[]
[]
[]
[]
[]
[]
[]
[]
[]
[]
[]
[]
[]
[]
[]
[]
[]
[]
[]
[]
[]
[]
[]
[]
[]
[]
[]
[]
[]
[]
[]
[]
[]
[]
[]
[]
[false]

{"sheet":"100","index":115,"n_rows":97,"n_cols":26,"rows_kept":97,"cut":false,"hidden":false,"merged":[[50,11,50,13],[51,11,51,13],[52,11,52,13],[44,11,44,13],[45,11,45,13],[46,11,46,13],[47,11,47,13],[48,11,48,13],[49,11,49,13],[43,0,43,16],[25,0,25,1],[26,0,26,5],[26,20,26,23],[26,25,26,27],[34,2,34,4],[35,0,35,5],[36,1,36,14],[37,0,37,14],[39,0,39,5],[40,1,40,14],[41,0,41,14],[23,0,23,1],[23,2,23,4],[23,9,23,12],[24,0,24,1],[24,2,24,4],[24,9,24,12],[21,0,21,1],[21,2,21,4],[21,9,21,12],[22,0,22,1],[22,2,22,4],[22,9,22,12],[19,0,19,1],[19,2,19,4],[19,9,19,12],[20,0,20,1],[20,2,20,4],[20,9,20,12],[18,0,18,16],[6,14,6,15],[7,14,7,15],[8,14,8,15],[9,14,9,15],[10,14,10,15],[11,14,11,15],[12,14,12,15],[13,14,13,15],[14,14,14,15],[15,14,15,15],[16,14,16,15],[1,0,1,16],[4,0,4,15],[5,4,5,5],[5,8,5,9],[5,11,5,12],[5,13,5,15]]}
[]
["Iowa DOT HMA Field Report"]
["Date :"]
["Item No.('s)"]
["PLACEMENT RECORD",null,null,null,null,null,null,null,null,null,null,null,null,null,null,null,null,null,null,null,null,{"$f":"SUBSTITUTE(A21 & \"\\\" & J21,\"\"\"\",\"\")","v":"\\"}]
[null,null,null,null,"Additional width to DEDUCT from Field Voids",null,null,null,"Placed Density (Pounds/CF)=",null,150,"Overwritten on the \"Summary\" Tab",null,"ONLY ONE (1) MIX DESIGN PER DFR OTHERWISE IT WILL NOT IMPORT INTO THE PLANT REPORT PROPERLY",null,null,null,null,null,null,null,{"$f":"SUBSTITUTE(A22 & \"\\\" & J22,\"\"\"\",\"\")","v":"\\"}]
["From Station"," To Station","Lane","ML or Widening Placement Width","Additional Width (ft) ","Thickness (in)","Total Length Placed (FT)","\"Pay\"  Est \"SY\"","Thickness (inches)","Calculated Field Voids Tons","Placed Tons            (Not including Waste)","% Yield","SY to be PAID (If Diff. than Est SY)","Mix Design No.","Bid Item/ Project No.",null,null,null,"This uses the correct SY #, if Green is blank uses Est. SY","Adds up the Tons",null,"\\"]
[null,null,null,null,null,null,{"$f":"IF(OR(A8=\"\",B8=\"\"),0,IF($A$97=TRUE,ABS(B8-A8)*5280,ABS(VALUE(SUBSTITUTE(A8,\"+\",\"\"))-VALUE(SUBSTITUTE(B8,\"+\",\"\")))))","v":0},{"$f":"IF(D8=\"\",\"\",G8*(D8+E8)/9)","v":""},null,{"$f":"IF(I8=\"\",\"\",(G8)*(D8+E8)*I8/12*$K$6/2000)","v":""},null,{"$f":"IF(K8=\"\",\"\",K8/J8*100)","v":""},null,null,null,null,{"$f":"O8 & \"\\\" & N8","v":"\\"},{"$f":"IF(AND(A8=\"\",B8=\"\",C8=\"\",D8=\"\"),1,IF(OR(O8=\"\",N8=\"\"),2,IF(ISERROR(MATCH(Q8,Input!M$5:M$24,0)),2,1)))","v":1},{"$f":"IF(M8<>\"\", M8, H8)","v":""},{"$f":"K8","v":0},null,"\\"]
[null,null,null,null,null,null,{"$f":"IF(OR(A9=\"\",B9=\"\"),0,IF($A$97=TRUE,ABS(B9-A9)*5280,ABS(VALUE(SUBSTITUTE(A9,\"+\",\"\"))-VALUE(SUBSTITUTE(B9,\"+\",\"\")))))","v":0},{"$f":"IF(D9=\"\",\"\",G9*(D9+E9)/9)","v":""},null,"",null,{"$f":"IF(K9=\"\",\"\",K9/J9*100)","v":""},null,null,null,null,{"$f":"O9 & \"\\\" & N9","v":"\\"},{"$f":"IF(AND(A9=\"\",B9=\"\",C9=\"\",D9=\"\"),1,IF(OR(O9=\"\",N9=\"\"),2,IF(ISERROR(MATCH(Q9,Input!M$5:M$24,0)),2,1)))","v":1},{"$f":"IF(M9<>\"\", M9, H9)","v":""},{"$f":"K9","v":0},null,"\\"]
[null,null,null,null,null,null,0,"",null,"",null,"",null,null,null,null,"\\",{"$f":"IF(AND(A10=\"\",B10=\"\",C10=\"\",D10=\"\"),1,IF(OR(O10=\"\",N10=\"\"),2,IF(ISERROR(MATCH(Q10,Input!M$5:M$24,0)),2,1)))","v":1},{"$f":"IF(M10<>\"\", M10, H10)","v":""},0]
[null,null,null,null,null,null,0,"",null,"",null,"",null,null,null,null,"\\",{"$f":"IF(AND(A11=\"\",B11=\"\",C11=\"\",D11=\"\"),1,IF(OR(O11=\"\",N11=\"\"),2,IF(ISERROR(MATCH(Q11,Input!M$5:M$24,0)),2,1)))","v":1},"",0]
[null,null,null,null,null,null,0,"",null,"",null,"",null,null,null,null,"\\",{"$f":"IF(AND(A12=\"\",B12=\"\",C12=\"\",D12=\"\"),1,IF(OR(O12=\"\",N12=\"\"),2,IF(ISERROR(MATCH(Q12,Input!M$5:M$24,0)),2,1)))","v":1},"",0]
[null,null,null,null,null,null,0,"",null,"",null,"",null,null,null,null,"\\",{"$f":"IF(AND(A13=\"\",B13=\"\",C13=\"\",D13=\"\"),1,IF(OR(O13=\"\",N13=\"\"),2,IF(ISERROR(MATCH(Q13,Input!M$5:M$24,0)),2,1)))","v":1},"",0]
[null,null,null,null,null,null,0,"",null,"",null,"",null,null,null,null,"\\",{"$f":"IF(AND(A14=\"\",B14=\"\",C14=\"\",D14=\"\"),1,IF(OR(O14=\"\",N14=\"\"),2,IF(ISERROR(MATCH(Q14,Input!M$5:M$24,0)),2,1)))","v":1},"",0]
[null,null,null,null,null,null,0,"",null,"",null,"",null,null,null,null,"\\",{"$f":"IF(AND(A15=\"\",B15=\"\",C15=\"\",D15=\"\"),1,IF(OR(O15=\"\",N15=\"\"),2,IF(ISERROR(MATCH(Q15,Input!M$5:M$24,0)),2,1)))","v":1},"",0]
[null,null,null,null,null,null,0,"",null,"",null,"",null,null,null,null,"\\",{"$f":"IF(AND(A16=\"\",B16=\"\",C16=\"\",D16=\"\"),1,IF(OR(O16=\"\",N16=\"\"),2,IF(ISERROR(MATCH(Q16,Input!M$5:M$24,0)),2,1)))","v":1},"",0]
[null,null,null,null,null,null,0,"",null,"",null,"",null,null,null,null,"\\",{"$f":"IF(AND(A17=\"\",B17=\"\",C17=\"\",D17=\"\"),1,IF(OR(O17=\"\",N17=\"\"),2,IF(ISERROR(MATCH(Q17,Input!M$5:M$24,0)),2,1)))","v":1},"",0]
[]
["TANK SHEET"]
["Bid Item (In Order of Placement)",null,"Today's Placement",null,null,"Bid Item Plan Quantity","Plan Thickness (in)","Contract Mix Price","Contract Binder Price","Project Number",null,null,null,"Mix Pay Units","Mix Delivered to Road\n(Ton or SY)","Waste On Road (Ton)\nNO waste for SY Items","Tons Placed - Waste",null,null,"This adds up column S as it depends if the Est SY is filled out or the SY",null,"Use this Column for SY for the Q column","Uses this Value for Mix on Road"]
[null,null,null,null,null,{"$f":"IF($J21=\"\",\"\",INDEX(Input!$A$5:$H$24,MATCH($A21&$J21,Input!$A$5:$A$24&Input!$G$5:$G$24,0),2))","v":""},{"$f":"IF($J21=\"\",\"\",INDEX(Input!$A$5:$H$24,MATCH($A21&$J21,Input!$A$5:$A$24&Input!$G$5:$G$24,0),3))","v":""},{"$f":"IF($J21=\"\",\"\",INDEX(Input!$A$5:$H$24,MATCH($A21&$J21,Input!$A$5:$A$24&Input!$G$5:$G$24,0),4))","v":""},{"$f":"IF($J21=\"\",\"\",INDEX(Input!$A$5:$H$24,MATCH($A21&$J21,Input!$A$5:$A$24&Input!$G$5:$G$24,0),5))","v":""},null,null,null,null,{"$f":"IF($A21=\"\",\"\",OFFSET(Input!F$4,MATCH($A21,Input!$A$5:$A$24,0),0))","v":""},{"$f":"IF(N21=\"SY\", T21, IF(N21=\"Tons\", W21, \"\"))","v":""},null,{"$f":"IF(N21=\"SY\", V21, IF(N21=\"Tons\", O21-P21, \"\"))","v":""},{"$f":"SUBSTITUTE(A21 & \"\\\" & J21,\"\"\"\",\"\")","v":"\\"},{"$f":"IF(A21=\"\",1,IF(ISERROR(MATCH(R21,Input!L$5:L$24,0)),2,1))","v":1},{"$f":"IF(A21=\"\", \"\", SUMIF($Q$8:$Q$17, \"*\" & LEFT(A21, 11) & \"*\", $S$8:$S$17))","v":""},null,{"$f":"IF(A21=\"\", \"\", SUMIF($Q$8:$Q$17, \"*\" & LEFT(A21, 11) & \"*\", $T$8:$T$17))","v":""},{"$f":"IF(N21=\"SY\", T21, IF(N21=\"Tons\", V21+P21, \"\"))","v":""}]
[null,null,null,null,null,{"$f":"IF($J22=\"\",\"\",INDEX(Input!$A$5:$H$24,MATCH($A22&$J22,Input!$A$5:$A$24&Input!$G$5:$G$24,0),2))","v":""},{"$f":"IF($J22=\"\",\"\",INDEX(Input!$A$5:$H$24,MATCH($A22&$J22,Input!$A$5:$A$24&Input!$G$5:$G$24,0),3))","v":""},{"$f":"IF($J22=\"\",\"\",INDEX(Input!$A$5:$H$24,MATCH($A22&$J22,Input!$A$5:$A$24&Input!$G$5:$G$24,0),4))","v":""},{"$f":"IF($J22=\"\",\"\",INDEX(Input!$A$5:$H$24,MATCH($A22&$J22,Input!$A$5:$A$24&Input!$G$5:$G$24,0),5))","v":""},null,null,null,null,{"$f":"IF($A22=\"\",\"\",OFFSET(Input!F$4,MATCH($A22,Input!$A$5:$A$24,0),0))","v":""},{"$f":"IF(N22=\"SY\", T22, IF(N22=\"Tons\", W22, \"\"))","v":""},null,{"$f":"IF(N22=\"SY\", V22, IF(N22=\"Tons\", O22-P22, \"\"))","v":""},{"$f":"SUBSTITUTE(A22 & \"\\\" & J22,\"\"\"\",\"\")","v":"\\"},{"$f":"IF(A22=\"\",1,IF(ISERROR(MATCH(R22,Input!L$5:L$24,0)),2,1))","v":1},{"$f":"IF(A22=\"\", \"\", SUMIF($Q$8:$Q$17, \"*\" & LEFT(A22, 11) & \"*\", $S$8:$S$17))","v":""},null,{"$f":"IF(A22=\"\", \"\", SUMIF($Q$8:$Q$17, \"*\" & LEFT(A22, 11) & \"*\", $T$8:$T$17))","v":""},{"$f":"IF(N22=\"SY\", T22, IF(N22=\"Tons\", V22+P22, \"\"))","v":""}]
[null,null,null,null,null,{"$f":"IF($J23=\"\",\"\",INDEX(Input!$A$5:$H$24,MATCH($A23&$J23,Input!$A$5:$A$24&Input!$G$5:$G$24,0),2))","v":""},{"$f":"IF($J23=\"\",\"\",INDEX(Input!$A$5:$H$24,MATCH($A23&$J23,Input!$A$5:$A$24&Input!$G$5:$G$24,0),3))","v":""},{"$f":"IF($J23=\"\",\"\",INDEX(Input!$A$5:$H$24,MATCH($A23&$J23,Input!$A$5:$A$24&Input!$G$5:$G$24,0),4))","v":""},{"$f":"IF($J23=\"\",\"\",INDEX(Input!$A$5:$H$24,MATCH($A23&$J23,Input!$A$5:$A$24&Input!$G$5:$G$24,0),5))","v":""},null,null,null,null,{"$f":"IF($A23=\"\",\"\",OFFSET(Input!F$4,MATCH($A23,Input!$A$5:$A$24,0),0))","v":""},{"$f":"IF(N23=\"SY\", T23, IF(N23=\"Tons\", W23, \"\"))","v":""},null,{"$f":"IF(N23=\"SY\", V23, IF(N23=\"Tons\", O23-P23, \"\"))","v":""},"\\",{"$f":"IF(A23=\"\",1,IF(ISERROR(MATCH(R23,Input!L$5:L$24,0)),2,1))","v":1},{"$f":"IF(A23=\"\", \"\", SUMIF($Q$8:$Q$17, \"*\" & LEFT(A23, 11) & \"*\", $S$8:$S$17))","v":""},null,{"$f":"IF(A23=\"\", \"\", SUMIF($Q$8:$Q$17, \"*\" & LEFT(A23, 11) & \"*\", $T$8:$T$17))","v":""},{"$f":"IF(N23=\"SY\", T23, IF(N23=\"Tons\", V23+P23, \"\"))","v":""}]
[null,null,null,null,null,{"$f":"IF($J24=\"\",\"\",INDEX(Input!$A$5:$H$24,MATCH($A24&$J24,Input!$A$5:$A$24&Input!$G$5:$G$24,0),2))","v":""},{"$f":"IF($J24=\"\",\"\",INDEX(Input!$A$5:$H$24,MATCH($A24&$J24,Input!$A$5:$A$24&Input!$G$5:$G$24,0),3))","v":""},{"$f":"IF($J24=\"\",\"\",INDEX(Input!$A$5:$H$24,MATCH($A24&$J24,Input!$A$5:$A$24&Input!$G$5:$G$24,0),4))","v":""},{"$f":"IF($J24=\"\",\"\",INDEX(Input!$A$5:$H$24,MATCH($A24&$J24,Input!$A$5:$A$24&Input!$G$5:$G$24,0),5))","v":""},null,null,null,null,{"$f":"IF($A24=\"\",\"\",OFFSET(Input!F$4,MATCH($A24,Input!$A$5:$A$24,0),0))","v":""},"",null,{"$f":"IF(N24=\"SY\", V24, IF(N24=\"Tons\", O24-P24, \"\"))","v":""},"\\",{"$f":"IF(A24=\"\",1,IF(ISERROR(MATCH(R24,Input!L$5:L$24,0)),2,1))","v":1},"",null,{"$f":"IF(A24=\"\", \"\", SUMIF($Q$8:$Q$17, \"*\" & LEFT(A24, 11) & \"*\", $T$8:$T$17))","v":""},{"$f":"IF(N24=\"SY\", T24, IF(N24=\"Tons\", V24+P24, \"\"))","v":""}]
[null,null,null,null,null,{"$f":"IF($J25=\"\",\"\",INDEX(Input!$A$5:$H$24,MATCH($A25&$J25,Input!$A$5:$A$24&Input!$G$5:$G$24,0),2))","v":""},{"$f":"IF($J25=\"\",\"\",INDEX(Input!$A$5:$H$24,MATCH($A25&$J25,Input!$A$5:$A$24&Input!$G$5:$G$24,0),3))","v":""},{"$f":"IF($J25=\"\",\"\",INDEX(Input!$A$5:$H$24,MATCH($A25&$J25,Input!$A$5:$A$24&Input!$G$5:$G$24,0),4))","v":""},{"$f":"IF($J25=\"\",\"\",INDEX(Input!$A$5:$H$24,MATCH($A25&$J25,Input!$A$5:$A$24&Input!$G$5:$G$24,0),5))","v":""},null,null,null,null,{"$f":"IF($A25=\"\",\"\",OFFSET(Input!F$4,MATCH($A25,Input!$A$5:$A$24,0),0))","v":""},"",null,"","\\",{"$f":"IF(A25=\"\",1,IF(ISERROR(MATCH(R25,Input!L$5:L$24,0)),2,1))","v":1},"",null,"",""]
[null,null,null,null,null,null,null,null,null,null,null,null,null,null,null,null,null,null,null,null,null,"",{"$f":"IF(N26=\"SY\", T26, IF(N26=\"Tons\", V26+P26, \"\"))","v":""},{"$f":"IF(A26=\"\", \"\", SUMIF($Q$8:$Q$17, \"*\" & LEFT(A26, 11) & \"*\", $S$8:$S$17))","v":""},{"$f":"IF(N26=\"SY\",X26,\"\")","v":""},{"$f":"IF(A26=\"\", \"\", SUMIF($Q$8:$Q$17, \"*\" & LEFT(A26, 11) & \"*\", $T$8:$T$17))","v":""}]
["Hot Box Sample",null,null,null,null,null,null,null,null,null,"Mat Temperatures °F"]
[null,"Test A","Test B","Test C","Test D","Test E",null,null,null,null,"Time","Temp"]
[" Hot Box ID Number  ",null,null,null,null,null,null,null,null,null,"7:00"]
["Hot Box Sample Tons: ",null,null,null,null,null,null,null,null,null,"9:00",null,null,null,"Intended Thickness:"]
[" Time: ",null,null,null,null,null,null,null,null,null,"11:00",null,null,null,"Cores Waived?"]
[" Station/MP: ",null,null,null,null,null,null,null,null,null,"1:00",null,null,null,"Small Quantity Statement?"]
["Bar Code ID.:",null,null,null,null,null,null,null,null,null,"3:00",null,null,null,"Scale Check Done?"]
["Compaction Temp. °F: ",null,null,null,null,null,null,null,null,null,"5:00",null,null,null,"Tack Tickets Today?"]
[null,null,null,null,null,null,null,null,null,null,"7:00"]
["The Below Comments should show up on the plant report"]
["Comments:"]
[]
[]
["The Below Notes are for the CPI from the field or Plant Monitor"]
["Notes:"]
[]
[]
["RANDOM CORE LOCATIONS"]
[null,null,null,null,null,null,null,"Core #","Station","Offset,ft","Joint Station","Lane"]
[null,null,null,null,null,null,null,1]
[null,null,null,null,null,null,null,2]
[null,null,null,null,null,null,null,3]
[null,null,null,null,null,null,null,4]
[null,null,null,null,null,null,null,5]
[null,null,null,null,null,null,null,6]
[null,null,null,null,null,null,null,7]
[null,null,null,null,null,null,null,8]
[]
[null,null,null,null,null,null,null,null,null,null,"Joint Sublot Size, ft"]
[null,null,null,null,null,null,null,null,null,null,0]
[]
[]
[]
[]
[]
[]
[]
[]
[]
[]
[]
[]
[]
[]
[]
[]
[]
[]
[]
[]
[]
[]
[]
[]
[]
[]
[]
[]
[]
[]
[]
[]
[]
[]
[]
[]
[]
[]
[]
[]
[false]

{"sheet":"Sheet1","index":116,"n_rows":0,"n_cols":0,"rows_kept":0,"cut":false,"hidden":true,"merged":[]}

{"sheet":"Volsum","index":117,"n_rows":188,"n_cols":65,"rows_kept":188,"cut":false,"hidden":true,"merged":[[1,2,1,4],[0,6,0,7],[0,9,0,10],[1,6,1,7],[3,16,4,16],[3,10,3,12],[3,13,3,15],[3,7,3,9],[3,2,4,2],[3,3,4,3],[3,0,4,0],[3,6,4,6],[3,1,4,1],[3,4,4,4],[3,5,4,5]]}
[null,null,null,null,null,"County:",null,null,"Contractor:"]
[null,null,"Volumetrics Summary Sheet",null,null,"Contract ID:"]
[]
["Lab Number","Mix Design Number","Date Sampled","Project Number","Course","Mix Designation","DOT Technician","Gmb-Data (±.020)",null,null,"Gmm-Data (±.010)",null,null,"Air Voids (Pa)",null,null,"Mix Adjustments/ Comments"]
[null,null,null,null,null,null,null,"DOT","CPI","Diff.","DOT","CPI Gmm","Diff.","DOT","CPI","Diff."]
["22-101","ABD17-2049","2017-10-03","MP-013-2(710)63--76-22","Intermediate","1/2  L - 4","Pitkin / NE857",2.38,2.3690000000000002,-1.0999999999999677E-2,2.4710000000000001,2.464,-7.0000000000001172E-3,3.7,3.9,0.19999999999999973]
["22-102","ABD17-2049","2017-10-04","MP-013-2(710)63--76-22","Intermediate","1/2  L - 4","Pitkin / NE857",2.375,2.3639999999999999,-1.1000000000000121E-2,2.46,2.4590000000000001,-9.9999999999988987E-4,3.5,3.9,0.39999999999999991]
["22-103","ABD17-2049","2017-10-05","MP-013-2(710)63--76-22","Intermediate","1/2  L - 4","Pitkin / NE857",2.3759999999999999,2.3620000000000001,-1.399999999999979E-2,2.4569999999999999,2.4550000000000001,-1.9999999999997797E-3,3.3,3.8,0.5]
["22-104","ABD17-2049","2017-10-09","MP-013-2(710)63--76-22","Intermediate","1/2  L - 4","Mike Frank 217017",2.3570000000000002,2.3519999999999999,-5.0000000000003375E-3,2.46,2.4590000000000001,-9.9999999999988987E-4,4.2,4.4000000000000004,0.20000000000000018]
[]
[]
[]
[]
[]
[]
[]
[]
[]
[]
[]
[]
[]
[]
[]
[]
[]
[]
[]
[]
[]
[]
[]
[]
[]
[]
[]
[]
[]
[]
[]
[]
[]
[]
[]
[]
[]
[]
[]
[]
[]
[]
[]
[]
[]
[]
[]
[]
[]
[]
[]
[]
[]
[]
[]
[]
[]
[]
[]
[]
[]
[]
[]
[]
[]
[]
[]
[]
[]
[]
[]
[]
[]
[]
[]
[]
[]
[]
[]
[]
[]
[]
[]
[]
[]
[]
[]
[]
[]
[]
[]
[]
[]
[]
[]
[]
[]
[]
[]
[]
[]
[]
[]
[]
[]
[]
[]
[]
[]
[]
[]
[]
[]
[]
[]
[]
[]
[]
[]
[]
[]
[]
[]
[]
[]
[]
[]
[]
[]
[]
[]
[]
[]
[]
[]
[]
[]
[]
[]
[]
[]
[]
[]
[]
[]
[]
[]
[]
[]
[]
[]
[]
[]
[]
[]
[]
[]
[]
[]
[]
[]
[]
[]
[]
[]
[]
[]
[]
[]
[]
[]
[]
[]
[]
[]
[]
[]
[]
[null,null,null,null,null,null,null,null,null,null,null,null,null,null,null,null,null,null,null,null,null,null,null,null,null,null,null,null,null,null,null,null,null,null,null,null,null,null,null,null,null,null,null,null,null,null,null,null,null,null,null,null,null,null,null,null,null,null,null,null,null,null,null,null,{"$f":"IF(H64=\"\",\"\",\"Muffle Furnace Gradation Correlation\")","v":""}]

{"sheet":"Gradsum","index":118,"n_rows":45,"n_cols":73,"rows_kept":45,"cut":false,"hidden":true,"merged":[[1,2,1,4],[0,9,0,10],[0,6,0,7],[1,6,1,7],[0,12,0,15]]}
[null,null,null,null,null,"County:",null,null,"Contractor:",null,null,null,"Percent of Testing ="]
[null,null,"Gradation Summary Sheet",null,null,"Contract ID:"]
[]
["Lab Number","Mix Design Number","Date Sampled","Project Number","Course","DOT Technician","216            (1½)","DOT                        (1½)"," CPI                     (1½)","216                                (1 1/2 - 1)","DOT          (1)","CPI              (1)","216                            (1 - 3/4)","DOT                      (3/4)","CPI                            (3/4)","216          (3/4 - 1/2)","DOT                 (1/2)","CPI                  (1/2)","216                      (1/2 - 3/8)","DOT                 (3/8)","CPI                  (3/8)","216                    (3/8 - #4)","DOT                (#4)","CPI                     (#4)","216                         (#4 - #8)","DOT                       (#8)","CPI                       (#8)","216                      (#8 - #16)","DOT                   (#16)","CPI                        (#16)","216                         (#16 - #30)","DOT                          (#30)","CPI                 (#30)","216                               (#30 - #50)","DOT                              (#50)","CPI                         (#50)","216                                         (#50 - #100)","DOT                   (#100)","CPI                            (#100)","216                          (#100 -#200)","DOT                             (#200)","CPI                                 (#200)","216                          Pan","Comments",null,null,null,null,null,"DOT                        (1½)"," CPI                     (1½)","DOT          (1)","CPI              (1)","DOT                      (3/4)","CPI                            (3/4)","DOT                 (1/2)","CPI                  (1/2)","DOT                 (3/8)","CPI                  (3/8)","DOT                (#4)","CPI                     (#4)","DOT                       (#8)","CPI                       (#8)","DOT                   (#16)","CPI                        (#16)","DOT                          (#30)","CPI                 (#30)","DOT                              (#50)","CPI                         (#50)","DOT                   (#100)","CPI                            (#100)","DOT                             (#200)","CPI                                 (#200)"]
[null,null,null,null,null,null,null,null,null,null,null,null,null,null,null,null,null,null,null,null,null,null,null,null,null,null,null,null,null,null,null,null,null,null,null,null,null,null,null,null,null,null,null,null,null,null,null,null,null,{"$f":"#REF!","v":{"$error":"#REF!"}},{"$f":"#REF!","v":{"$error":"#REF!"}},{"$f":"#REF!","v":{"$error":"#REF!"}},{"$f":"#REF!","v":{"$error":"#REF!"}},{"$f":"#REF!","v":{"$error":"#REF!"}},{"$f":"#REF!","v":{"$error":"#REF!"}},{"$f":"#REF!","v":{"$error":"#REF!"}},{"$f":"#REF!","v":{"$error":"#REF!"}},{"$f":"#REF!","v":{"$error":"#REF!"}},{"$f":"#REF!","v":{"$error":"#REF!"}},{"$f":"#REF!","v":{"$error":"#REF!"}},{"$f":"#REF!","v":{"$error":"#REF!"}},{"$f":"#REF!","v":{"$error":"#REF!"}},{"$f":"#REF!","v":{"$error":"#REF!"}},{"$f":"#REF!","v":{"$error":"#REF!"}},{"$f":"#REF!","v":{"$error":"#REF!"}},{"$f":"#REF!","v":{"$error":"#REF!"}},{"$f":"#REF!","v":{"$error":"#REF!"}},{"$f":"#REF!","v":{"$error":"#REF!"}},{"$f":"#REF!","v":{"$error":"#REF!"}},{"$f":"#REF!","v":{"$error":"#REF!"}},{"$f":"#REF!","v":{"$error":"#REF!"}},{"$f":"#REF!","v":{"$error":"#REF!"}},{"$f":"#REF!","v":{"$error":"#REF!"}}]
[null,null,null,null,null,null,null,null,null,null,null,null,null,null,null,null,null,null,null,null,null,null,null,null,null,null,null,null,null,null,null,null,null,null,null,null,null,null,null,null,null,null,null,null,null,null,null,null,null,{"$f":"#REF!","v":{"$error":"#REF!"}},{"$f":"#REF!","v":{"$error":"#REF!"}},{"$f":"#REF!","v":{"$error":"#REF!"}},{"$f":"#REF!","v":{"$error":"#REF!"}},{"$f":"#REF!","v":{"$error":"#REF!"}},{"$f":"#REF!","v":{"$error":"#REF!"}},{"$f":"#REF!","v":{"$error":"#REF!"}},{"$f":"#REF!","v":{"$error":"#REF!"}},{"$f":"#REF!","v":{"$error":"#REF!"}},{"$f":"#REF!","v":{"$error":"#REF!"}},{"$f":"#REF!","v":{"$error":"#REF!"}},{"$f":"#REF!","v":{"$error":"#REF!"}},{"$f":"#REF!","v":{"$error":"#REF!"}},{"$f":"#REF!","v":{"$error":"#REF!"}},{"$f":"#REF!","v":{"$error":"#REF!"}},{"$f":"#REF!","v":{"$error":"#REF!"}},{"$f":"#REF!","v":{"$error":"#REF!"}},{"$f":"#REF!","v":{"$error":"#REF!"}},{"$f":"#REF!","v":{"$error":"#REF!"}},{"$f":"#REF!","v":{"$error":"#REF!"}},{"$f":"#REF!","v":{"$error":"#REF!"}},{"$f":"#REF!","v":{"$error":"#REF!"}},{"$f":"#REF!","v":{"$error":"#REF!"}},{"$f":"#REF!","v":{"$error":"#REF!"}}]
[null,null,null,null,null,null,null,null,null,null,null,null,null,null,null,null,null,null,null,null,null,null,null,null,null,null,null,null,null,null,null,null,null,null,null,null,null,null,null,null,null,null,null,null,null,null,null,null,null,{"$f":"#REF!","v":{"$error":"#REF!"}},{"$f":"#REF!","v":{"$error":"#REF!"}},{"$f":"#REF!","v":{"$error":"#REF!"}},{"$f":"#REF!","v":{"$error":"#REF!"}},{"$f":"#REF!","v":{"$error":"#REF!"}},{"$f":"#REF!","v":{"$error":"#REF!"}},{"$f":"#REF!","v":{"$error":"#REF!"}},{"$f":"#REF!","v":{"$error":"#REF!"}},{"$f":"#REF!","v":{"$error":"#REF!"}},{"$f":"#REF!","v":{"$error":"#REF!"}},{"$f":"#REF!","v":{"$error":"#REF!"}},{"$f":"#REF!","v":{"$error":"#REF!"}},{"$f":"#REF!","v":{"$error":"#REF!"}},{"$f":"#REF!","v":{"$error":"#REF!"}},{"$f":"#REF!","v":{"$error":"#REF!"}},{"$f":"#REF!","v":{"$error":"#REF!"}},{"$f":"#REF!","v":{"$error":"#REF!"}},{"$f":"#REF!","v":{"$error":"#REF!"}},{"$f":"#REF!","v":{"$error":"#REF!"}},{"$f":"#REF!","v":{"$error":"#REF!"}},{"$f":"#REF!","v":{"$error":"#REF!"}},{"$f":"#REF!","v":{"$error":"#REF!"}},{"$f":"#REF!","v":{"$error":"#REF!"}},{"$f":"#REF!","v":{"$error":"#REF!"}}]
[null,null,null,null,null,null,null,null,null,null,null,null,null,null,null,null,null,null,null,null,null,null,null,null,null,null,null,null,null,null,null,null,null,null,null,null,null,null,null,null,null,null,null,null,null,null,null,null,null,{"$f":"#REF!","v":{"$error":"#REF!"}},{"$f":"#REF!","v":{"$error":"#REF!"}},{"$f":"#REF!","v":{"$error":"#REF!"}},{"$f":"#REF!","v":{"$error":"#REF!"}},{"$f":"#REF!","v":{"$error":"#REF!"}},{"$f":"#REF!","v":{"$error":"#REF!"}},{"$f":"#REF!","v":{"$error":"#REF!"}},{"$f":"#REF!","v":{"$error":"#REF!"}},{"$f":"#REF!","v":{"$error":"#REF!"}},{"$f":"#REF!","v":{"$error":"#REF!"}},{"$f":"#REF!","v":{"$error":"#REF!"}},{"$f":"#REF!","v":{"$error":"#REF!"}},{"$f":"#REF!","v":{"$error":"#REF!"}},{"$f":"#REF!","v":{"$error":"#REF!"}},{"$f":"#REF!","v":{"$error":"#REF!"}},{"$f":"#REF!","v":{"$error":"#REF!"}},{"$f":"#REF!","v":{"$error":"#REF!"}},{"$f":"#REF!","v":{"$error":"#REF!"}},{"$f":"#REF!","v":{"$error":"#REF!"}},{"$f":"#REF!","v":{"$error":"#REF!"}},{"$f":"#REF!","v":{"$error":"#REF!"}},{"$f":"#REF!","v":{"$error":"#REF!"}},{"$f":"#REF!","v":{"$error":"#REF!"}},{"$f":"#REF!","v":{"$error":"#REF!"}}]
[null,null,null,null,null,null,null,null,null,null,null,null,null,null,null,null,null,null,null,null,null,null,null,null,null,null,null,null,null,null,null,null,null,null,null,null,null,null,null,null,null,null,null,null,null,null,null,null,null,{"$f":"#REF!","v":{"$error":"#REF!"}},{"$f":"#REF!","v":{"$error":"#REF!"}},{"$f":"#REF!","v":{"$error":"#REF!"}},{"$f":"#REF!","v":{"$error":"#REF!"}},{"$f":"#REF!","v":{"$error":"#REF!"}},{"$f":"#REF!","v":{"$error":"#REF!"}},{"$f":"#REF!","v":{"$error":"#REF!"}},{"$f":"#REF!","v":{"$error":"#REF!"}},{"$f":"#REF!","v":{"$error":"#REF!"}},{"$f":"#REF!","v":{"$error":"#REF!"}},{"$f":"#REF!","v":{"$error":"#REF!"}},{"$f":"#REF!","v":{"$error":"#REF!"}},{"$f":"#REF!","v":{"$error":"#REF!"}},{"$f":"#REF!","v":{"$error":"#REF!"}},{"$f":"#REF!","v":{"$error":"#REF!"}},{"$f":"#REF!","v":{"$error":"#REF!"}},{"$f":"#REF!","v":{"$error":"#REF!"}},{"$f":"#REF!","v":{"$error":"#REF!"}},{"$f":"#REF!","v":{"$error":"#REF!"}},{"$f":"#REF!","v":{"$error":"#REF!"}},{"$f":"#REF!","v":{"$error":"#REF!"}},{"$f":"#REF!","v":{"$error":"#REF!"}},{"$f":"#REF!","v":{"$error":"#REF!"}},{"$f":"#REF!","v":{"$error":"#REF!"}}]
[null,null,null,null,null,null,null,null,null,null,null,null,null,null,null,null,null,null,null,null,null,null,null,null,null,null,null,null,null,null,null,null,null,null,null,null,null,null,null,null,null,null,null,null,null,null,null,null,null,{"$f":"#REF!","v":{"$error":"#REF!"}},{"$f":"#REF!","v":{"$error":"#REF!"}},{"$f":"#REF!","v":{"$error":"#REF!"}},{"$f":"#REF!","v":{"$error":"#REF!"}},{"$f":"#REF!","v":{"$error":"#REF!"}},{"$f":"#REF!","v":{"$error":"#REF!"}},{"$f":"#REF!","v":{"$error":"#REF!"}},{"$f":"#REF!","v":{"$error":"#REF!"}},{"$f":"#REF!","v":{"$error":"#REF!"}},{"$f":"#REF!","v":{"$error":"#REF!"}},{"$f":"#REF!","v":{"$error":"#REF!"}},{"$f":"#REF!","v":{"$error":"#REF!"}},{"$f":"#REF!","v":{"$error":"#REF!"}},{"$f":"#REF!","v":{"$error":"#REF!"}},{"$f":"#REF!","v":{"$error":"#REF!"}},{"$f":"#REF!","v":{"$error":"#REF!"}},{"$f":"#REF!","v":{"$error":"#REF!"}},{"$f":"#REF!","v":{"$error":"#REF!"}},{"$f":"#REF!","v":{"$error":"#REF!"}},{"$f":"#REF!","v":{"$error":"#REF!"}},{"$f":"#REF!","v":{"$error":"#REF!"}},{"$f":"#REF!","v":{"$error":"#REF!"}},{"$f":"#REF!","v":{"$error":"#REF!"}},{"$f":"#REF!","v":{"$error":"#REF!"}}]
[null,null,null,null,null,null,null,null,null,null,null,null,null,null,null,null,null,null,null,null,null,null,null,null,null,null,null,null,null,null,null,null,null,null,null,null,null,null,null,null,null,null,null,null,null,null,null,null,null,{"$f":"#REF!","v":{"$error":"#REF!"}},{"$f":"#REF!","v":{"$error":"#REF!"}},{"$f":"#REF!","v":{"$error":"#REF!"}},{"$f":"#REF!","v":{"$error":"#REF!"}},{"$f":"#REF!","v":{"$error":"#REF!"}},{"$f":"#REF!","v":{"$error":"#REF!"}},{"$f":"#REF!","v":{"$error":"#REF!"}},{"$f":"#REF!","v":{"$error":"#REF!"}},{"$f":"#REF!","v":{"$error":"#REF!"}},{"$f":"#REF!","v":{"$error":"#REF!"}},{"$f":"#REF!","v":{"$error":"#REF!"}},{"$f":"#REF!","v":{"$error":"#REF!"}},{"$f":"#REF!","v":{"$error":"#REF!"}},{"$f":"#REF!","v":{"$error":"#REF!"}},{"$f":"#REF!","v":{"$error":"#REF!"}},{"$f":"#REF!","v":{"$error":"#REF!"}},{"$f":"#REF!","v":{"$error":"#REF!"}},{"$f":"#REF!","v":{"$error":"#REF!"}},{"$f":"#REF!","v":{"$error":"#REF!"}},{"$f":"#REF!","v":{"$error":"#REF!"}},{"$f":"#REF!","v":{"$error":"#REF!"}},{"$f":"#REF!","v":{"$error":"#REF!"}},{"$f":"#REF!","v":{"$error":"#REF!"}},{"$f":"#REF!","v":{"$error":"#REF!"}}]
[null,null,null,null,null,null,null,null,null,null,null,null,null,null,null,null,null,null,null,null,null,null,null,null,null,null,null,null,null,null,null,null,null,null,null,null,null,null,null,null,null,null,null,null,null,null,null,null,null,{"$f":"#REF!","v":{"$error":"#REF!"}},{"$f":"#REF!","v":{"$error":"#REF!"}},{"$f":"#REF!","v":{"$error":"#REF!"}},{"$f":"#REF!","v":{"$error":"#REF!"}},{"$f":"#REF!","v":{"$error":"#REF!"}},{"$f":"#REF!","v":{"$error":"#REF!"}},{"$f":"#REF!","v":{"$error":"#REF!"}},{"$f":"#REF!","v":{"$error":"#REF!"}},{"$f":"#REF!","v":{"$error":"#REF!"}},{"$f":"#REF!","v":{"$error":"#REF!"}},{"$f":"#REF!","v":{"$error":"#REF!"}},{"$f":"#REF!","v":{"$error":"#REF!"}},{"$f":"#REF!","v":{"$error":"#REF!"}},{"$f":"#REF!","v":{"$error":"#REF!"}},{"$f":"#REF!","v":{"$error":"#REF!"}},{"$f":"#REF!","v":{"$error":"#REF!"}},{"$f":"#REF!","v":{"$error":"#REF!"}},{"$f":"#REF!","v":{"$error":"#REF!"}},{"$f":"#REF!","v":{"$error":"#REF!"}},{"$f":"#REF!","v":{"$error":"#REF!"}},{"$f":"#REF!","v":{"$error":"#REF!"}},{"$f":"#REF!","v":{"$error":"#REF!"}},{"$f":"#REF!","v":{"$error":"#REF!"}},{"$f":"#REF!","v":{"$error":"#REF!"}}]
[null,null,null,null,null,null,null,null,null,null,null,null,null,null,null,null,null,null,null,null,null,null,null,null,null,null,null,null,null,null,null,null,null,null,null,null,null,null,null,null,null,null,null,null,null,null,null,null,null,{"$f":"#REF!","v":{"$error":"#REF!"}},{"$f":"#REF!","v":{"$error":"#REF!"}},{"$f":"#REF!","v":{"$error":"#REF!"}},{"$f":"#REF!","v":{"$error":"#REF!"}},{"$f":"#REF!","v":{"$error":"#REF!"}},{"$f":"#REF!","v":{"$error":"#REF!"}},{"$f":"#REF!","v":{"$error":"#REF!"}},{"$f":"#REF!","v":{"$error":"#REF!"}},{"$f":"#REF!","v":{"$error":"#REF!"}},{"$f":"#REF!","v":{"$error":"#REF!"}},{"$f":"#REF!","v":{"$error":"#REF!"}},{"$f":"#REF!","v":{"$error":"#REF!"}},{"$f":"#REF!","v":{"$error":"#REF!"}},{"$f":"#REF!","v":{"$error":"#REF!"}},{"$f":"#REF!","v":{"$error":"#REF!"}},{"$f":"#REF!","v":{"$error":"#REF!"}},{"$f":"#REF!","v":{"$error":"#REF!"}},{"$f":"#REF!","v":{"$error":"#REF!"}},{"$f":"#REF!","v":{"$error":"#REF!"}},{"$f":"#REF!","v":{"$error":"#REF!"}},{"$f":"#REF!","v":{"$error":"#REF!"}},{"$f":"#REF!","v":{"$error":"#REF!"}},{"$f":"#REF!","v":{"$error":"#REF!"}},{"$f":"#REF!","v":{"$error":"#REF!"}}]
[null,null,null,null,null,null,null,null,null,null,null,null,null,null,null,null,null,null,null,null,null,null,null,null,null,null,null,null,null,null,null,null,null,null,null,null,null,null,null,null,null,null,null,null,null,null,null,null,null,{"$f":"#REF!","v":{"$error":"#REF!"}},{"$f":"#REF!","v":{"$error":"#REF!"}},{"$f":"#REF!","v":{"$error":"#REF!"}},{"$f":"#REF!","v":{"$error":"#REF!"}},{"$f":"#REF!","v":{"$error":"#REF!"}},{"$f":"#REF!","v":{"$error":"#REF!"}},{"$f":"#REF!","v":{"$error":"#REF!"}},{"$f":"#REF!","v":{"$error":"#REF!"}},{"$f":"#REF!","v":{"$error":"#REF!"}},{"$f":"#REF!","v":{"$error":"#REF!"}},{"$f":"#REF!","v":{"$error":"#REF!"}},{"$f":"#REF!","v":{"$error":"#REF!"}},{"$f":"#REF!","v":{"$error":"#REF!"}},{"$f":"#REF!","v":{"$error":"#REF!"}},{"$f":"#REF!","v":{"$error":"#REF!"}},{"$f":"#REF!","v":{"$error":"#REF!"}},{"$f":"#REF!","v":{"$error":"#REF!"}},{"$f":"#REF!","v":{"$error":"#REF!"}},{"$f":"#REF!","v":{"$error":"#REF!"}},{"$f":"#REF!","v":{"$error":"#REF!"}},{"$f":"#REF!","v":{"$error":"#REF!"}},{"$f":"#REF!","v":{"$error":"#REF!"}},{"$f":"#REF!","v":{"$error":"#REF!"}},{"$f":"#REF!","v":{"$error":"#REF!"}}]
[null,null,null,null,null,null,null,null,null,null,null,null,null,null,null,null,null,null,null,null,null,null,null,null,null,null,null,null,null,null,null,null,null,null,null,null,null,null,null,null,null,null,null,null,null,null,null,null,null,{"$f":"#REF!","v":{"$error":"#REF!"}},{"$f":"#REF!","v":{"$error":"#REF!"}},{"$f":"#REF!","v":{"$error":"#REF!"}},{"$f":"#REF!","v":{"$error":"#REF!"}},{"$f":"#REF!","v":{"$error":"#REF!"}},{"$f":"#REF!","v":{"$error":"#REF!"}},{"$f":"#REF!","v":{"$error":"#REF!"}},{"$f":"#REF!","v":{"$error":"#REF!"}},{"$f":"#REF!","v":{"$error":"#REF!"}},{"$f":"#REF!","v":{"$error":"#REF!"}},{"$f":"#REF!","v":{"$error":"#REF!"}},{"$f":"#REF!","v":{"$error":"#REF!"}},{"$f":"#REF!","v":{"$error":"#REF!"}},{"$f":"#REF!","v":{"$error":"#REF!"}},{"$f":"#REF!","v":{"$error":"#REF!"}},{"$f":"#REF!","v":{"$error":"#REF!"}},{"$f":"#REF!","v":{"$error":"#REF!"}},{"$f":"#REF!","v":{"$error":"#REF!"}},{"$f":"#REF!","v":{"$error":"#REF!"}},{"$f":"#REF!","v":{"$error":"#REF!"}},{"$f":"#REF!","v":{"$error":"#REF!"}},{"$f":"#REF!","v":{"$error":"#REF!"}},{"$f":"#REF!","v":{"$error":"#REF!"}},{"$f":"#REF!","v":{"$error":"#REF!"}}]
[null,null,null,null,null,null,null,null,null,null,null,null,null,null,null,null,null,null,null,null,null,null,null,null,null,null,null,null,null,null,null,null,null,null,null,null,null,null,null,null,null,null,null,null,null,null,null,null,null,{"$f":"#REF!","v":{"$error":"#REF!"}},{"$f":"#REF!","v":{"$error":"#REF!"}},{"$f":"#REF!","v":{"$error":"#REF!"}},{"$f":"#REF!","v":{"$error":"#REF!"}},{"$f":"#REF!","v":{"$error":"#REF!"}},{"$f":"#REF!","v":{"$error":"#REF!"}},{"$f":"#REF!","v":{"$error":"#REF!"}},{"$f":"#REF!","v":{"$error":"#REF!"}},{"$f":"#REF!","v":{"$error":"#REF!"}},{"$f":"#REF!","v":{"$error":"#REF!"}},{"$f":"#REF!","v":{"$error":"#REF!"}},{"$f":"#REF!","v":{"$error":"#REF!"}},{"$f":"#REF!","v":{"$error":"#REF!"}},{"$f":"#REF!","v":{"$error":"#REF!"}},{"$f":"#REF!","v":{"$error":"#REF!"}},{"$f":"#REF!","v":{"$error":"#REF!"}},{"$f":"#REF!","v":{"$error":"#REF!"}},{"$f":"#REF!","v":{"$error":"#REF!"}},{"$f":"#REF!","v":{"$error":"#REF!"}},{"$f":"#REF!","v":{"$error":"#REF!"}},{"$f":"#REF!","v":{"$error":"#REF!"}},{"$f":"#REF!","v":{"$error":"#REF!"}},{"$f":"#REF!","v":{"$error":"#REF!"}},{"$f":"#REF!","v":{"$error":"#REF!"}}]
[null,null,null,null,null,null,null,null,null,null,null,null,null,null,null,null,null,null,null,null,null,null,null,null,null,null,null,null,null,null,null,null,null,null,null,null,null,null,null,null,null,null,null,null,null,null,null,null,null,{"$f":"#REF!","v":{"$error":"#REF!"}},{"$f":"#REF!","v":{"$error":"#REF!"}},{"$f":"#REF!","v":{"$error":"#REF!"}},{"$f":"#REF!","v":{"$error":"#REF!"}},{"$f":"#REF!","v":{"$error":"#REF!"}},{"$f":"#REF!","v":{"$error":"#REF!"}},{"$f":"#REF!","v":{"$error":"#REF!"}},{"$f":"#REF!","v":{"$error":"#REF!"}},{"$f":"#REF!","v":{"$error":"#REF!"}},{"$f":"#REF!","v":{"$error":"#REF!"}},{"$f":"#REF!","v":{"$error":"#REF!"}},{"$f":"#REF!","v":{"$error":"#REF!"}},{"$f":"#REF!","v":{"$error":"#REF!"}},{"$f":"#REF!","v":{"$error":"#REF!"}},{"$f":"#REF!","v":{"$error":"#REF!"}},{"$f":"#REF!","v":{"$error":"#REF!"}},{"$f":"#REF!","v":{"$error":"#REF!"}},{"$f":"#REF!","v":{"$error":"#REF!"}},{"$f":"#REF!","v":{"$error":"#REF!"}},{"$f":"#REF!","v":{"$error":"#REF!"}},{"$f":"#REF!","v":{"$error":"#REF!"}},{"$f":"#REF!","v":{"$error":"#REF!"}},{"$f":"#REF!","v":{"$error":"#REF!"}},{"$f":"#REF!","v":{"$error":"#REF!"}}]
[null,null,null,null,null,null,null,null,null,null,null,null,null,null,null,null,null,null,null,null,null,null,null,null,null,null,null,null,null,null,null,null,null,null,null,null,null,null,null,null,null,null,null,null,null,null,null,null,null,{"$f":"#REF!","v":{"$error":"#REF!"}},{"$f":"#REF!","v":{"$error":"#REF!"}},{"$f":"#REF!","v":{"$error":"#REF!"}},{"$f":"#REF!","v":{"$error":"#REF!"}},{"$f":"#REF!","v":{"$error":"#REF!"}},{"$f":"#REF!","v":{"$error":"#REF!"}},{"$f":"#REF!","v":{"$error":"#REF!"}},{"$f":"#REF!","v":{"$error":"#REF!"}},{"$f":"#REF!","v":{"$error":"#REF!"}},{"$f":"#REF!","v":{"$error":"#REF!"}},{"$f":"#REF!","v":{"$error":"#REF!"}},{"$f":"#REF!","v":{"$error":"#REF!"}},{"$f":"#REF!","v":{"$error":"#REF!"}},{"$f":"#REF!","v":{"$error":"#REF!"}},{"$f":"#REF!","v":{"$error":"#REF!"}},{"$f":"#REF!","v":{"$error":"#REF!"}},{"$f":"#REF!","v":{"$error":"#REF!"}},{"$f":"#REF!","v":{"$error":"#REF!"}},{"$f":"#REF!","v":{"$error":"#REF!"}},{"$f":"#REF!","v":{"$error":"#REF!"}},{"$f":"#REF!","v":{"$error":"#REF!"}},{"$f":"#REF!","v":{"$error":"#REF!"}},{"$f":"#REF!","v":{"$error":"#REF!"}},{"$f":"#REF!","v":{"$error":"#REF!"}}]
[null,null,null,null,null,null,null,null,null,null,null,null,null,null,null,null,null,null,null,null,null,null,null,null,null,null,null,null,null,null,null,null,null,null,null,null,null,null,null,null,null,null,null,null,null,null,null,null,null,{"$f":"#REF!","v":{"$error":"#REF!"}},{"$f":"#REF!","v":{"$error":"#REF!"}},{"$f":"#REF!","v":{"$error":"#REF!"}},{"$f":"#REF!","v":{"$error":"#REF!"}},{"$f":"#REF!","v":{"$error":"#REF!"}},{"$f":"#REF!","v":{"$error":"#REF!"}},{"$f":"#REF!","v":{"$error":"#REF!"}},{"$f":"#REF!","v":{"$error":"#REF!"}},{"$f":"#REF!","v":{"$error":"#REF!"}},{"$f":"#REF!","v":{"$error":"#REF!"}},{"$f":"#REF!","v":{"$error":"#REF!"}},{"$f":"#REF!","v":{"$error":"#REF!"}},{"$f":"#REF!","v":{"$error":"#REF!"}},{"$f":"#REF!","v":{"$error":"#REF!"}},{"$f":"#REF!","v":{"$error":"#REF!"}},{"$f":"#REF!","v":{"$error":"#REF!"}},{"$f":"#REF!","v":{"$error":"#REF!"}},{"$f":"#REF!","v":{"$error":"#REF!"}},{"$f":"#REF!","v":{"$error":"#REF!"}},{"$f":"#REF!","v":{"$error":"#REF!"}},{"$f":"#REF!","v":{"$error":"#REF!"}},{"$f":"#REF!","v":{"$error":"#REF!"}},{"$f":"#REF!","v":{"$error":"#REF!"}},{"$f":"#REF!","v":{"$error":"#REF!"}}]
[null,null,null,null,null,null,null,null,null,null,null,null,null,null,null,null,null,null,null,null,null,null,null,null,null,null,null,null,null,null,null,null,null,null,null,null,null,null,null,null,null,null,null,null,null,null,null,null,null,{"$f":"#REF!","v":{"$error":"#REF!"}},{"$f":"#REF!","v":{"$error":"#REF!"}},{"$f":"#REF!","v":{"$error":"#REF!"}},{"$f":"#REF!","v":{"$error":"#REF!"}},{"$f":"#REF!","v":{"$error":"#REF!"}},{"$f":"#REF!","v":{"$error":"#REF!"}},{"$f":"#REF!","v":{"$error":"#REF!"}},{"$f":"#REF!","v":{"$error":"#REF!"}},{"$f":"#REF!","v":{"$error":"#REF!"}},{"$f":"#REF!","v":{"$error":"#REF!"}},{"$f":"#REF!","v":{"$error":"#REF!"}},{"$f":"#REF!","v":{"$error":"#REF!"}},{"$f":"#REF!","v":{"$error":"#REF!"}},{"$f":"#REF!","v":{"$error":"#REF!"}},{"$f":"#REF!","v":{"$error":"#REF!"}},{"$f":"#REF!","v":{"$error":"#REF!"}},{"$f":"#REF!","v":{"$error":"#REF!"}},{"$f":"#REF!","v":{"$error":"#REF!"}},{"$f":"#REF!","v":{"$error":"#REF!"}},{"$f":"#REF!","v":{"$error":"#REF!"}},{"$f":"#REF!","v":{"$error":"#REF!"}},{"$f":"#REF!","v":{"$error":"#REF!"}},{"$f":"#REF!","v":{"$error":"#REF!"}},{"$f":"#REF!","v":{"$error":"#REF!"}}]
[null,null,null,null,null,null,null,null,null,null,null,null,null,null,null,null,null,null,null,null,null,null,null,null,null,null,null,null,null,null,null,null,null,null,null,null,null,null,null,null,null,null,null,null,null,null,null,null,null,{"$f":"#REF!","v":{"$error":"#REF!"}},{"$f":"#REF!","v":{"$error":"#REF!"}},{"$f":"#REF!","v":{"$error":"#REF!"}},{"$f":"#REF!","v":{"$error":"#REF!"}},{"$f":"#REF!","v":{"$error":"#REF!"}},{"$f":"#REF!","v":{"$error":"#REF!"}},{"$f":"#REF!","v":{"$error":"#REF!"}},{"$f":"#REF!","v":{"$error":"#REF!"}},{"$f":"#REF!","v":{"$error":"#REF!"}},{"$f":"#REF!","v":{"$error":"#REF!"}},{"$f":"#REF!","v":{"$error":"#REF!"}},{"$f":"#REF!","v":{"$error":"#REF!"}},{"$f":"#REF!","v":{"$error":"#REF!"}},{"$f":"#REF!","v":{"$error":"#REF!"}},{"$f":"#REF!","v":{"$error":"#REF!"}},{"$f":"#REF!","v":{"$error":"#REF!"}},{"$f":"#REF!","v":{"$error":"#REF!"}},{"$f":"#REF!","v":{"$error":"#REF!"}},{"$f":"#REF!","v":{"$error":"#REF!"}},{"$f":"#REF!","v":{"$error":"#REF!"}},{"$f":"#REF!","v":{"$error":"#REF!"}},{"$f":"#REF!","v":{"$error":"#REF!"}},{"$f":"#REF!","v":{"$error":"#REF!"}},{"$f":"#REF!","v":{"$error":"#REF!"}}]
[null,null,null,null,null,null,null,null,null,null,null,null,null,null,null,null,null,null,null,null,null,null,null,null,null,null,null,null,null,null,null,null,null,null,null,null,null,null,null,null,null,null,null,null,null,null,null,null,null,{"$f":"#REF!","v":{"$error":"#REF!"}},{"$f":"#REF!","v":{"$error":"#REF!"}},{"$f":"#REF!","v":{"$error":"#REF!"}},{"$f":"#REF!","v":{"$error":"#REF!"}},{"$f":"#REF!","v":{"$error":"#REF!"}},{"$f":"#REF!","v":{"$error":"#REF!"}},{"$f":"#REF!","v":{"$error":"#REF!"}},{"$f":"#REF!","v":{"$error":"#REF!"}},{"$f":"#REF!","v":{"$error":"#REF!"}},{"$f":"#REF!","v":{"$error":"#REF!"}},{"$f":"#REF!","v":{"$error":"#REF!"}},{"$f":"#REF!","v":{"$error":"#REF!"}},{"$f":"#REF!","v":{"$error":"#REF!"}},{"$f":"#REF!","v":{"$error":"#REF!"}},{"$f":"#REF!","v":{"$error":"#REF!"}},{"$f":"#REF!","v":{"$error":"#REF!"}},{"$f":"#REF!","v":{"$error":"#REF!"}},{"$f":"#REF!","v":{"$error":"#REF!"}},{"$f":"#REF!","v":{"$error":"#REF!"}},{"$f":"#REF!","v":{"$error":"#REF!"}},{"$f":"#REF!","v":{"$error":"#REF!"}},{"$f":"#REF!","v":{"$error":"#REF!"}},{"$f":"#REF!","v":{"$error":"#REF!"}},{"$f":"#REF!","v":{"$error":"#REF!"}}]
[null,null,null,null,null,null,null,null,null,null,null,null,null,null,null,null,null,null,null,null,null,null,null,null,null,null,null,null,null,null,null,null,null,null,null,null,null,null,null,null,null,null,null,null,null,null,null,null,null,{"$f":"#REF!","v":{"$error":"#REF!"}},{"$f":"#REF!","v":{"$error":"#REF!"}},{"$f":"#REF!","v":{"$error":"#REF!"}},{"$f":"#REF!","v":{"$error":"#REF!"}},{"$f":"#REF!","v":{"$error":"#REF!"}},{"$f":"#REF!","v":{"$error":"#REF!"}},{"$f":"#REF!","v":{"$error":"#REF!"}},{"$f":"#REF!","v":{"$error":"#REF!"}},{"$f":"#REF!","v":{"$error":"#REF!"}},{"$f":"#REF!","v":{"$error":"#REF!"}},{"$f":"#REF!","v":{"$error":"#REF!"}},{"$f":"#REF!","v":{"$error":"#REF!"}},{"$f":"#REF!","v":{"$error":"#REF!"}},{"$f":"#REF!","v":{"$error":"#REF!"}},{"$f":"#REF!","v":{"$error":"#REF!"}},{"$f":"#REF!","v":{"$error":"#REF!"}},{"$f":"#REF!","v":{"$error":"#REF!"}},{"$f":"#REF!","v":{"$error":"#REF!"}},{"$f":"#REF!","v":{"$error":"#REF!"}},{"$f":"#REF!","v":{"$error":"#REF!"}},{"$f":"#REF!","v":{"$error":"#REF!"}},{"$f":"#REF!","v":{"$error":"#REF!"}},{"$f":"#REF!","v":{"$error":"#REF!"}},{"$f":"#REF!","v":{"$error":"#REF!"}}]
[null,null,null,null,null,null,null,null,null,null,null,null,null,null,null,null,null,null,null,null,null,null,null,null,null,null,null,null,null,null,null,null,null,null,null,null,null,null,null,null,null,null,null,null,null,null,null,null,null,{"$f":"#REF!","v":{"$error":"#REF!"}},{"$f":"#REF!","v":{"$error":"#REF!"}},{"$f":"#REF!","v":{"$error":"#REF!"}},{"$f":"#REF!","v":{"$error":"#REF!"}},{"$f":"#REF!","v":{"$error":"#REF!"}},{"$f":"#REF!","v":{"$error":"#REF!"}},{"$f":"#REF!","v":{"$error":"#REF!"}},{"$f":"#REF!","v":{"$error":"#REF!"}},{"$f":"#REF!","v":{"$error":"#REF!"}},{"$f":"#REF!","v":{"$error":"#REF!"}},{"$f":"#REF!","v":{"$error":"#REF!"}},{"$f":"#REF!","v":{"$error":"#REF!"}},{"$f":"#REF!","v":{"$error":"#REF!"}},{"$f":"#REF!","v":{"$error":"#REF!"}},{"$f":"#REF!","v":{"$error":"#REF!"}},{"$f":"#REF!","v":{"$error":"#REF!"}},{"$f":"#REF!","v":{"$error":"#REF!"}},{"$f":"#REF!","v":{"$error":"#REF!"}},{"$f":"#REF!","v":{"$error":"#REF!"}},{"$f":"#REF!","v":{"$error":"#REF!"}},{"$f":"#REF!","v":{"$error":"#REF!"}},{"$f":"#REF!","v":{"$error":"#REF!"}},{"$f":"#REF!","v":{"$error":"#REF!"}},{"$f":"#REF!","v":{"$error":"#REF!"}}]
[]
[null,null,null,null,null,null,null,null,null,null,null,null,null,null,null,null,null,null,null,null,null,null,null,null,null,null,null,null,null,null,null,null,null,null,null,null,null,null,null,null,null,null,null,null,null,null,null,null,null,{"$f":"IF(AX5=\"N\",1,0)","v":{"$error":"#REF!"}},{"$f":"IF(AY5=\"N\",1,0)","v":{"$error":"#REF!"}},{"$error":"#REF!"},{"$error":"#REF!"},{"$error":"#REF!"},{"$error":"#REF!"},{"$error":"#REF!"},{"$error":"#REF!"},{"$error":"#REF!"},{"$error":"#REF!"},{"$error":"#REF!"},{"$error":"#REF!"},{"$error":"#REF!"},{"$error":"#REF!"},{"$error":"#REF!"},{"$error":"#REF!"},{"$error":"#REF!"},{"$error":"#REF!"},{"$error":"#REF!"},{"$error":"#REF!"},{"$error":"#REF!"},{"$error":"#REF!"},{"$error":"#REF!"},{"$error":"#REF!"}]
[null,null,null,null,null,null,null,null,null,null,null,null,null,null,null,null,null,null,null,null,null,null,null,null,null,null,null,null,null,null,null,null,null,null,null,null,null,null,null,null,null,null,null,null,null,null,null,null,null,{"$error":"#REF!"},{"$f":"IF(AY6=\"N\",1,0)","v":{"$error":"#REF!"}},{"$error":"#REF!"},{"$error":"#REF!"},{"$error":"#REF!"},{"$error":"#REF!"},{"$error":"#REF!"},{"$error":"#REF!"},{"$error":"#REF!"},{"$error":"#REF!"},{"$error":"#REF!"},{"$error":"#REF!"},{"$error":"#REF!"},{"$error":"#REF!"},{"$error":"#REF!"},{"$error":"#REF!"},{"$error":"#REF!"},{"$error":"#REF!"},{"$error":"#REF!"},{"$error":"#REF!"},{"$error":"#REF!"},{"$error":"#REF!"},{"$error":"#REF!"},{"$error":"#REF!"}]
[null,null,null,null,null,null,null,null,null,null,null,null,null,null,null,null,null,null,null,null,null,null,null,null,null,null,null,null,null,null,null,null,null,null,null,null,null,null,null,null,null,null,null,null,null,null,null,null,null,{"$error":"#REF!"},{"$error":"#REF!"},{"$error":"#REF!"},{"$error":"#REF!"},{"$error":"#REF!"},{"$error":"#REF!"},{"$error":"#REF!"},{"$error":"#REF!"},{"$error":"#REF!"},{"$error":"#REF!"},{"$error":"#REF!"},{"$error":"#REF!"},{"$error":"#REF!"},{"$error":"#REF!"},{"$error":"#REF!"},{"$error":"#REF!"},{"$error":"#REF!"},{"$error":"#REF!"},{"$error":"#REF!"},{"$error":"#REF!"},{"$error":"#REF!"},{"$error":"#REF!"},{"$error":"#REF!"},{"$error":"#REF!"}]
[null,null,null,null,null,null,null,null,null,null,null,null,null,null,null,null,null,null,null,null,null,null,null,null,null,null,null,null,null,null,null,null,null,null,null,null,null,null,null,null,null,null,null,null,null,null,null,null,null,{"$error":"#REF!"},{"$error":"#REF!"},{"$error":"#REF!"},{"$error":"#REF!"},{"$error":"#REF!"},{"$error":"#REF!"},{"$error":"#REF!"},{"$error":"#REF!"},{"$error":"#REF!"},{"$error":"#REF!"},{"$error":"#REF!"},{"$error":"#REF!"},{"$error":"#REF!"},{"$error":"#REF!"},{"$error":"#REF!"},{"$error":"#REF!"},{"$error":"#REF!"},{"$error":"#REF!"},{"$error":"#REF!"},{"$error":"#REF!"},{"$error":"#REF!"},{"$error":"#REF!"},{"$error":"#REF!"},{"$error":"#REF!"}]
[null,null,null,null,null,null,null,null,null,null,null,null,null,null,null,null,null,null,null,null,null,null,null,null,null,null,null,null,null,null,null,null,null,null,null,null,null,null,null,null,null,null,null,null,null,null,null,null,null,{"$error":"#REF!"},{"$error":"#REF!"},{"$error":"#REF!"},{"$error":"#REF!"},{"$error":"#REF!"},{"$error":"#REF!"},{"$error":"#REF!"},{"$error":"#REF!"},{"$error":"#REF!"},{"$error":"#REF!"},{"$error":"#REF!"},{"$error":"#REF!"},{"$error":"#REF!"},{"$error":"#REF!"},{"$error":"#REF!"},{"$error":"#REF!"},{"$error":"#REF!"},{"$error":"#REF!"},{"$error":"#REF!"},{"$error":"#REF!"},{"$error":"#REF!"},{"$error":"#REF!"},{"$error":"#REF!"},{"$error":"#REF!"}]
[null,null,null,null,null,null,null,null,null,null,null,null,null,null,null,null,null,null,null,null,null,null,null,null,null,null,null,null,null,null,null,null,null,null,null,null,null,null,null,null,null,null,null,null,null,null,null,null,null,{"$error":"#REF!"},{"$error":"#REF!"},{"$error":"#REF!"},{"$error":"#REF!"},{"$error":"#REF!"},{"$error":"#REF!"},{"$error":"#REF!"},{"$error":"#REF!"},{"$error":"#REF!"},{"$error":"#REF!"},{"$error":"#REF!"},{"$error":"#REF!"},{"$error":"#REF!"},{"$error":"#REF!"},{"$error":"#REF!"},{"$error":"#REF!"},{"$error":"#REF!"},{"$error":"#REF!"},{"$error":"#REF!"},{"$error":"#REF!"},{"$error":"#REF!"},{"$error":"#REF!"},{"$error":"#REF!"},{"$error":"#REF!"}]
[null,null,null,null,null,null,null,null,null,null,null,null,null,null,null,null,null,null,null,null,null,null,null,null,null,null,null,null,null,null,null,null,null,null,null,null,null,null,null,null,null,null,null,null,null,null,null,null,null,{"$error":"#REF!"},{"$error":"#REF!"},{"$error":"#REF!"},{"$error":"#REF!"},{"$error":"#REF!"},{"$error":"#REF!"},{"$error":"#REF!"},{"$error":"#REF!"},{"$error":"#REF!"},{"$error":"#REF!"},{"$error":"#REF!"},{"$error":"#REF!"},{"$error":"#REF!"},{"$error":"#REF!"},{"$error":"#REF!"},{"$error":"#REF!"},{"$error":"#REF!"},{"$error":"#REF!"},{"$error":"#REF!"},{"$error":"#REF!"},{"$error":"#REF!"},{"$error":"#REF!"},{"$error":"#REF!"},{"$error":"#REF!"}]
[null,null,null,null,null,null,null,null,null,null,null,null,null,null,null,null,null,null,null,null,null,null,null,null,null,null,null,null,null,null,null,null,null,null,null,null,null,null,null,null,null,null,null,null,null,null,null,null,null,{"$error":"#REF!"},{"$error":"#REF!"},{"$error":"#REF!"},{"$error":"#REF!"},{"$error":"#REF!"},{"$error":"#REF!"},{"$error":"#REF!"},{"$error":"#REF!"},{"$error":"#REF!"},{"$error":"#REF!"},{"$error":"#REF!"},{"$error":"#REF!"},{"$error":"#REF!"},{"$error":"#REF!"},{"$error":"#REF!"},{"$error":"#REF!"},{"$error":"#REF!"},{"$error":"#REF!"},{"$error":"#REF!"},{"$error":"#REF!"},{"$error":"#REF!"},{"$error":"#REF!"},{"$error":"#REF!"},{"$error":"#REF!"}]
[null,null,null,null,null,null,null,null,null,null,null,null,null,null,null,null,null,null,null,null,null,null,null,null,null,null,null,null,null,null,null,null,null,null,null,null,null,null,null,null,null,null,null,null,null,null,null,null,null,{"$error":"#REF!"},{"$error":"#REF!"},{"$error":"#REF!"},{"$error":"#REF!"},{"$error":"#REF!"},{"$error":"#REF!"},{"$error":"#REF!"},{"$error":"#REF!"},{"$error":"#REF!"},{"$error":"#REF!"},{"$error":"#REF!"},{"$error":"#REF!"},{"$error":"#REF!"},{"$error":"#REF!"},{"$error":"#REF!"},{"$error":"#REF!"},{"$error":"#REF!"},{"$error":"#REF!"},{"$error":"#REF!"},{"$error":"#REF!"},{"$error":"#REF!"},{"$error":"#REF!"},{"$error":"#REF!"},{"$error":"#REF!"}]
[null,null,null,null,null,null,null,null,null,null,null,null,null,null,null,null,null,null,null,null,null,null,null,null,null,null,null,null,null,null,null,null,null,null,null,null,null,null,null,null,null,null,null,null,null,null,null,null,null,{"$error":"#REF!"},{"$error":"#REF!"},{"$error":"#REF!"},{"$error":"#REF!"},{"$error":"#REF!"},{"$error":"#REF!"},{"$error":"#REF!"},{"$error":"#REF!"},{"$error":"#REF!"},{"$error":"#REF!"},{"$error":"#REF!"},{"$error":"#REF!"},{"$error":"#REF!"},{"$error":"#REF!"},{"$error":"#REF!"},{"$error":"#REF!"},{"$error":"#REF!"},{"$error":"#REF!"},{"$error":"#REF!"},{"$error":"#REF!"},{"$error":"#REF!"},{"$error":"#REF!"},{"$error":"#REF!"},{"$error":"#REF!"}]
[null,null,null,null,null,null,null,null,null,null,null,null,null,null,null,null,null,null,null,null,null,null,null,null,null,null,null,null,null,null,null,null,null,null,null,null,null,null,null,null,null,null,null,null,null,null,null,null,null,{"$error":"#REF!"},{"$error":"#REF!"},{"$error":"#REF!"},{"$error":"#REF!"},{"$error":"#REF!"},{"$error":"#REF!"},{"$error":"#REF!"},{"$error":"#REF!"},{"$error":"#REF!"},{"$error":"#REF!"},{"$error":"#REF!"},{"$error":"#REF!"},{"$error":"#REF!"},{"$error":"#REF!"},{"$error":"#REF!"},{"$error":"#REF!"},{"$error":"#REF!"},{"$error":"#REF!"},{"$error":"#REF!"},{"$error":"#REF!"},{"$error":"#REF!"},{"$error":"#REF!"},{"$error":"#REF!"},{"$error":"#REF!"}]
[null,null,null,null,null,null,null,null,null,null,null,null,null,null,null,null,null,null,null,null,null,null,null,null,null,null,null,null,null,null,null,null,null,null,null,null,null,null,null,null,null,null,null,null,null,null,null,null,null,{"$error":"#REF!"},{"$error":"#REF!"},{"$error":"#REF!"},{"$error":"#REF!"},{"$error":"#REF!"},{"$error":"#REF!"},{"$error":"#REF!"},{"$error":"#REF!"},{"$error":"#REF!"},{"$error":"#REF!"},{"$error":"#REF!"},{"$error":"#REF!"},{"$error":"#REF!"},{"$error":"#REF!"},{"$error":"#REF!"},{"$error":"#REF!"},{"$error":"#REF!"},{"$error":"#REF!"},{"$f":"IF(BP16=\"N\",1,0)","v":{"$error":"#REF!"}},{"$error":"#REF!"},{"$error":"#REF!"},{"$error":"#REF!"},{"$error":"#REF!"},{"$error":"#REF!"}]
[null,null,null,null,null,null,null,null,null,null,null,null,null,null,null,null,null,null,null,null,null,null,null,null,null,null,null,null,null,null,null,null,null,null,null,null,null,null,null,null,null,null,null,null,null,null,null,null,null,{"$error":"#REF!"},{"$error":"#REF!"},{"$error":"#REF!"},{"$error":"#REF!"},{"$error":"#REF!"},{"$error":"#REF!"},{"$error":"#REF!"},{"$error":"#REF!"},{"$error":"#REF!"},{"$error":"#REF!"},{"$error":"#REF!"},{"$error":"#REF!"},{"$error":"#REF!"},{"$error":"#REF!"},{"$error":"#REF!"},{"$error":"#REF!"},{"$error":"#REF!"},{"$error":"#REF!"},{"$error":"#REF!"},{"$error":"#REF!"},{"$error":"#REF!"},{"$error":"#REF!"},{"$error":"#REF!"},{"$error":"#REF!"}]
[null,null,null,null,null,null,null,null,null,null,null,null,null,null,null,null,null,null,null,null,null,null,null,null,null,null,null,null,null,null,null,null,null,null,null,null,null,null,null,null,null,null,null,null,null,null,null,null,null,{"$error":"#REF!"},{"$error":"#REF!"},{"$error":"#REF!"},{"$error":"#REF!"},{"$error":"#REF!"},{"$error":"#REF!"},{"$error":"#REF!"},{"$error":"#REF!"},{"$error":"#REF!"},{"$error":"#REF!"},{"$error":"#REF!"},{"$error":"#REF!"},{"$error":"#REF!"},{"$error":"#REF!"},{"$error":"#REF!"},{"$error":"#REF!"},{"$error":"#REF!"},{"$error":"#REF!"},{"$error":"#REF!"},{"$error":"#REF!"},{"$error":"#REF!"},{"$error":"#REF!"},{"$error":"#REF!"},{"$error":"#REF!"}]
[null,null,null,null,null,null,null,null,null,null,null,null,null,null,null,null,null,null,null,null,null,null,null,null,null,null,null,null,null,null,null,null,null,null,null,null,null,null,null,null,null,null,null,null,null,null,null,null,null,{"$error":"#REF!"},{"$error":"#REF!"},{"$error":"#REF!"},{"$error":"#REF!"},{"$error":"#REF!"},{"$error":"#REF!"},{"$error":"#REF!"},{"$error":"#REF!"},{"$error":"#REF!"},{"$error":"#REF!"},{"$error":"#REF!"},{"$error":"#REF!"},{"$error":"#REF!"},{"$error":"#REF!"},{"$error":"#REF!"},{"$error":"#REF!"},{"$error":"#REF!"},{"$error":"#REF!"},{"$error":"#REF!"},{"$error":"#REF!"},{"$error":"#REF!"},{"$error":"#REF!"},{"$error":"#REF!"},{"$error":"#REF!"}]
[null,null,null,null,null,null,null,null,null,null,null,null,null,null,null,null,null,null,null,null,null,null,null,null,null,null,null,null,null,null,null,null,null,null,null,null,null,null,null,null,null,null,null,null,null,null,null,null,null,{"$error":"#REF!"},{"$error":"#REF!"},{"$error":"#REF!"},{"$error":"#REF!"},{"$error":"#REF!"},{"$error":"#REF!"},{"$error":"#REF!"},{"$error":"#REF!"},{"$error":"#REF!"},{"$error":"#REF!"},{"$error":"#REF!"},{"$error":"#REF!"},{"$error":"#REF!"},{"$error":"#REF!"},{"$error":"#REF!"},{"$error":"#REF!"},{"$error":"#REF!"},{"$error":"#REF!"},{"$error":"#REF!"},{"$error":"#REF!"},{"$error":"#REF!"},{"$error":"#REF!"},{"$error":"#REF!"},{"$error":"#REF!"}]
[null,null,null,null,null,null,null,null,null,null,null,null,null,null,null,null,null,null,null,null,null,null,null,null,null,null,null,null,null,null,null,null,null,null,null,null,null,null,null,null,null,null,null,null,null,null,null,null,null,{"$error":"#REF!"},{"$error":"#REF!"},{"$error":"#REF!"},{"$error":"#REF!"},{"$error":"#REF!"},{"$error":"#REF!"},{"$error":"#REF!"},{"$error":"#REF!"},{"$error":"#REF!"},{"$error":"#REF!"},{"$error":"#REF!"},{"$error":"#REF!"},{"$error":"#REF!"},{"$error":"#REF!"},{"$error":"#REF!"},{"$error":"#REF!"},{"$error":"#REF!"},{"$error":"#REF!"},{"$error":"#REF!"},{"$error":"#REF!"},{"$error":"#REF!"},{"$error":"#REF!"},{"$error":"#REF!"},{"$error":"#REF!"}]
[null,null,null,null,null,null,null,null,null,null,null,null,null,null,null,null,null,null,null,null,null,null,null,null,null,null,null,null,null,null,null,null,null,null,null,null,null,null,null,null,null,null,null,null,null,null,null,null,null,{"$error":"#REF!"},{"$error":"#REF!"},{"$error":"#REF!"},{"$error":"#REF!"},{"$error":"#REF!"},{"$error":"#REF!"},{"$error":"#REF!"},{"$error":"#REF!"},{"$error":"#REF!"},{"$error":"#REF!"},{"$error":"#REF!"},{"$error":"#REF!"},{"$error":"#REF!"},{"$error":"#REF!"},{"$error":"#REF!"},{"$error":"#REF!"},{"$error":"#REF!"},{"$error":"#REF!"},{"$error":"#REF!"},{"$error":"#REF!"},{"$error":"#REF!"},{"$error":"#REF!"},{"$error":"#REF!"},{"$error":"#REF!"}]
[null,null,null,null,null,null,null,null,null,null,null,null,null,null,null,null,null,null,null,null,null,null,null,null,null,null,null,null,null,null,null,null,null,null,null,null,null,null,null,null,null,null,null,null,null,null,null,null,null,{"$error":"#REF!"},{"$error":"#REF!"},{"$error":"#REF!"},{"$error":"#REF!"},{"$error":"#REF!"},{"$error":"#REF!"},{"$error":"#REF!"},{"$error":"#REF!"},{"$error":"#REF!"},{"$error":"#REF!"},{"$error":"#REF!"},{"$error":"#REF!"},{"$error":"#REF!"},{"$error":"#REF!"},{"$error":"#REF!"},{"$error":"#REF!"},{"$error":"#REF!"},{"$error":"#REF!"},{"$error":"#REF!"},{"$error":"#REF!"},{"$error":"#REF!"},{"$error":"#REF!"},{"$error":"#REF!"},{"$error":"#REF!"}]
[null,null,null,null,null,null,null,null,null,null,null,null,null,null,null,null,null,null,null,null,null,null,null,null,null,null,null,null,null,null,null,null,null,null,null,null,null,null,null,null,null,null,null,null,null,null,null,null,null,{"$error":"#REF!"},{"$error":"#REF!"},{"$error":"#REF!"},{"$error":"#REF!"},{"$error":"#REF!"},{"$error":"#REF!"},{"$error":"#REF!"},{"$error":"#REF!"},{"$error":"#REF!"},{"$error":"#REF!"},{"$error":"#REF!"},{"$error":"#REF!"},{"$error":"#REF!"},{"$error":"#REF!"},{"$error":"#REF!"},{"$error":"#REF!"},{"$error":"#REF!"},{"$error":"#REF!"},{"$error":"#REF!"},{"$error":"#REF!"},{"$error":"#REF!"},{"$error":"#REF!"},{"$error":"#REF!"},{"$error":"#REF!"}]

{"sheet":"Bindsum","index":119,"n_rows":4,"n_cols":13,"rows_kept":4,"cut":false,"hidden":true,"merged":[[1,2,1,4],[0,6,0,7],[1,6,1,7],[0,9,0,10]]}
[null,null,null,null,null,"County:",null,null,"Contractor:"]
[null,null,"Binder Summary Sheet",null,null,"Contract ID:"]
[]
["Lab Number","Mix Design Number","Course","Project","Source","DOT Technician","Date Sampled","PG Binder","G*/Sin Delta (DEG. C)","Phase Angle","Disposition","Remarks","Comments"]

{"sheet":"Emulsum","index":120,"n_rows":4,"n_cols":9,"rows_kept":4,"cut":false,"hidden":true,"merged":[[1,2,1,3],[0,5,0,6],[1,5,1,6]]}
[null,null,null,null,"County:",null,null,"Contractor:"]
[null,null,"Emulsion Summary Sheet",null,"Contract ID:"]
[]
["Lab Number","Mix Design Number","Course","Project Number","Source","DOT Technichian","% Residue","AASHTO Compliance","Comments"]